Workbook

Sheet Kalender_2030
A1: Uke | B1: Dag | C1: Dato | D1: Planperiode | E1: Kjøres som | F1: Beskrivelse | G1: Spesial
A2: =WEEKNUM(C2,21) -> 1 | B2: Tirsdag | C2: 47484 | D2: SKD | E2: Søndag | F2: 1.nyttårsdag | I2: periode | J2: Dag | K2: antall | L2: Sum periode
A3: =WEEKNUM(C3,21) -> 1 | B3: Onsdag | C3: 47485 | D3: SKD | E3: Onsdag | I3: SKD | J3: mandag | K3: =COUNTIFS(D:D,I3,E:E,J3) -> 37
A4: =WEEKNUM(C4,21) -> 1 | B4: Torsdag | C4: 47486 | D4: SKD | E4: Torsdag | I4: SKD | J4: tirsdag | K4: =COUNTIFS(D:D,I4,E:E,J4) -> 39
A5: =WEEKNUM(C5,21) -> 1 | B5: Fredag | C5: 47487 | D5: SKD | E5: Fredag | I5: SKD | J5: onsdag | K5: =COUNTIFS(D:D,I5,E:E,J5) -> 39
A6: =WEEKNUM(C6,21) -> 1 | B6: Lørdag | C6: 47488 | D6: SKD | E6: Lørdag | I6: SKD | J6: torsdag | K6: =COUNTIFS(D:D,I6,E:E,J6) -> 39
A7: =WEEKNUM(C7,21) -> 1 | B7: Søndag | C7: 47489 | D7: SKD | E7: Søndag | I7: SKD | J7: fredag | K7: =COUNTIFS(D:D,I7,E:E,J7) -> 39 | L7: =SUM(K3:K7) -> 193
A8: =WEEKNUM(C8,21) -> 2 | B8: Mandag | C8: 47490 | D8: SKD | E8: Mandag | I8: SKD | J8: lørdag | K8: =COUNTIFS(D:D,I8,E:E,J8) -> 55 | L8: =SUM(K8) -> 55
A9: =WEEKNUM(C9,21) -> 2 | B9: Tirsdag | C9: 47491 | D9: SKD | E9: Tirsdag | I9: SKD | J9: søndag | K9: =COUNTIFS(D:D,I9,E:E,J9) -> 61 | L9: =SUM(K9) -> 61
A10: =WEEKNUM(C10,21) -> 2 | B10: Onsdag | C10: 47492 | D10: SKD | E10: Onsdag | K10: =SUM(K3:K9) -> 309
A11: =WEEKNUM(C11,21) -> 2 | B11: Torsdag | C11: 47493 | D11: SKD | E11: Torsdag | I11: SKF | J11: mandag | K11: =COUNTIFS(D:D,I11,E:E,J11) -> 2
A12: =WEEKNUM(C12,21) -> 2 | B12: Fredag | C12: 47494 | D12: SKD | E12: Fredag | I12: SKF | J12: tirsdag | K12: =COUNTIFS(D:D,I12,E:E,J12) -> 2
A13: =WEEKNUM(C13,21) -> 2 | B13: Lørdag | C13: 47495 | D13: SKD | E13: Lørdag | I13: SKF | J13: onsdag | K13: =COUNTIFS(D:D,I13,E:E,J13) -> 2
A14: =WEEKNUM(C14,21) -> 2 | B14: Søndag | C14: 47496 | D14: SKD | E14: Søndag | I14: SKF | J14: torsdag | K14: =COUNTIFS(D:D,I14,E:E,J14) -> 2
A15: =WEEKNUM(C15,21) -> 3 | B15: Mandag | C15: 47497 | D15: SKD | E15: Mandag | I15: SKF | J15: fredag | K15: =COUNTIFS(D:D,I15,E:E,J15) -> 2
A16: =WEEKNUM(C16,21) -> 3 | B16: Tirsdag | C16: 47498 | D16: SKD | E16: Tirsdag | I16: SKF | J16: lørdag | K16: =COUNTIFS(D:D,I16,E:E,J16) -> 0
A17: =WEEKNUM(C17,21) -> 3 | B17: Onsdag | C17: 47499 | D17: SKD | E17: Onsdag | I17: SKF | J17: søndag | K17: =COUNTIFS(D:D,I17,E:E,J17) -> 0
A18: =WEEKNUM(C18,21) -> 3 | B18: Torsdag | C18: 47500 | D18: SKD | E18: Torsdag | K18: =SUM(K11:K17) -> 10 | L18: =SUM(K18) -> 10
A19: =WEEKNUM(C19,21) -> 3 | B19: Fredag | C19: 47501 | D19: SKD | E19: Fredag | I19: SOM | J19: mandag | K19: =COUNTIFS(D:D,I19,E:E,J19) -> 11
A20: =WEEKNUM(C20,21) -> 3 | B20: Lørdag | C20: 47502 | D20: SKD | E20: Lørdag | I20: SOM | J20: tirsdag | K20: =COUNTIFS(D:D,I20,E:E,J20) -> 9
A21: =WEEKNUM(C21,21) -> 3 | B21: Søndag | C21: 47503 | D21: SKD | E21: Søndag | I21: SOM | J21: onsdag | K21: =COUNTIFS(D:D,I21,E:E,J21) -> 9
A22: =WEEKNUM(C22,21) -> 4 | B22: Mandag | C22: 47504 | D22: SKD | E22: Mandag | I22: SOM | J22: torsdag | K22: =COUNTIFS(D:D,I22,E:E,J22) -> 8
A23: =WEEKNUM(C23,21) -> 4 | B23: Tirsdag | C23: 47505 | D23: SKD | E23: Tirsdag | I23: SOM | J23: fredag | K23: =COUNTIFS(D:D,I23,E:E,J23) -> 9
A24: =WEEKNUM(C24,21) -> 4 | B24: Onsdag | C24: 47506 | D24: SKD | E24: Onsdag | I24: SOM | J24: lørdag | K24: =COUNTIFS(D:D,I24,E:E,J24) -> 0
A25: =WEEKNUM(C25,21) -> 4 | B25: Torsdag | C25: 47507 | D25: SKD | E25: Torsdag | I25: SOM | J25: søndag | K25: =COUNTIFS(D:D,I25,E:E,J25) -> 0
A26: =WEEKNUM(C26,21) -> 4 | B26: Fredag | C26: 47508 | D26: SKD | E26: Fredag | K26: =SUM(K19:K25) -> 46 | L26: =SUM(K26) -> 46
A27: =WEEKNUM(C27,21) -> 4 | B27: Lørdag | C27: 47509 | D27: SKD | E27: Lørdag
A28: =WEEKNUM(C28,21) -> 4 | B28: Søndag | C28: 47510 | D28: SKD | E28: Søndag | L28: =SUM(L3:L26) -> 365 | M28: sum 2030
A29: =WEEKNUM(C29,21) -> 5 | B29: Mandag | C29: 47511 | D29: SKD | E29: Mandag
A30: =WEEKNUM(C30,21) -> 5 | B30: Tirsdag | C30: 47512 | D30: SKD | E30: Tirsdag
A31: =WEEKNUM(C31,21) -> 5 | B31: Onsdag | C31: 47513 | D31: SKD | E31: Onsdag
A32: =WEEKNUM(C32,21) -> 5 | B32: Torsdag | C32: 47514 | D32: SKD | E32: Torsdag
A33: =WEEKNUM(C33,21) -> 5 | B33: Fredag | C33: 47515 | D33: SKD | E33: Fredag | I33: Alle ruteområdene
A34: =WEEKNUM(C34,21) -> 5 | B34: Lørdag | C34: 47516 | D34: SKD | E34: Lørdag | I34: Mandag med skole | K34: =K3 -> 37
A35: =WEEKNUM(C35,21) -> 5 | B35: Søndag | C35: 47517 | D35: SKD | E35: Søndag | I35: Tirsdag med skole | K35: =K4 -> 39
A36: =WEEKNUM(C36,21) -> 6 | B36: Mandag | C36: 47518 | D36: SKD | E36: Mandag | I36: Onsdag med skole | K36: =K5 -> 39
A37: =WEEKNUM(C37,21) -> 6 | B37: Tirsdag | C37: 47519 | D37: SKD | E37: Tirsdag | I37: Torsdag med skole | K37: =K6 -> 39
A38: =WEEKNUM(C38,21) -> 6 | B38: Onsdag | C38: 47520 | D38: SKD | E38: Onsdag | I38: Fredag med skole | K38: =K7 -> 39
A39: =WEEKNUM(C39,21) -> 6 | B39: Torsdag | C39: 47521 | D39: SKD | E39: Torsdag | I39: Mandag - torsdag skolefri | K39: =SUM(K11:K14) -> 8
A40: =WEEKNUM(C40,21) -> 6 | B40: Fredag | C40: 47522 | D40: SKD | E40: Fredag | I40: Fredag skolefri | K40: =K15 -> 2
...

Sheet Ro 1 Aurskog-Høland
A1: Ruteområde 1 - Aurskog-Høland | G1: Bilag 3.1
A2: Versjon 0.9 | F2: Korrigert:
A3: Dagtyper per år (i 2030)
A4: Mandag med skole | C4: =Kalender_2030!K34 -> 37
A5: Tirsdag med skole | C5: =Kalender_2030!K35 -> 39
A6: Onsdag med skole | C6: =Kalender_2030!K36 -> 39
A7: Torsdag med skole | C7: =Kalender_2030!K37 -> 39
A8: Fredag med skole | C8: =Kalender_2030!K38 -> 39
A9: Mandag-torsdag (skolefri) | C9: =Kalender_2030!K39 -> 8
A10: Fredag (skolefri) | C10: =Kalender_2030!K40 -> 2
A11: Mandag-torsdag (ferieplan) | C11: =Kalender_2030!K41 -> 37
A12: Fredag (ferieplan) | C12: =Kalender_2030!K42 -> 9
A13: Lørdag | C13: =Kalender_2030!K43 -> 55
A14: Søndag | C14: =Kalender_2030!K44 -> 61
A15: sum | C15: =SUM(C4:C14) -> 365
A17: Linje: | B17: 470
B18: Lillestrøm - Bjørkelangen | C18: Rutekilometer | F18: Rutetimer
C19: ant km pr dag | D19: ant km pr år | F19: ant timer pr dag | G19: ant timer pr år
B20: Mandag med skole | C20: 3477.744 | D20: =C20*C$4 -> 128676.53 | F20: 77.37 | G20: =F20*C$4 -> 2862.69
B21: Tirsdag med skole | C21: 3477.151 | D21: =C21*C$5 -> 135608.89 | F21: 77.33 | G21: =F21*C$5 -> 3015.87
B22: Onsdag med skole | C22: 3477.151 | D22: =C22*C$6 -> 135608.89 | F22: 77.33 | G22: =F22*C$6 -> 3015.87
B23: Torsdag med skole | C23: 3477.151 | D23: =C23*C$7 -> 135608.89 | F23: 77.33 | G23: =F23*C$7 -> 3015.87
B24: Fredag med skole | C24: 3477.151 | D24: =C24*C$8 -> 135608.89 | F24: 77.33 | G24: =F24*C$8 -> 3015.87
B25: Mandag-torsdag (skolefri) | C25: 2803.935 | D25: =C25*C$9 -> 22431.48 | F25: 62.03 | G25: =F25*C$9 -> 496.24
B26: Fredag (skolefri) | C26: 2803.935 | D26: =C26*C$10 -> 5607.87 | F26: 62.03 | G26: =F26*C$10 -> 124.06
B27: Mandag-torsdag (ferieplan) | C27: 2803.935 | D27: =C27*C$11 -> 103745.6 | F27: 62.03 | G27: =F27*C$11 -> 2295.11
B28: Fredag (ferieplan) | C28: 2803.935 | D28: =C28*C$12 -> 25235.415 | F28: 62.03 | G28: =F28*C$12 -> 558.27
B29: Lørdag | C29: 2002.685 | D29: =C29*C$13 -> 110147.68 | F29: 43.75 | G29: =F29*C$13 -> 2406.25
B30: Søndag | C30: 1281.718 | D30: =C30*C$14 -> 78184.798 | F30: 28 | G30: =F30*C$14 -> 1708
B31: sum per år | D31: =SUM(D20:D30) -> 1016464.9 | G31: =SUM(G20:G30) -> 22514.1
A32: Busstype: | B32: Ruteopplegget er dimensjoner for buss av type BE.
A33: Omstigningsmulighet:
A34: Spiserom/toalett: Se også vedlegg 4! | B34: Henvises til vedlegg 4a punkt 5.1. Tilbudte fasiliteter.
A35: Regulerings- og oppstillingstid: | B35: Avganger som starter ved Lillestrøm bussterminal skal ha 5 minutter oppstillingstid, som kommer i tillegg til reguleringstiden.
A36: Spesielle forhold:
A38: Linje: | B38: 480
B39: Lillestrøm - Løken - Bjørkelangen | C39: Rutekilometer | F39: Rutetimer
C40: ant km pr dag | D40: ant km pr år | F40: ant timer pr dag | G40: ant timer pr år
B41: Mandag med skole | C41: 1758.61 | D41: =C41*C$4 -> 65068.57 | F41: 39.93 | G41: =F41*C$4 -> 1477.41
B42: Tirsdag med skole | C42: 1758.61 | D42: =C42*C$5 -> 68585.79 | F42: 39.93 | G42: =F42*C$5 -> 1557.27
...

Sheet Ro 2 Gjerdrum_Nannestad
A1: Ruteområde 2 - Gjerdrum og Nannestad | G1: Bilag 3.1
A2: Versjon 0.9 | F2: Korrigert:
A3: Dagtyper per år (i 2030)
A4: Mandag med skole | C4: =Kalender_2030!K34 -> 37
A5: Tirsdag med skole | C5: =Kalender_2030!K35 -> 39
A6: Onsdag med skole | C6: =Kalender_2030!K36 -> 39
A7: Torsdag med skole | C7: =Kalender_2030!K37 -> 39
A8: Fredag med skole | C8: =Kalender_2030!K38 -> 39
A9: Mandag-torsdag (skolefri) | C9: =Kalender_2030!K39 -> 8
A10: Fredag (skolefri) | C10: =Kalender_2030!K40 -> 2
A11: Mandag-torsdag (ferieplan) | C11: =Kalender_2030!K41 -> 37
A12: Fredag (ferieplan) | C12: =Kalender_2030!K42 -> 9
A13: Lørdag | C13: =Kalender_2030!K43 -> 55
A14: Søndag | C14: =Kalender_2030!K44 -> 61
A15: sum | C15: =SUM(C4:C14) -> 365
A17: Linje: | B17: 400
B18: Oslo lufthavn - Oslo bussterminal
B19: (Natt-trafikk i helgene) | C19: Rutekilometer | F19: Rutetimer
C20: ant km pr dag | D20: ant km pr år | F20: ant timer pr dag | G20: ant timer pr år
B21: Mandag med skole | C21: 6354.704 | D21: =C21*C$4 -> 235124.05 | F21: 149.43 | G21: =F21*C$4 -> 5528.91
B22: Tirsdag med skole | C22: 6354.704 | D22: =C22*C$5 -> 247833.46 | F22: 149.43 | G22: =F22*C$5 -> 5827.77
B23: Onsdag med skole | C23: 6351.061 | D23: =C23*C$6 -> 247691.38 | F23: 149.35 | G23: =F23*C$6 -> 5824.65
B24: Torsdag med skole | C24: 6354.704 | D24: =C24*C$7 -> 247833.46 | F24: 149.43 | G24: =F24*C$7 -> 5827.77
B25: Fredag med skole | C25: 6354.704 | D25: =C25*C$8 -> 247833.46 | F25: 149.43 | G25: =F25*C$8 -> 5827.77
B26: Mandag-torsdag (skolefri) | C26: 6347.708 | D26: =C26*C$9 -> 50781.664 | F26: 149.27 | G26: =F26*C$9 -> 1194.16
B27: Fredag (skolefri) | C27: 6347.708 | D27: =C27*C$10 -> 12695.416 | F27: 149.27 | G27: =F27*C$10 -> 298.54
B28: Mandag-torsdag (ferieplan) | C28: 5476.407 | D28: =C28*C$11 -> 202627.06 | F28: 128.92 | G28: =F28*C$11 -> 4770.04
B29: Fredag (ferieplan) | C29: 5476.407 | D29: =C29*C$12 -> 49287.663 | F29: 128.92 | G29: =F29*C$12 -> 1160.28
B30: Lørdag | C30: 4465.694 | D30: =C30*C$13 -> 245613.17 | F30: 104.92 | G30: =F30*C$13 -> 5770.6
B31: Søndag | C31: 3453.895 | D31: =C31*C$14 -> 210687.6 | F31: 80.5 | G31: =F31*C$14 -> 4910.5
B32: sum per år | D32: =SUM(D21:D31) -> 1998008.4 | G32: =SUM(G21:G31) -> 46940.99
A33: Busstype: | B33: Operatør skal benytte buss av type BE, med unntak av rene skolebussavganger.
A34: Omstigningsmulighet: | B34: Korrespondanse med tilstøtende linjer ved Olavsgaard og Skedsmokorset, unntatt i periodene det kjøres 10 min. rute eller oftere. Korrespondanse ved Eltonåsen og Ask med linje 405 og 410.
A35: Spiserom/toalett: Se også vedlegg 4! | B35: Henvises til vedlegg 4a punkt 5.1.: Tilbudte fasiliteter.
A36: Regulerings- og oppstillingstid: | B36: Reguleringstid: Avganger til og fra Oslo må påregne opp til 12 minutter forsinkelse i morgen- og ettermiddagsrush. Dette varierer fra dag til dag. Oppstillingstid: Skoleavganger skal ha minst 5 min. oppstillingstid på ettermiddagen.
A37: Spesielle forhold: | B37: Avløsning i rute tillates på Ask terminal, bortsett fra i rushtimene 0700-0900 og 1430-1700 på hverdager (passerings tider ved Ask). Morgen: Avganger i linje 410 som ankommer Eltonåsen skal teknisk kobles med avg. Linje 400 fra Eltonåsen mot Oslo Ettermiddag: Avganger i linje 400 som ankommer Eltonåsen skal teknisk kobles med linje 410 fra Eltonåsen mot Nannestad
A39: Linje: | B39: 400E
B40: Eltonåsen - Oslo ekpress
C41: Rutekilometer | F41: Rutetimer
C42: ant km pr dag | D42: ant km pr år | F42: ant timer pr dag | G42: ant timer pr år
...

Sheet Ro 3 Eidsvoll_Årnes
A1: Ruteområde 3 - Eidsvoll og Årnes | G1: Bilag 3.1
A2: Versjon 0.9 | F2: Korrigert:
A3: Dagtyper per år (i 2030)
A4: Mandag med skole | C4: =Kalender_2030!K34 -> 37
A5: Tirsdag med skole | C5: =Kalender_2030!K35 -> 39
A6: Onsdag med skole | C6: =Kalender_2030!K36 -> 39
A7: Torsdag med skole | C7: =Kalender_2030!K37 -> 39
A8: Fredag med skole | C8: =Kalender_2030!K38 -> 39
A9: Mandag-torsdag (skolefri) | C9: =Kalender_2030!K39 -> 8
A10: Fredag (skolefri) | C10: =Kalender_2030!K40 -> 2
A11: Mandag-torsdag (ferieplan) | C11: =Kalender_2030!K41 -> 37
A12: Fredag (ferieplan) | C12: =Kalender_2030!K42 -> 9
A13: Lørdag | C13: =Kalender_2030!K43 -> 55
A14: Søndag | C14: =Kalender_2030!K44 -> 61
A15: sum | C15: =SUM(C4:C14) -> 365
A17: Linje: | B17: 430
B18: Eidsvoll - Jessheim
C19: Rutekilometer | F19: Rutetimer
C20: ant km pr dag | D20: ant km pr år | F20: ant timer pr dag | G20: ant timer pr år
B21: Mandag med skole | C21: 3916.673 | D21: =C21*C$4 -> 144916.9 | F21: 113.63 | G21: =F21*C$4 -> 4204.31
B22: Tirsdag med skole | C22: 3916.673 | D22: =C22*C$5 -> 152750.25 | F22: 113.63 | G22: =F22*C$5 -> 4431.57
B23: Onsdag med skole | C23: 3916.673 | D23: =C23*C$6 -> 152750.25 | F23: 113.63 | G23: =F23*C$6 -> 4431.57
B24: Torsdag med skole | C24: 3916.673 | D24: =C24*C$7 -> 152750.25 | F24: 113.63 | G24: =F24*C$7 -> 4431.57
B25: Fredag med skole | C25: 3916.673 | D25: =C25*C$8 -> 152750.25 | F25: 113.63 | G25: =F25*C$8 -> 4431.57
B26: Mandag-torsdag (skolefri) | C26: 3916.673 | D26: =C26*C$9 -> 31333.384 | F26: 113.63 | G26: =F26*C$9 -> 909.04
B27: Fredag (skolefri) | C27: 3916.673 | D27: =C27*C$10 -> 7833.346 | F27: 113.63 | G27: =F27*C$10 -> 227.26
B28: Mandag-torsdag (ferieplan) | C28: 2258.939 | D28: =C28*C$11 -> 83580.743 | F28: 65.47 | G28: =F28*C$11 -> 2422.39
B29: Fredag (ferieplan) | C29: 2258.939 | D29: =C29*C$12 -> 20330.451 | F29: 65.47 | G29: =F29*C$12 -> 589.23
B30: Lørdag | C30: 1765.297 | D30: =C30*C$13 -> 97091.335 | F30: 50.73 | G30: =F30*C$13 -> 2790.15
B31: Søndag | C31: 1218.865 | D31: =C31*C$14 -> 74350.765 | F31: 34.98 | G31: =F31*C$14 -> 2133.78
B32: sum per år | D32: =SUM(D21:D31) -> 1070437.9 | G32: =SUM(G21:G31) -> 31002.44
A33: Busstype: | B33: BE
A34: Omstigningsmulighet:
A35: Spiserom/toalett: Se også vedlegg 4! | B35: Henvises til vedlegg 4a punkt 5.1.: Tilbudte fasiliteter.
A36: Regulerings- og oppstillingstid: | B36: I morgen og ettermiddagsrush må det påregnes forsinkelser på minst 7 minutter.
A37: Spesielle forhold: | B37: Avløsning i rute tillates på Eidsvoll stasjon i retning Sundet-Vilberg, unntatt i rush timene hverdager 0700-0900 og 1400-1700
A39: Linje: | B39: 441
B40: Eidsvoll - Nordkisa | C40: Rutekilometer | F40: Rutetimer
C41: ant km pr dag | D41: ant km pr år | F41: ant timer pr dag | G41: ant timer pr år
B42: Mandag med skole | C42: 529.481 | D42: =C42*C$4 -> 19590.797 | F42: 10.47 | G42: =F42*C$4 -> 387.39
...
