Workbook

Sheet Kalender_2030
A1: Uke | B1: Dag | C1: Dato | D1: Planperiode | E1: Kjøres som | F1: Beskrivelse | G1: Spesial
A2: =WEEKNUM(C2,21) -> 1 | B2: Tirsdag | C2: 47484 | D2: SKD | E2: Søndag | F2: 1.nyttårsdag | I2: periode | J2: Dag | K2: antall | L2: Sum periode
A3: =WEEKNUM(C3,21) -> 1 | B3: Onsdag | C3: 47485 | D3: SKD | E3: Onsdag | I3: SKD | J3: mandag | K3: =COUNTIFS(D:D,I3,E:E,J3) -> 37
A4: =WEEKNUM(C4,21) -> 1 | B4: Torsdag | C4: 47486 | D4: SKD | E4: Torsdag | I4: SKD | J4: tirsdag | K4: =COUNTIFS(D:D,I4,E:E,J4) -> 39
A5: =WEEKNUM(C5,21) -> 1 | B5: Fredag | C5: 47487 | D5: SKD | E5: Fredag | I5: SKD | J5: onsdag | K5: =COUNTIFS(D:D,I5,E:E,J5) -> 39
A6: =WEEKNUM(C6,21) -> 1 | B6: Lørdag | C6: 47488 | D6: SKD | E6: Lørdag | I6: SKD | J6: torsdag | K6: =COUNTIFS(D:D,I6,E:E,J6) -> 39
A7: =WEEKNUM(C7,21) -> 1 | B7: Søndag | C7: 47489 | D7: SKD | E7: Søndag | I7: SKD | J7: fredag | K7: =COUNTIFS(D:D,I7,E:E,J7) -> 39 | L7: =SUM(K3:K7) -> 193
A8: =WEEKNUM(C8,21) -> 2 | B8: Mandag | C8: 47490 | D8: SKD | E8: Mandag | I8: SKD | J8: lørdag | K8: =COUNTIFS(D:D,I8,E:E,J8) -> 55 | L8: =SUM(K8) -> 55
A9: =WEEKNUM(C9,21) -> 2 | B9: Tirsdag | C9: 47491 | D9: SKD | E9: Tirsdag | I9: SKD | J9: søndag | K9: =COUNTIFS(D:D,I9,E:E,J9) -> 61 | L9: =SUM(K9) -> 61
A10: =WEEKNUM(C10,21) -> 2 | B10: Onsdag | C10: 47492 | D10: SKD | E10: Onsdag | K10: =SUM(K3:K9) -> 309
A11: =WEEKNUM(C11,21) -> 2 | B11: Torsdag | C11: 47493 | D11: SKD | E11: Torsdag | I11: SKF | J11: mandag | K11: =COUNTIFS(D:D,I11,E:E,J11) -> 2
A12: =WEEKNUM(C12,21) -> 2 | B12: Fredag | C12: 47494 | D12: SKD | E12: Fredag | I12: SKF | J12: tirsdag | K12: =COUNTIFS(D:D,I12,E:E,J12) -> 2
A13: =WEEKNUM(C13,21) -> 2 | B13: Lørdag | C13: 47495 | D13: SKD | E13: Lørdag | I13: SKF | J13: onsdag | K13: =COUNTIFS(D:D,I13,E:E,J13) -> 2
A14: =WEEKNUM(C14,21) -> 2 | B14: Søndag | C14: 47496 | D14: SKD | E14: Søndag | I14: SKF | J14: torsdag | K14: =COUNTIFS(D:D,I14,E:E,J14) -> 2
A15: =WEEKNUM(C15,21) -> 3 | B15: Mandag | C15: 47497 | D15: SKD | E15: Mandag | I15: SKF | J15: fredag | K15: =COUNTIFS(D:D,I15,E:E,J15) -> 2
A16: =WEEKNUM(C16,21) -> 3 | B16: Tirsdag | C16: 47498 | D16: SKD | E16: Tirsdag | I16: SKF | J16: lørdag | K16: =COUNTIFS(D:D,I16,E:E,J16) -> 0
A17: =WEEKNUM(C17,21) -> 3 | B17: Onsdag | C17: 47499 | D17: SKD | E17: Onsdag | I17: SKF | J17: søndag | K17: =COUNTIFS(D:D,I17,E:E,J17) -> 0
A18: =WEEKNUM(C18,21) -> 3 | B18: Torsdag | C18: 47500 | D18: SKD | E18: Torsdag | K18: =SUM(K11:K17) -> 10 | L18: =SUM(K18) -> 10
A19: =WEEKNUM(C19,21) -> 3 | B19: Fredag | C19: 47501 | D19: SKD | E19: Fredag | I19: SOM | J19: mandag | K19: =COUNTIFS(D:D,I19,E:E,J19) -> 11
A20: =WEEKNUM(C20,21) -> 3 | B20: Lørdag | C20: 47502 | D20: SKD | E20: Lørdag | I20: SOM | J20: tirsdag | K20: =COUNTIFS(D:D,I20,E:E,J20) -> 9
A21: =WEEKNUM(C21,21) -> 3 | B21: Søndag | C21: 47503 | D21: SKD | E21: Søndag | I21: SOM | J21: onsdag | K21: =COUNTIFS(D:D,I21,E:E,J21) -> 9
A22: =WEEKNUM(C22,21) -> 4 | B22: Mandag | C22: 47504 | D22: SKD | E22: Mandag | I22: SOM | J22: torsdag | K22: =COUNTIFS(D:D,I22,E:E,J22) -> 8
A23: =WEEKNUM(C23,21) -> 4 | B23: Tirsdag | C23: 47505 | D23: SKD | E23: Tirsdag | I23: SOM | J23: fredag | K23: =COUNTIFS(D:D,I23,E:E,J23) -> 9
A24: =WEEKNUM(C24,21) -> 4 | B24: Onsdag | C24: 47506 | D24: SKD | E24: Onsdag | I24: SOM | J24: lørdag | K24: =COUNTIFS(D:D,I24,E:E,J24) -> 0
A25: =WEEKNUM(C25,21) -> 4 | B25: Torsdag | C25: 47507 | D25: SKD | E25: Torsdag | I25: SOM | J25: søndag | K25: =COUNTIFS(D:D,I25,E:E,J25) -> 0
A26: =WEEKNUM(C26,21) -> 4 | B26: Fredag | C26: 47508 | D26: SKD | E26: Fredag | K26: =SUM(K19:K25) -> 46 | L26: =SUM(K26) -> 46
A27: =WEEKNUM(C27,21) -> 4 | B27: Lørdag | C27: 47509 | D27: SKD | E27: Lørdag
A28: =WEEKNUM(C28,21) -> 4 | B28: Søndag | C28: 47510 | D28: SKD | E28: Søndag | L28: =SUM(L3:L26) -> 365 | M28: sum 2030
A29: =WEEKNUM(C29,21) -> 5 | B29: Mandag | C29: 47511 | D29: SKD | E29: Mandag
A30: =WEEKNUM(C30,21) -> 5 | B30: Tirsdag | C30: 47512 | D30: SKD | E30: Tirsdag
A31: =WEEKNUM(C31,21) -> 5 | B31: Onsdag | C31: 47513 | D31: SKD | E31: Onsdag
A32: =WEEKNUM(C32,21) -> 5 | B32: Torsdag | C32: 47514 | D32: SKD | E32: Torsdag
A33: =WEEKNUM(C33,21) -> 5 | B33: Fredag | C33: 47515 | D33: SKD | E33: Fredag | I33: Alle ruteområdene
A34: =WEEKNUM(C34,21) -> 5 | B34: Lørdag | C34: 47516 | D34: SKD | E34: Lørdag | I34: Mandag med skole | K34: =K3 -> 37
A35: =WEEKNUM(C35,21) -> 5 | B35: Søndag | C35: 47517 | D35: SKD | E35: Søndag | I35: Tirsdag med skole | K35: =K4 -> 39
A36: =WEEKNUM(C36,21) -> 6 | B36: Mandag | C36: 47518 | D36: SKD | E36: Mandag | I36: Onsdag med skole | K36: =K5 -> 39
A37: =WEEKNUM(C37,21) -> 6 | B37: Tirsdag | C37: 47519 | D37: SKD | E37: Tirsdag | I37: Torsdag med skole | K37: =K6 -> 39
A38: =WEEKNUM(C38,21) -> 6 | B38: Onsdag | C38: 47520 | D38: SKD | E38: Onsdag | I38: Fredag med skole | K38: =K7 -> 39
A39: =WEEKNUM(C39,21) -> 6 | B39: Torsdag | C39: 47521 | D39: SKD | E39: Torsdag | I39: Mandag - torsdag skolefri | K39: =SUM(K11:K14) -> 8
A40: =WEEKNUM(C40,21) -> 6 | B40: Fredag | C40: 47522 | D40: SKD | E40: Fredag | I40: Fredag skolefri | K40: =K15 -> 2
A41: =WEEKNUM(C41,21) -> 6 | B41: Lørdag | C41: 47523 | D41: SKD | E41: Lørdag | I41: Mandag - torsdag sommer | K41: =SUM(K19:K22) -> 37
A42: =WEEKNUM(C42,21) -> 6 | B42: Søndag | C42: 47524 | D42: SKD | E42: Søndag | I42: Fredag sommer | K42: =K23 -> 9
A43: =WEEKNUM(C43,21) -> 7 | B43: Mandag | C43: 47525 | D43: SKD | E43: Mandag | I43: Lørdag | K43: =L8 -> 55
A44: =WEEKNUM(C44,21) -> 7 | B44: Tirsdag | C44: 47526 | D44: SKD | E44: Tirsdag | I44: Søndag | K44: =L9 -> 61
A45: =WEEKNUM(C45,21) -> 7 | B45: Onsdag | C45: 47527 | D45: SKD | E45: Onsdag | K45: =SUM(K34:K44) -> 365
A46: =WEEKNUM(C46,21) -> 7 | B46: Torsdag | C46: 47528 | D46: SKD | E46: Torsdag
A47: =WEEKNUM(C47,21) -> 7 | B47: Fredag | C47: 47529 | D47: SKD | E47: Fredag
A48: =WEEKNUM(C48,21) -> 7 | B48: Lørdag | C48: 47530 | D48: SKD | E48: Lørdag
A49: =WEEKNUM(C49,21) -> 7 | B49: Søndag | C49: 47531 | D49: SKD | E49: Søndag
A50: =WEEKNUM(C50,21) -> 8 | B50: Mandag | C50: 47532 | D50: SOM | E50: Mandag | F50: Vinterferie
A51: =WEEKNUM(C51,21) -> 8 | B51: Tirsdag | C51: 47533 | D51: SOM | E51: Tirsdag | F51: Vinterferie
A52: =WEEKNUM(C52,21) -> 8 | B52: Onsdag | C52: 47534 | D52: SOM | E52: Onsdag | F52: Vinterferie
A53: =WEEKNUM(C53,21) -> 8 | B53: Torsdag | C53: 47535 | D53: SOM | E53: Torsdag | F53: Vinterferie
A54: =WEEKNUM(C54,21) -> 8 | B54: Fredag | C54: 47536 | D54: SOM | E54: Fredag | F54: Vinterferie
A55: =WEEKNUM(C55,21) -> 8 | B55: Lørdag | C55: 47537 | D55: SKD | E55: Lørdag
A56: =WEEKNUM(C56,21) -> 8 | B56: Søndag | C56: 47538 | D56: SKD | E56: Søndag
A57: =WEEKNUM(C57,21) -> 9 | B57: Mandag | C57: 47539 | D57: SKD | E57: Mandag
A58: =WEEKNUM(C58,21) -> 9 | B58: Tirsdag | C58: 47540 | D58: SKD | E58: Tirsdag
A59: =WEEKNUM(C59,21) -> 9 | B59: Onsdag | C59: 47541 | D59: SKD | E59: Onsdag
A60: =WEEKNUM(C60,21) -> 9 | B60: Torsdag | C60: 47542 | D60: SKD | E60: Torsdag
A61: =WEEKNUM(C61,21) -> 9 | B61: Fredag | C61: 47543 | D61: SKD | E61: Fredag
A62: =WEEKNUM(C62,21) -> 9 | B62: Lørdag | C62: 47544 | D62: SKD | E62: Lørdag
A63: =WEEKNUM(C63,21) -> 9 | B63: Søndag | C63: 47545 | D63: SKD | E63: Søndag
A64: =WEEKNUM(C64,21) -> 10 | B64: Mandag | C64: 47546 | D64: SKD | E64: Mandag
A65: =WEEKNUM(C65,21) -> 10 | B65: Tirsdag | C65: 47547 | D65: SKD | E65: Tirsdag
A66: =WEEKNUM(C66,21) -> 10 | B66: Onsdag | C66: 47548 | D66: SKD | E66: Onsdag
... A105: =WEEKNUM(C105,21) -> 15 | B105: Søndag | C105: 47587 | D105: SKD | E105: Søndag
A106: =WEEKNUM(C106,21) -> 16 | B106: Mandag | C106: 47588 | D106: SOM | E106: Mandag | F106: Påskeferie
A107: =WEEKNUM(C107,21) -> 16 | B107: Tirsdag | C107: 47589 | D107: SOM | E107: Tirsdag | F107: Påskeferie
A108: =WEEKNUM(C108,21) -> 16 | B108: Onsdag | C108: 47590 | D108: SOM | E108: Onsdag | F108: Påskeferie
A109: =WEEKNUM(C109,21) -> 16 | B109: Torsdag | C109: 47591 | D109: SKD | E109: Søndag | F109: Skjærtorsdag
A110: =WEEKNUM(C110,21) -> 16 | B110: Fredag | C110: 47592 | D110: SKD | E110: Søndag | F110: Langfredag
A111: =WEEKNUM(C111,21) -> 16 | B111: Lørdag | C111: 47593 | D111: SKD | E111: Lørdag | F111: Påskeaften
A112: =WEEKNUM(C112,21) -> 16 | B112: Søndag | C112: 47594 | D112: SKD | E112: Søndag | F112: 1. påskedag
A113: =WEEKNUM(C113,21) -> 17 | B113: Mandag | C113: 47595 | D113: SKD | E113: Søndag | F113: 2.påskedag
A114: =WEEKNUM(C114,21) -> 17 | B114: Tirsdag | C114: 47596 | D114: SKD | E114: Tirsdag
A115: =WEEKNUM(C115,21) -> 17 | B115: Onsdag | C115: 47597 | D115: SKD | E115: Onsdag
A116: =WEEKNUM(C116,21) -> 17 | B116: Torsdag | C116: 47598 | D116: SKD | E116: Torsdag
A117: =WEEKNUM(C117,21) -> 17 | B117: Fredag | C117: 47599 | D117: SKD | E117: Fredag
A118: =WEEKNUM(C118,21) -> 17 | B118: Lørdag | C118: 47600 | D118: SKD | E118: Lørdag
A119: =WEEKNUM(C119,21) -> 17 | B119: Søndag | C119: 47601 | D119: SKD | E119: Søndag
A120: =WEEKNUM(C120,21) -> 18 | B120: Mandag | C120: 47602 | D120: SKD | E120: Mandag
A121: =WEEKNUM(C121,21) -> 18 | B121: Tirsdag | C121: 47603 | D121: SKD | E121: Tirsdag
A122: =WEEKNUM(C122,21) -> 18 | B122: Onsdag | C122: 47604 | D122: SKD | E122: Søndag | F122: 1. mai
A123: =WEEKNUM(C123,21) -> 18 | B123: Torsdag | C123: 47605 | D123: SKD | E123: Torsdag
A124: =WEEKNUM(C124,21) -> 18 | B124: Fredag | C124: 47606 | D124: SKD | E124: Fredag
A125: =WEEKNUM(C125,21) -> 18 | B125: Lørdag | C125: 47607 | D125: SKD | E125: Lørdag
A126: =WEEKNUM(C126,21) -> 18 | B126: Søndag | C126: 47608 | D126: SKD | E126: Søndag
A127: =WEEKNUM(C127,21) -> 19 | B127: Mandag | C127: 47609 | D127: SKD | E127: Mandag
A128: =WEEKNUM(C128,21) -> 19 | B128: Tirsdag | C128: 47610 | D128: SKD | E128: Tirsdag
A129: =WEEKNUM(C129,21) -> 19 | B129: Onsdag | C129: 47611 | D129: SKD | E129: Onsdag
A130: =WEEKNUM(C130,21) -> 19 | B130: Torsdag | C130: 47612 | D130: SKD | E130: Torsdag
A131: =WEEKNUM(C131,21) -> 19 | B131: Fredag | C131: 47613 | D131: SKD | E131: Fredag
A132: =WEEKNUM(C132,21) -> 19 | B132: Lørdag | C132: 47614 | D132: SKD | E132: Lørdag
A133: =WEEKNUM(C133,21) -> 19 | B133: Søndag | C133: 47615 | D133: SKD | E133: Søndag
A134: =WEEKNUM(C134,21) -> 20 | B134: Mandag | C134: 47616 | D134: SKD | E134: Mandag
... A137: =WEEKNUM(C137,21) -> 20 | B137: Torsdag | C137: 47619 | D137: SKD | E137: Torsdag
A138: =WEEKNUM(C138,21) -> 20 | B138: Fredag | C138: 47620 | D138: SKD | E138: Lørdag | F138: 17. mai
A139: =WEEKNUM(C139,21) -> 20 | B139: Lørdag | C139: 47621 | D139: SKD | E139: Lørdag
A140: =WEEKNUM(C140,21) -> 20 | B140: Søndag | C140: 47622 | D140: SKD | E140: Søndag
...

Sheet Ro 1 Aurskog-Høland
A1: Ruteområde 1 - Aurskog-Høland | G1: Bilag 3.1
A2: Versjon 0.9 | F2: Korrigert:
A3: Dagtyper per år (i 2030)
A4: Mandag med skole | C4: =Kalender_2030!K34 -> 37
A5: Tirsdag med skole | C5: =Kalender_2030!K35 -> 39
A6: Onsdag med skole | C6: =Kalender_2030!K36 -> 39
A7: Torsdag med skole | C7: =Kalender_2030!K37 -> 39
A8: Fredag med skole | C8: =Kalender_2030!K38 -> 39
A9: Mandag-torsdag (skolefri) | C9: =Kalender_2030!K39 -> 8
A10: Fredag (skolefri) | C10: =Kalender_2030!K40 -> 2
A11: Mandag-torsdag (ferieplan) | C11: =Kalender_2030!K41 -> 37
A12: Fredag (ferieplan) | C12: =Kalender_2030!K42 -> 9
A13: Lørdag | C13: =Kalender_2030!K43 -> 55
A14: Søndag | C14: =Kalender_2030!K44 -> 61
A15: sum | C15: =SUM(C4:C14) -> 365
A17: Linje: | B17: 470
B18: Lillestrøm - Bjørkelangen | C18: Rutekilometer | F18: Rutetimer
C19: ant km pr dag | D19: ant km pr år | F19: ant timer pr dag | G19: ant timer pr år
B20: Mandag med skole | C20: 3477.744 | D20: =C20*C$4 -> 128676.53 | F20: 77.37 | G20: =F20*C$4 -> 2862.69
B21: Tirsdag med skole | C21: 3477.151 | D21: =C21*C$5 -> 135608.89 | F21: 77.33 | G21: =F21*C$5 -> 3015.87
B22: Onsdag med skole | C22: 3477.151 | D22: =C22*C$6 -> 135608.89 | F22: 77.33 | G22: =F22*C$6 -> 3015.87
B23: Torsdag med skole | C23: 3477.151 | D23: =C23*C$7 -> 135608.89 | F23: 77.33 | G23: =F23*C$7 -> 3015.87
B24: Fredag med skole | C24: 3477.151 | D24: =C24*C$8 -> 135608.89 | F24: 77.33 | G24: =F24*C$8 -> 3015.87
B25: Mandag-torsdag (skolefri) | C25: 2803.935 | D25: =C25*C$9 -> 22431.48 | F25: 62.03 | G25: =F25*C$9 -> 496.24
B26: Fredag (skolefri) | C26: 2803.935 | D26: =C26*C$10 -> 5607.87 | F26: 62.03 | G26: =F26*C$10 -> 124.06
B27: Mandag-torsdag (ferieplan) | C27: 2803.935 | D27: =C27*C$11 -> 103745.6 | F27: 62.03 | G27: =F27*C$11 -> 2295.11
B28: Fredag (ferieplan) | C28: 2803.935 | D28: =C28*C$12 -> 25235.415 | F28: 62.03 | G28: =F28*C$12 -> 558.27
B29: Lørdag | C29: 2002.685 | D29: =C29*C$13 -> 110147.68 | F29: 43.75 | G29: =F29*C$13 -> 2406.25
B30: Søndag | C30: 1281.718 | D30: =C30*C$14 -> 78184.798 | F30: 28 | G30: =F30*C$14 -> 1708
B31: sum per år | D31: =SUM(D20:D30) -> 1016464.9 | G31: =SUM(G20:G30) -> 22514.1
A32: Busstype: | B32: Ruteopplegget er dimensjoner for buss av type BE.
A33: Omstigningsmulighet:
A34: Spiserom/toalett: Se også vedlegg 4! | B34: Henvises til vedlegg 4a punkt 5.1. Tilbudte fasiliteter.
A35: Regulerings- og oppstillingstid: | B35: Avganger som starter ved Lillestrøm bussterminal skal ha 5 minutter oppstillingstid, som kommer i tillegg til reguleringstiden.
A36: Spesielle forhold:
A38: Linje: | B38: 480
B39: Lillestrøm - Løken - Bjørkelangen | C39: Rutekilometer | F39: Rutetimer
C40: ant km pr dag | D40: ant km pr år | F40: ant timer pr dag | G40: ant timer pr år
B41: Mandag med skole | C41: 1758.61 | D41: =C41*C$4 -> 65068.57 | F41: 39.93 | G41: =F41*C$4 -> 1477.41
B42: Tirsdag med skole | C42: 1758.61 | D42: =C42*C$5 -> 68585.79 | F42: 39.93 | G42: =F42*C$5 -> 1557.27
B43: Onsdag med skole | C43: 1758.61 | D43: =C43*C$6 -> 68585.79 | F43: 39.93 | G43: =F43*C$6 -> 1557.27
B44: Torsdag med skole | C44: 1758.61 | D44: =C44*C$7 -> 68585.79 | F44: 39.93 | G44: =F44*C$7 -> 1557.27
B45: Fredag med skole | C45: 1758.61 | D45: =C45*C$8 -> 68585.79 | F45: 39.93 | G45: =F45*C$8 -> 1557.27
B46: Mandag-torsdag (skolefri) | C46: 1758.61 | D46: =C46*C$9 -> 14068.88 | F46: 39.93 | G46: =F46*C$9 -> 319.44
B47: Fredag (skolefri) | C47: 1758.61 | D47: =C47*C$10 -> 3517.22 | F47: 39.93 | G47: =F47*C$10 -> 79.86
B48: Mandag-torsdag (ferieplan) | C48: 1758.61 | D48: =C48*C$11 -> 65068.57 | F48: 39.93 | G48: =F48*C$11 -> 1477.41
B49: Fredag (ferieplan) | C49: 1758.61 | D49: =C49*C$12 -> 15827.49 | F49: 39.93 | G49: =F49*C$12 -> 359.37
B50: Lørdag | C50: 803.954 | D50: =C50*C$13 -> 44217.47 | F50: 18.13 | G50: =F50*C$13 -> 997.15
B51: Søndag | C51: 401.977 | D51: =C51*C$14 -> 24520.597 | F51: 9.07 | G51: =F51*C$14 -> 553.27
B52: sum per år | D52: =SUM(D41:D51) -> 506631.96 | G52: =SUM(G41:G51) -> 11492.99
A53: Busstype: | B53: Ruteopplegget er dimensjoner for buss av type BE.
A54: Omstigningsmulighet:
A55: Spiserom/toalett: Se også vedlegg 4! | B55: Henvises til vedlegg 4a punkt 5.1. Tilbudte fasiliteter.
A56: Regulerings- og oppstillingstid: | B56: Avganger som starter ved Lillestrøm bussterminal skal ha 5 minutter oppstillingstid, som kommer i tillegg til reguleringstiden.
A57: Spesielle forhold:
A59: Linje: | B59: 485
B60: Løken - Hemnes | C60: Rutekilometer | F60: Rutetimer
C61: ant km pr dag | D61: ant km pr år | F61: ant timer pr dag | G61: ant timer pr år
B62: Mandag med skole | C62: 234.06 | D62: =C62*C$4 -> 8660.22 | F62: 4.8 | G62: =F62*C$4 -> 177.6
B63: Tirsdag med skole | C63: 234.06 | D63: =C63*C$5 -> 9128.34 | F63: 4.8 | G63: =F63*C$5 -> 187.2
B64: Onsdag med skole | C64: 234.06 | D64: =C64*C$6 -> 9128.34 | F64: 4.8 | G64: =F64*C$6 -> 187.2
B65: Torsdag med skole | C65: 234.06 | D65: =C65*C$7 -> 9128.34 | F65: 4.8 | G65: =F65*C$7 -> 187.2
B66: Fredag med skole | C66: 234.06 | D66: =C66*C$8 -> 9128.34 | F66: 4.8 | G66: =F66*C$8 -> 187.2
B67: Mandag-torsdag (skolefri) | C67: 188.055 | D67: =C67*C$9 -> 1504.44 | F67: 3.87 | G67: =F67*C$9 -> 30.96
B68: Fredag (skolefri) | C68: 188.055 | D68: =C68*C$10 -> 376.11 | F68: 3.87 | G68: =F68*C$10 -> 7.74
B69: Mandag-torsdag (ferieplan) | C69: 188.055 | D69: =C69*C$11 -> 6958.035 | F69: 3.87 | G69: =F69*C$11 -> 143.19
B70: Fredag (ferieplan) | C70: 188.055 | D70: =C70*C$12 -> 1692.495 | F70: 3.87 | G70: =F70*C$12 -> 34.83
B71: Lørdag | C71: 70.521 | D71: =C71*C$13 -> 3878.655 | F71: 1.45 | G71: =F71*C$13 -> 79.75
B72: Søndag | C72: 47.014 | D72: =C72*C$14 -> 2867.854 | F72: 0.97 | G72: =F72*C$14 -> 59.17
B73: sum per år | D73: =SUM(D62:D72) -> 62451.169 | G73: =SUM(G62:G72) -> 1282.04
A74: Busstype: | B74: Ruteopplegget er dimensjonert for buss av type NE eller NN.
A75: Omstigningsmulighet:
A76: Spiserom/toalett: Se også vedlegg 4! | B76: Henvises til vedlegg 4a punkt 5.1. Tilbudte fasiliteter.
A77: Regulerings- og oppstillingstid:
A78: Spesielle forhold: | B78: Korresponderer med linje 480 på Løken.
A81: Linje: | B81: 2131
B82: Finstabru - Haneborg - Aursmoen skole | C82: Rutekilometer | F82: Rutetimer
C83: ant km pr dag | D83: ant km pr år | F83: ant timer pr dag | G83: ant timer pr år
B84: Mandag med skole | C84: 45.804 | D84: =C84*C$4 -> 1694.748 | F84: 1.17 | G84: =F84*C$4 -> 43.29
B85: Tirsdag med skole | C85: 30.786 | D85: =C85*C$5 -> 1200.654 | F85: 0.83 | G85: =F85*C$5 -> 32.37
B86: Onsdag med skole | C86: 30.786 | D86: =C86*C$6 -> 1200.654 | F86: 0.83 | G86: =F86*C$6 -> 32.37
B87: Torsdag med skole | C87: 45.804 | D87: =C87*C$7 -> 1786.356 | F87: 1.17 | G87: =F87*C$7 -> 45.63
B88: Fredag med skole | C88: 45.804 | D88: =C88*C$8 -> 1786.356 | F88: 1.17 | G88: =F88*C$8 -> 45.63
B89: sum per år | D89: =SUM(D84:D88) -> 7668.768 | G89: =SUM(G84:G88) -> 199.29
A90: Busstype: | B90: Ruteopplegget er dimensjoner for buss av type BE.
A91: Omstigningsmulighet:
A92: Spiserom/toalett: Se også vedlegg 4! | B92: Henvises til vedlegg 4a punkt 5.1. Tilbudte fasiliteter.
A93: Regulerings- og oppstillingstid: | B93: 5 minutter oppstilling før avgangstid på skole på ettermiddagen.
A94: Spesielle forhold:
A96: Linje: | B96: 2132
B97: Aursmoen skole - Haneborg skole | C97: Rutekilometer | F97: Rutetimer
C98: ant km pr dag | D98: ant km pr år | F98: ant timer pr dag | G98: ant timer pr år
B99: Mandag med skole | C99: 72.129 | D99: =C99*C$4 -> 2668.773 | F99: 1.85 | G99: =F99*C$4 -> 68.45
B100: Tirsdag med skole | C100: 50.06 | D100: =C100*C$5 -> 1952.34 | F100: 1.27 | G100: =F100*C$5 -> 49.53
B101: Onsdag med skole | C101: 50.06 | D101: =C101*C$6 -> 1952.34 | F101: 1.27 | G101: =F101*C$6 -> 49.53
B102: Torsdag med skole | C102: 72.129 | D102: =C102*C$7 -> 2813.031 | F102: 1.85 | G102: =F102*C$7 -> 72.15
B103: Fredag med skole | C103: 72.129 | D103: =C103*C$8 -> 2813.031 | F103: 1.85 | G103: =F103*C$8 -> 72.15
B104: sum per år | D104: =SUM(D99:D103) -> 12199.515 | G104: =SUM(G99:G103) -> 311.81
A105: Busstype: | B105: Ruteopplegget er dimensjonert for buss av type NE eller NN.
A106: Omstigningsmulighet:
...

Sheet Ro 2 Gjerdrum_Nannestad
A1: Ruteområde 2 - Gjerdrum og Nannestad | G1: Bilag 3.1
A2: Versjon 0.9 | F2: Korrigert:
A3: Dagtyper per år (i 2030)
A4: Mandag med skole | C4: =Kalender_2030!K34 -> 37
A5: Tirsdag med skole | C5: =Kalender_2030!K35 -> 39
A6: Onsdag med skole | C6: =Kalender_2030!K36 -> 39
A7: Torsdag med skole | C7: =Kalender_2030!K37 -> 39
A8: Fredag med skole | C8: =Kalender_2030!K38 -> 39
A9: Mandag-torsdag (skolefri) | C9: =Kalender_2030!K39 -> 8
A10: Fredag (skolefri) | C10: =Kalender_2030!K40 -> 2
A11: Mandag-torsdag (ferieplan) | C11: =Kalender_2030!K41 -> 37
A12: Fredag (ferieplan) | C12: =Kalender_2030!K42 -> 9
A13: Lørdag | C13: =Kalender_2030!K43 -> 55
A14: Søndag | C14: =Kalender_2030!K44 -> 61
A15: sum | C15: =SUM(C4:C14) -> 365
A17: Linje: | B17: 400
B18: Oslo lufthavn - Oslo bussterminal
B19: (Natt-trafikk i helgene) | C19: Rutekilometer | F19: Rutetimer
C20: ant km pr dag | D20: ant km pr år | F20: ant timer pr dag | G20: ant timer pr år
B21: Mandag med skole | C21: 6354.704 | D21: =C21*C$4 -> 235124.05 | F21: 149.43 | G21: =F21*C$4 -> 5528.91
B22: Tirsdag med skole | C22: 6354.704 | D22: =C22*C$5 -> 247833.46 | F22: 149.43 | G22: =F22*C$5 -> 5827.77
B23: Onsdag med skole | C23: 6351.061 | D23: =C23*C$6 -> 247691.38 | F23: 149.35 | G23: =F23*C$6 -> 5824.65
B24: Torsdag med skole | C24: 6354.704 | D24: =C24*C$7 -> 247833.46 | F24: 149.43 | G24: =F24*C$7 -> 5827.77
B25: Fredag med skole | C25: 6354.704 | D25: =C25*C$8 -> 247833.46 | F25: 149.43 | G25: =F25*C$8 -> 5827.77
B26: Mandag-torsdag (skolefri) | C26: 6347.708 | D26: =C26*C$9 -> 50781.664 | F26: 149.27 | G26: =F26*C$9 -> 1194.16
B27: Fredag (skolefri) | C27: 6347.708 | D27: =C27*C$10 -> 12695.416 | F27: 149.27 | G27: =F27*C$10 -> 298.54
B28: Mandag-torsdag (ferieplan) | C28: 5476.407 | D28: =C28*C$11 -> 202627.06 | F28: 128.92 | G28: =F28*C$11 -> 4770.04
B29: Fredag (ferieplan) | C29: 5476.407 | D29: =C29*C$12 -> 49287.663 | F29: 128.92 | G29: =F29*C$12 -> 1160.28
B30: Lørdag | C30: 4465.694 | D30: =C30*C$13 -> 245613.17 | F30: 104.92 | G30: =F30*C$13 -> 5770.6
B31: Søndag | C31: 3453.895 | D31: =C31*C$14 -> 210687.6 | F31: 80.5 | G31: =F31*C$14 -> 4910.5
B32: sum per år | D32: =SUM(D21:D31) -> 1998008.4 | G32: =SUM(G21:G31) -> 46940.99
A33: Busstype: | B33: Operatør skal benytte buss av type BE, med unntak av rene skolebussavganger.
A34: Omstigningsmulighet: | B34: Korrespondanse med tilstøtende linjer ved Olavsgaard og Skedsmokorset, unntatt i periodene det kjøres 10 min. rute eller oftere. Korrespondanse ved Eltonåsen og Ask med linje 405 og 410.
A35: Spiserom/toalett: Se også vedlegg 4! | B35: Henvises til vedlegg 4a punkt 5.1.: Tilbudte fasiliteter.
A36: Regulerings- og oppstillingstid: | B36: Reguleringstid: Avganger til og fra Oslo må påregne opp til 12 minutter forsinkelse i morgen- og ettermiddagsrush. Dette varierer fra dag til dag. Oppstillingstid: Skoleavganger skal ha minst 5 min. oppstillingstid på ettermiddagen.
A37: Spesielle forhold: | B37: Avløsning i rute tillates på Ask terminal, bortsett fra i rushtimene 0700-0900 og 1430-1700 på hverdager (passerings tider ved Ask). Morgen: Avganger i linje 410 som ankommer Eltonåsen skal teknisk kobles med avg. Linje 400 fra Eltonåsen mot Oslo Ettermiddag: Avganger i linje 400 som ankommer Eltonåsen skal teknisk kobles med linje 410 fra Eltonåsen mot Nannestad
A39: Linje: | B39: 400E
B40: Eltonåsen - Oslo ekpress
C41: Rutekilometer | F41: Rutetimer
C42: ant km pr dag | D42: ant km pr år | F42: ant timer pr dag | G42: ant timer pr år
B43: Mandag med skole | C43: 378.167 | D43: =C43*C$4 -> 13992.179 | F43: 7.82 | G43: =F43*C$4 -> 289.34
B44: Tirsdag med skole | C44: 378.167 | D44: =C44*C$5 -> 14748.513 | F44: 7.82 | G44: =F44*C$5 -> 304.98
B45: Onsdag med skole | C45: 378.167 | D45: =C45*C$6 -> 14748.513 | F45: 7.82 | G45: =F45*C$6 -> 304.98
B46: Torsdag med skole | C46: 378.167 | D46: =C46*C$7 -> 14748.513 | F46: 7.82 | G46: =F46*C$7 -> 304.98
B47: Fredag med skole | C47: 378.167 | D47: =C47*C$8 -> 14748.513 | F47: 7.82 | G47: =F47*C$8 -> 304.98
B48: Mandag-torsdag (skolefri) | D48: =C48*C$9 -> 0 | G48: =F48*C$9 -> 0
B49: Fredag (skolefri) | D49: =C49*C$10 -> 0 | G49: =F49*C$10 -> 0
B50: Mandag-torsdag (ferieplan) | D50: =C50*C$11 -> 0 | G50: =F50*C$11 -> 0
B51: Fredag (ferieplan) | D51: =C51*C$12 -> 0 | G51: =F51*C$12 -> 0
B52: Lørdag | D52: =C52*C$13 -> 0 | G52: =F52*C$13 -> 0
B53: Søndag | D53: =C53*C$14 -> 0 | G53: =F53*C$14 -> 0
B54: sum per år | D54: =SUM(D43:D53) -> 72986.231 | G54: =SUM(G43:G53) -> 1509.26
A55: Busstype: | B55: Operatør skal benytte buss av type BE, BN og NN.
A56: Omstigningsmulighet: | B56: Korrespondanse med tilstøtende linjer ved Olavsgaard og Skedsmokorset, unntatt i periodene det kjøres 10 min. rute eller oftere. Korrespondanse ved Eltonåsen og Ask med linje 405 og 410.
A57: Spiserom/toalett: Se også vedlegg 4! | B57: Henvises til vedlegg 4a punkt 5.1.: Tilbudte fasiliteter.
A58: Regulerings- og oppstillingstid: | B58: Reguleringstid: Avganger til og fra Oslo må påregne opp til 10 minutter forsinkelse i morgen- og ettermiddagsrush. Dette varierer fra dag til dag.
A59: Spesielle forhold: | B59: Morgen: Avganger i linje 410 som ankommer Ask skal teknisk kobles med avg. Linje 400E Ask Eltonåsen mot Oslo. Ettermiddag: Avganger i linje 400E som ankommer Ask skal teknisk kobles med linje 410 fra Ask mot Eltonåsen.
A61: Linje: | B61: 405
B62: Kløfta - Nitteberg - Ask | C62: Rutekilometer | F62: Rutetimer
C63: ant km pr dag | D63: ant km pr år | F63: ant timer pr dag | G63: ant timer pr år
B64: Mandag med skole | C64: 193.162 | D64: =C64*C$4 -> 7146.994 | F64: 5.38 | G64: =F64*C$4 -> 199.06
B65: Tirsdag med skole | C65: 193.162 | D65: =C65*C$5 -> 7533.318 | F65: 5.38 | G65: =F65*C$5 -> 209.82
B66: Onsdag med skole | C66: 193.162 | D66: =C66*C$6 -> 7533.318 | F66: 5.38 | G66: =F66*C$6 -> 209.82
B67: Torsdag med skole | C67: 193.162 | D67: =C67*C$7 -> 7533.318 | F67: 5.38 | G67: =F67*C$7 -> 209.82
B68: Fredag med skole | C68: 193.162 | D68: =C68*C$8 -> 7533.318 | F68: 5.38 | G68: =F68*C$8 -> 209.82
B69: Mandag-torsdag skolefri | C69: 182.208 | D69: =C69*C$9 -> 1457.664 | F69: 5.1 | G69: =F69*C$9 -> 40.8
B70: Fredag skolefri | C70: 182.208 | D70: =C70*C$10 -> 364.416 | F70: 5.1 | G70: =F70*C$10 -> 10.2
B71: Mandag-torsdag (ferieplan) | C71: 182.208 | D71: =C71*C$11 -> 6741.696 | F71: 5.1 | G71: =F71*C$11 -> 188.7
B72: Fredag (ferieplan) | C72: 182.208 | D72: =C72*C$12 -> 1639.872 | F72: 5.1 | G72: =F72*C$12 -> 45.9
B73: Lørdag | D73: =C73*C$13 -> 0 | G73: =F73*C$13 -> 0
B74: Søndag | D74: =C74*C$14 -> 0 | G74: =F74*C$14 -> 0
B75: sum per år | D75: =SUM(D64:D74) -> 47483.914 | G75: =SUM(G64:G74) -> 1323.94
A76: Busstype: | B76: Operatør kan benytte buss av type BE, BN eller NN. OBS! FV1544 og 1546 har bruksklasse BKT8.
A77: Omstigningsmulighet: | B77: Korrespondanse med linje 400 og 410 ved Ask terminal
A78: Spiserom/toalett: Se også vedlegg 4! | B78: Henvises til vedlegg 4a punkt 5.1.: Tilbudte fasiliteter.
A79: Regulerings- og oppstillingstid: | B79: Oppstillingstid: Skoleavganger skal ha minst 5 min. oppstillingstid på ettermiddagen.
A80: Spesielle forhold: | B80: Ankomster i linje 400/ 400E fra Oslo kan være forsinket i rush, ventetid med påfølgende forsinkelse må påregnes. Det må påregnes rygging for å snu buss ved Nitteberg.
A82: Linje: | B82: 410
B83: Nannestad - Veståsen skole - Ask | C83: Rutekilometer | F83: Rutetimer
C84: ant km pr dag | D84: ant km pr år | F84: ant timer pr dag | G84: ant timer pr år
B85: Mandag med skole | C85: 1120.763 | D85: =C85*C$4 -> 41468.231 | F85: 24.73 | G85: =F85*C$4 -> 915.01
B86: Tirsdag med skole | C86: 1110.934 | D86: =C86*C$5 -> 43326.426 | F86: 24.5 | G86: =F86*C$5 -> 955.5
B87: Onsdag med skole | C87: 1110.934 | D87: =C87*C$6 -> 43326.426 | F87: 24.5 | G87: =F87*C$6 -> 955.5
B88: Torsdag med skole | C88: 1110.934 | D88: =C88*C$7 -> 43326.426 | F88: 24.5 | G88: =F88*C$7 -> 955.5
B89: Fredag med skole | C89: 1120.763 | D89: =C89*C$8 -> 43709.757 | F89: 24.73 | G89: =F89*C$8 -> 964.47
B90: Mandag-torsdag skolefri | C90: 976.913 | D90: =C90*C$9 -> 7815.304 | F90: 21.4 | G90: =F90*C$9 -> 171.2
B91: Fredag skolefri | C91: 976.913 | D91: =C91*C$10 -> 1953.826 | F91: 21.4 | G91: =F91*C$10 -> 42.8
B92: Mandag-torsdag (ferieplan) | C92: 890.928 | D92: =C92*C$11 -> 32964.336 | F92: 19.53 | G92: =F92*C$11 -> 722.61
B93: Fredag (ferieplan) | C93: 890.928 | D93: =C93*C$12 -> 8018.352 | F93: 19.53 | G93: =F93*C$12 -> 175.77
B94: Lørdag | C94: 718.651 | D94: =C94*C$13 -> 39525.805 | F94: 15.43 | G94: =F94*C$13 -> 848.65
B95: Søndag | C95: 463.857 | D95: =C95*C$14 -> 28295.277 | F95: 9.97 | G95: =F95*C$14 -> 608.17
B96: sum per år | D96: =SUM(D85:D95) -> 333730.17 | G96: =SUM(G85:G95) -> 7315.18
A97: Busstype: | B97: Operatør kan benytte buss av type BE, BN eller NN, skoleskyss avgangene skal ha minimum 48 sitteplasser.
A98: Omstigningsmulighet: | B98: Korrespondanse til og fra linje 400 på Eltonåsen. Omstigning til og fra linje 420 på Nannestad torg.
A99: Spiserom/toalett: Se også vedlegg 4! | B99: Henvises til vedlegg 4a punkt 5.1.: Tilbudte fasiliteter.
A100: Regulerings- og oppstillingstid: | B100: Oppstillingstid: Skoleavganger skal ha minst 5 min. oppstillingstid på ettermiddagen.
A101: Spesielle forhold: | B101: Morgen: Avganger i linje 410 som ankommer Eltonåsen skal teknisk kobles med avg. Linje 400 fra Eltonåsen mot Oslo Ettermiddag: Avganger i linje 400 som ankommer Eltonåsen skal teknisk kobles med linje 410 fra Eltonåsen mot Nannestad Morgen: Avganger i linje 410 som ankommer Ask skal teknisk kobles med avg. Linje 400E Ask Eltonåsen mot Oslo. Ettermiddag: Avganger i linje 400E som ankommer Ask skal teknisk kobles med linje 410 fra Ask mot Eltonåsen.
A103: Linje: | B103: 420
B104: Maura - Oslo lufthavn - Jessheim | C104: Rutekilometer | F104: Rutetimer
C105: ant km pr dag | D105: ant km pr år | F105: ant timer pr dag | G105: ant timer pr år
...

Sheet Ro 3 Eidsvoll_Årnes
A1: Ruteområde 3 - Eidsvoll og Årnes | G1: Bilag 3.1
A2: Versjon 0.9 | F2: Korrigert:
A3: Dagtyper per år (i 2030)
A4: Mandag med skole | C4: =Kalender_2030!K34 -> 37
A5: Tirsdag med skole | C5: =Kalender_2030!K35 -> 39
A6: Onsdag med skole | C6: =Kalender_2030!K36 -> 39
A7: Torsdag med skole | C7: =Kalender_2030!K37 -> 39
A8: Fredag med skole | C8: =Kalender_2030!K38 -> 39
A9: Mandag-torsdag (skolefri) | C9: =Kalender_2030!K39 -> 8
A10: Fredag (skolefri) | C10: =Kalender_2030!K40 -> 2
A11: Mandag-torsdag (ferieplan) | C11: =Kalender_2030!K41 -> 37
A12: Fredag (ferieplan) | C12: =Kalender_2030!K42 -> 9
A13: Lørdag | C13: =Kalender_2030!K43 -> 55
A14: Søndag | C14: =Kalender_2030!K44 -> 61
A15: sum | C15: =SUM(C4:C14) -> 365
A17: Linje: | B17: 430
B18: Eidsvoll - Jessheim
C19: Rutekilometer | F19: Rutetimer
C20: ant km pr dag | D20: ant km pr år | F20: ant timer pr dag | G20: ant timer pr år
B21: Mandag med skole | C21: 3916.673 | D21: =C21*C$4 -> 144916.9 | F21: 113.63 | G21: =F21*C$4 -> 4204.31
B22: Tirsdag med skole | C22: 3916.673 | D22: =C22*C$5 -> 152750.25 | F22: 113.63 | G22: =F22*C$5 -> 4431.57
B23: Onsdag med skole | C23: 3916.673 | D23: =C23*C$6 -> 152750.25 | F23: 113.63 | G23: =F23*C$6 -> 4431.57
B24: Torsdag med skole | C24: 3916.673 | D24: =C24*C$7 -> 152750.25 | F24: 113.63 | G24: =F24*C$7 -> 4431.57
B25: Fredag med skole | C25: 3916.673 | D25: =C25*C$8 -> 152750.25 | F25: 113.63 | G25: =F25*C$8 -> 4431.57
B26: Mandag-torsdag (skolefri) | C26: 3916.673 | D26: =C26*C$9 -> 31333.384 | F26: 113.63 | G26: =F26*C$9 -> 909.04
B27: Fredag (skolefri) | C27: 3916.673 | D27: =C27*C$10 -> 7833.346 | F27: 113.63 | G27: =F27*C$10 -> 227.26
B28: Mandag-torsdag (ferieplan) | C28: 2258.939 | D28: =C28*C$11 -> 83580.743 | F28: 65.47 | G28: =F28*C$11 -> 2422.39
B29: Fredag (ferieplan) | C29: 2258.939 | D29: =C29*C$12 -> 20330.451 | F29: 65.47 | G29: =F29*C$12 -> 589.23
B30: Lørdag | C30: 1765.297 | D30: =C30*C$13 -> 97091.335 | F30: 50.73 | G30: =F30*C$13 -> 2790.15
B31: Søndag | C31: 1218.865 | D31: =C31*C$14 -> 74350.765 | F31: 34.98 | G31: =F31*C$14 -> 2133.78
B32: sum per år | D32: =SUM(D21:D31) -> 1070437.9 | G32: =SUM(G21:G31) -> 31002.44
A33: Busstype: | B33: BE
A34: Omstigningsmulighet:
A35: Spiserom/toalett: Se også vedlegg 4! | B35: Henvises til vedlegg 4a punkt 5.1.: Tilbudte fasiliteter.
A36: Regulerings- og oppstillingstid: | B36: I morgen og ettermiddagsrush må det påregnes forsinkelser på minst 7 minutter.
A37: Spesielle forhold: | B37: Avløsning i rute tillates på Eidsvoll stasjon i retning Sundet-Vilberg, unntatt i rush timene hverdager 0700-0900 og 1400-1700
A39: Linje: | B39: 441
B40: Eidsvoll - Nordkisa | C40: Rutekilometer | F40: Rutetimer
C41: ant km pr dag | D41: ant km pr år | F41: ant timer pr dag | G41: ant timer pr år
B42: Mandag med skole | C42: 529.481 | D42: =C42*C$4 -> 19590.797 | F42: 10.47 | G42: =F42*C$4 -> 387.39
B43: Tirsdag med skole | C43: 529.481 | D43: =C43*C$5 -> 20649.759 | F43: 10.47 | G43: =F43*C$5 -> 408.33
B44: Onsdag med skole | C44: 529.481 | D44: =C44*C$6 -> 20649.759 | F44: 10.47 | G44: =F44*C$6 -> 408.33
B45: Torsdag med skole | C45: 529.481 | D45: =C45*C$7 -> 20649.759 | F45: 10.47 | G45: =F45*C$7 -> 408.33
B46: Fredag med skole | C46: 529.481 | D46: =C46*C$8 -> 20649.759 | F46: 10.47 | G46: =F46*C$8 -> 408.33
B47: Mandag-torsdag skolefri | C47: 397.785 | D47: =C47*C$9 -> 3182.28 | F47: 7.47 | G47: =F47*C$9 -> 59.76
B48: Fredag skolefri | C48: 397.785 | D48: =C48*C$10 -> 795.57 | F48: 7.47 | G48: =F48*C$10 -> 14.94
B49: Mandag-torsdag (ferieplan) | C49: 397.785 | D49: =C49*C$11 -> 14718.045 | F49: 7.47 | G49: =F49*C$11 -> 276.39
B50: Fredag (ferieplan) | C50: 397.785 | D50: =C50*C$12 -> 3580.065 | F50: 7.47 | G50: =F50*C$12 -> 67.23
B51: Lørdag | C51: 340.958 | D51: =C51*C$13 -> 18752.69 | F51: 6.4 | G51: =F51*C$13 -> 352
B52: Søndag | C52: 340.958 | D52: =C52*C$14 -> 20798.438 | F52: 6.4 | G52: =F52*C$14 -> 390.4
B53: sum per år | D53: =SUM(D42:D52) -> 164016.92 | G53: =SUM(G42:G52) -> 3181.43
A54: Busstype: | B54: Operatør skal benytte buss av type BE, BN og NN.
A55: Omstigningsmulighet: | B55: Linjen skal korrespondere til- fra tog ved Eidsvoll stasjon og på Nordkisa med linje 440, må vente i minst 5 minutter utover planlagt av gangstid på eventuelt forsinket ankomst. Avgang i linje 441 fra Nordkisa kl 0710 skal fortsette i linje 3872 kl 07:51 fra Eidsvoll.
A56: Spiserom/toalett: Se også vedlegg 4! | B56: Henvises til vedlegg 4a punkt 5.1.: Tilbudte fasiliteter.
A57: Regulerings- og oppstillingstid: | B57: Avganger knyttet til skoleskyss skal ha 5 minutter oppstilling ved avgang fra skole.
A58: Spesielle forhold:
A60: Linje: | B60: 442
B61: Eidsvoll - Styri | C61: Rutekilometer | F61: Rutetimer
C62: ant km pr dag | D62: ant km pr år | F62: ant timer pr dag | G62: ant timer pr år
B63: Mandag med skole | C63: 254.941 | D63: =C63*C$4 -> 9432.817 | F63: 6.83 | G63: =F63*C$4 -> 252.71
B64: Tirsdag med skole | C64: 254.941 | D64: =C64*C$5 -> 9942.699 | F64: 6.83 | G64: =F64*C$5 -> 266.37
B65: Onsdag med skole | C65: 254.941 | D65: =C65*C$6 -> 9942.699 | F65: 6.83 | G65: =F65*C$6 -> 266.37
B66: Torsdag med skole | C66: 254.941 | D66: =C66*C$7 -> 9942.699 | F66: 6.83 | G66: =F66*C$7 -> 266.37
B67: Fredag med skole | C67: 254.941 | D67: =C67*C$8 -> 9942.699 | F67: 6.83 | G67: =F67*C$8 -> 266.37
B68: Mandag-torsdag skolefri | C68: 125.458 | D68: =C68*C$9 -> 1003.664 | F68: 2.95 | G68: =F68*C$9 -> 23.6
B69: Fredag skolefri | C69: 125.458 | D69: =C69*C$10 -> 250.916 | F69: 2.95 | G69: =F69*C$10 -> 5.9
B70: Mandag-torsdag (ferieplan) | C70: 125.458 | D70: =C70*C$11 -> 4641.946 | F70: 2.95 | G70: =F70*C$11 -> 109.15
B71: Fredag (ferieplan) | C71: 125.458 | D71: =C71*C$12 -> 1129.122 | F71: 2.95 | G71: =F71*C$12 -> 26.55
B72: Lørdag | D72: =C72*C$13 -> 0 | G72: =F72*C$13 -> 0
B73: Søndag | D73: =C73*C$14 -> 0 | G73: =F73*C$14 -> 0
B74: sum per år | D74: =SUM(D63:D73) -> 56229.261 | G74: =SUM(G63:G73) -> 1483.39
A75: Busstype: | B75: Operatør skal benytte buss av type BE, BN og NN. BK8 og BT8 begrensinger langs trase.
A76: Omstigningsmulighet: | B76: Linjen skal korrespondere til- fra tog ved Eidsvoll stasjon, må vente i minst 5 minutter utover planlagt av gangstid på eventuelt forsinket ankomst.
A77: Spiserom/toalett: Se også vedlegg 4! | B77: Henvises til vedlegg 4a punkt 5.1.: Tilbudte fasiliteter.
A78: Regulerings- og oppstillingstid: | B78: Avganger knyttet til skoleskyss skal ha 5 minutter oppstilling ved avgang fra skole.
A79: Spesielle forhold:
A81: Linje: | B81: 443
B82: Feiring - Langset - Eidsvoll | C82: Rutekilometer | F82: Rutetimer
C83: ant km pr dag | D83: ant km pr år | F83: ant timer pr dag | G83: ant timer pr år
B84: Mandag med skole | C84: 459.466 | D84: =C84*C$4 -> 17000.242 | F84: 9.5 | G84: =F84*C$4 -> 351.5
B85: Tirsdag med skole | C85: 459.466 | D85: =C85*C$5 -> 17919.174 | F85: 9.5 | G85: =F85*C$5 -> 370.5
B86: Onsdag med skole | C86: 459.466 | D86: =C86*C$6 -> 17919.174 | F86: 9.5 | G86: =F86*C$6 -> 370.5
B87: Torsdag med skole | C87: 459.466 | D87: =C87*C$7 -> 17919.174 | F87: 9.5 | G87: =F87*C$7 -> 370.5
B88: Fredag med skole | C88: 459.466 | D88: =C88*C$8 -> 17919.174 | F88: 9.5 | G88: =F88*C$8 -> 370.5
B89: Mandag-torsdag skolefri | C89: 272.024 | D89: =C89*C$9 -> 2176.192 | F89: 5.43 | G89: =F89*C$9 -> 43.44
B90: Fredag skolefri | C90: 272.024 | D90: =C90*C$10 -> 544.048 | F90: 5.43 | G90: =F90*C$10 -> 10.86
B91: Mandag-torsdag (ferieplan) | C91: 272.024 | D91: =C91*C$11 -> 10064.888 | F91: 5.43 | G91: =F91*C$11 -> 200.91
B92: Fredag (ferieplan) | C92: 272.024 | D92: =C92*C$12 -> 2448.216 | F92: 5.43 | G92: =F92*C$12 -> 48.87
B93: Lørdag | D93: =C93*C$13 -> 0 | G93: =F93*C$13 -> 0
B94: Søndag | D94: =C94*C$14 -> 0 | G94: =F94*C$14 -> 0
B95: sum per år | D95: =SUM(D84:D94) -> 103910.28 | G95: =SUM(G84:G94) -> 2137.58
A96: Busstype: | B96: Operatør skal benytte buss av type BE, BN og NN.
A97: Omstigningsmulighet:
A98: Spiserom/toalett: Se også vedlegg 4! | B98: Henvises til vedlegg 4a punkt 5.1.: Tilbudte fasiliteter.
A99: Regulerings- og oppstillingstid: | B99: Avganger knyttet til skoleskyss skal ha 5 minutter oppstilling ved avgang fra skole.
A100: Spesielle forhold: | B100: Noen avganger skal kobles teknisk med linje 448 på Langset, oppstillingstid gjelder ikke på disse koblingene ved Langset.
A102: Linje: | B102: 445
B103: Hurdal-Eidsvoll verk | C103: Rutekilometer | F103: Rutetimer
C104: ant km pr dag | D104: ant km pr år | F104: ant timer pr dag | G104: ant timer pr år
B105: Mandag med skole | C105: 736.36 | D105: =C105*C$4 -> 27245.32 | F105: 14.87 | G105: =F105*C$4 -> 550.19
...
