Workbook
Name COGSType: Instructions!$M$3:$M$5
Name factors: [1]Methods!$B$2:$B$7
Name HeadType: Instructions!$M$8:$M$9
Name methods: [1]Methods!$A$2:$A$7
Name noswitch: [1]Methods!$C$2:$C$7
Name valuevx: 42.314159

Sheet Instructions
B2: INSTRUCTIONS
M3: Per Revenue Dollar
M4: Per Unit
M5: Fixed Dollar Per Month
B6: Welcome to the free Kruze Consulting Simple Start-up VC Pitch Deck Projection Model!
B8: We tried to make this as user-friendly and adaptable as possible so it can be tailored to all sorts of businesses. | M8: Permanent
M9: Contractor
B10: To use this model, enter your unique assumptions in the yellow cells within the "Model" tab.
B11: The assumptions will then flow through to the calculations and "Summary" and "Graphs" tabs so you can see the impacts of any changes.
B13: Please feel free to reach out to us if you have any question or if you'd like any help on an idea you have.
B14: https://kruzeconsulting.com/
B16: REVENUE
B18: This model has the capacity to project up to 5 unique revenue streams e.g. subscription revenue, implementation revenue, advertising revenue etc.
B20: Units sold
B21: Enter the name of each applicable revenue stream in cells E17:E21
B22: Enter the number of units sold of each applicable product/service each month in cells AK17:DD21
B23: Historical units sold can also be entered for comparative purposes in gray cells Y17:AJ21
B24: * Note that not all cells need to be entered. Clear the contents or enter zero for months with no sales.
B25: * Leave blank the revenue streams if they are not needed.
... B28: Enter the annual price applicable to each of the revenue streams in cells J24:O28
A30: =Model!E40 -> Total Revenue | B30: Total revenue can be seen on row 37
B32: Cost Of Goods Sold (COGS)
B33: Enter the basis upon which COGS is applied for each of the applicable revenue streams.
B34: Available options are:
B35: =M3 -> Per Revenue Dollar
B36: =M4 -> Per Unit
B37: =M5 -> Fixed Dollar Per Month
B38: COGS for each revenue stream can be seen in rows 48-52
B40: Total COGS can be seen on row 54
B42: Gross profit for each revenue stream can be seen in rows 57-61
B44: Total Gross Profit can be seen on row 63
B47: EXPENSES
B49: Headcount
B50: Permanent staff
B51: Enter staff names or roles in cells E70:76
B52: Enter average staff salaries in cells F70:76
B53: For each row, enter the number of full-time equivalent staff for each relevant month in cells AK70:DD76
B54: A single row can be used for multiple employees of the same type. For example, if you intend to have mutiple software developers all at a similar salary, you can enter one software developer in cells E70:76, one typical/average salary level in cells F70:76, and then input the number of full time software developers on staff in cells AK70:DD76
B55: * Note: if additional staff/roles need to be added, simply copy row and insert it above in both the Headcount and Payroll sections
... B72: Payroll Tax
...

Sheet Model
E1: FINANCIAL MODEL
J2: Model Start Date: | K2: 44562
E5: INCOME STATEMENT
I6: Actuals | J6: Assumptions | R6: Yearly Summary
I7: Prior Year | J7: Year 1 | K7: Year 2 | L7: Year 3 | M7: Year 4 | N7: Year 5 | O7: Year 6 | Q7: Year 0 | R7: Year 1 | S7: Year 2 | T7: Year 3 | U7: Year 4 | V7: Year 5 | W7: Year 6 | Y7: Yr0 Mth1 | Z7: Yr0 Mth2 | AA7: Yr0 Mth3 | AB7: Yr0 Mth4 | AC7: Yr0 Mth5 | AD7: Yr0 Mth6 | AE7: Yr0 Mth7 | AF7: Yr0 Mth8 | AG7: Yr0 Mth9 | AH7: Yr0 Mth10 | AI7: Yr0 Mth11 | AJ7: Yr0 Mth12 | AK7: Yr1 Mth1 | AL7: Yr1 Mth2 | AM7: Yr1 Mth3 | AN7: Yr1 Mth4 | AO7: Yr1 Mth5 | AP7: Yr1 Mth6 | AQ7: Yr1 Mth7 | AR7: Yr1 Mth8 | AS7: Yr1 Mth9 | AT7: Yr1 Mth10 | AU7: Yr1 Mth11 | AV7: Yr1 Mth12 | AW7: Yr2 Mth1 | AX7: Yr2 Mth2 | AY7: Yr2 Mth3 | AZ7: Yr2 Mth4 | BA7: Yr2 Mth5 | BB7: Yr2 Mth6 | BC7: Yr2 Mth7 | BD7: Yr2 Mth8 | BE7: Yr2 Mth9 | BF7: Yr2 Mth10 | BG7: Yr2 Mth11 | BH7: Yr2 Mth12 | BI7: Yr3 Mth1 | BJ7: Yr3 Mth2 | BK7: Yr3 Mth3 | BL7: Yr3 Mth4 | BM7: Yr3 Mth5 | BN7: Yr3 Mth6 | BO7: Yr3 Mth7 | BP7: Yr3 Mth8 | BQ7: Yr3 Mth9 | BR7: Yr3 Mth10 | BS7: Yr3 Mth11 | BT7: Yr3 Mth12 | BU7: Yr4 Mth1 | BV7: Yr4 Mth2 | BW7: Yr4 Mth3 | BX7: Yr4 Mth4 | BY7: Yr4 Mth5 | BZ7: Yr4 Mth6 | CA7: Yr4 Mth7 | CB7: Yr4 Mth8 | CC7: Yr4 Mth9 | CD7: Yr4 Mth10 | CE7: Yr4 Mth11 | CF7: Yr4 Mth12 | CG7: Yr5 Mth1 | CH7: Yr5 Mth2 | CI7: Yr5 Mth3 | CJ7: Yr5 Mth4 | CK7: Yr5 Mth5 | CL7: Yr5 Mth6 | CM7: Yr5 Mth7 | CN7: Yr5 Mth8 | CO7: Yr5 Mth9 | CP7: Yr5 Mth10 | CQ7: Yr5 Mth11 | CR7: Yr5 Mth12 | CS7: Yr6 Mth1 | CT7: Yr6 Mth2 | CU7: Yr6 Mth3 | CV7: Yr6 Mth4 | CW7: Yr6 Mth5 | CX7: Yr6 Mth6 | CY7: Yr6 Mth7 | CZ7: Yr6 Mth8 | DA7: Yr6 Mth9 | DB7: Yr6 Mth10 | DC7: Yr6 Mth11 | DD7: Yr6 Mth12
I8: =AJ8 -> 44531 | J8: =AV8 -> 44896 | K8: =BH8 -> 45261 | L8: =BT8 -> 45627 | M8: =CF8 -> 45992 | N8: =CR8 -> 46357 | O8: =DD8 -> 46722 | P8: =AQ8 -> 44743 | Q8: =AJ8 -> 44531 | R8: =AS8 -> 44805 | S8: =BH8 -> 45261 | T8: =BT8 -> 45627 | U8: =CF8 -> 45992 | V8: =CR8 -> 46357 | W8: =DD8 -> 46722 | Y8: =DATE(YEAR(Z8),MONTH(Z8)-1,DAY(Z8)) -> 44197 | Z8: =DATE(YEAR(AA8),MONTH(AA8)-1,DAY(AA8)) -> 44228 | AA8: =DATE(YEAR(AB8),MONTH(AB8)-1,DAY(AB8)) -> 44256 | AB8: =DATE(YEAR(AC8),MONTH(AC8)-1,DAY(AC8)) -> 44287 | AC8: =DATE(YEAR(AD8),MONTH(AD8)-1,DAY(AD8)) -> 44317 | AD8: =DATE(YEAR(AE8),MONTH(AE8)-1,DAY(AE8)) -> 44348 | AE8: =DATE(YEAR(AF8),MONTH(AF8)-1,DAY(AF8)) -> 44378 | AF8: =DATE(YEAR(AG8),MONTH(AG8)-1,DAY(AG8)) -> 44409 | ... AJ8: =DATE(YEAR(AK8),MONTH(AK8)-1,DAY(AK8)) -> 44531 | AK8: =K2 -> 44562 | AL8: =DATE(YEAR(AK8),MONTH(AK8)+1,DAY(AK8)) -> 44593 | AM8: =DATE(YEAR(AL8),MONTH(AL8)+1,DAY(AL8)) -> 44621 | AN8: =DATE(YEAR(AM8),MONTH(AM8)+1,DAY(AM8)) -> 44652 | AO8: =DATE(YEAR(AN8),MONTH(AN8)+1,DAY(AN8)) -> 44682 | AP8: =DATE(YEAR(AO8),MONTH(AO8)+1,DAY(AO8)) -> 44713 | AQ8: =DATE(YEAR(AP8),MONTH(AP8)+1,DAY(AP8)) -> 44743 | AR8: =DATE(YEAR(AQ8),MONTH(AQ8)+1,DAY(AQ8)) -> 44774 | AS8: =DATE(YEAR(AR8),MONTH(AR8)+1,DAY(AR8)) -> 44805 | ... DD8: =DATE(YEAR(DC8),MONTH(DC8)+1,DAY(DC8)) -> 46722
D15: Key Revenue Drivers
E16: Ending Users | J16: Total Customers | Q16: Total Customers
E17: Basic | F17: e.g. Software Subscription | Q17: =AJ17 -> 300 | R17: =AV17 -> 538 | S17: =BH17 -> 966.1707 | T17: =BT17 -> 1531.7106 | U17: =CF17 -> 2632.8437 | V17: =CR17 -> 3241.5962 | W17: =DD17 -> 4269.0886 | Y17: 20 | Z17: =+Y17*2 -> 40 | AA17: =+Z17*1.5 -> 60 | AB17: =+AA17*1.25 -> 75 | AC17: =+AB17*1.25 -> 93.75 | AD17: 90 | AE17: 146 | AF17: =+AE17*1.25 -> 182.5 | AG17: =+AF17*1.2 -> 219 | AH17: 200 | AI17: 282 | AJ17: 300 | AK17: =ROUND(AJ17*1.05,0) -> 315 | AL17: =ROUND(AK17*1.05,0) -> 331 | AM17: =ROUND(AL17*1.05,0) -> 348 | AN17: =ROUND(AM17*1.05,0) -> 365 | AO17: =ROUND(AN17*1.05,0) -> 383 | AP17: =ROUND(AO17*1.05,0) -> 402 | AQ17: =ROUND(AP17*1.05,0) -> 422 | AR17: =ROUND(AQ17*1.05,0) -> 443 | ... AV17: =ROUND(AU17*1.05,0) -> 538 | AW17: =+AV17*1.05 -> 564.9 | AX17: =+AW17*1.05 -> 593.145 | AY17: =+AX17*1.05 -> 622.80225 | AZ17: =+AY17*1.05 -> 653.94236 | BA17: =+AZ17*1.05 -> 686.63948 | BB17: =+BA17*1.05 -> 720.97145 | BC17: =+BB17*1.05 -> 757.02003 | BD17: =+BC17*1.05 -> 794.87103 | ... BI17: =+BH17*1.05 -> 1014.4792 | BJ17: =+BI17*1.04 -> 1055.0584 | BK17: =+BJ17*1.04 -> 1097.2607 | BL17: =+BK17*1.04 -> 1141.1512 | BM17: =+BL17*1.04 -> 1186.7972 | BN17: =+BM17*1.04 -> 1234.2691 | BO17: =+BN17*1.04 -> 1283.6399 | BP17: =+BO17*1.04 -> 1334.9855 | BQ17: =+BP17*1.04 -> 1388.3849 | ... BS17: =+BR17*1.04 -> 1501.6771 | BT17: =+BS17*1.02 -> 1531.7106 | BU17: =+BT17*1.05 -> 1608.2962 | BV17: =+BU17*1.05 -> 1688.711 | BW17: =+BV17*1.05 -> 1773.1465 | BX17: =+BW17*1.05 -> 1861.8039 | BY17: =+BX17*1.05 -> 1954.894 | BZ17: =+BY17*1.05 -> 2052.6387 | CA17: =+BZ17*1.05 -> 2155.2707 | CB17: =+CA17*1.05 -> 2263.0342 | ... CE17: =+CD17*1.05 -> 2619.745 | CF17: =+CE17*1.005 -> 2632.8437 | CG17: =+CF17*1.005 -> 2646.0079 | CH17: =+CG17*1.02 -> 2698.9281 | CI17: =+CH17*1.02 -> 2752.9067 | CJ17: =+CI17*1.02 -> 2807.9648 | CK17: =+CJ17*1.02 -> 2864.1241 | CL17: =+CK17*1.02 -> 2921.4066 | CM17: =+CL17*1.02 -> 2979.8347 | CN17: =+CM17*1.02 -> 3039.4314 | CO17: =+CN17*1.02 -> 3100.22 | ... CQ17: =+CP17*1.02 -> 3225.4689 | CR17: =+CQ17*1.005 -> 3241.5962 | CS17: =+CR17*1.075 -> 3484.716 | CT17: =+CS17*1.02 -> 3554.4103 | CU17: =+CT17*1.02 -> 3625.4985 | CV17: =+CU17*1.02 -> 3698.0085 | CW17: =+CV17*1.02 -> 3771.9686 | CX17: =+CW17*1.02 -> 3847.408 | CY17: =+CX17*1.02 -> 3924.3562 | CZ17: =+CY17*1.02 -> 4002.8433 | DA17: =+CZ17*1.02 -> 4082.9002 | ... DC17: =+DB17*1.02 -> 4247.8493 | DD17: =+DC17*1.005 -> 4269.0886
E18: Pro | F18: e.g. Implementation | Q18: =AJ18 -> 130 | R18: =AV18 -> 599 | S18: =BH18 -> 1560.7218 | T18: =BT18 -> 2425.762 | U18: =CF18 -> 3374.6111 | V18: =CR18 -> 4154.8712 | W18: =DD18 -> 5115.5391 | Y18: 0 | Z18: 0 | AA18: 0 | AB18: 2 | AC18: 5 | AD18: 2 | AE18: 30 | AF18: 40 | AG18: 60 | AH18: 90 | AI18: 110 | AJ18: 130 | AK18: =ROUND(AJ18*1.2,0) -> 156 | AL18: =ROUND(AK18*1.2,0) -> 187 | AM18: =ROUND(AL18*1.2,0) -> 224 | AN18: =ROUND(AM18*1.2,0) -> 269 | AO18: =ROUND(AN18*1.2,0) -> 323 | AP18: =ROUND(AO18*1.2,0) -> 388 | AQ18: =ROUND(AP18*1.1,0) -> 427 | AR18: =ROUND(AQ18*1.1,0) -> 470 | AS18: =ROUND(AR18*1.1,0) -> 517 | AT18: =ROUND(AS18*1.05,0) -> 543 | AU18: =ROUND(AT18*1.05,0) -> 570 | AV18: =ROUND(AU18*1.05,0) -> 599 | AW18: =+AV18*1.05 -> 628.95 | AX18: =+AW18*1.1 -> 691.845 | AY18: =+AX18*1.1 -> 761.0295 | AZ18: =+AY18*1.1 -> 837.13245 | BA18: =+AZ18*1.1 -> 920.8457 | BB18: =+BA18*1.1 -> 1012.9303 | BC18: =+BB18*1.1 -> 1114.2233 | BD18: =+BC18*1.1 -> 1225.6456 | BE18: =+BD18*1.1 -> 1348.2102 | BF18: =+BE18*1.05 -> 1415.6207 | BG18: =+BF18*1.05 -> 1486.4017 | BH18: =+BG18*1.05 -> 1560.7218 | BI18: =+BH18*1.05 -> 1638.7579 | BJ18: =+BI18*1.04 -> 1704.3082 | BK18: =+BJ18*1.04 -> 1772.4805 | BL18: =+BK18*1.04 -> 1843.3798 | BM18: =+BL18*1.04 -> 1917.115 | BN18: =+BM18*1.04 -> 1993.7996 | BO18: =+BN18*1.04 -> 2073.5515 | BP18: =+BO18*1.04 -> 2156.4936 | BQ18: =+BP18*1.04 -> 2242.7533 | ... BS18: =+BR18*1.04 -> 2425.762 | BT18: =+BS18 -> 2425.762 | BU18: =+BT18*1.03 -> 2498.5349 | BV18: =+BU18*1.03 -> 2573.4909 | BW18: =+BV18*1.03 -> 2650.6957 | BX18: =+BW18*1.03 -> 2730.2165 | BY18: =+BX18*1.03 -> 2812.123 | BZ18: =+BY18*1.03 -> 2896.4867 | CA18: =+BZ18*1.03 -> 2983.3813 | CB18: =+CA18*1.03 -> 3072.8828 | ... CE18: =+CD18*1.03 -> 3357.8219 | CF18: =+CE18*1.005 -> 3374.6111 | CG18: =+CF18*1.005 -> 3391.4841 | CH18: =+CG18*1.02 -> 3459.3138 | CI18: =+CH18*1.02 -> 3528.5001 | CJ18: =+CI18*1.02 -> 3599.0701 | CK18: =+CJ18*1.02 -> 3671.0515 | CL18: =+CK18*1.02 -> 3744.4725 | CM18: =+CL18*1.02 -> 3819.362 | CN18: =+CM18*1.02 -> 3895.7492 | CO18: =+CN18*1.02 -> 3973.6642 | ... CQ18: =+CP18*1.02 -> 4134.2002 | CR18: =+CQ18*1.005 -> 4154.8712 | CS18: =+CR18*1.005 -> 4175.6456 | CT18: =+CS18*1.02 -> 4259.1585 | CU18: =+CT18*1.02 -> 4344.3416 | CV18: =+CU18*1.02 -> 4431.2285 | CW18: =+CV18*1.02 -> 4519.8531 | CX18: =+CW18*1.02 -> 4610.2501 | CY18: =+CX18*1.02 -> 4702.4551 | CZ18: =+CY18*1.02 -> 4796.5042 | DA18: =+CZ18*1.02 -> 4892.4343 | ... DC18: =+DB18*1.02 -> 5090.0886 | DD18: =+DC18*1.005 -> 5115.5391
E19: Mult-User | Q19: =AJ19 -> 100 | R19: =AV19 -> 476 | S19: =BH19 -> 1130.0531 | T19: =BT19 -> 1791.5203 | U19: =CF19 -> 2492.2824 | V19: =CR19 -> 3068.5351 | W19: =DD19 -> 3778.026 | Y19: 0 | Z19: 0 | AA19: 0 | AB19: 0 | AC19: 0 | AD19: 1 | AE19: 5 | AF19: 15 | AG19: 35 | AH19: 50 | AI19: 80 | AJ19: 100 | AK19: =ROUND(AJ19*1.2,0) -> 120 | AL19: =ROUND(AK19*1.2,0) -> 144 | AM19: =ROUND(AL19*1.2,0) -> 173 | AN19: =ROUND(AM19*1.2,0) -> 208 | AO19: =ROUND(AN19*1.2,0) -> 250 | AP19: =ROUND(AO19*1.2,0) -> 300 | AQ19: =ROUND(AP19*1.1,0) -> 330 | AR19: =ROUND(AQ19*1.1,0) -> 363 | AS19: =ROUND(AR19*1.1,0) -> 399 | AT19: =ROUND(AS19*1.08,0) -> 431 | AU19: =ROUND(AT19*1.05,0) -> 453 | AV19: =ROUND(AU19*1.05,0) -> 476 | AW19: =+AV19*1.1 -> 523.6 | AX19: =+AW19*1.1 -> 575.96 | AY19: =+AX19*1.1 -> 633.556 | AZ19: =+AY19*1.1 -> 696.9116 | BA19: =+AZ19*1.1 -> 766.60276 | BB19: =+BA19*1.1 -> 843.26304 | BC19: =+BB19*1.05 -> 885.42619 | BD19: =+BC19*1.05 -> 929.6975 | BE19: =+BD19*1.05 -> 976.18237 | BF19: =+BE19*1.05 -> 1024.9915 | BG19: =+BF19*1.05 -> 1076.2411 | BH19: =+BG19*1.05 -> 1130.0531 | BI19: =+BH19*1.05 -> 1186.5558 | BJ19: =+BI19*1.04 -> 1234.018 | BK19: =+BJ19*1.04 -> 1283.3787 | BL19: =+BK19*1.04 -> 1334.7139 | BM19: =+BL19*1.04 -> 1388.1024 | BN19: =+BM19*1.04 -> 1443.6265 | BO19: =+BN19*1.04 -> 1501.3716 | BP19: =+BO19*1.04 -> 1561.4265 | BQ19: =+BP19*1.04 -> 1623.8835 | ... BS19: =+BR19*1.04 -> 1756.3924 | BT19: =+BS19*1.02 -> 1791.5203 | BU19: =+BT19*1.03 -> 1845.2659 | BV19: =+BU19*1.03 -> 1900.6238 | BW19: =+BV19*1.03 -> 1957.6426 | BX19: =+BW19*1.03 -> 2016.3718 | BY19: =+BX19*1.03 -> 2076.863 | BZ19: =+BY19*1.03 -> 2139.1689 | CA19: =+BZ19*1.03 -> 2203.3439 | CB19: =+CA19*1.03 -> 2269.4443 | ... CE19: =+CD19*1.03 -> 2479.883 | CF19: =+CE19*1.005 -> 2492.2824 | CG19: =+CF19*1.005 -> 2504.7438 | CH19: =+CG19*1.02 -> 2554.8387 | CI19: =+CH19*1.02 -> 2605.9355 | CJ19: =+CI19*1.02 -> 2658.0542 | CK19: =+CJ19*1.02 -> 2711.2153 | CL19: =+CK19*1.02 -> 2765.4396 | CM19: =+CL19*1.02 -> 2820.7484 | CN19: =+CM19*1.02 -> 2877.1633 | CO19: =+CN19*1.02 -> 2934.7066 | ... CQ19: =+CP19*1.02 -> 3053.2688 | CR19: =+CQ19*1.005 -> 3068.5351 | CS19: =+CR19*1.005 -> 3083.8778 | CT19: =+CS19*1.02 -> 3145.5553 | CU19: =+CT19*1.02 -> 3208.4664 | CV19: =+CU19*1.02 -> 3272.6358 | CW19: =+CV19*1.02 -> 3338.0885 | CX19: =+CW19*1.02 -> 3404.8503 | CY19: =+CX19*1.02 -> 3472.9473 | CZ19: =+CY19*1.02 -> 3542.4062 | DA19: =+CZ19*1.02 -> 3613.2543 | ... DC19: =+DB19*1.02 -> 3759.2298 | DD19: =+DC19*1.005 -> 3778.026
E20: Invoice Financing | Q20: =AJ20 -> 0 | R20: =AV20 -> 0 | S20: =BH20 -> 1700 | T20: =BT20 -> 9095 | U20: =CF20 -> 14664.195 | V20: =CR20 -> 16360.783 | W20: =DD20 -> 18253.66 | BC20: 100 | BD20: 300 | BE20: 600 | BF20: 1000 | BG20: 1500 | BH20: 1700 | BI20: =+ROUND(BH20*1.15,0) -> 1955 | BJ20: =+ROUND(BI20*1.15,0) -> 2248 | BK20: =+ROUND(BJ20*1.15,0) -> 2585 | BL20: =+ROUND(BK20*1.15,0) -> 2973 | BM20: =+ROUND(BL20*1.15,0) -> 3419 | BN20: =+ROUND(BM20*1.15,0) -> 3932 | BO20: =+ROUND(BN20*1.15,0) -> 4522 | BP20: =+ROUND(BO20*1.15,0) -> 5200 | ... BT20: =+ROUND(BS20*1.15,0) -> 9095 | BU20: =+BT20*1.1 -> 10004.5 | BV20: =+BU20*1.1 -> 11004.95 | BW20: =+BV20*1.1 -> 12105.445 | BX20: =+BW20*1.05 -> 12710.717 | BY20: =+BX20*1.05 -> 13346.253 | BZ20: =+BY20*1.02 -> 13613.178 | CA20: =+BZ20*1.02 -> 13885.442 | CB20: =+CA20*1.02 -> 14163.151 | CC20: =+CB20*1.02 -> 14446.414 | CD20: =+CC20*1.005 -> 14518.646 | CE20: =+CD20*1.005 -> 14591.239 | CF20: =+CE20*1.005 -> 14664.195 | CG20: =+CF20*1.005 -> 14737.516 | CH20: =+CG20*1.01 -> 14884.891 | CI20: =+CH20*1.01 -> 15033.74 | CJ20: =+CI20*1.01 -> 15184.078 | CK20: =+CJ20*1.01 -> 15335.918 | CL20: =+CK20*1.01 -> 15489.277 | CM20: =+CL20*1.01 -> 15644.17 | CN20: =+CM20*1.01 -> 15800.612 | CO20: =+CN20*1.01 -> 15958.618 | ... CQ20: =+CP20*1.01 -> 16279.386 | CR20: =+CQ20*1.005 -> 16360.783 | CS20: =+CR20*1.005 -> 16442.587 | CT20: =+CS20*1.01 -> 16607.013 | CU20: =+CT20*1.01 -> 16773.083 | CV20: =+CU20*1.01 -> 16940.814 | CW20: =+CV20*1.01 -> 17110.222 | CX20: =+CW20*1.01 -> 17281.324 | CY20: =+CX20*1.01 -> 17454.138 | CZ20: =+CY20*1.01 -> 17628.679 | DA20: =+CZ20*1.01 -> 17804.966 | ... DC20: =+DB20*1.01 -> 18162.846 | DD20: =+DC20*1.005 -> 18253.66
E21: Referral Fees | Q21: =AJ21 -> 0 | R21: =AV21 -> 0 | S21: =BH21 -> 0 | T21: =BT21 -> 0 | U21: =CF21 -> 0 | V21: =CR21 -> 0 | W21: =DD21 -> 0
E22: Total Customer Count | Q22: =AJ22 -> 530 | R22: =AV22 -> 1613 | S22: =BH22 -> 5356.9456 | T22: =BT22 -> 14843.993 | U22: =CF22 -> 23163.932 | V22: =CR22 -> 26825.786 | W22: =DD22 -> 31416.313 | Y22: =SUM(Y17:Y21) -> 20 | Z22: =SUM(Z17:Z21) -> 40 | AA22: =SUM(AA17:AA21) -> 60 | AB22: =SUM(AB17:AB21) -> 77 | AC22: =SUM(AC17:AC21) -> 98.75 | AD22: =SUM(AD17:AD21) -> 93 | AE22: =SUM(AE17:AE21) -> 181 | AF22: =SUM(AF17:AF21) -> 237.5 | ... DD22: =SUM(DD17:DD21) -> 31416.313
E24: Pricing | J24: Unit Price
E25: =IF(E17="","",E17) -> Basic | F25: e.g. Software Subscription | I25: 29 | J25: 29 | K25: 29 | L25: =1.02*K25 -> 29.58 | M25: 45 | N25: =+M25*0.95 -> 42.75 | O25: =+N25*0.95 -> 40.6125 | Q25: =IFERROR(AVERAGE(Y25:AJ25),0) -> 29 | R25: =IFERROR(AVERAGE(AK25:AV25),0) -> 29 | S25: =IFERROR(AVERAGE(AW25:BH25),0) -> 29 | T25: =IFERROR(AVERAGE(BI25:BT25),0) -> 29.58 | U25: =IFERROR(AVERAGE(BU25:CF25),0) -> 45 | V25: =IFERROR(AVERAGE(CG25:CR25),0) -> 42.75 | W25: =IFERROR(AVERAGE(CS25:DD25),0) -> 40.6125 | Y25: =$I25 -> 29 | Z25: =$I25 -> 29 | AA25: =$I25 -> 29 | AB25: =$I25 -> 29 | AC25: =$I25 -> 29 | AD25: =$I25 -> 29 | AE25: =$I25 -> 29 | AF25: =$I25 -> 29 | ... AJ25: =$I25 -> 29 | AK25: =$J25 -> 29 | AL25: =$J25 -> 29 | AM25: =$J25 -> 29 | AN25: =$J25 -> 29 | AO25: =$J25 -> 29 | AP25: =$J25 -> 29 | AQ25: =$J25 -> 29 | AR25: =$J25 -> 29 | ... AV25: =$J25 -> 29 | AW25: =$K25 -> 29 | AX25: =$K25 -> 29 | AY25: =$K25 -> 29 | AZ25: =$K25 -> 29 | BA25: =$K25 -> 29 | BB25: =$K25 -> 29 | BC25: =$K25 -> 29 | BD25: =$K25 -> 29 | ... BH25: =$K25 -> 29 | BI25: =$L25 -> 29.58 | BJ25: =$L25 -> 29.58 | BK25: =$L25 -> 29.58 | BL25: =$L25 -> 29.58 | BM25: =$L25 -> 29.58 | BN25: =$L25 -> 29.58 | BO25: =$L25 -> 29.58 | BP25: =$L25 -> 29.58 | ... BT25: =$L25 -> 29.58 | BU25: =$M25 -> 45 | BV25: =$M25 -> 45 | BW25: =$M25 -> 45 | BX25: =$M25 -> 45 | BY25: =$M25 -> 45 | BZ25: =$M25 -> 45 | CA25: =$M25 -> 45 | CB25: =$M25 -> 45 | ... CF25: =$M25 -> 45 | CG25: =$N25 -> 42.75 | CH25: =$N25 -> 42.75 | CI25: =$N25 -> 42.75 | CJ25: =$N25 -> 42.75 | CK25: =$N25 -> 42.75 | CL25: =$N25 -> 42.75 | CM25: =$N25 -> 42.75 | CN25: =$N25 -> 42.75 | ... CR25: =$N25 -> 42.75 | CS25: =$O25 -> 40.6125 | CT25: =$O25 -> 40.6125 | CU25: =$O25 -> 40.6125 | CV25: =$O25 -> 40.6125 | CW25: =$O25 -> 40.6125 | CX25: =$O25 -> 40.6125 | CY25: =$O25 -> 40.6125 | CZ25: =$O25 -> 40.6125 | ... DD25: =$O25 -> 40.6125
E26: =IF(E18="","",E18) -> Pro | F26: e.g. Implementation | I26: 49 | J26: 49 | K26: 49 | L26: =1.02*K26 -> 49.98 | M26: 60 | N26: =1.02*M26 -> 61.2 | O26: =1.02*N26 -> 62.424 | Q26: =IFERROR(AVERAGE(Y26:AJ26),0) -> 49 | R26: =IFERROR(AVERAGE(AK26:AV26),0) -> 49 | S26: =IFERROR(AVERAGE(AW26:BH26),0) -> 49 | T26: =IFERROR(AVERAGE(BI26:BT26),0) -> 49.98 | U26: =IFERROR(AVERAGE(BU26:CF26),0) -> 60 | V26: =IFERROR(AVERAGE(CG26:CR26),0) -> 61.2 | W26: =IFERROR(AVERAGE(CS26:DD26),0) -> 62.424 | Y26: =$I26 -> 49 | Z26: =$I26 -> 49 | AA26: =$I26 -> 49 | AB26: =$I26 -> 49 | AC26: =$I26 -> 49 | AD26: =$I26 -> 49 | AE26: =$I26 -> 49 | AF26: =$I26 -> 49 | ... AJ26: =$I26 -> 49 | AK26: =$J26 -> 49 | AL26: =$J26 -> 49 | AM26: =$J26 -> 49 | AN26: =$J26 -> 49 | AO26: =$J26 -> 49 | AP26: =$J26 -> 49 | AQ26: =$J26 -> 49 | AR26: =$J26 -> 49 | ... AV26: =$J26 -> 49 | AW26: =$K26 -> 49 | AX26: =$K26 -> 49 | AY26: =$K26 -> 49 | AZ26: =$K26 -> 49 | BA26: =$K26 -> 49 | BB26: =$K26 -> 49 | BC26: =$K26 -> 49 | BD26: =$K26 -> 49 | ... BH26: =$K26 -> 49 | BI26: =$L26 -> 49.98 | BJ26: =$L26 -> 49.98 | BK26: =$L26 -> 49.98 | BL26: =$L26 -> 49.98 | BM26: =$L26 -> 49.98 | BN26: =$L26 -> 49.98 | BO26: =$L26 -> 49.98 | BP26: =$L26 -> 49.98 | ... BT26: =$L26 -> 49.98 | BU26: =$M26 -> 60 | BV26: =$M26 -> 60 | BW26: =$M26 -> 60 | BX26: =$M26 -> 60 | BY26: =$M26 -> 60 | BZ26: =$M26 -> 60 | CA26: =$M26 -> 60 | CB26: =$M26 -> 60 | ... CF26: =$M26 -> 60 | CG26: =$N26 -> 61.2 | CH26: =$N26 -> 61.2 | CI26: =$N26 -> 61.2 | CJ26: =$N26 -> 61.2 | CK26: =$N26 -> 61.2 | CL26: =$N26 -> 61.2 | CM26: =$N26 -> 61.2 | CN26: =$N26 -> 61.2 | ... CR26: =$N26 -> 61.2 | CS26: =$O26 -> 62.424 | CT26: =$O26 -> 62.424 | CU26: =$O26 -> 62.424 | CV26: =$O26 -> 62.424 | CW26: =$O26 -> 62.424 | CX26: =$O26 -> 62.424 | CY26: =$O26 -> 62.424 | CZ26: =$O26 -> 62.424 | ... DD26: =$O26 -> 62.424
E27: =IF(E19="","",E19) -> Mult-User | I27: 250 | J27: 250 | K27: 275 | L27: 350 | M27: 600 | N27: 1000 | O27: 1750 | Q27: =IFERROR(AVERAGE(Y27:AJ27),0) -> 250 | R27: =IFERROR(AVERAGE(AK27:AV27),0) -> 250 | S27: =IFERROR(AVERAGE(AW27:BH27),0) -> 275 | T27: =IFERROR(AVERAGE(BI27:BT27),0) -> 350 | U27: =IFERROR(AVERAGE(BU27:CF27),0) -> 600 | V27: =IFERROR(AVERAGE(CG27:CR27),0) -> 1000 | W27: =IFERROR(AVERAGE(CS27:DD27),0) -> 1750 | Y27: =$I27 -> 250 | Z27: =$I27 -> 250 | AA27: =$I27 -> 250 | AB27: =$I27 -> 250 | AC27: =$I27 -> 250 | AD27: =$I27 -> 250 | AE27: =$I27 -> 250 | AF27: =$I27 -> 250 | ... AJ27: =$I27 -> 250 | AK27: =$J27 -> 250 | AL27: =$J27 -> 250 | AM27: =$J27 -> 250 | AN27: =$J27 -> 250 | AO27: =$J27 -> 250 | AP27: =$J27 -> 250 | AQ27: =$J27 -> 250 | AR27: =$J27 -> 250 | ... AV27: =$J27 -> 250 | AW27: =$K27 -> 275 | AX27: =$K27 -> 275 | AY27: =$K27 -> 275 | AZ27: =$K27 -> 275 | BA27: =$K27 -> 275 | BB27: =$K27 -> 275 | BC27: =$K27 -> 275 | BD27: =$K27 -> 275 | ... BH27: =$K27 -> 275 | BI27: =$L27 -> 350 | BJ27: =$L27 -> 350 | BK27: =$L27 -> 350 | BL27: =$L27 -> 350 | BM27: =$L27 -> 350 | BN27: =$L27 -> 350 | BO27: =$L27 -> 350 | BP27: =$L27 -> 350 | ... BT27: =$L27 -> 350 | BU27: =$M27 -> 600 | BV27: =$M27 -> 600 | BW27: =$M27 -> 600 | BX27: =$M27 -> 600 | BY27: =$M27 -> 600 | BZ27: =$M27 -> 600 | CA27: =$M27 -> 600 | CB27: =$M27 -> 600 | ... CF27: =$M27 -> 600 | CG27: =$N27 -> 1000 | CH27: =$N27 -> 1000 | CI27: =$N27 -> 1000 | CJ27: =$N27 -> 1000 | CK27: =$N27 -> 1000 | CL27: =$N27 -> 1000 | CM27: =$N27 -> 1000 | CN27: =$N27 -> 1000 | ... CR27: =$N27 -> 1000 | CS27: =$O27 -> 1750 | CT27: =$O27 -> 1750 | CU27: =$O27 -> 1750 | CV27: =$O27 -> 1750 | CW27: =$O27 -> 1750 | CX27: =$O27 -> 1750 | CY27: =$O27 -> 1750 | CZ27: =$O27 -> 1750 | ... DD27: =$O27 -> 1750
E28: =IF(E20="","",E20) -> Invoice Financing | K28: 50 | L28: 50 | M28: 60 | N28: 75 | O28: 100 | Q28: =IFERROR(AVERAGE(Y28:AJ28),0) -> 0 | R28: =IFERROR(AVERAGE(AK28:AV28),0) -> 0 | S28: =IFERROR(AVERAGE(AW28:BH28),0) -> 50 | T28: =IFERROR(AVERAGE(BI28:BT28),0) -> 50 | U28: =IFERROR(AVERAGE(BU28:CF28),0) -> 60 | V28: =IFERROR(AVERAGE(CG28:CR28),0) -> 75 | W28: =IFERROR(AVERAGE(CS28:DD28),0) -> 100 | Y28: =$I28 -> 0 | Z28: =$I28 -> 0 | AA28: =$I28 -> 0 | AB28: =$I28 -> 0 | AC28: =$I28 -> 0 | AD28: =$I28 -> 0 | AE28: =$I28 -> 0 | AF28: =$I28 -> 0 | ... AJ28: =$I28 -> 0 | AK28: =$J28 -> 0 | AL28: =$J28 -> 0 | AM28: =$J28 -> 0 | AN28: =$J28 -> 0 | AO28: =$J28 -> 0 | AP28: =$J28 -> 0 | AQ28: =$J28 -> 0 | AR28: =$J28 -> 0 | ... AV28: =$J28 -> 0 | AW28: =$K28 -> 50 | AX28: =$K28 -> 50 | AY28: =$K28 -> 50 | AZ28: =$K28 -> 50 | BA28: =$K28 -> 50 | BB28: =$K28 -> 50 | BC28: =$K28 -> 50 | BD28: =$K28 -> 50 | ... BH28: =$K28 -> 50 | BI28: =$L28 -> 50 | BJ28: =$L28 -> 50 | BK28: =$L28 -> 50 | BL28: =$L28 -> 50 | BM28: =$L28 -> 50 | BN28: =$L28 -> 50 | BO28: =$L28 -> 50 | BP28: =$L28 -> 50 | ... BT28: =$L28 -> 50 | BU28: =$M28 -> 60 | BV28: =$M28 -> 60 | BW28: =$M28 -> 60 | BX28: =$M28 -> 60 | BY28: =$M28 -> 60 | BZ28: =$M28 -> 60 | CA28: =$M28 -> 60 | CB28: =$M28 -> 60 | ... CF28: =$M28 -> 60 | CG28: =$N28 -> 75 | CH28: =$N28 -> 75 | CI28: =$N28 -> 75 | CJ28: =$N28 -> 75 | CK28: =$N28 -> 75 | CL28: =$N28 -> 75 | CM28: =$N28 -> 75 | CN28: =$N28 -> 75 | ... CR28: =$N28 -> 75 | CS28: =$O28 -> 100 | CT28: =$O28 -> 100 | CU28: =$O28 -> 100 | CV28: =$O28 -> 100 | CW28: =$O28 -> 100 | CX28: =$O28 -> 100 | CY28: =$O28 -> 100 | CZ28: =$O28 -> 100 | ... DD28: =$O28 -> 100
E29: =IF(E21="","",E21) -> Referral Fees | O29: 25 | Q29: =IFERROR(AVERAGE(Y29:AJ29),0) -> 0 | R29: =IFERROR(AVERAGE(AK29:AV29),0) -> 0 | S29: =IFERROR(AVERAGE(AW29:BH29),0) -> 0 | T29: =IFERROR(AVERAGE(BI29:BT29),0) -> 0 | U29: =IFERROR(AVERAGE(BU29:CF29),0) -> 0 | V29: =IFERROR(AVERAGE(CG29:CR29),0) -> 0 | W29: =IFERROR(AVERAGE(CS29:DD29),0) -> 25 | Y29: =$I29 -> 0 | Z29: =$I29 -> 0 | AA29: =$I29 -> 0 | AB29: =$I29 -> 0 | AC29: =$I29 -> 0 | AD29: =$I29 -> 0 | AE29: =$I29 -> 0 | AF29: =$I29 -> 0 | ... AJ29: =$I29 -> 0 | AK29: =$J29 -> 0 | AL29: =$J29 -> 0 | AM29: =$J29 -> 0 | AN29: =$J29 -> 0 | AO29: =$J29 -> 0 | AP29: =$J29 -> 0 | AQ29: =$J29 -> 0 | AR29: =$J29 -> 0 | ... AV29: =$J29 -> 0 | AW29: =$K29 -> 0 | AX29: =$K29 -> 0 | AY29: =$K29 -> 0 | AZ29: =$K29 -> 0 | BA29: =$K29 -> 0 | BB29: =$K29 -> 0 | BC29: =$K29 -> 0 | BD29: =$K29 -> 0 | ... BH29: =$K29 -> 0 | BI29: =$L29 -> 0 | BJ29: =$L29 -> 0 | BK29: =$L29 -> 0 | BL29: =$L29 -> 0 | BM29: =$L29 -> 0 | BN29: =$L29 -> 0 | BO29: =$L29 -> 0 | BP29: =$L29 -> 0 | ... BT29: =$L29 -> 0 | BU29: =$M29 -> 0 | BV29: =$M29 -> 0 | BW29: =$M29 -> 0 | BX29: =$M29 -> 0 | BY29: =$M29 -> 0 | BZ29: =$M29 -> 0 | CA29: =$M29 -> 0 | CB29: =$M29 -> 0 | ... CF29: =$M29 -> 0 | CG29: =$N29 -> 0 | CH29: =$N29 -> 0 | CI29: =$N29 -> 0 | CJ29: =$N29 -> 0 | CK29: =$N29 -> 0 | CL29: =$N29 -> 0 | CM29: =$N29 -> 0 | CN29: =$N29 -> 0 | ... CR29: =$N29 -> 0 | CS29: =$O29 -> 25 | CT29: =$O29 -> 25 | CU29: =$O29 -> 25 | CV29: =$O29 -> 25 | CW29: =$O29 -> 25 | CX29: =$O29 -> 25 | CY29: =$O29 -> 25 | CZ29: =$O29 -> 25 | ... DD29: =$O29 -> 25
E31: ARR | Q31: =AJ31 -> 480840 | R31: =AV31 -> 1967436 | S31: =BH31 -> 6003107.1 | T31: =BT31 -> 14979956 | U31: =CF31 -> 32354110 | V31: =CR31 -> 56261403 | W31: =DD31 -> 1.0715547e+08 | Y31: =(SUMIF($G$34:$G$38,"y",Y34:Y38))*12 -> 6960 | Z31: =(SUMIF($G$34:$G$38,"y",Z34:Z38))*12 -> 13920 | AA31: =(SUMIF($G$34:$G$38,"y",AA34:AA38))*12 -> 20880 | AB31: =(SUMIF($G$34:$G$38,"y",AB34:AB38))*12 -> 27276 | AC31: =(SUMIF($G$34:$G$38,"y",AC34:AC38))*12 -> 35565 | AD31: =(SUMIF($G$34:$G$38,"y",AD34:AD38))*12 -> 35496 | AE31: =(SUMIF($G$34:$G$38,"y",AE34:AE38))*12 -> 83448 | AF31: =(SUMIF($G$34:$G$38,"y",AF34:AF38))*12 -> 132030 | ... DD31: =(SUMIF($G$34:$G$38,"y",DD34:DD38))*12 -> 1.0715547e+08
E33: Revenue | G33: Counts as MRR?
E34: =IF(E17="","",E17) -> Basic | F34: e.g. Software Subscription | G34: Y | J34: =IFERROR((R34-I34)/I34,"") | K34: =IFERROR((S34-R34)/R34,"") -> 0.79401133 | L34: =IFERROR((T34-S34)/S34,"") -> 0.72579153 | M34: =IFERROR((U34-T34)/T34,"") -> 1.5480975 | N34: =IFERROR((V34-U34)/U34,"") -> 0.32127316 | O34: =IFERROR((W34-V34)/V34,"") -> 0.25112254 | Q34: =SUM(Y34:AJ34) -> 49539.25 | R34: =SUM(AK34:AV34) -> 145348 | S34: =SUM(AW34:BH34) -> 260755.96 | T34: =SUM(BI34:BT34) -> 450010.42 | U34: =SUM(BU34:CF34) -> 1146670.4 | V34: =SUM(CG34:CR34) -> 1515064.9 | W34: =SUM(CS34:DD34) -> 1895531.8 | Y34: =Y17*Y25 -> 580 | Z34: =Z17*Z25 -> 1160 | AA34: =AA17*AA25 -> 1740 | AB34: =AB17*AB25 -> 2175 | AC34: =AC17*AC25 -> 2718.75 | AD34: =AD17*AD25 -> 2610 | AE34: =AE17*AE25 -> 4234 | AF34: =AF17*AF25 -> 5292.5 | ... DD34: =DD17*DD25 -> 173378.36
E35: =IF(E18="","",E18) -> Pro | G35: Y | J35: =IFERROR((R35-I35)/I35,"") | K35: =IFERROR((S35-R35)/R35,"") -> 1.7826998 | L35: =IFERROR((T35-S35)/S35,"") -> 0.9238706 | M35: =IFERROR((U35-T35)/T35,"") -> 0.73148103 | N35: =IFERROR((V35-U35)/U35,"") -> 0.30976494 | O35: =IFERROR((W35-V35)/V35,"") -> 0.25583914 | Q35: =SUM(Y35:AJ35) -> 22981 | R35: =SUM(AK35:AV35) -> 228977 | S35: =SUM(AW35:BH35) -> 637174.26 | T35: =SUM(BI35:BT35) -> 1225840.8 | U35: =SUM(BU35:CF35) -> 2122520.1 | V35: =SUM(CG35:CR35) -> 2780002.4 | W35: =SUM(CS35:DD35) -> 3491235.8 | Y35: =Y18*Y26 -> 0 | Z35: =Z18*Z26 -> 0 | AA35: =AA18*AA26 -> 0 | AB35: =AB18*AB26 -> 98 | AC35: =AC18*AC26 -> 245 | AD35: =AD18*AD26 -> 98 | AE35: =AE18*AE26 -> 1470 | AF35: =AF18*AF26 -> 1960 | ... DD35: =DD18*DD26 -> 319332.41
E36: =IF(E19="","",E19) -> Mult-User | G36: Y | J36: =IFERROR((R36-I36)/I36,"") | K36: =IFERROR((S36-R36)/R36,"") -> 2.0350243 | L36: =IFERROR((T36-S36)/S36,"") -> 1.2506061 | M36: =IFERROR((U36-T36)/T36,"") -> 1.5170272 | N36: =IFERROR((V36-U36)/U36,"") -> 1.1401388 | O36: =IFERROR((W36-V36)/V36,"") -> 1.154626 | Q36: =SUM(Y36:AJ36) -> 71500 | R36: =SUM(AK36:AV36) -> 911750 | S36: =SUM(AW36:BH36) -> 2767183.4 | T36: =SUM(BI36:BT36) -> 6227839.9 | U36: =SUM(BU36:CF36) -> 15675642 | V36: =SUM(CG36:CR36) -> 33548050 | W36: =SUM(CS36:DD36) -> 72283500 | Y36: =Y19*Y27 -> 0 | Z36: =Z19*Z27 -> 0 | AA36: =AA19*AA27 -> 0 | AB36: =AB19*AB27 -> 0 | AC36: =AC19*AC27 -> 0 | AD36: =AD19*AD27 -> 250 | AE36: =AE19*AE27 -> 1250 | AF36: =AF19*AF27 -> 3750 | ... DD36: =DD19*DD27 -> 6611545.4
E37: =IF(E20="","",E20) -> Invoice Financing | G37: Y | J37: =IFERROR((R37-I37)/I37,"") | K37: =IFERROR((S37-R37)/R37,"") | L37: =IFERROR((T37-S37)/S37,"") -> 9.9028846 | M37: =IFERROR((U37-T37)/T37,"") -> 2.3665218 | N37: =IFERROR((V37-U37)/U37,"") -> 0.46826741 | O37: =IFERROR((W37-V37)/V37,"") -> 0.48759462 | Q37: =SUM(Y37:AJ37) -> 0 | R37: =SUM(AK37:AV37) -> 0 | S37: =SUM(AW37:BH37) -> 260000 | T37: =SUM(BI37:BT37) -> 2834750 | U37: =SUM(BU37:CF37) -> 9543247.7 | V37: =SUM(CG37:CR37) -> 14012040 | W37: =SUM(CS37:DD37) -> 20844235 | Y37: =Y20*Y28 -> 0 | Z37: =Z20*Z28 -> 0 | AA37: =AA20*AA28 -> 0 | AB37: =AB20*AB28 -> 0 | AC37: =AC20*AC28 -> 0 | AD37: =AD20*AD28 -> 0 | AE37: =AE20*AE28 -> 0 | AF37: =AF20*AF28 -> 0 | ... DD37: =DD20*DD28 -> 1825366
E38: =IF(E21="","",E21) -> Referral Fees | G38: N | J38: =IFERROR((R38-I38)/I38,"") | K38: =IFERROR((S38-R38)/R38,"") | L38: =IFERROR((T38-S38)/S38,"") | M38: =IFERROR((U38-T38)/T38,"") | N38: =IFERROR((V38-U38)/U38,"") | O38: =IFERROR((W38-V38)/V38,"") | Q38: =SUM(Y38:AJ38) -> 0 | R38: =SUM(AK38:AV38) -> 0 | S38: =SUM(AW38:BH38) -> 0 | T38: =SUM(BI38:BT38) -> 0 | U38: =SUM(BU38:CF38) -> 0 | V38: =SUM(CG38:CR38) -> 0 | W38: =SUM(CS38:DD38) -> 0 | Y38: =Y21*Y29 -> 0 | Z38: =Z21*Z29 -> 0 | AA38: =AA21*AA29 -> 0 | AB38: =AB21*AB29 -> 0 | AC38: =AC21*AC29 -> 0 | AD38: =AD21*AD29 -> 0 | AE38: =AE21*AE29 -> 0 | AF38: =AF21*AF29 -> 0 | ... DD38: =DD21*DD29 -> 0
E40: Total Revenue | J40: P.a. Growth | K40: =IFERROR((S40-R40)/R40,"") -> 2.0520099 | L40: =IFERROR((T40-S40)/S40,"") -> 1.7358294 | M40: =IFERROR((U40-T40)/T40,"") -> 1.6529065 | N40: =IFERROR((V40-U40)/U40,"") -> 0.82024046 | O40: =IFERROR((W40-V40)/V40,"") -> 0.89980145 | Q40: =SUM(Y40:AJ40) -> 144020.25 | R40: =SUM(AK40:AV40) -> 1286075 | S40: =SUM(AW40:BH40) -> 3925113.6 | T40: =SUM(BI40:BT40) -> 10738441 | U40: =SUM(BU40:CF40) -> 28488081 | V40: =SUM(CG40:CR40) -> 51855157 | W40: =SUM(CS40:DD40) -> 98514502 | Y40: =SUM(Y34:Y39) -> 580 | Z40: =SUM(Z34:Z39) -> 1160 | AA40: =SUM(AA34:AA39) -> 1740 | AB40: =SUM(AB34:AB39) -> 2273 | AC40: =SUM(AC34:AC39) -> 2963.75 | AD40: =SUM(AD34:AD39) -> 2958 | AE40: =SUM(AE34:AE39) -> 6954 | AF40: =SUM(AF34:AF39) -> 11002.5 | ... DD40: =SUM(DD34:DD39) -> 8929622.2
E42: Cost of Goods Sold | F42: Type | G42: Start Date
E43: =IF(E17="","","COGS - "&E17) -> COGS - Basic | F43: Per Revenue Dollar | I43: 0 | J43: 0.1 | K43: 0.75 | L43: 0.05 | M43: 0.02 | N43: 0.02 | O43: 0.02 | Q43: =IFERROR(AVERAGE(Y43:AJ43),0) -> 0 | R43: =IFERROR(AVERAGE(AK43:AV43),0) -> 2.9 | S43: =IFERROR(AVERAGE(AW43:BH43),0) -> 21.75 | T43: =IFERROR(AVERAGE(BI43:BT43),0) -> 1.479 | U43: =IFERROR(AVERAGE(BU43:CF43),0) -> 0.9 | V43: =IFERROR(AVERAGE(CG43:CR43),0) -> 0.855 | W43: =IFERROR(AVERAGE(CS43:DD43),0) -> 0.81225 | AK43: =IF($J43="","",IF($F43="Per Revenue Dollar",$J43*AK25,IF($F43="Per Unit",$J43*AK17,IF($F43="Fixed Dollar Per Month",IF($G43<AK$8,$J43,0))))) -> 2.9 | AL43: =IF($J43="","",IF($F43="Per Revenue Dollar",$J43*AL25,IF($F43="Per Unit",$J43*AL17,IF($F43="Fixed Dollar Per Month",IF($G43<AL$8,$J43,0))))) -> 2.9 | AM43: =IF($J43="","",IF($F43="Per Revenue Dollar",$J43*AM25,IF($F43="Per Unit",$J43*AM17,IF($F43="Fixed Dollar Per Month",IF($G43<AM$8,$J43,0))))) -> 2.9 | AN43: =IF($J43="","",IF($F43="Per Revenue Dollar",$J43*AN25,IF($F43="Per Unit",$J43*AN17,IF($F43="Fixed Dollar Per Month",IF($G43<AN$8,$J43,0))))) -> 2.9 | AO43: =IF($J43="","",IF($F43="Per Revenue Dollar",$J43*AO25,IF($F43="Per Unit",$J43*AO17,IF($F43="Fixed Dollar Per Month",IF($G43<AO$8,$J43,0))))) -> 2.9 | AP43: =IF($J43="","",IF($F43="Per Revenue Dollar",$J43*AP25,IF($F43="Per Unit",$J43*AP17,IF($F43="Fixed Dollar Per Month",IF($G43<AP$8,$J43,0))))) -> 2.9 | AQ43: =IF($J43="","",IF($F43="Per Revenue Dollar",$J43*AQ25,IF($F43="Per Unit",$J43*AQ17,IF($F43="Fixed Dollar Per Month",IF($G43<AQ$8,$J43,0))))) -> 2.9 | AR43: =IF($J43="","",IF($F43="Per Revenue Dollar",$J43*AR25,IF($F43="Per Unit",$J43*AR17,IF($F43="Fixed Dollar Per Month",IF($G43<AR$8,$J43,0))))) -> 2.9 | ... AV43: =IF($J43="","",IF($F43="Per Revenue Dollar",$J43*AV25,IF($F43="Per Unit",$J43*AV17,IF($F43="Fixed Dollar Per Month",IF($G43<AV$8,$J43,0))))) -> 2.9 | AW43: =IF($K43="","",IF($F43="Per Revenue Dollar",$K43*AW25,IF($F43="Per Unit",$K43*AW17,IF($F43="Fixed Dollar Per Month",IF($G43<AW$8,$K43,0))))) -> 21.75 | AX43: =IF($K43="","",IF($F43="Per Revenue Dollar",$K43*AX25,IF($F43="Per Unit",$K43*AX17,IF($F43="Fixed Dollar Per Month",IF($G43<AX$8,$K43,0))))) -> 21.75 | AY43: =IF($K43="","",IF($F43="Per Revenue Dollar",$K43*AY25,IF($F43="Per Unit",$K43*AY17,IF($F43="Fixed Dollar Per Month",IF($G43<AY$8,$K43,0))))) -> 21.75 | AZ43: =IF($K43="","",IF($F43="Per Revenue Dollar",$K43*AZ25,IF($F43="Per Unit",$K43*AZ17,IF($F43="Fixed Dollar Per Month",IF($G43<AZ$8,$K43,0))))) -> 21.75 | BA43: =IF($K43="","",IF($F43="Per Revenue Dollar",$K43*BA25,IF($F43="Per Unit",$K43*BA17,IF($F43="Fixed Dollar Per Month",IF($G43<BA$8,$K43,0))))) -> 21.75 | BB43: =IF($K43="","",IF($F43="Per Revenue Dollar",$K43*BB25,IF($F43="Per Unit",$K43*BB17,IF($F43="Fixed Dollar Per Month",IF($G43<BB$8,$K43,0))))) -> 21.75 | BC43: =IF($K43="","",IF($F43="Per Revenue Dollar",$K43*BC25,IF($F43="Per Unit",$K43*BC17,IF($F43="Fixed Dollar Per Month",IF($G43<BC$8,$K43,0))))) -> 21.75 | BD43: =IF($K43="","",IF($F43="Per Revenue Dollar",$K43*BD25,IF($F43="Per Unit",$K43*BD17,IF($F43="Fixed Dollar Per Month",IF($G43<BD$8,$K43,0))))) -> 21.75 | ... BH43: =IF($K43="","",IF($F43="Per Revenue Dollar",$K43*BH25,IF($F43="Per Unit",$K43*BH17,IF($F43="Fixed Dollar Per Month",IF($G43<BH$8,$K43,0))))) -> 21.75 | BI43: =IF($L43="","",IF($F43="Per Revenue Dollar",$L43*BI25,IF($F43="Per Unit",$L43*BI17,IF($F43="Fixed Dollar Per Month",IF($G43<BI$8,$L43,0))))) -> 1.479 | BJ43: =IF($L43="","",IF($F43="Per Revenue Dollar",$L43*BJ25,IF($F43="Per Unit",$L43*BJ17,IF($F43="Fixed Dollar Per Month",IF($G43<BJ$8,$L43,0))))) -> 1.479 | BK43: =IF($L43="","",IF($F43="Per Revenue Dollar",$L43*BK25,IF($F43="Per Unit",$L43*BK17,IF($F43="Fixed Dollar Per Month",IF($G43<BK$8,$L43,0))))) -> 1.479 | BL43: =IF($L43="","",IF($F43="Per Revenue Dollar",$L43*BL25,IF($F43="Per Unit",$L43*BL17,IF($F43="Fixed Dollar Per Month",IF($G43<BL$8,$L43,0))))) -> 1.479 | BM43: =IF($L43="","",IF($F43="Per Revenue Dollar",$L43*BM25,IF($F43="Per Unit",$L43*BM17,IF($F43="Fixed Dollar Per Month",IF($G43<BM$8,$L43,0))))) -> 1.479 | BN43: =IF($L43="","",IF($F43="Per Revenue Dollar",$L43*BN25,IF($F43="Per Unit",$L43*BN17,IF($F43="Fixed Dollar Per Month",IF($G43<BN$8,$L43,0))))) -> 1.479 | BO43: =IF($L43="","",IF($F43="Per Revenue Dollar",$L43*BO25,IF($F43="Per Unit",$L43*BO17,IF($F43="Fixed Dollar Per Month",IF($G43<BO$8,$L43,0))))) -> 1.479 | BP43: =IF($L43="","",IF($F43="Per Revenue Dollar",$L43*BP25,IF($F43="Per Unit",$L43*BP17,IF($F43="Fixed Dollar Per Month",IF($G43<BP$8,$L43,0))))) -> 1.479 | ... BT43: =IF($L43="","",IF($F43="Per Revenue Dollar",$L43*BT25,IF($F43="Per Unit",$L43*BT17,IF($F43="Fixed Dollar Per Month",IF($G43<BT$8,$L43,0))))) -> 1.479 | BU43: =IF($M43="","",IF($F43="Per Revenue Dollar",$M43*BU25,IF($F43="Per Unit",$M43*BU17,IF($F43="Fixed Dollar Per Month",IF($G43<BU$8,$M43,0))))) -> 0.9 | BV43: =IF($M43="","",IF($F43="Per Revenue Dollar",$M43*BV25,IF($F43="Per Unit",$M43*BV17,IF($F43="Fixed Dollar Per Month",IF($G43<BV$8,$M43,0))))) -> 0.9 | BW43: =IF($M43="","",IF($F43="Per Revenue Dollar",$M43*BW25,IF($F43="Per Unit",$M43*BW17,IF($F43="Fixed Dollar Per Month",IF($G43<BW$8,$M43,0))))) -> 0.9 | BX43: =IF($M43="","",IF($F43="Per Revenue Dollar",$M43*BX25,IF($F43="Per Unit",$M43*BX17,IF($F43="Fixed Dollar Per Month",IF($G43<BX$8,$M43,0))))) -> 0.9 | BY43: =IF($M43="","",IF($F43="Per Revenue Dollar",$M43*BY25,IF($F43="Per Unit",$M43*BY17,IF($F43="Fixed Dollar Per Month",IF($G43<BY$8,$M43,0))))) -> 0.9 | BZ43: =IF($M43="","",IF($F43="Per Revenue Dollar",$M43*BZ25,IF($F43="Per Unit",$M43*BZ17,IF($F43="Fixed Dollar Per Month",IF($G43<BZ$8,$M43,0))))) -> 0.9 | CA43: =IF($M43="","",IF($F43="Per Revenue Dollar",$M43*CA25,IF($F43="Per Unit",$M43*CA17,IF($F43="Fixed Dollar Per Month",IF($G43<CA$8,$M43,0))))) -> 0.9 | CB43: =IF($M43="","",IF($F43="Per Revenue Dollar",$M43*CB25,IF($F43="Per Unit",$M43*CB17,IF($F43="Fixed Dollar Per Month",IF($G43<CB$8,$M43,0))))) -> 0.9 | ... CF43: =IF($M43="","",IF($F43="Per Revenue Dollar",$M43*CF25,IF($F43="Per Unit",$M43*CF17,IF($F43="Fixed Dollar Per Month",IF($G43<CF$8,$M43,0))))) -> 0.9 | CG43: =IF($N43="","",IF($F43="Per Revenue Dollar",$N43*CG25,IF($F43="Per Unit",$N43*CG17,IF($F43="Fixed Dollar Per Month",IF($G43<CG$8,$N43,0))))) -> 0.855 | CH43: =IF($N43="","",IF($F43="Per Revenue Dollar",$N43*CH25,IF($F43="Per Unit",$N43*CH17,IF($F43="Fixed Dollar Per Month",IF($G43<CH$8,$N43,0))))) -> 0.855 | CI43: =IF($N43="","",IF($F43="Per Revenue Dollar",$N43*CI25,IF($F43="Per Unit",$N43*CI17,IF($F43="Fixed Dollar Per Month",IF($G43<CI$8,$N43,0))))) -> 0.855 | CJ43: =IF($N43="","",IF($F43="Per Revenue Dollar",$N43*CJ25,IF($F43="Per Unit",$N43*CJ17,IF($F43="Fixed Dollar Per Month",IF($G43<CJ$8,$N43,0))))) -> 0.855 | CK43: =IF($N43="","",IF($F43="Per Revenue Dollar",$N43*CK25,IF($F43="Per Unit",$N43*CK17,IF($F43="Fixed Dollar Per Month",IF($G43<CK$8,$N43,0))))) -> 0.855 | CL43: =IF($N43="","",IF($F43="Per Revenue Dollar",$N43*CL25,IF($F43="Per Unit",$N43*CL17,IF($F43="Fixed Dollar Per Month",IF($G43<CL$8,$N43,0))))) -> 0.855 | CM43: =IF($N43="","",IF($F43="Per Revenue Dollar",$N43*CM25,IF($F43="Per Unit",$N43*CM17,IF($F43="Fixed Dollar Per Month",IF($G43<CM$8,$N43,0))))) -> 0.855 | CN43: =IF($N43="","",IF($F43="Per Revenue Dollar",$N43*CN25,IF($F43="Per Unit",$N43*CN17,IF($F43="Fixed Dollar Per Month",IF($G43<CN$8,$N43,0))))) -> 0.855 | ... CR43: =IF($N43="","",IF($F43="Per Revenue Dollar",$N43*CR25,IF($F43="Per Unit",$N43*CR17,IF($F43="Fixed Dollar Per Month",IF($G43<CR$8,$N43,0))))) -> 0.855 | CS43: =IF($O43="","",IF($F43="Per Revenue Dollar",$O43*CS25,IF($F43="Per Unit",$O43*CS17,IF($F43="Fixed Dollar Per Month",IF($G43<CS$8,$O43,0))))) -> 0.81225 | CT43: =IF($O43="","",IF($F43="Per Revenue Dollar",$O43*CT25,IF($F43="Per Unit",$O43*CT17,IF($F43="Fixed Dollar Per Month",IF($G43<CT$8,$O43,0))))) -> 0.81225 | CU43: =IF($O43="","",IF($F43="Per Revenue Dollar",$O43*CU25,IF($F43="Per Unit",$O43*CU17,IF($F43="Fixed Dollar Per Month",IF($G43<CU$8,$O43,0))))) -> 0.81225 | CV43: =IF($O43="","",IF($F43="Per Revenue Dollar",$O43*CV25,IF($F43="Per Unit",$O43*CV17,IF($F43="Fixed Dollar Per Month",IF($G43<CV$8,$O43,0))))) -> 0.81225 | CW43: =IF($O43="","",IF($F43="Per Revenue Dollar",$O43*CW25,IF($F43="Per Unit",$O43*CW17,IF($F43="Fixed Dollar Per Month",IF($G43<CW$8,$O43,0))))) -> 0.81225 | CX43: =IF($O43="","",IF($F43="Per Revenue Dollar",$O43*CX25,IF($F43="Per Unit",$O43*CX17,IF($F43="Fixed Dollar Per Month",IF($G43<CX$8,$O43,0))))) -> 0.81225 | CY43: =IF($O43="","",IF($F43="Per Revenue Dollar",$O43*CY25,IF($F43="Per Unit",$O43*CY17,IF($F43="Fixed Dollar Per Month",IF($G43<CY$8,$O43,0))))) -> 0.81225 | CZ43: =IF($O43="","",IF($F43="Per Revenue Dollar",$O43*CZ25,IF($F43="Per Unit",$O43*CZ17,IF($F43="Fixed Dollar Per Month",IF($G43<CZ$8,$O43,0))))) -> 0.81225 | ... DD43: =IF($O43="","",IF($F43="Per Revenue Dollar",$O43*DD25,IF($F43="Per Unit",$O43*DD17,IF($F43="Fixed Dollar Per Month",IF($G43<DD$8,$O43,0))))) -> 0.81225
E44: =IF(E18="","","COGS - "&E18) -> COGS - Pro | F44: Per Revenue Dollar | I44: 0 | J44: 0.1 | K44: 0.75 | L44: 0.05 | M44: 0.02 | N44: 0.02 | O44: 0.02 | Q44: =IFERROR(AVERAGE(Y44:AJ44),0) -> 0 | R44: =IFERROR(AVERAGE(AK44:AV44),0) -> 4.9 | S44: =IFERROR(AVERAGE(AW44:BH44),0) -> 36.75 | T44: =IFERROR(AVERAGE(BI44:BT44),0) -> 2.499 | U44: =IFERROR(AVERAGE(BU44:CF44),0) -> 1.2 | V44: =IFERROR(AVERAGE(CG44:CR44),0) -> 1.224 | W44: =IFERROR(AVERAGE(CS44:DD44),0) -> 1.24848 | AK44: =IF($J44="","",IF($F44="Per Revenue Dollar",$J44*AK26,IF($F44="Per Unit",$J44*AK18,IF($F44="Fixed Dollar Per Month",IF($G44<AK$8,$J44,0))))) -> 4.9 | AL44: =IF($J44="","",IF($F44="Per Revenue Dollar",$J44*AL26,IF($F44="Per Unit",$J44*AL18,IF($F44="Fixed Dollar Per Month",IF($G44<AL$8,$J44,0))))) -> 4.9 | AM44: =IF($J44="","",IF($F44="Per Revenue Dollar",$J44*AM26,IF($F44="Per Unit",$J44*AM18,IF($F44="Fixed Dollar Per Month",IF($G44<AM$8,$J44,0))))) -> 4.9 | AN44: =IF($J44="","",IF($F44="Per Revenue Dollar",$J44*AN26,IF($F44="Per Unit",$J44*AN18,IF($F44="Fixed Dollar Per Month",IF($G44<AN$8,$J44,0))))) -> 4.9 | AO44: =IF($J44="","",IF($F44="Per Revenue Dollar",$J44*AO26,IF($F44="Per Unit",$J44*AO18,IF($F44="Fixed Dollar Per Month",IF($G44<AO$8,$J44,0))))) -> 4.9 | AP44: =IF($J44="","",IF($F44="Per Revenue Dollar",$J44*AP26,IF($F44="Per Unit",$J44*AP18,IF($F44="Fixed Dollar Per Month",IF($G44<AP$8,$J44,0))))) -> 4.9 | AQ44: =IF($J44="","",IF($F44="Per Revenue Dollar",$J44*AQ26,IF($F44="Per Unit",$J44*AQ18,IF($F44="Fixed Dollar Per Month",IF($G44<AQ$8,$J44,0))))) -> 4.9 | AR44: =IF($J44="","",IF($F44="Per Revenue Dollar",$J44*AR26,IF($F44="Per Unit",$J44*AR18,IF($F44="Fixed Dollar Per Month",IF($G44<AR$8,$J44,0))))) -> 4.9 | ... AV44: =IF($J44="","",IF($F44="Per Revenue Dollar",$J44*AV26,IF($F44="Per Unit",$J44*AV18,IF($F44="Fixed Dollar Per Month",IF($G44<AV$8,$J44,0))))) -> 4.9 | AW44: =IF($K44="","",IF($F44="Per Revenue Dollar",$K44*AW26,IF($F44="Per Unit",$K44*AW18,IF($F44="Fixed Dollar Per Month",IF($G44<AW$8,$K44,0))))) -> 36.75 | AX44: =IF($K44="","",IF($F44="Per Revenue Dollar",$K44*AX26,IF($F44="Per Unit",$K44*AX18,IF($F44="Fixed Dollar Per Month",IF($G44<AX$8,$K44,0))))) -> 36.75 | AY44: =IF($K44="","",IF($F44="Per Revenue Dollar",$K44*AY26,IF($F44="Per Unit",$K44*AY18,IF($F44="Fixed Dollar Per Month",IF($G44<AY$8,$K44,0))))) -> 36.75 | AZ44: =IF($K44="","",IF($F44="Per Revenue Dollar",$K44*AZ26,IF($F44="Per Unit",$K44*AZ18,IF($F44="Fixed Dollar Per Month",IF($G44<AZ$8,$K44,0))))) -> 36.75 | BA44: =IF($K44="","",IF($F44="Per Revenue Dollar",$K44*BA26,IF($F44="Per Unit",$K44*BA18,IF($F44="Fixed Dollar Per Month",IF($G44<BA$8,$K44,0))))) -> 36.75 | BB44: =IF($K44="","",IF($F44="Per Revenue Dollar",$K44*BB26,IF($F44="Per Unit",$K44*BB18,IF($F44="Fixed Dollar Per Month",IF($G44<BB$8,$K44,0))))) -> 36.75 | BC44: =IF($K44="","",IF($F44="Per Revenue Dollar",$K44*BC26,IF($F44="Per Unit",$K44*BC18,IF($F44="Fixed Dollar Per Month",IF($G44<BC$8,$K44,0))))) -> 36.75 | BD44: =IF($K44="","",IF($F44="Per Revenue Dollar",$K44*BD26,IF($F44="Per Unit",$K44*BD18,IF($F44="Fixed Dollar Per Month",IF($G44<BD$8,$K44,0))))) -> 36.75 | ... BH44: =IF($K44="","",IF($F44="Per Revenue Dollar",$K44*BH26,IF($F44="Per Unit",$K44*BH18,IF($F44="Fixed Dollar Per Month",IF($G44<BH$8,$K44,0))))) -> 36.75 | BI44: =IF($L44="","",IF($F44="Per Revenue Dollar",$L44*BI26,IF($F44="Per Unit",$L44*BI18,IF($F44="Fixed Dollar Per Month",IF($G44<BI$8,$L44,0))))) -> 2.499 | BJ44: =IF($L44="","",IF($F44="Per Revenue Dollar",$L44*BJ26,IF($F44="Per Unit",$L44*BJ18,IF($F44="Fixed Dollar Per Month",IF($G44<BJ$8,$L44,0))))) -> 2.499 | BK44: =IF($L44="","",IF($F44="Per Revenue Dollar",$L44*BK26,IF($F44="Per Unit",$L44*BK18,IF($F44="Fixed Dollar Per Month",IF($G44<BK$8,$L44,0))))) -> 2.499 | BL44: =IF($L44="","",IF($F44="Per Revenue Dollar",$L44*BL26,IF($F44="Per Unit",$L44*BL18,IF($F44="Fixed Dollar Per Month",IF($G44<BL$8,$L44,0))))) -> 2.499 | BM44: =IF($L44="","",IF($F44="Per Revenue Dollar",$L44*BM26,IF($F44="Per Unit",$L44*BM18,IF($F44="Fixed Dollar Per Month",IF($G44<BM$8,$L44,0))))) -> 2.499 | BN44: =IF($L44="","",IF($F44="Per Revenue Dollar",$L44*BN26,IF($F44="Per Unit",$L44*BN18,IF($F44="Fixed Dollar Per Month",IF($G44<BN$8,$L44,0))))) -> 2.499 | BO44: =IF($L44="","",IF($F44="Per Revenue Dollar",$L44*BO26,IF($F44="Per Unit",$L44*BO18,IF($F44="Fixed Dollar Per Month",IF($G44<BO$8,$L44,0))))) -> 2.499 | BP44: =IF($L44="","",IF($F44="Per Revenue Dollar",$L44*BP26,IF($F44="Per Unit",$L44*BP18,IF($F44="Fixed Dollar Per Month",IF($G44<BP$8,$L44,0))))) -> 2.499 | ... BT44: =IF($L44="","",IF($F44="Per Revenue Dollar",$L44*BT26,IF($F44="Per Unit",$L44*BT18,IF($F44="Fixed Dollar Per Month",IF($G44<BT$8,$L44,0))))) -> 2.499 | BU44: =IF($M44="","",IF($F44="Per Revenue Dollar",$M44*BU26,IF($F44="Per Unit",$M44*BU18,IF($F44="Fixed Dollar Per Month",IF($G44<BU$8,$M44,0))))) -> 1.2 | BV44: =IF($M44="","",IF($F44="Per Revenue Dollar",$M44*BV26,IF($F44="Per Unit",$M44*BV18,IF($F44="Fixed Dollar Per Month",IF($G44<BV$8,$M44,0))))) -> 1.2 | BW44: =IF($M44="","",IF($F44="Per Revenue Dollar",$M44*BW26,IF($F44="Per Unit",$M44*BW18,IF($F44="Fixed Dollar Per Month",IF($G44<BW$8,$M44,0))))) -> 1.2 | BX44: =IF($M44="","",IF($F44="Per Revenue Dollar",$M44*BX26,IF($F44="Per Unit",$M44*BX18,IF($F44="Fixed Dollar Per Month",IF($G44<BX$8,$M44,0))))) -> 1.2 | BY44: =IF($M44="","",IF($F44="Per Revenue Dollar",$M44*BY26,IF($F44="Per Unit",$M44*BY18,IF($F44="Fixed Dollar Per Month",IF($G44<BY$8,$M44,0))))) -> 1.2 | BZ44: =IF($M44="","",IF($F44="Per Revenue Dollar",$M44*BZ26,IF($F44="Per Unit",$M44*BZ18,IF($F44="Fixed Dollar Per Month",IF($G44<BZ$8,$M44,0))))) -> 1.2 | CA44: =IF($M44="","",IF($F44="Per Revenue Dollar",$M44*CA26,IF($F44="Per Unit",$M44*CA18,IF($F44="Fixed Dollar Per Month",IF($G44<CA$8,$M44,0))))) -> 1.2 | CB44: =IF($M44="","",IF($F44="Per Revenue Dollar",$M44*CB26,IF($F44="Per Unit",$M44*CB18,IF($F44="Fixed Dollar Per Month",IF($G44<CB$8,$M44,0))))) -> 1.2 | ... CF44: =IF($M44="","",IF($F44="Per Revenue Dollar",$M44*CF26,IF($F44="Per Unit",$M44*CF18,IF($F44="Fixed Dollar Per Month",IF($G44<CF$8,$M44,0))))) -> 1.2 | CG44: =IF($N44="","",IF($F44="Per Revenue Dollar",$N44*CG26,IF($F44="Per Unit",$N44*CG18,IF($F44="Fixed Dollar Per Month",IF($G44<CG$8,$N44,0))))) -> 1.224 | CH44: =IF($N44="","",IF($F44="Per Revenue Dollar",$N44*CH26,IF($F44="Per Unit",$N44*CH18,IF($F44="Fixed Dollar Per Month",IF($G44<CH$8,$N44,0))))) -> 1.224 | CI44: =IF($N44="","",IF($F44="Per Revenue Dollar",$N44*CI26,IF($F44="Per Unit",$N44*CI18,IF($F44="Fixed Dollar Per Month",IF($G44<CI$8,$N44,0))))) -> 1.224 | CJ44: =IF($N44="","",IF($F44="Per Revenue Dollar",$N44*CJ26,IF($F44="Per Unit",$N44*CJ18,IF($F44="Fixed Dollar Per Month",IF($G44<CJ$8,$N44,0))))) -> 1.224 | CK44: =IF($N44="","",IF($F44="Per Revenue Dollar",$N44*CK26,IF($F44="Per Unit",$N44*CK18,IF($F44="Fixed Dollar Per Month",IF($G44<CK$8,$N44,0))))) -> 1.224 | CL44: =IF($N44="","",IF($F44="Per Revenue Dollar",$N44*CL26,IF($F44="Per Unit",$N44*CL18,IF($F44="Fixed Dollar Per Month",IF($G44<CL$8,$N44,0))))) -> 1.224 | CM44: =IF($N44="","",IF($F44="Per Revenue Dollar",$N44*CM26,IF($F44="Per Unit",$N44*CM18,IF($F44="Fixed Dollar Per Month",IF($G44<CM$8,$N44,0))))) -> 1.224 | CN44: =IF($N44="","",IF($F44="Per Revenue Dollar",$N44*CN26,IF($F44="Per Unit",$N44*CN18,IF($F44="Fixed Dollar Per Month",IF($G44<CN$8,$N44,0))))) -> 1.224 | ... CR44: =IF($N44="","",IF($F44="Per Revenue Dollar",$N44*CR26,IF($F44="Per Unit",$N44*CR18,IF($F44="Fixed Dollar Per Month",IF($G44<CR$8,$N44,0))))) -> 1.224 | CS44: =IF($O44="","",IF($F44="Per Revenue Dollar",$O44*CS26,IF($F44="Per Unit",$O44*CS18,IF($F44="Fixed Dollar Per Month",IF($G44<CS$8,$O44,0))))) -> 1.24848 | CT44: =IF($O44="","",IF($F44="Per Revenue Dollar",$O44*CT26,IF($F44="Per Unit",$O44*CT18,IF($F44="Fixed Dollar Per Month",IF($G44<CT$8,$O44,0))))) -> 1.24848 | CU44: =IF($O44="","",IF($F44="Per Revenue Dollar",$O44*CU26,IF($F44="Per Unit",$O44*CU18,IF($F44="Fixed Dollar Per Month",IF($G44<CU$8,$O44,0))))) -> 1.24848 | CV44: =IF($O44="","",IF($F44="Per Revenue Dollar",$O44*CV26,IF($F44="Per Unit",$O44*CV18,IF($F44="Fixed Dollar Per Month",IF($G44<CV$8,$O44,0))))) -> 1.24848 | CW44: =IF($O44="","",IF($F44="Per Revenue Dollar",$O44*CW26,IF($F44="Per Unit",$O44*CW18,IF($F44="Fixed Dollar Per Month",IF($G44<CW$8,$O44,0))))) -> 1.24848 | CX44: =IF($O44="","",IF($F44="Per Revenue Dollar",$O44*CX26,IF($F44="Per Unit",$O44*CX18,IF($F44="Fixed Dollar Per Month",IF($G44<CX$8,$O44,0))))) -> 1.24848 | CY44: =IF($O44="","",IF($F44="Per Revenue Dollar",$O44*CY26,IF($F44="Per Unit",$O44*CY18,IF($F44="Fixed Dollar Per Month",IF($G44<CY$8,$O44,0))))) -> 1.24848 | CZ44: =IF($O44="","",IF($F44="Per Revenue Dollar",$O44*CZ26,IF($F44="Per Unit",$O44*CZ18,IF($F44="Fixed Dollar Per Month",IF($G44<CZ$8,$O44,0))))) -> 1.24848 | ... DD44: =IF($O44="","",IF($F44="Per Revenue Dollar",$O44*DD26,IF($F44="Per Unit",$O44*DD18,IF($F44="Fixed Dollar Per Month",IF($G44<DD$8,$O44,0))))) -> 1.24848
E45: =IF(E19="","","COGS - "&E19) -> COGS - Mult-User | F45: Per Revenue Dollar | I45: 0 | J45: 0.15 | K45: 0.15 | L45: 0.08 | M45: 0.05 | N45: 0.05 | O45: 0.05 | Q45: =IFERROR(AVERAGE(Y45:AJ45),0) -> 0 | R45: =IFERROR(AVERAGE(AK45:AV45),0) -> 37.5 | S45: =IFERROR(AVERAGE(AW45:BH45),0) -> 41.25 | T45: =IFERROR(AVERAGE(BI45:BT45),0) -> 28 | U45: =IFERROR(AVERAGE(BU45:CF45),0) -> 30 | V45: =IFERROR(AVERAGE(CG45:CR45),0) -> 50 | W45: =IFERROR(AVERAGE(CS45:DD45),0) -> 87.5 | AK45: =IF($J45="","",IF($F45="Per Revenue Dollar",$J45*AK27,IF($F45="Per Unit",$J45*AK19,IF($F45="Fixed Dollar Per Month",IF($G45<AK$8,$J45,0))))) -> 37.5 | AL45: =IF($J45="","",IF($F45="Per Revenue Dollar",$J45*AL27,IF($F45="Per Unit",$J45*AL19,IF($F45="Fixed Dollar Per Month",IF($G45<AL$8,$J45,0))))) -> 37.5 | AM45: =IF($J45="","",IF($F45="Per Revenue Dollar",$J45*AM27,IF($F45="Per Unit",$J45*AM19,IF($F45="Fixed Dollar Per Month",IF($G45<AM$8,$J45,0))))) -> 37.5 | AN45: =IF($J45="","",IF($F45="Per Revenue Dollar",$J45*AN27,IF($F45="Per Unit",$J45*AN19,IF($F45="Fixed Dollar Per Month",IF($G45<AN$8,$J45,0))))) -> 37.5 | AO45: =IF($J45="","",IF($F45="Per Revenue Dollar",$J45*AO27,IF($F45="Per Unit",$J45*AO19,IF($F45="Fixed Dollar Per Month",IF($G45<AO$8,$J45,0))))) -> 37.5 | AP45: =IF($J45="","",IF($F45="Per Revenue Dollar",$J45*AP27,IF($F45="Per Unit",$J45*AP19,IF($F45="Fixed Dollar Per Month",IF($G45<AP$8,$J45,0))))) -> 37.5 | AQ45: =IF($J45="","",IF($F45="Per Revenue Dollar",$J45*AQ27,IF($F45="Per Unit",$J45*AQ19,IF($F45="Fixed Dollar Per Month",IF($G45<AQ$8,$J45,0))))) -> 37.5 | AR45: =IF($J45="","",IF($F45="Per Revenue Dollar",$J45*AR27,IF($F45="Per Unit",$J45*AR19,IF($F45="Fixed Dollar Per Month",IF($G45<AR$8,$J45,0))))) -> 37.5 | ... AV45: =IF($J45="","",IF($F45="Per Revenue Dollar",$J45*AV27,IF($F45="Per Unit",$J45*AV19,IF($F45="Fixed Dollar Per Month",IF($G45<AV$8,$J45,0))))) -> 37.5 | AW45: =IF($K45="","",IF($F45="Per Revenue Dollar",$K45*AW27,IF($F45="Per Unit",$K45*AW19,IF($F45="Fixed Dollar Per Month",IF($G45<AW$8,$K45,0))))) -> 41.25 | AX45: =IF($K45="","",IF($F45="Per Revenue Dollar",$K45*AX27,IF($F45="Per Unit",$K45*AX19,IF($F45="Fixed Dollar Per Month",IF($G45<AX$8,$K45,0))))) -> 41.25 | AY45: =IF($K45="","",IF($F45="Per Revenue Dollar",$K45*AY27,IF($F45="Per Unit",$K45*AY19,IF($F45="Fixed Dollar Per Month",IF($G45<AY$8,$K45,0))))) -> 41.25 | AZ45: =IF($K45="","",IF($F45="Per Revenue Dollar",$K45*AZ27,IF($F45="Per Unit",$K45*AZ19,IF($F45="Fixed Dollar Per Month",IF($G45<AZ$8,$K45,0))))) -> 41.25 | BA45: =IF($K45="","",IF($F45="Per Revenue Dollar",$K45*BA27,IF($F45="Per Unit",$K45*BA19,IF($F45="Fixed Dollar Per Month",IF($G45<BA$8,$K45,0))))) -> 41.25 | BB45: =IF($K45="","",IF($F45="Per Revenue Dollar",$K45*BB27,IF($F45="Per Unit",$K45*BB19,IF($F45="Fixed Dollar Per Month",IF($G45<BB$8,$K45,0))))) -> 41.25 | BC45: =IF($K45="","",IF($F45="Per Revenue Dollar",$K45*BC27,IF($F45="Per Unit",$K45*BC19,IF($F45="Fixed Dollar Per Month",IF($G45<BC$8,$K45,0))))) -> 41.25 | BD45: =IF($K45="","",IF($F45="Per Revenue Dollar",$K45*BD27,IF($F45="Per Unit",$K45*BD19,IF($F45="Fixed Dollar Per Month",IF($G45<BD$8,$K45,0))))) -> 41.25 | ... BH45: =IF($K45="","",IF($F45="Per Revenue Dollar",$K45*BH27,IF($F45="Per Unit",$K45*BH19,IF($F45="Fixed Dollar Per Month",IF($G45<BH$8,$K45,0))))) -> 41.25 | BI45: =IF($L45="","",IF($F45="Per Revenue Dollar",$L45*BI27,IF($F45="Per Unit",$L45*BI19,IF($F45="Fixed Dollar Per Month",IF($G45<BI$8,$L45,0))))) -> 28 | BJ45: =IF($L45="","",IF($F45="Per Revenue Dollar",$L45*BJ27,IF($F45="Per Unit",$L45*BJ19,IF($F45="Fixed Dollar Per Month",IF($G45<BJ$8,$L45,0))))) -> 28 | BK45: =IF($L45="","",IF($F45="Per Revenue Dollar",$L45*BK27,IF($F45="Per Unit",$L45*BK19,IF($F45="Fixed Dollar Per Month",IF($G45<BK$8,$L45,0))))) -> 28 | BL45: =IF($L45="","",IF($F45="Per Revenue Dollar",$L45*BL27,IF($F45="Per Unit",$L45*BL19,IF($F45="Fixed Dollar Per Month",IF($G45<BL$8,$L45,0))))) -> 28 | BM45: =IF($L45="","",IF($F45="Per Revenue Dollar",$L45*BM27,IF($F45="Per Unit",$L45*BM19,IF($F45="Fixed Dollar Per Month",IF($G45<BM$8,$L45,0))))) -> 28 | BN45: =IF($L45="","",IF($F45="Per Revenue Dollar",$L45*BN27,IF($F45="Per Unit",$L45*BN19,IF($F45="Fixed Dollar Per Month",IF($G45<BN$8,$L45,0))))) -> 28 | BO45: =IF($L45="","",IF($F45="Per Revenue Dollar",$L45*BO27,IF($F45="Per Unit",$L45*BO19,IF($F45="Fixed Dollar Per Month",IF($G45<BO$8,$L45,0))))) -> 28 | BP45: =IF($L45="","",IF($F45="Per Revenue Dollar",$L45*BP27,IF($F45="Per Unit",$L45*BP19,IF($F45="Fixed Dollar Per Month",IF($G45<BP$8,$L45,0))))) -> 28 | ... BT45: =IF($L45="","",IF($F45="Per Revenue Dollar",$L45*BT27,IF($F45="Per Unit",$L45*BT19,IF($F45="Fixed Dollar Per Month",IF($G45<BT$8,$L45,0))))) -> 28 | BU45: =IF($M45="","",IF($F45="Per Revenue Dollar",$M45*BU27,IF($F45="Per Unit",$M45*BU19,IF($F45="Fixed Dollar Per Month",IF($G45<BU$8,$M45,0))))) -> 30 | BV45: =IF($M45="","",IF($F45="Per Revenue Dollar",$M45*BV27,IF($F45="Per Unit",$M45*BV19,IF($F45="Fixed Dollar Per Month",IF($G45<BV$8,$M45,0))))) -> 30 | BW45: =IF($M45="","",IF($F45="Per Revenue Dollar",$M45*BW27,IF($F45="Per Unit",$M45*BW19,IF($F45="Fixed Dollar Per Month",IF($G45<BW$8,$M45,0))))) -> 30 | BX45: =IF($M45="","",IF($F45="Per Revenue Dollar",$M45*BX27,IF($F45="Per Unit",$M45*BX19,IF($F45="Fixed Dollar Per Month",IF($G45<BX$8,$M45,0))))) -> 30 | BY45: =IF($M45="","",IF($F45="Per Revenue Dollar",$M45*BY27,IF($F45="Per Unit",$M45*BY19,IF($F45="Fixed Dollar Per Month",IF($G45<BY$8,$M45,0))))) -> 30 | BZ45: =IF($M45="","",IF($F45="Per Revenue Dollar",$M45*BZ27,IF($F45="Per Unit",$M45*BZ19,IF($F45="Fixed Dollar Per Month",IF($G45<BZ$8,$M45,0))))) -> 30 | CA45: =IF($M45="","",IF($F45="Per Revenue Dollar",$M45*CA27,IF($F45="Per Unit",$M45*CA19,IF($F45="Fixed Dollar Per Month",IF($G45<CA$8,$M45,0))))) -> 30 | CB45: =IF($M45="","",IF($F45="Per Revenue Dollar",$M45*CB27,IF($F45="Per Unit",$M45*CB19,IF($F45="Fixed Dollar Per Month",IF($G45<CB$8,$M45,0))))) -> 30 | ... CF45: =IF($M45="","",IF($F45="Per Revenue Dollar",$M45*CF27,IF($F45="Per Unit",$M45*CF19,IF($F45="Fixed Dollar Per Month",IF($G45<CF$8,$M45,0))))) -> 30 | CG45: =IF($N45="","",IF($F45="Per Revenue Dollar",$N45*CG27,IF($F45="Per Unit",$N45*CG19,IF($F45="Fixed Dollar Per Month",IF($G45<CG$8,$N45,0))))) -> 50 | CH45: =IF($N45="","",IF($F45="Per Revenue Dollar",$N45*CH27,IF($F45="Per Unit",$N45*CH19,IF($F45="Fixed Dollar Per Month",IF($G45<CH$8,$N45,0))))) -> 50 | CI45: =IF($N45="","",IF($F45="Per Revenue Dollar",$N45*CI27,IF($F45="Per Unit",$N45*CI19,IF($F45="Fixed Dollar Per Month",IF($G45<CI$8,$N45,0))))) -> 50 | CJ45: =IF($N45="","",IF($F45="Per Revenue Dollar",$N45*CJ27,IF($F45="Per Unit",$N45*CJ19,IF($F45="Fixed Dollar Per Month",IF($G45<CJ$8,$N45,0))))) -> 50 | CK45: =IF($N45="","",IF($F45="Per Revenue Dollar",$N45*CK27,IF($F45="Per Unit",$N45*CK19,IF($F45="Fixed Dollar Per Month",IF($G45<CK$8,$N45,0))))) -> 50 | CL45: =IF($N45="","",IF($F45="Per Revenue Dollar",$N45*CL27,IF($F45="Per Unit",$N45*CL19,IF($F45="Fixed Dollar Per Month",IF($G45<CL$8,$N45,0))))) -> 50 | CM45: =IF($N45="","",IF($F45="Per Revenue Dollar",$N45*CM27,IF($F45="Per Unit",$N45*CM19,IF($F45="Fixed Dollar Per Month",IF($G45<CM$8,$N45,0))))) -> 50 | CN45: =IF($N45="","",IF($F45="Per Revenue Dollar",$N45*CN27,IF($F45="Per Unit",$N45*CN19,IF($F45="Fixed Dollar Per Month",IF($G45<CN$8,$N45,0))))) -> 50 | ... CR45: =IF($N45="","",IF($F45="Per Revenue Dollar",$N45*CR27,IF($F45="Per Unit",$N45*CR19,IF($F45="Fixed Dollar Per Month",IF($G45<CR$8,$N45,0))))) -> 50 | CS45: =IF($O45="","",IF($F45="Per Revenue Dollar",$O45*CS27,IF($F45="Per Unit",$O45*CS19,IF($F45="Fixed Dollar Per Month",IF($G45<CS$8,$O45,0))))) -> 87.5 | CT45: =IF($O45="","",IF($F45="Per Revenue Dollar",$O45*CT27,IF($F45="Per Unit",$O45*CT19,IF($F45="Fixed Dollar Per Month",IF($G45<CT$8,$O45,0))))) -> 87.5 | CU45: =IF($O45="","",IF($F45="Per Revenue Dollar",$O45*CU27,IF($F45="Per Unit",$O45*CU19,IF($F45="Fixed Dollar Per Month",IF($G45<CU$8,$O45,0))))) -> 87.5 | CV45: =IF($O45="","",IF($F45="Per Revenue Dollar",$O45*CV27,IF($F45="Per Unit",$O45*CV19,IF($F45="Fixed Dollar Per Month",IF($G45<CV$8,$O45,0))))) -> 87.5 | CW45: =IF($O45="","",IF($F45="Per Revenue Dollar",$O45*CW27,IF($F45="Per Unit",$O45*CW19,IF($F45="Fixed Dollar Per Month",IF($G45<CW$8,$O45,0))))) -> 87.5 | CX45: =IF($O45="","",IF($F45="Per Revenue Dollar",$O45*CX27,IF($F45="Per Unit",$O45*CX19,IF($F45="Fixed Dollar Per Month",IF($G45<CX$8,$O45,0))))) -> 87.5 | CY45: =IF($O45="","",IF($F45="Per Revenue Dollar",$O45*CY27,IF($F45="Per Unit",$O45*CY19,IF($F45="Fixed Dollar Per Month",IF($G45<CY$8,$O45,0))))) -> 87.5 | CZ45: =IF($O45="","",IF($F45="Per Revenue Dollar",$O45*CZ27,IF($F45="Per Unit",$O45*CZ19,IF($F45="Fixed Dollar Per Month",IF($G45<CZ$8,$O45,0))))) -> 87.5 | ... DD45: =IF($O45="","",IF($F45="Per Revenue Dollar",$O45*DD27,IF($F45="Per Unit",$O45*DD19,IF($F45="Fixed Dollar Per Month",IF($G45<DD$8,$O45,0))))) -> 87.5
