Workbook

Sheet Cover
C19: Factbook
C21: Q3 2026

Sheet Contents
B2: Contents - Sparebanken Norge
B4: Section 1 - Results
B5: Results and key figures
B6: Net interest Income
B7: Net Other Operating Income
B8: Operating Expenses
B9: Associated companies
B10: Impairments
B11: Pro forma
B13: Section 2 - Balance Sheet Items
B14: Balance Sheet
B15: Lending by sector
... B34: Section 6 - Sustainability

Sheet Contact information
A2: Contact information
A4: Management
A5: Jan Erik Kjerpeseth | B5: Chief Executive Officer (CEO) | C5: jan.kjerpeseth@spv.no | F5: +47 951 98 430
A6: Hans Olav Ingdal | B6: Chief Financial Officer (CFO) | C6: hans.ingdal@spv.no | F6: +47 948 09 328
A8: For further information, please contact
A9: Brede Borgen Kristiansen | B9: Director Finance and Investor Relations | C9: brede.kristiansen@spv.no | F9: +47 479 06 402
A12: Address
A14: Postal address: | B14: Postboks 7999, 5020 Bergen
A15: Visiting address, headquarter Bergen: | B15: Jonsvollsgaten 2, 5011 Bergen
A16: Visiting address, headquarter Kristiansand: | B16: Kjøita 18, 4630 Kristiansand
A18: Telephone number
A19: +47915 05555
A22: Financial calendar
A24: Financial year 2026
A25: Quarterly Report Q3 2026 | B25: 46325
A26: Quarterly Report Q4 2026 | B26: 46423
A28: Financial year 2027
A29: Annual General Meeting | B29: 46477
A30: Quarterly Report Q1 2027 | B30: 46512
A31: Quarterly Report Q2 2027 | B31: 46609
A32: Quarterly Report Q3 2027 | B32: 46689

Sheet Results
A1: Back to contents
B6: Section 1 - Results
B8: 1.1 Financial results and key figures
B10: 1.2 Net interest income
B12: 1.3 Net other operating income
B14: 1.4 Operating expenses
B16: 1.5 Associated companies
B18: 1.6 Impairments
B20: 1.7 Proforma

Sheet Results and key figures
A1: Back to contents
B2: 1.1.1 Income statement - condensed
B4: Quarterly figures
B5: (MNOK) | C5: Q3-26 | D5: Q2-26 | E5: Q1-26 | F5: Q4-25 | G5: Q3-25 | H5: Q2-25 | I5: Q1-25 | J5: Q4-24 | K5: Q3-24 | L5: Q2-24 | M5: Q1-24 | N5: Q4-23 | O5: Q3-23 | P5: Q2-23 | Q5: Q1-23 | R5: Q4-22 | S5: Q3-22 | T5: Q2-22 | U5: Q1-22
B6: Net interest and credit commission income | C6: 2663.5766 | D6: 2529.0206 | E6: 2640.8236 | F6: 2742.7764 | G6: 2759.8027 | H6: 2364.8998 | I6: 1532.9155 | J6: 1586.3288 | K6: 1573.9151 | L6: 1536.1038 | M6: 1462.4909 | N6: 1441.5705 | O6: 1392.8446 | P6: 1232.3623 | Q6: 1174.7985 | R6: 1135.5649 | S6: 1041.3552 | T6: 929.7446 | U6: 887.19446
B7: Net commission income and income from banking services | C7: 493.00202 | D7: 520.67287 | E7: 435.0625 | F7: 555.88198 | G7: 452.23143 | H7: 437.00889 | I7: 297.86142 | J7: 314.30204 | K7: 267.07096 | L7: 265.58909 | M7: 218.41892 | N7: 240.23767 | O7: 238.47662 | P7: 233.6357 | Q7: 201.89862 | R7: 275.43982 | S7: 211.66037 | T7: 224.68451 | U7: 197.21793
B8: Income from associated companies | C8: 124.10412 | D8: 189.12467 | E8: 79.450466 | F8: 112.6412 | G8: 118.63518 | H8: 174.56417 | I8: 76.819306 | J8: 88.711071 | K8: 84.29186 | L8: 77.859853 | M8: 36.381549 | N8: 79.490023 | O8: 22.218761 | P8: 59.843716 | Q8: 53.096198 | R8: 95.236483 | S8: 67.941255 | T8: 71.211297 | U8: 27.790273
B9: Net gain/(loss) on financial instruments | C9: -2.538175 | D9: 95.98115 | E9: 93.680422 | F9: 36.776556 | G9: 31.60252 | H9: 228.41408 | I9: 62.761768 | J9: -33.005319 | K9: 106.5805 | L9: 15.826002 | M9: 24.513699 | N9: -23.219895 | O9: -40.263199 | P9: -19.582329 | Q9: -3.977065 | R9: -178.482 | S9: 172.89384 | T9: -67.284989 | U9: 146.44228
B10: Other operating income | C10: 0.427212 | D10: 4.013701 | E10: 1.820757 | F10: 11.805949 | G10: 3.295656 | H10: 1.956526 | I10: 1.617964 | J10: 0.569985 | K10: 0.633376 | L10: 0.59312 | M10: 0.588389 | N10: 0.67753 | O10: 0.378832 | P10: -0.074598 | Q10: 0.919602 | R10: 2.78774 | S10: 0.94479 | T10: 0.522577 | U10: 0.754201
B11: Net operating income | C11: 3278.5718 | D11: 3338.8129 | E11: 3250.8377 | F11: 3459.8821 | G11: 3365.5675 | H11: 3206.8435 | I11: =SUM(I6:I10) -> 1971.976 | J11: =SUM(J6:J10) -> 1956.9066 | K11: =SUM(K6:K10) -> 2032.4918 | L11: =SUM(L6:L10) -> 1895.9719 | M11: =SUM(M6:M10) -> 1742.3934 | N11: =SUM(N6:N10) -> 1738.7558 | O11: =SUM(O6:O10) -> 1613.6557 | P11: =SUM(P6:P10) -> 1506.1848 | ... U11: =SUM(U6:U10) -> 1259.3991
B12: Operating expenses | C12: 1043.712 | D12: 1053.2692 | E12: 1036.27 | F12: 1155.6932 | G12: 989.83142 | H12: 889.96446 | I12: 546.77286 | J12: 552.60914 | K12: 435.0678 | L12: 459.36551 | M12: 443.21737 | N12: 438.65434 | O12: 435.99921 | P12: 447.79815 | Q12: 449.83284 | R12: 452.08783 | S12: 410.44235 | T12: 420.29029 | U12: 404.6433
B13: Write-downs of loans and losses on guarantees | C13: 96.726959 | D13: 33.425822 | E13: 102.62698 | F13: 48.774827 | G13: 73.173087 | H13: 179.80508 | I13: 10.379863 | J13: 16.290815 | K13: 12.391368 | L13: 24.567906 | M13: 43.648412 | N13: 12.627656 | O13: 20.429483 | P13: 28.814849 | Q13: 32.960816 | R13: 38.315923 | S13: -10.47481 | T13: 18.933983 | U13: 5.665421
B14: Profit/loss before tax expense | C14: 2138.1328 | D14: 2252.1179 | E14: 2111.9408 | F14: 2255.4141 | G14: 2302.563 | H14: 2137.0739 | I14: =I11-SUM(I12:I13) -> 1414.8233 | J14: =J11-SUM(J12:J13) -> 1388.0066 | K14: =K11-SUM(K12:K13) -> 1585.0327 | L14: =L11-SUM(L12:L13) -> 1412.0385 | M14: =M11-SUM(M12:M13) -> 1255.5277 | N14: =N11-SUM(N12:N13) -> 1287.4738 | O14: =O11-SUM(O12:O13) -> 1157.227 | P14: =P11-SUM(P12:P13) -> 1029.5718 | ... U14: =U11-SUM(U12:U13) -> 849.09042
B15: Tax expense | C15: 460.6447 | D15: 485.83557 | E15: 95.521134 | F15: 505.65822 | G15: 506.20681 | H15: 440.79216 | I15: 83.211927 | J15: 303.96999 | K15: 342.20372 | L15: 310.37745 | M15: 31.563806 | N15: 286.17262 | O15: 271.09533 | P15: 242.18559 | Q15: 74.208849 | R15: 191.47172 | S15: 248.67577 | T15: 153.13126 | U15: 93.350989
B16: Profit/loss for the period | C16: 1677.4881 | D16: 1766.2823 | E16: 2016.4196 | F16: 1749.7559 | G16: 1796.3562 | H16: 1696.2818 | I16: =I14-I15 -> 1331.6113 | J16: =J14-J15 -> 1084.0367 | K16: =K14-K15 -> 1242.829 | L16: =L14-L15 -> 1101.661 | M16: =M14-M15 -> 1223.9638 | N16: =N14-N15 -> 1001.3012 | O16: =O14-O15 -> 886.13163 | P16: =P14-P15 -> 787.38618 | ... U16: =U14-U15 -> 755.73943
B18: 1.1.2 Income statement
B20: Quarterly figures
B21: (MNOK) | C21: =C5 -> Q3-26 | D21: =D5 -> Q2-26 | E21: =E5 -> Q1-26 | F21: Q4-25 | G21: Q3-25 | H21: Q2-25 | I21: Q1-25 | J21: Q4-24 | K21: Q3-24 | L21: Q2-24 | M21: Q1-24 | N21: Q4-23 | O21: Q3-23 | P21: Q2-23 | Q21: Q1-23 | R21: Q4-22 | S21: Q3-22 | T21: Q2-22 | U21: Q1-22
B22: Interest income from asset valued at amortised cost | C22: 7294.8958 | D22: 6815.7591 | E22: 6570.7723 | F22: 6771.9608 | G22: 6811.398 | H22: 5899.2514 | I22: 3980.5014 | J22: 4001.8431 | K22: 4004.95 | L22: 3895.7617 | M22: 3731.3467 | N22: 3559.5323 | O22: 3157.4754 | P22: 2696.9873 | Q22: 2422.7441 | R22: 2160.6369 | S22: 1639.8685 | T22: 1343.3021 | U22: 1191.5809
B23: Interest income from asset valued at fair value | C23: 1074.3838 | D23: 1002.3779 | E23: 1030.4785 | F23: 1179.4766 | G23: 1265.4782 | H23: 1190.3259 | I23: 850.18671 | J23: 857.53621 | K23: 807.12739 | L23: 799.14105 | M23: 776.36236 | N23: 787.65317 | O23: 711.76556 | P23: 595.77677 | Q23: 558.2053 | R23: 507.43417 | S23: 338.15545 | T23: 272.9547 | U23: 217.17249
B24: Interest expenses and similar expenses | C24: 5705.7029 | D24: 5289.1164 | E24: 4960.4272 | F24: 5208.6609 | G24: 5317.0734 | H24: 4724.6775 | I24: 3297.7726 | J24: 3273.0505 | K24: 3238.1623 | L24: 3158.7989 | M24: 3045.2182 | N24: 2905.615 | O24: 2476.3963 | P24: 2060.4018 | Q24: 1806.1509 | R24: 1532.5062 | S24: 936.66875 | T24: 686.51216 | U24: 521.55898
B25: Net interest and credit commission income | C25: 2663.5766 | D25: 2529.0206 | E25: 2640.8236 | F25: 2742.7764 | G25: 2759.8027 | H25: 2364.8998 | I25: =SUM(I22:I23)-I24 -> 1532.9155 | J25: =SUM(J22:J23)-J24 -> 1586.3288 | K25: =SUM(K22:K23)-K24 -> 1573.9151 | L25: =SUM(L22:L23)-L24 -> 1536.1038 | M25: =SUM(M22:M23)-M24 -> 1462.4909 | N25: =SUM(N22:N23)-N24 -> 1441.5705 | O25: =SUM(O22:O23)-O24 -> 1392.8446 | P25: =SUM(P22:P23)-P24 -> 1232.3623 | ... U25: =SUM(U22:U23)-U24 -> 887.19446
B26: Commission income and income from banking services | C26: 603.17755 | D26: 629.33217 | E26: 523.89831 | F26: 618.78568 | G26: 549.33281 | H26: 529.16664 | I26: 344.07186 | J26: 354.87609 | K26: 312.13343 | L26: 305.44771 | M26: 256.56411 | N26: 273.06906 | O26: 267.85753 | P26: 268.67053 | Q26: 233.61214 | R26: 304.03173 | S26: 245.67526 | T26: 253.0384 | U26: 222.40278
B27: Commission expenses and expenses relating to banking services | C27: 110.17552 | D27: 108.6593 | E27: 88.83581 | F27: 62.903706 | G27: 97.101381 | H27: 92.157755 | I27: 46.210439 | J27: 40.574052 | K27: 45.062462 | L27: 39.858621 | M27: 38.145193 | N27: 32.831396 | O27: 29.380902 | P27: 35.034832 | Q27: 31.713517 | R27: 28.591915 | S27: 34.014885 | T27: 28.353895 | U27: 25.184851
B28: Income from ownership interests in associated companies | C28: 124.10412 | D28: 189.12467 | E28: 79.450466 | F28: 112.6412 | G28: 118.63518 | H28: 174.56417 | I28: 76.819306 | J28: 88.711071 | K28: 84.29186 | L28: 77.859853 | M28: 36.381549 | N28: 79.490023 | O28: 22.218761 | P28: 59.843716 | Q28: 53.096198 | R28: 95.236483 | S28: 67.941255 | T28: 71.211297 | U28: 27.790273
B29: Net gain/(loss) on financial instruments | C29: -2.538175 | D29: 95.98115 | E29: 93.680422 | F29: 36.776556 | G29: 31.60252 | H29: 228.41408 | I29: 62.761768 | J29: -33.005319 | K29: 106.5805 | L29: 15.826 | M29: 24.513699 | N29: -23.219895 | O29: -40.263199 | P29: -19.582329 | Q29: -3.977065 | R29: -178.482 | S29: 172.89384 | T29: -67.284989 | U29: 146.44228
B30: Other operating income | C30: 0.427212 | D30: 4.013701 | E30: 1.820757 | F30: 11.805949 | G30: 3.295656 | H30: 1.956526 | I30: 1.617964 | J30: 0.569985 | K30: 0.633376 | L30: 0.59312 | M30: 0.588389 | N30: 0.67753 | O30: 0.378832 | P30: -0.074598 | Q30: 0.919602 | R30: 2.78774 | S30: 0.94479 | T30: 0.522577 | U30: 0.754201
B31: Net other operating income | C31: 614.99518 | D31: 809.79239 | E31: 610.01414 | F31: 717.10568 | G31: 605.76478 | H31: 841.94365 | I31: =SUM(I28:I30)+I26-I27 -> 439.06046 | J31: =SUM(J28:J30)+J26-J27 -> 370.57777 | K31: =SUM(K28:K30)+K26-K27 -> 458.5767 | L31: =SUM(L28:L30)+L26-L27 -> 359.86806 | M31: =SUM(M28:M30)+M26-M27 -> 279.90255 | N31: =SUM(N28:N30)+N26-N27 -> 297.18533 | O31: =SUM(O28:O30)+O26-O27 -> 220.81102 | P31: =SUM(P28:P30)+P26-P27 -> 273.82249 | ... U31: =SUM(U28:U30)+U26-U27 -> 372.20468
B32: Net operating income | C32: 3278.5718 | D32: 3338.8129 | E32: 3250.8377 | F32: 3459.8821 | G32: 3365.5675 | H32: 3206.8435 | I32: =I31+I25 -> 1971.976 | J32: =J31+J25 -> 1956.9066 | K32: =K31+K25 -> 2032.4918 | L32: =L31+L25 -> 1895.9719 | M32: =M31+M25 -> 1742.3934 | N32: =N31+N25 -> 1738.7558 | O32: =O31+O25 -> 1613.6557 | P32: =P31+P25 -> 1506.1848 | ... U32: =U31+U25 -> 1259.3991
B33: Payroll and general administration expenses | C33: 859.01713 | D33: 864.92498 | E33: 834.3016 | F33: 880.34249 | G33: 815.05507 | H33: 725.70691 | I33: 454.77356 | J33: 417.19582 | K33: 351.47815 | L33: 377.4578 | M33: 361.79277 | N33: 336.63112 | O33: 345.15488 | P33: 343.57998 | Q33: 355.69511 | R33: 331.58371 | S33: 317.57665 | T33: 326.90145 | U33: 315.9176
B34: Depreciation | C34: 111.79863 | D34: 109.20876 | E34: 113.12552 | F34: 109.94041 | G34: 107.38723 | H34: 85.461825 | I34: 49.772096 | J34: 48.702286 | K34: 46.182353 | L34: 42.562752 | M34: 40.936456 | N34: 48.147771 | O34: 46.911908 | P34: 48.004963 | Q34: 49.391543 | R34: 57.125519 | S34: 54.528792 | T34: 54.199172 | U34: 52.444354
B35: Other operating expenses | C35: 72.896293 | D35: 79.135458 | E35: 88.842844 | F35: 165.41032 | G35: 67.389118 | H35: 78.795729 | I35: 42.227205 | J35: 86.711039 | K35: 37.407294 | L35: 39.344954 | M35: 40.488144 | N35: 53.875455 | O35: 43.93243 | P35: 56.213212 | Q35: 44.746194 | R35: 63.378603 | S35: 38.336909 | T35: 39.189674 | U35: 36.281346
B36: Total operating expenses | C36: 1043.712 | D36: 1053.2692 | E36: 1036.27 | F36: 1155.6932 | G36: 989.83142 | H36: 889.96446 | I36: =SUM(I33:I35) -> 546.77286 | J36: =SUM(J33:J35) -> 552.60914 | K36: =SUM(K33:K35) -> 435.0678 | L36: =SUM(L33:L35) -> 459.36551 | M36: =SUM(M33:M35) -> 443.21737 | N36: =SUM(N33:N35) -> 438.65434 | O36: =SUM(O33:O35) -> 435.99921 | P36: =SUM(P33:P35) -> 447.79815 | ... U36: =SUM(U33:U35) -> 404.6433
B37: Profit before write-downs and tax | C37: 2234.8598 | D37: 2285.5437 | E37: 2214.5677 | F37: 2304.1889 | G37: 2375.7361 | H37: 2316.879 | I37: =I32-I36 -> 1425.2031 | J37: =J32-J36 -> 1404.2975 | K37: =K32-K36 -> 1597.424 | L37: =L32-L36 -> 1436.6064 | M37: =M32-M36 -> 1299.1761 | N37: =N32-N36 -> 1300.1015 | O37: =O32-O36 -> 1177.6564 | P37: =P32-P36 -> 1058.3866 | ... U37: =U32-U36 -> 854.75584
B38: Write-downs on loans and guarantees | C38: 96.726959 | D38: 33.425822 | E38: 102.62698 | F38: 48.774827 | G38: 73.173087 | H38: 179.80508 | I38: 10.379863 | J38: 16.290815 | K38: 12.391368 | L38: 24.567907 | M38: 43.648412 | N38: 12.627656 | O38: 20.429483 | P38: 28.814849 | Q38: 32.960816 | R38: 38.315923 | S38: -10.47481 | T38: 18.933983 | U38: 5.665421
B39: Pre-tax profit | C39: 2138.1328 | D39: 2252.1179 | E39: 2111.9408 | F39: 2255.4141 | G39: 2302.563 | H39: 2137.0739 | I39: =I37-I38 -> 1414.8233 | J39: =J37-J38 -> 1388.0066 | K39: =K37-K38 -> 1585.0327 | L39: =L37-L38 -> 1412.0385 | M39: =M37-M38 -> 1255.5277 | N39: =N37-N38 -> 1287.4738 | O39: =O37-O38 -> 1157.227 | P39: =P37-P38 -> 1029.5718 | ... U39: =U37-U38 -> 849.09042
B40: Tax | C40: 460.6447 | D40: 485.83557 | E40: 95.521134 | F40: 505.65822 | G40: 506.20681 | H40: 440.79216 | I40: 83.211927 | J40: 303.96999 | K40: 342.20372 | L40: 310.37745 | M40: 31.563806 | N40: 286.17262 | O40: 271.09533 | P40: 242.18559 | Q40: 74.208849 | R40: 191.47172 | S40: 248.67577 | T40: 153.13126 | U40: 93.350989
B41: Profit after tax | C41: 1677.4881 | D41: 1766.2823 | E41: 2016.4196 | F41: 1749.7559 | G41: 1796.3562 | H41: 1696.2818 | I41: =I39-I40 -> 1331.6113 | J41: =J39-J40 -> 1084.0367 | K41: =K39-K40 -> 1242.829 | L41: =L39-L40 -> 1101.661 | M41: =M39-M40 -> 1223.9638 | N41: =N39-N40 -> 1001.3012 | O41: =O39-O40 -> 886.13163 | P41: =P39-P40 -> 787.38618 | ... U41: =U39-U40 -> 755.73943
B43: Allocated to equity classes | C43: 1547.7679 | D43: 1636.737 | E43: 1893.1369 | F43: 1640.3515 | G43: 1683.4158 | H43: 1601.1173 | I43: 1288.4994 | J43: 1044.2078 | K43: 1201.4384 | L43: 1060.8235 | M43: 1187.2005 | N43: 969.99562 | O43: 858.37355 | P43: 766.20245 | Q43: 847.13865 | R43: 628.22153 | S43: 832.70762 | T43: 554.59919 | U43: 743.44319
B44: Allocated to Additional Tier 1 capital | C44: 89.220253 | D44: 86.7797 | E44: 82.096589 | F44: 80.053305 | G44: 81.79218 | H44: 73.93929 | I44: 41.849027 | J44: 41.217389 | K44: 41.390563 | L44: 40.837486 | M44: 36.763373 | N44: 31.305588 | O44: 27.758081 | P44: 21.183731 | Q44: 22.59466 | R44: 20.449896 | S44: 13.444569 | T44: 11.923264 | U44: 12.296236
...

Sheet Net Interest Income
A1: Back to contents
B2: 1.2.1 Net interest income
B4: Quarterly figures
B5: (MNOK) | C5: Q3-26 | D5: Q2-26 | E5: Q1-26 | F5: Q4-25 | G5: Q3-25 | H5: Q2-25 | I5: Q1-25 | J5: Q4-24 | K5: Q3-24 | L5: Q2-24 | M5: Q1-24 | N5: Q4-23 | O5: Q3-23 | P5: Q2-23 | Q5: Q1-23 | R5: Q4-22 | S5: Q3-22 | T5: Q2-22 | U5: Q1-22
B6: Interest and similar income from loans to and receivables from credit institutions valued at amortised cost | C6: 108.29377 | D6: 46.215767 | E6: 41.539473 | F6: 76.138607 | G6: 65.248469 | H6: 69.913488 | I6: 48.003164 | J6: 22.627117 | K6: 24.647482 | L6: 18.517812 | M6: 32.811275 | N6: 44.612698 | O6: 18.581514 | P6: 8.173395 | Q6: 5.831083 | R6: 9.119531 | S6: 4.448934 | T6: 5.882268 | U6: 1.771681
B7: Interest and similar income from loans to and receivables from customers valued at amortised cost | C7: 7186.602 | D7: 6769.5433 | E7: 6529.2329 | F7: 6695.8222 | G7: 6746.1496 | H7: 5829.3379 | I7: 3932.4982 | J7: 3979.216 | K7: 3980.3025 | L7: 3877.2439 | M7: 3698.5355 | N7: 3514.9196 | O7: 3138.8939 | P7: 2688.8139 | Q7: 2416.913 | R7: 2151.5174 | S7: 1635.4196 | T7: 1337.4198 | U7: 1189.8093
B8: Interest and similar income from loans to and receivables from customers valued at fair value | C8: 321.946 | D8: 314.37734 | E8: 312.14277 | F8: 342.59871 | G8: 378.06576 | H8: 387.08644 | I8: 331.82191 | J8: 348.22363 | K8: 298.28118 | L8: 286.77138 | M8: 304.40728 | N8: 331.23594 | O8: 322.38964 | P8: 276.4426 | Q8: 268.44631 | R8: 257.50252 | S8: 189.46804 | T8: 168.58829 | U8: 142.11067
B9: Interest and similar income from commercial papers, bonds and other interest-bearing securities | C9: 752.43776 | D9: 688.00054 | E9: 718.33572 | F9: 836.8779 | G9: 887.41239 | H9: 803.23943 | I9: 518.36479 | J9: 509.31258 | K9: 508.84621 | L9: 512.36967 | M9: 471.95508 | N9: 456.41723 | O9: 389.37593 | P9: 319.33418 | Q9: 289.75899 | R9: 249.93164 | S9: 148.68741 | T9: 104.36641 | U9: 75.061823
B10: Interest income and similar income | C10: 8369.2796 | D10: 7818.1369 | E10: 7601.2508 | F10: 7951.4374 | G10: 8076.8762 | H10: 7089.5773 | I10: =SUM(I6:I9) -> 4830.6881 | J10: =SUM(J6:J9) -> 4859.3793 | K10: =SUM(K6:K9) -> 4812.0774 | L10: =SUM(L6:L9) -> 4694.9027 | M10: =SUM(M6:M9) -> 4507.7091 | N10: =SUM(N6:N9) -> 4347.1855 | O10: =SUM(O6:O9) -> 3869.241 | P10: =SUM(P6:P9) -> 3292.7641 | ... U10: =SUM(U6:U9) -> 1408.7534
B11: Interest and similar expenses on debt to credit institutions | C11: 7.108678 | D11: 10.29538 | E11: 34.057343 | F11: 82.763018 | G11: 89.937349 | H11: 75.465992 | I11: 60.063026 | J11: 63.834708 | K11: 70.176252 | L11: 49.971967 | M11: 83.332393 | N11: 67.311992 | O11: 54.285749 | P11: 59.400642 | Q11: 18.607458 | R11: 11.395169 | S11: 5.50152 | T11: 3.727905 | U11: 2.529393
B12: Interest and similar expenses on deposits from and debt to customers | C12: 1828.6092 | D12: 1708.6772 | E12: 1641.6399 | F12: 1677.3274 | G12: 1775.1196 | H12: 1599.3892 | I12: 1119.5437 | J12: 1131.3175 | K12: 1135.0068 | L12: 1115.839 | M12: 1034.9753 | N12: 994.37739 | O12: 880.6433 | P12: 740.53541 | Q12: 612.02047 | R12: 482.60751 | S12: 288.98267 | T12: 181.40627 | U12: 119.63304
B13: Interest and similar expenses on issued securities | C13: 3728.012 | D13: 3412.2157 | E13: 3169.1356 | F13: 3319.9385 | G13: 3322.5164 | H13: 2936.4177 | I13: 2043.1048 | J13: 2001.6469 | K13: 1955.3106 | L13: 1917.98 | M13: 1858.3097 | N13: 1771.6138 | O13: 1476.8745 | P13: 1204.3078 | Q13: 1113.8417 | R13: 997.69427 | S13: 600.74117 | T13: 461.5073 | U13: 362.80181
B14: Interest and similar expenses on subordinated loan capital | C14: 83.823917 | D14: 78.722474 | E14: 78.079504 | F14: 76.361457 | G14: 77.472733 | H14: 67.631114 | I14: 42.870513 | J14: 45.465656 | K14: 44.249158 | L14: 40.269061 | M14: 35.515633 | N14: 35.300461 | O14: 31.651945 | P14: 24.468195 | Q14: 21.87708 | R14: 19.525624 | S14: 14.146625 | T14: 11.436284 | U14: 10.371046
B15: Other interest expenses etc. 1) | C15: 11.390296 | D15: 10.888862 | E15: 12.314073 | F15: 10.195737 | G15: 10.072604 | H15: 7.966769 | I15: 2.679243 | J15: 3.919023 | K15: 6.552731 | L15: 7.872168 | M15: 6.218234 | N15: 7.95306 | O15: 5.793317 | P15: 4.542305 | Q15: 5.343702 | R15: 5.445915 | S15: 4.145976 | T15: 4.1876 | U15: 4.168725
B16: Fee Norwegian Banks' Guarantee Fund | C16: 46.758805 | D16: 68.316764 | E16: 25.200848 | F16: 42.074849 | G16: 41.954842 | H16: 37.806763 | I16: 29.511262 | J16: 26.866632 | K16: 26.866773 | L16: 26.866774 | M16: 26.866914 | N16: 29.058311 | O16: 27.147483 | P16: 27.147483 | Q16: 34.460533 | R16: 15.83774 | S16: 23.150788 | T16: 24.246805 | U16: 22.054972
B17: Interest expenses and similar expenses | C17: 5705.7029 | D17: 5289.1164 | E17: 4960.4272 | F17: 5208.6609 | G17: 5317.0734 | H17: 4724.6775 | I17: =SUM(I11:I16) -> 3297.7726 | J17: =SUM(J11:J16) -> 3273.0505 | K17: =SUM(K11:K16) -> 3238.1623 | L17: =SUM(L11:L16) -> 3158.7989 | M17: =SUM(M11:M16) -> 3045.2182 | N17: =SUM(N11:N16) -> 2905.615 | O17: =SUM(O11:O16) -> 2476.3963 | P17: =SUM(P11:P16) -> 2060.4018 | ... U17: =SUM(U11:U16) -> 521.55898
B18: Net interest and credit commission income | C18: 2663.5766 | D18: 2529.0206 | E18: 2640.8236 | F18: 2742.7765 | G18: 2759.8027 | H18: 2364.8998 | I18: =I10-I17 -> 1532.9155 | J18: =J10-J17 -> 1586.3288 | K18: =K10-K17 -> 1573.9151 | L18: =L10-L17 -> 1536.1038 | M18: =M10-M17 -> 1462.4909 | N18: =N10-N17 -> 1441.5705 | O18: =O10-O17 -> 1392.8446 | P18: =P10-P17 -> 1232.3623 | ... U18: =U10-U17 -> 887.19446
B20: Full year figures
B21: (MNOK) | C21: 2026 | D21: 2025 | E21: 2024 | F21: 2023 | G21: 2022 | H21: 2021 | I21: 2020
B22: Interest and similar income from loans to and receivables from credit institutions valued at amortised cost | C22: 196.04901 | D22: 259.30373 | E22: 98.603686 | F22: 77.19869 | G22: 21.222414 | H22: 4.860579 | I22: 22.246902
B23: Interest and similar income from loans to and receivables from customers valued at amortised cost | C23: 20485.378 | D23: 23203.808 | E23: 15535.298 | F23: 11759.54 | G23: 6314.1661 | H23: 3898.8746 | I23: 4187.0598
B24: Interest and similar income from loans to and receivables from customers valued at fair value | C24: 948.46612 | D24: 1439.5728 | E24: 1237.6835 | F24: 1198.5145 | G24: 757.66953 | H24: 443.67459 | I24: 640.37924
B25: Interest and similar income from commercial papers, bonds and other interest-bearing securities | C25: 2158.774 | D25: 3045.8945 | E25: 2002.4835 | F25: 1454.8863 | G25: 578.04728 | H25: 177.47441 | I25: 276.142
B26: Interest income and similar income | C26: 23788.667 | D26: 27948.579 | E26: 18874.069 | F26: 14490.14 | G26: 7671.1053 | H26: 4524.8842 | I26: 5125.828
B27: Interest and similar expenses on debt to credit institutions | C27: 51.461401 | D27: 308.22938 | E27: 267.31532 | F27: 199.60584 | G27: 23.153987 | H27: 2.554428 | I27: 15.090312
B28: Interest and similar expenses on deposits from and debt to customers | C28: 5178.9263 | D28: 6171.3798 | E28: 4417.1386 | F28: 3227.5766 | G28: 1072.6295 | H28: 251.15515 | I28: 547.26412
B29: Interest and similar expenses on issued securities | C29: 10309.363 | D29: 11621.977 | E29: 7733.2472 | F29: 5566.6377 | G29: 2422.7445 | H29: 838.01766 | I29: 1307.8048
B30: Interest and similar expenses on subordinated loan capital | C30: 240.6259 | D30: 264.33582 | E30: 165.49951 | F30: 113.29768 | G30: 55.479579 | H30: 35.221164 | I30: 50.646023
B31: Other interest expenses etc. 1) | C31: 34.593231 | D31: 30.914353 | E31: 24.562156 | F31: 23.632384 | G31: 17.948216 | H31: 16.170555 | I31: 13.495945
B32: Fee Norwegian Banks' Guarantee Fund | C32: 140.27642 | D32: 151.34772 | E32: 107.46709 | F32: 117.81381 | G32: 85.290305 | H32: 83.22631 | I32: 87.049925
B33: Interest expenses and similar expenses | C33: 15955.247 | D33: 18548.184 | E33: 12715.23 | F33: 9248.564 | G33: 3677.2461 | H33: 1226.3453 | I33: 2021.3511
B34: Net interest and credit commission income | C34: 7833.4208 | D34: 9400.3945 | E34: =+E26-E33 -> 6158.8387 | F34: 5241.5759 | G34: 3993.8592 | H34: 3298.5389 | I34: 3104.4769
B36: 1) Interest from derivatives entered into to manage the interest rate risk attached to the bank's ordinary portfolios is classified as interest income and recognised as an adjustment of the bank's other interest income/ interest expenses.

Sheet Net Other Operating Income
A1: Back to contents
B2: 1.3.1 Net other operating income
B4: Quarterly figures
B5: (MNOK) | C5: Q3-26 | D5: Q2-26 | E5: Q1-26 | F5: Q4-25 | G5: Q3-25 | H5: Q2-25 | I5: Q1-25 | J5: Q4-24 | K5: Q3-24 | L5: Q2-24 | M5: Q1-24 | N5: Q4-23 | O5: Q3-23 | P5: Q2-23 | Q5: Q1-23 | R5: Q4-22 | S5: Q3-22 | T5: Q2-22 | U5: Q1-22
B6: Guarantee commissions | C6: 17.482276 | D6: 18.92952 | E6: 19.179936 | F6: 21.288605 | G6: 20.133725 | H6: 19.476009 | I6: 17.881675 | J6: 18.355572 | K6: 16.158066 | L6: 16.52009 | M6: 14.95896 | N6: 14.352815 | O6: 16.189555 | P6: 13.140268 | Q6: 12.58879 | R6: 12.171583 | S6: 10.995007 | T6: 11.1958 | U6: 8.332068
B7: Fees from payment transfers | C7: 213.03796 | D7: 192.33258 | E7: 175.70081 | F7: 185.50169 | G7: 208.3158 | H7: 167.90906 | I7: 104.32543 | J7: 115.00765 | K7: 132.37111 | L7: 115.37869 | M7: 95.973325 | N7: 95.306662 | O7: 107.65971 | P7: 97.082381 | Q7: 82.661394 | R7: 90.697435 | S7: 102.48799 | T7: 88.632618 | U7: 75.642578
B8: Income from insurance | C8: 62.906324 | D8: 74.312721 | E8: 81.391575 | F8: 157.91115 | G8: 58.849772 | H8: 55.949579 | I8: 34.253482 | J8: 64.569196 | K8: 32.137797 | L8: 29.265949 | M8: 26.857856 | N8: 31.512036 | O8: 26.137595 | P8: 28.452871 | Q8: 24.976232 | R8: 81.890748 | S8: 27.735923 | T8: 27.363065 | U8: 25.400009
B9: Commission income from savings and investment products | C9: 47.701875 | D9: 45.649201 | E9: 44.869758 | F9: 44.365825 | G9: 39.494508 | H9: 36.555346 | I9: 31.36487 | J9: 34.162512 | K9: 29.845097 | L9: 32.060361 | M9: 35.372321 | N9: 31.765469 | O9: 31.330031 | P9: 29.39477 | Q9: 28.002351 | R9: 28.664659 | S9: 28.966277 | T9: 22.850231 | U9: 39.358303
B10: Commission income from asset management | C10: 52.94307 | D10: 56.721815 | E10: 46.068893 | F10: 40.69137 | G10: 36.242532 | H10: 30.794009 | I10: 27.715854 | J10: 25.7 | K10: 0 | L10: 0 | M10: 0 | N10: 0 | O10: 0 | P10: 0 | Q10: 0 | R10: 0 | S10: 0 | T10: 0 | U10: 0
B11: Real estate broking commission | C11: 159.9902 | D11: 192.687 | E11: 114.19027 | F11: 132.9421 | G11: 148.02055 | H11: 169.49197 | I11: 83.063832 | J11: 62.724043 | K11: 75.265004 | L11: 93.790102 | M11: 56.239521 | N11: 52.598461 | O11: 64.996077 | P11: 77.498543 | Q11: 65.512488 | R11: 49.732581 | S11: 58.433938 | T11: 82.228059 | U11: 60.200201
B12: Other commissions and fees | C12: 49.115837 | D12: 48.69933 | E12: 42.497059 | F12: 36.08495 | G12: 38.275924 | H12: 48.990668 | I12: 45.466715 | J12: 34.357116 | K12: 26.356354 | L12: 18.432523 | M12: 27.162127 | N12: 47.533622 | O12: 21.544562 | P12: 23.1017 | Q12: 19.870883 | R12: 40.874724 | S12: 17.056118 | T12: 20.768627 | U12: 13.469621
B13: Commission income and income from banking services | C13: 603.17755 | D13: 629.33217 | E13: 523.8983 | F13: 618.78569 | G13: 549.33281 | H13: 529.16664 | I13: =SUM(I6:I12) -> 344.07186 | J13: =SUM(J6:J12) -> 354.87609 | K13: =SUM(K6:K12) -> 312.13342 | L13: =SUM(L6:L12) -> 305.44771 | M13: =SUM(M6:M12) -> 256.56411 | N13: =SUM(N6:N12) -> 273.06907 | O13: =SUM(O6:O12) -> 267.85753 | P13: =SUM(P6:P12) -> 268.67053 | ... U13: =SUM(U6:U12) -> 222.40278
B14: Fees payment transfers | C14: 59.736264 | D14: 52.735711 | E14: 40.463013 | F14: 34.4027 | G14: 56.942334 | H14: 56.661127 | I14: 34.778764 | J14: 18.227548 | K14: 42.943425 | L14: 34.330618 | M14: 29.642383 | N14: 26.716881 | O14: 30.26653 | P14: 30.14381 | Q14: 28.682043 | R14: 25.771928 | S14: 29.59811 | T14: 25.707816 | U14: 22.347023
B15: Expenses related to savings and investment products | C15: 2.021072 | D15: 2.371124 | E15: 1.604062 | F15: -1.28541 | G15: 2.170116 | H15: 2.003584 | I15: 2.063589 | J15: 3.407143 | K15: 0.965419 | L15: 1.011036 | M15: 2.469635 | N15: 1.175073 | O15: -1.88859 | P15: 2.614603 | Q15: 2.190899 | R15: 1.458902 | S15: 3.395277 | T15: 1.659923 | U15: 1.447205
B16: Other commissions and fees | C16: 48.418188 | D16: 53.552467 | E16: 46.768735 | F16: 29.786417 | G16: 37.988932 | H16: 33.493044 | I16: 9.368085 | J16: 18.939362 | K16: 1.153618 | L16: 4.516966 | M16: 6.033175 | N16: 4.939442 | O16: 1.002962 | P16: 2.276419 | Q16: 0.840575 | R16: 1.361085 | S16: 1.021498 | T16: 0.661302 | U16: 1.390622
B17: Commission expenses and expenses relating to banking services | C17: 110.17552 | D17: 108.6593 | E17: 88.83581 | F17: 62.903707 | G17: 97.101382 | H17: 92.157755 | I17: 46.210438 | J17: 40.574053 | K17: 45.062462 | L17: 39.85862 | M17: 38.145193 | N17: 32.831396 | O17: 29.380902 | P17: 35.034832 | Q17: 31.713517 | R17: 28.591915 | S17: 34.014885 | T17: 28.029041 | U17: 25.18485
B18: Net banking services | C18: 493.00202 | D18: 520.67287 | E18: 435.06249 | F18: 555.88198 | G18: 452.23143 | H18: 437.00889 | I18: 297.86142 | J18: 314.30204 | K18: 267.07096 | L18: 265.58909 | M18: 218.41892 | N18: =+N13-N17 -> 240.23767 | O18: =+O13-O17 -> 238.47662 | P18: =+P13-P17 -> 233.6357 | Q18: =+Q13-Q17 -> 201.89862 | R18: =+R13-R17 -> 275.43982 | S18: =+S13-S17 -> 211.66037 | T18: =+T13-T17 -> 225.00936 | U18: =+U13-U17 -> 197.21793
B21: Full year figures
B22: (MNOK) | C22: 2026 | D22: 2025 | E22: 2024 | F22: 2023 | G22: 2022 | H22: 2021 | I22: 2020
B23: Guarantee commissions | C23: 55.591732 | D23: 78.780014 | E23: 65.992688 | F23: 56.271428 | G23: 42.694458 | H23: 32.720769 | I23: 53.243207
B24: Fees from payment transfers | C24: 581.07135 | D24: 666.05199 | E24: 458.73077 | F24: 382.71014 | G24: 357.46062 | H24: 296.42867 | I24: 244.65491
B25: Income from insurance | C25: 218.61062 | D25: 306.96399 | E25: 152.8308 | F25: 111.07873 | G25: 162.38975 | H25: 125.3521 | I25: 112.97145
B26: Commission income from savings and investment products | C26: 138.22083 | D26: 151.78055 | E26: 131.44029 | F26: 120.49262 | G26: 119.83947 | H26: 113.82684 | I26: 90.290115
B27: Commission income from asset management | C27: 155.73378 | D27: 135.44377 | E27: 25.7 | F27: 0 | G27: 0 | H27: 0 | I27: 0
B28: Real estate broking commission | C28: 466.86748 | D28: 533.51844 | E28: 288.01867 | F28: 260.60557 | G28: 250.59478 | H28: 260.54347 | I28: 224.80265
B29: Other commissions and fees | C29: 140.31223 | D29: 168.81826 | E29: 106.30812 | F29: 112.05077 | G29: 92.16909 | H29: 70.965365 | I29: 47.015086
B30: Commission income and income from banking services | C30: 1756.408 | D30: 2041.357 | E30: 1229.0213 | F30: 1043.2093 | G30: 1025.1482 | H30: 899.8372 | I30: 772.97741
B31: Fees payment transfers | C31: 152.93499 | D31: 182.78492 | E31: 125.14397 | F31: 115.80926 | G31: 103.42488 | H31: 97.251835 | I31: 98.793374
B32: Expenses related to savings and investment products | C32: 5.996258 | D32: 4.951879 | E32: 7.853233 | F32: 4.091985 | G32: 8.286162 | H32: 0.680164 | I32: 5.48055
B33: Other commissions and fees | C33: 148.73939 | D33: 110.63648 | E33: 30.643121 | F33: 9.059398 | G33: 4.434507 | H33: 6.440244 | I33: 9.365813
... B35: Net banking services | C35: 1448.7374 | D35: 1742.9837 | E35: 1065.381 | F35: 914.24861 | G35: 909.00262 | H35: 795.46495 | I35: 659.33767
B38: 1.3.2 Net income on financial instruments
B40: Quarterly figures
B41: (MNOK) | C41: Q3-26 | D41: Q2-26 | E41: =E5 -> Q1-26 | F41: Q4-25 | G41: Q3-25 | H41: Q2-25 | I41: Q1-25 | J41: Q4-24 | K41: Q3-24 | L41: Q2-24 | M41: Q1-24 | N41: Q4-23 | O41: Q3-23 | P41: Q2-23 | Q41: Q1-23 | R41: Q4-22 | S41: Q3-22 | T41: Q2-22 | U41: Q1-22
B42: Dividend | C42: 0.192069 | D42: 2.282198 | E42: 21.71449 | F42: 24.193809 | G42: 1.11256 | H42: 17.005321 | I42: 0 | J42: 24.509314 | K42: 1.464995 | L42: 31.584274 | M42: 13.194298 | N42: 0 | O42: 0.116513 | P42: 2.478043 | Q42: 0.007625 | R42: 24.574636 | S42: 8.902566 | T42: 1.024694 | U42: 2.007582
B43: Gain/(loss) on shares | C43: 25.594547 | D43: -2.437684 | E43: 13.297109 | F43: -2.65508 | G43: -2.401223 | H43: 76.274204 | I43: 18.177386 | J43: 42.447944 | K43: 73.196109 | L43: 17.125239 | M43: -17.049807 | N43: 50.276937 | O43: 23.319863 | P43: -21.769397 | Q43: -8.100411 | R43: -13.534604 | S43: -20.659347 | T43: -15.39424 | U43: 54.533288
B44: Gain/(loss) on commercial papers and bonds 1) | C44: -71.639703 | D44: 47.470255 | E44: -21.013996 | F44: -6.943546 | G44: -28.52381 | H44: 53.351002 | I44: -10.077511 | J44: -73.471369 | K44: -9.085078 | L44: 19.4189 | M44: 27.552353 | N44: -4.427181 | O44: 13.691364 | P44: -17.448392 | Q44: -28.699392 | R44: 26.569953 | S44: -28.82252 | T44: -74.933376 | U44: -48.558896
B45: Gain/(loss) on financial instruments, designated at fair value 1) | C45: 39.438881 | D45: 6.568006 | E45: 4.573195 | F45: 102.045 | G45: -7.379715 | H45: 33.722432 | I45: 23.362177 | J45: -58.922388 | K45: 1.509934 | L45: -42.056572 | M45: -9.964142 | N45: -103.48221 | O45: -88.779547 | P45: -12.606608 | Q45: 3.444578 | R45: -232.0982 | S45: 190.10259 | T45: 12.675606 | U45: 112.24877
B46: Gain/(loss) related to positions to customers and trading | C46: 35.694135 | D46: 50.480185 | E46: 37.672076 | F46: 32.373779 | G46: 33.718313 | H46: 53.946774 | I46: 33.659107 | J46: 26.600668 | K46: 26.028615 | L46: 19.662803 | M46: -2.217384 | N46: 49.993628 | O46: 10.147062 | P46: 34.848938 | Q46: 29.872939 | R46: 17.362812 | S46: 22.345984 | T46: 18.079809 | U46: 26.878852
B47: Net gain/(loss) on financial instruments designated for hedge accounting | C47: -14.666491 | D47: -7.533578 | E47: 38.206963 | F47: -111.6764 | G47: 35.070881 | H47: -5.151123 | I47: 4.536501 | J47: 5.8894 | K47: 13.813438 | L47: -29.732163 | M47: 17.04472 | N47: -10.423466 | O47: 1.763904 | P47: -1.102098 | Q47: -0.094745 | R47: -1.356593 | S47: 1.151339 | T47: -0.688515 | U47: 1.793714
...

Sheet Operating Expenses
A1: Back to contents
B2: 1.4.1 Operating expenses - Group
B4: Quarterly figures
B5: (MNOK) | C5: Q3-26 | D5: Q2-26 | E5: Q1-26 | F5: Q4-25 | G5: Q3-25 | H5: Q2-25 | I5: Q1-25 | J5: Q4-24 | K5: Q3-24 | L5: Q2-24 | M5: Q1-24 | N5: Q4-23 | O5: Q3-23 | P5: Q2-23 | Q5: Q1-23 | R5: Q4-22 | S5: Q3-22 | T5: Q2-22 | U5: Q1-22
B6: Payroll expenses including empl.Nat.Ins.contributions | C6: 503.07523 | D6: 497.3159 | E6: 489.18106 | F6: 492.63057 | G6: 491.62302 | H6: 394.88167 | I6: 244.97286 | J6: 237.22652 | K6: 211.30374 | L6: 216.52192 | M6: 204.74014 | N6: 194.09248 | O6: 203.43337 | P6: 190.26803 | Q6: 189.42251 | R6: 168.35374 | S6: 190.78895 | T6: 187.42558 | U6: 175.13743
B7: Pension expenses | C7: 62.073319 | D7: 49.611747 | E7: 36.777164 | F7: 58.025841 | G7: 55.316402 | H7: 36.184152 | I7: 24.864167 | J7: 24.477726 | K7: 24.905235 | L7: 25.096163 | M7: 23.927621 | N7: 17.545639 | O7: 24.843729 | P7: 23.112974 | Q7: 24.330229 | R7: 25.714841 | S7: 22.921623 | T7: 22.436706 | U7: 23.418016
B8: Other personnel expences | C8: 31.905226 | D8: 29.688918 | E8: 32.555042 | F8: 43.885579 | G8: 26.644008 | H8: 34.641545 | I8: 16.888051 | J8: 18.415724 | K8: 10.961195 | L8: 13.566083 | M8: 15.097807 | N8: 11.450224 | O8: 12.748474 | P8: 13.919286 | Q8: 13.465299 | R8: 24.071314 | S8: 9.56146 | T8: 13.476859 | U8: 12.316826
B9: External fees | C9: 41.23688 | D9: 63.604202 | E9: 50.704172 | F9: 69.745455 | G9: 31.34157 | H9: 63.047473 | I9: 56.768272 | J9: 27.336682 | K9: 17.392367 | L9: 12.916564 | M9: 12.426865 | N9: 19.803683 | O9: 9.42296 | P9: 24.026728 | Q9: 29.205815 | R9: 24.506746 | S9: 18.862331 | T9: 17.895192 | U9: 20.891264
B10: ICT expenses | C10: 191.90461 | D10: 187.91785 | E10: 184.78542 | F10: 182.10091 | G10: 174.31474 | H10: 153.93243 | I10: 89.567758 | J10: 87.343146 | K10: 72.197837 | L10: 89.86579 | M10: 88.272111 | N10: 80.261572 | O10: 83.505643 | P10: 72.903396 | Q10: 79.72311 | R10: 71.333412 | S10: 63.802449 | T10: 66.890977 | U10: 65.439454
B11: Marketing | C11: 28.821862 | D11: 36.786363 | E11: 40.298749 | F11: 33.954136 | G11: 35.815329 | H11: 43.019634 | I11: 21.712448 | J11: 22.396017 | K11: 14.717774 | L11: 19.491283 | M11: 17.328229 | N11: 13.477518 | O11: 11.200702 | P11: 19.34956 | Q11: 19.548148 | R11: 17.603652 | S11: 11.639843 | T11: 18.776132 | U11: 18.714606
B12: Payroll and general administration expenses | C12: 859.01713 | D12: 864.92498 | E12: 834.3016 | F12: 880.34249 | G12: 815.05507 | H12: 725.70691 | I12: =SUM(I6:I11) -> 454.77356 | J12: =SUM(J6:J11) -> 417.19582 | K12: =SUM(K6:K11) -> 351.47815 | L12: =SUM(L6:L11) -> 377.4578 | M12: =SUM(M6:M11) -> 361.79277 | N12: =SUM(N6:N11) -> 336.63112 | O12: =SUM(O6:O11) -> 345.15488 | P12: =SUM(P6:P11) -> 343.57998 | ... U12: =SUM(U6:U11) -> 315.9176
B13: Depreciation | C13: 111.79863 | D13: 109.20876 | E13: 113.12552 | F13: 109.94041 | G13: 107.38723 | H13: 85.461825 | I13: 49.772096 | J13: 48.702286 | K13: 46.182353 | L13: 42.562752 | M13: 40.936456 | N13: 48.147771 | O13: 46.911908 | P13: 48.004963 | Q13: 49.391543 | R13: 57.125519 | S13: 54.528792 | T13: 54.199172 | U13: 52.444354
B14: Operating expenses, premises | C14: 6.317292 | D14: 7.752898 | E14: 22.053988 | F14: 7.444074 | G14: 6.881428 | H14: 11.821691 | I14: 8.983404 | J14: 9.993293 | K14: 6.755354 | L14: 7.114272 | M14: 9.804945 | N14: 9.405315 | O14: 8.094534 | P14: 10.816388 | Q14: 14.142603 | R14: 8.559779 | S14: 9.471527 | T14: 11.173675 | U14: 8.251968
B15: Wealth tax | C15: 0 | D15: 0 | E15: 0 | F15: 70.366088 | G15: 0 | H15: 0 | I15: 0 | J15: 48.273473 | K15: 0 | L15: 0 | M15: 0 | N15: 20.160005 | O15: 0 | P15: 0 | Q15: 0 | R15: 31.39289 | S15: 0 | T15: 0 | U15: 0
B16: Other operating expenses | C16: 66.579001 | D16: 71.38256 | E16: 66.788856 | F16: 87.600161 | G16: 60.507689 | H16: 66.974039 | I16: 33.243801 | J16: 28.444272 | K16: 30.65194 | L16: 32.230683 | M16: 30.683199 | N16: 24.310135 | O16: 35.837896 | P16: 45.396823 | Q16: 30.603592 | R16: 23.425935 | S16: 28.865381 | T16: 28.015999 | U16: 28.029378
B17: Total other operating expenses | C17: 72.896293 | D17: 79.135458 | E17: 88.842844 | F17: =F14+F15+F16 -> 165.41032 | G17: =G14+G15+G16 -> 67.389117 | H17: =H14+H15+H16 -> 78.79573 | I17: =I14+I15+I16 -> 42.227205 | J17: =J14+J15+J16 -> 86.711038 | K17: =K14+K15+K16 -> 37.407294 | L17: =L14+L15+L16 -> 39.344955 | M17: =M14+M15+M16 -> 40.488144 | ... U17: =U14+U15+U16 -> 36.281346
B18: Total operating expenses | C18: 1043.7121 | D18: 1053.2692 | E18: 1036.27 | F18: =F13+F12+F17 -> 1155.6932 | G18: =G13+G12+G17 -> 989.83142 | H18: =H13+H12+H17 -> 889.96446 | I18: =I13+I12+I17 -> 546.77286 | J18: =J13+J12+J17 -> 552.60914 | K18: =K13+K12+K17 -> 435.0678 | L18: =L13+L12+L17 -> 459.36551 | M18: =M13+M12+M17 -> 443.21737 | ... U18: =U13+U12+U17 -> 404.6433
B20: Full year figures
B21: (MNOK) | C21: 2026 | D21: 2025 | E21: 2024 | F21: 2023 | G21: 2022 | H21: 2021 | I21: 2020
B22: Payroll expenses including empl.Nat.Ins.contributins | C22: 1489.5722 | D22: 1624.1081 | E22: 869.79232 | F22: 777.21639 | G22: 721.7057 | H22: 702.39018 | I22: 599.64507
B23: Pension expenses | C23: 148.46223 | D23: 174.39056 | E23: 98.406745 | F23: 89.832571 | G23: 94.491186 | H23: 79.04402 | I23: 86.741116
B24: Other personnel expences | C24: 94.149186 | D24: 122.05918 | E24: 58.040809 | F24: 51.583283 | G24: 59.426459 | H24: 45.753604 | I24: 47.29371
B25: External fees | C25: 155.54525 | D25: 220.90277 | E25: 70.072478 | F25: 82.459186 | G25: 82.155533 | H25: 51.333519 | I25: 71.785749
B26: ICT expenses | C26: 564.60788 | D26: 599.91584 | E26: 337.67888 | F26: 316.39372 | G26: 267.46629 | H26: 247.87133 | I26: 231.42702
B27: Marketing | C27: 105.90697 | D27: 134.50155 | E27: 73.933303 | F27: 63.575928 | G27: 66.734233 | H27: 63.155147 | I27: 60.262395
B28: Payroll and general administration expenses | C28: 2558.2437 | D28: 2875.878 | E28: 1507.9245 | F28: 1381.0611 | G28: 1291.9794 | H28: 1189.5478 | I28: 1097.1551
B29: Depreciation | C29: 334.13291 | D29: 352.56156 | E29: 178.38385 | F29: 192.45619 | G29: 218.29784 | H29: 207.8607 | I29: 187.88121
B30: Operating expenses, premises | C30: 36.124178 | D30: 35.130597 | E30: 33.667864 | F30: 42.45884 | G30: 37.456949 | H30: 30.682439 | I30: 32.29687
B31: Wealth tax | C31: 0 | D31: 70.366088 | E31: 48.273473 | F31: 20.160005 | G31: 31.39289 | H31: 12.749672 | I31: 17.804148
B32: Other operating expenses | C32: 204.75042 | D32: 248.32569 | E32: 122.01009 | F32: 136.14845 | G32: 108.33669 | H32: 97.631008 | I32: 113.02
... B34: Total operating expenses | C34: 3133.2512 | D34: 3582.262 | E34: 1890.2598 | F34: 1772.2846 | G34: 1687.4638 | H34: 1538.4716 | I34: 1448.1573
B37: 1.4.2 Operating expenses - Parent bank
B39: Quarterly figures
B40: (MNOK) | C40: Q3-26 | D40: Q2-26 | E40: =E5 -> Q1-26 | F40: Q4-25 | G40: Q3-25 | H40: Q2-25 | I40: Q1-25 | J40: Q4-24 | K40: Q3-24 | L40: Q2-24 | M40: Q1-24 | N40: Q4-23 | O40: Q3-23 | P40: Q2-23 | Q40: Q1-23 | R40: Q4-22 | S40: Q3-22 | T40: Q2-22 | U40: Q1-22
B41: Payroll expenses including empl.Nat.Ins.contributins | C41: 346.36493 | D41: 341.4564 | E41: 360.19856 | F41: 349.80017 | G41: 352.15305 | H41: 287.85633 | I41: 191.78913 | J41: 185.29988 | K41: 170.88922 | L41: 171.99379 | M41: 170.26914 | N41: 159.26373 | O41: 164.60916 | P41: 150.31161 | Q41: 150.37362 | R41: 134.39755 | S41: 154.58693 | T41: 145.79992 | U41: 140.87772
B42: Pension expenses | C42: 50.533564 | D42: 35.551436 | E42: 32.545859 | F42: 47.209614 | G42: 46.822377 | H42: 29.772005 | I42: 21.816817 | J42: 20.028677 | K42: 22.467193 | L42: 22.68751 | M42: 21.628549 | N42: 14.035374 | O42: 22.264133 | P42: 20.43502 | Q42: 21.600962 | R42: 21.852985 | S42: 20.107901 | T42: 20.093206 | U42: 21.089006
B43: Other personnel expences | C43: 24.635284 | D43: 21.970015 | E43: 22.317152 | F43: 33.108578 | G43: 20.216568 | H43: 29.195785 | I43: 13.138657 | J43: 16.071536 | K43: 8.090003 | L43: 9.897873 | M43: 11.104593 | N43: 11.747372 | O43: 9.150134 | P43: 9.777918 | Q43: 9.571376 | R43: 18.950231 | S43: 7.54595 | T43: 9.94588 | U43: 10.628172
B44: External fees | C44: 37.358265 | D44: 56.859381 | E44: 44.547962 | F44: 50.733437 | G44: 23.799268 | H44: 54.009564 | I44: 51.802363 | J44: 14.232357 | K44: 16.016122 | L44: 12.713111 | M44: 12.065039 | N44: 19.260199 | O44: 8.365703 | P44: 23.207965 | Q44: 28.546941 | R44: 23.087627 | S44: 18.052202 | T44: 16.91852 | U44: 19.911732
B45: ICT expenses | C45: 173.02197 | D45: 171.63838 | E45: 167.33166 | F45: 164.57553 | G45: 158.90967 | H45: 138.75176 | I45: 84.153607 | J45: 82.357796 | K45: 69.54969 | L45: 87.071609 | M45: 85.553907 | N45: 77.318031 | O45: 80.894152 | P45: 69.63028 | Q45: 76.534423 | R45: 68.292514 | S45: 60.744329 | T45: 63.149419 | U45: 62.44383
B46: Marketing | C46: 22.819987 | D46: 28.314313 | E46: 35.913664 | F46: 28.468759 | G46: 29.737237 | H46: 35.554776 | I46: 19.245512 | J46: 19.187993 | K46: 12.544136 | L46: 16.758201 | M46: 14.97414 | N46: 11.606187 | O46: 9.192187 | P46: 17.086328 | Q46: 17.401157 | R46: 14.608214 | S46: 9.419753 | T46: 16.817129 | U46: 16.383494
...

Sheet Associated companies
A1: Back to contents
B2: 1.5.1 Associated companies
B4: Quarterly figures
B5: (MNOK) | C5: Q3-26 | D5: Q2-26 | E5: Q1-26 | F5: Q4-25 | G5: Q3-25 | H5: Q2-25 | I5: Q1-25 | J5: Q4-24 | K5: Q3-24 | L5: Q2-24 | M5: Q1-24 | N5: Q4-23 | O5: Q3-23 | P5: Q2-23 | Q5: Q1-23 | R5: Q4-22 | S5: Q3-22 | T5: Q2-22 | U5: Q1-22
B6: Frende Forsikring | C6: 119.55961 | D6: 180.26841 | E6: 42.105307 | F6: 107.7 | G6: 116.46699 | H6: 149.5485 | I6: 7.38306 | J6: 36.03236 | K6: 39.945302 | L6: 49.005503 | M6: -4.538411 | N6: 34.195021 | O6: -16.143953 | P6: 13.296509 | Q6: 19.687197 | R6: 55.492541 | S6: 36.990866 | T6: 30.1 | U6: -8.600911
B7: Norne Securities | C7: 2.285917 | D7: 2.2163099 | E7: 4.114999 | F7: 3.6 | G7: 1.85163 | H7: 4.62859 | I7: -0.782528 | J7: 3.9636196 | K7: -0.15647578 | L7: 3.226107 | M7: -0.442373 | N7: 1.89465 | O7: -0.90718317 | P7: 0.092394 | Q7: 0.028999 | R7: 3.539251 | S7: -0.980415 | T7: 2.768 | U7: 7.084557
B8: Brage Finans 1) | C8: 0 | D8: 0 | E8: 0 | F8: 0 | G8: 0 | H8: 18.333833 | I8: 49.804036 | J8: 43.896718 | K8: 44.764044 | L8: 25.616876 | M8: 41.901117 | N8: 44.751047 | O8: 39.498098 | P8: 46.537689 | Q8: 35.76331 | R8: 37.104084 | S8: 33.927712 | T8: 32.163 | U8: 29.301138
B9: Others | C9: 2.2586 | D9: 6.5165826 | E9: 33.229568 | F9: 1.3 | G9: 0.316562 | H9: 2.053242 | I9: 20.414737 | J9: 4.8183735 | K9: -0.26101021 | L9: 0.011368 | M9: -0.538784 | N9: -1.350695 | O9: -0.22820063 | P9: -0.082877 | Q9: -2.383307 | R9: -0.899394 | S9: -1.996907 | T9: 6.163 | U9: 0.005489
B10: Share of profit from associated companies | C10: 124.10412 | D10: 189.08495 | E10: 79.449874 | F10: =F6+F7+F8+F9 -> 112.6 | G10: =G6+G7+G8+G9 -> 118.63518 | H10: =H6+H7+H8+H9 -> 174.56417 | I10: =I6+I7+I8+I9 -> 76.819305 | J10: =J6+J7+J8+J9 -> 88.71107 | K10: =K6+K7+K8+K9 -> 84.29186 | L10: =L6+L7+L8+L9 -> 77.859854 | M10: =M6+M7+M8+M9 -> 36.381549 | ... U10: =U6+U7+U8+U9 -> 27.790273
B12: Full year figures
B13: (MNOK) | C13: 2026 | D13: 2025 | E13: 2024 | F13: 2023 | G13: 2022 | H13: 2021 | I13: 2020
B14: Frende Holding | C14: 341.93332 | D14: 381.17041 | E14: 120.44475 | F14: 51.034774 | G14: 113.99841 | H14: 150 | I14: 226
B15: Norne Securities | C15: 8.617226 | D15: 9.3 | E15: 6.5908778 | F15: 1.10886 | G15: 12.41234 | H15: 3 | I15: 1
B16: Brage Finans 1) | C16: 0 | D16: 68.1 | E16: 156.17875 | F16: 166.55014 | G16: 132.496 | H16: 77 | I16: 81
B17: Others | C17: 42.004751 | D17: 24 | E17: 4.0299473 | F17: -4.04508 | G17: 3.27256 | H17: -4 | I17: -3
B18: Share of profit from associated companies | C18: 392.67926 | D18: 482.57041 | E18: 287.24433 | F18: 214.6487 | G18: 262.17931 | H18: 226 | I18: 305
B20: 1) As a result of the merger, Sparebanken Norge obtained control over Brage Finans AS. This led to a change in classification from an associated company to a subsidiary as of 2 May 2025.

Sheet Impairments
A1: Back to contents
B2: 1.6.1 Impairments
B4: Quarterly figures
B5: (MNOK) | C5: Q3-26 | D5: Q2-26 | E5: Q1-26 | F5: Q4-25 | G5: Q3-25 | H5: Q2-25 | I5: Q1-25 | J5: Q4-24 | K5: Q3-24 | L5: Q2-24 | M5: Q1-24 | N5: Q4-23 | O5: Q3-23 | P5: Q2-23 | Q5: Q1-23 | R5: Q4-22 | S5: Q3-22 | T5: Q2-22 | U5: Q1-22
B6: Expected Credit Loss - stage 1 | C6: 443.96171 | D6: 492.72929 | E6: 496.90438 | F6: 604.84149 | G6: 485.54994 | H6: 572.91138 | I6: 284.63168 | J6: 261.78644 | K6: 306.84714 | L6: 273.44468 | M6: 288 | N6: 318.72715 | O6: 307.2577 | P6: 307.5667 | Q6: 268.98367 | R6: 198.57263 | S6: 179.29182 | T6: 172.26509 | U6: 167.17556
B7: Expected Credit Loss - stage 2 | C7: 403.86989 | D7: 439.88746 | E7: 445.3607 | F7: 498.1164 | G7: 613.92433 | H7: 613.5285 | I7: 343.28512 | J7: 351.27632 | K7: 306.61983 | L7: 304.21219 | M7: 251 | N7: 246.94421 | O7: 269.33098 | P7: 254.88943 | Q7: 253.56247 | R7: 335.80634 | S7: 374.18193 | T7: 341.27786 | U7: 319.93553
B8: Expected Credit Loss - stage 3 | C8: 1322.3607 | D8: 1153.3479 | E8: 1172.6326 | F8: 953.79412 | G8: 950.97914 | H8: 874.32707 | I8: 395.54045 | J8: 436.11141 | K8: 462.32748 | L8: 498.06532 | M8: 524 | N8: 460.70593 | O8: 440.844 | P8: 442.03203 | Q8: 470.57017 | R8: 441.33092 | S8: 408.99269 | T8: 457.72156 | U8: 463.51061
B9: Total loss provision in the balance sheet | C9: 2170.1923 | D9: 2085.9646 | E9: 2114.8977 | F9: 2056.752 | G9: 2050.4534 | H9: 2060.7669 | I9: =SUM(I6:I8) -> 1023.4573 | J9: =SUM(J6:J8) -> 1049.1742 | K9: =SUM(K6:K8) -> 1075.7945 | L9: =SUM(L6:L8) -> 1075.7222 | M9: =SUM(M6:M8) -> 1063 | N9: =SUM(N6:N8) -> 1026.3773 | O9: =SUM(O6:O8) -> 1017.4327 | P9: =SUM(P6:P8) -> 1004.4882 | ... U9: =SUM(U6:U8) -> 950.62171
B11: Corporate customers | C11: 1761.9299 | D11: 1685.1756 | E11: 1739.8575 | F11: 1666.6744 | G11: 1501.0913 | H11: 1503.307 | I11: 817.95724 | J11: 845.75238 | K11: 867.7305 | L11: 875.11184 | M11: 872 | N11: 844.8794 | O11: 856.12607 | P11: 851.83188 | Q11: 864.64434 | R11: 855.34946 | S11: 862.0857 | T11: 884.69686 | U11: 876.23059
B12: Retail customers | C12: 408.26244 | D12: 400.78896 | E12: 375.0402 | F12: 390.09651 | G12: 549.36206 | H12: 557.45996 | I12: 205.50001 | J12: 203.42179 | K12: 208.06396 | L12: 200.61036 | M12: 191 | N12: 181.49798 | O12: 161.30661 | P12: 152.65627 | Q12: 128.47196 | R12: 120.36043 | S12: 100.38074 | T12: 86.56765 | U12: 74.39112
B13: Total loss provision in the balance sheet | C13: 2170.1923 | D13: 2085.9646 | E13: 2114.8977 | F13: 2056.7709 | G13: 2050.4534 | H13: 2060.7669 | I13: =I11+I12 -> 1023.4573 | J13: =J11+J12 -> 1049.1742 | K13: =K11+K12 -> 1075.7945 | L13: =L11+L12 -> 1075.7222 | M13: =M11+M12 -> 1063 | N13: =N11+N12 -> 1026.3774 | O13: =O11+O12 -> 1017.4327 | P13: =P11+P12 -> 1004.4882 | ... U13: =U11+U12 -> 950.62171
B15: Individual loss provisions | C15: 736.28572 | D15: 659.53161 | E15: 621.46229 | F15: 428 | G15: 433 | H15: 430
B16: Model-based loss provision | C16: 1433.9066 | D16: 1426.433 | E16: 1493.4354 | F16: 1629 | G16: 1617 | H16: 1631
B17: Total loss provision in the balance sheet | C17: 2170.1923 | D17: 2085.9646 | E17: 2114.8977 | F17: =+F16+F15 -> 2057 | G17: =+G16+G15 -> 2050 | H17: =+H16+H15 -> 2061
B19: Loss cost for the period:
B20: Change in total write-downs | C20: 84.227706 | D20: -28.93309 | E20: 186.2822 | F20: =+E46-G20-H20-I20 -> -86.349032 | G20: -15.864927 | H20: 150.72775 | I20: -25.716916 | J20: =22.796872000686-K20-L20-M20 -> -26.720287 | K20: 0.072257001 | L20: =12.344901999286+0.1 -> 12.444902 | M20: 37 | N20: 8.944705 | O20: 12.944529 | P20: -2.4835095 | Q20: 31.261773 | R20: 13.243356 | S20: -8.7980663 | T20: 20.642891 | U20: 4.8642807
B21: Confirmed loss | C21: 19.039091 | D21: 68.94894 | E21: -76.254223 | F21: =+E47-G21-H21-I21 -> -75.468056 | G21: 90.779271 | H21: 33.496578 | I21: 40.514979 | J21: 47.134995 | K21: 14.417571 | L21: =15.47020602+0.3 -> 15.770206 | M21: 12 | N21: 6.803367 | O21: 10.102928 | P21: 33.683509 | Q21: 3.899706 | R21: 28.108547 | S21: 2.3778818 | T21: 10.263298 | U21: 10.926865
B22: Recoveries in previosly confimed write-downs | C22: -6.539838 | D22: -6.591579 | E22: -7.39945 | F22: =+E48-G22-H22-I22 -> -4.642443 | G22: -1.741257 | H22: -4.419242 | I22: -4.4182 | J22: -4.523893 | K22: -2.0984599 | L22: -3.5987891 | M22: -5 | N22: -3.120325 | O22: -2.559215 | P22: -2.44391 | Q22: -2.742792 | R22: -0.03145652 | S22: -1.2596947 | T22: -7.4403621 | U22: -10.790406
B23: Other changes | C23: 0 | D23: 0 | E23: 0 | F23: =+E49-G23-H23-I23 -> 0 | G23: 0 | H23: 0 | I23: 0 | J23: 0 | K23: 0 | L23: 0 | M23: 0 | N23: 0 | O23: 0 | P23: 0 | Q23: 0.542129 | R23: -3.538048 | S23: -2.7936405 | T23: -4.5330425 | U23: 0.664681
B24: Loss cost for the period | C24: 96.726959 | D24: 33.424271 | E24: 102.62853 | F24: =+E50-G24-H24-I24 -> -166.45953 | G24: 73.173087 | H24: 179.80508 | I24: =SUM(I20:I23) -> 10.379863 | J24: =SUM(J20:J23) -> 15.890815 | K24: =SUM(K20:K23) -> 12.391368 | L24: =SUM(L20:L23) -> 24.616319 | M24: =SUM(M20:M23) -> 44 | N24: =SUM(N20:N23) -> 12.627747 | O24: =SUM(O20:O23) -> 20.488242 | P24: =SUM(P20:P23) -> 28.75609 | ... U24: =SUM(U20:U23) -> 5.6654215
B26: Individual write-downs | C26: 89.253367 | D26: 100.42668 | E26: 238.35316 | F26: =200-138 -> 62 | G26: =138-46 -> 92 | H26: =46-11 -> 35 | I26: 11
B27: Model-based write-downs | C27: 7.473592 | D27: -67.00241 | E27: -135.72463 | F27: =112-125 -> -13 | G27: =125-144 -> -19 | H27: 145 | I27: -1
B28: Loss cost for the period | C28: 96.726959 | D28: 33.424271 | E28: 102.62853 | F28: =+F27+F26 -> 49 | G28: =+G27+G26 -> 73 | H28: =+H27+H26 -> 180 | I28: =+I27+I26 -> 10
B30: Full year figures
B31: (MNOK) | C31: 2026 | D31: 2025 | E31: 2024 | F31: 2023 | G31: 2022 | H31: 2021 | I31: 2020 | J31: 2020
B32: Expected Credit Loss - stage 1 | C32: 443.96171 | D32: 604.84149 | E32: 261.78644 | F32: 318.72715 | G32: 198.57263 | H32: 168.93281 | I32: 146.69876 | J32: 146.69876
B33: Expected Credit Loss - stage 2 | C33: 403.86989 | D33: 498.1164 | E33: 351.27632 | F33: 246.94421 | G33: 335.80634 | H33: 343.73548 | I33: 350.14986 | J33: 350.14986
B34: Expected Credit Loss - stage 3 | C34: 1322.3607 | D34: 953.79412 | E34: 436.11141 | F34: 460.70593 | G34: 441.33092 | H34: 433.08904 | I34: 538.2559 | J34: 538.2559
B35: Total loss provision in the balance sheet | C35: 2170.1923 | D35: 2056.752 | E35: 1049.1742 | F35: 1026.3773 | G35: 975.70989 | H35: 945.75734 | I35: 1035.1045 | J35: 1035.1045
B37: Corporate customers | C37: 1761.9299 | D37: 1666.6744 | E37: 845.75238 | F37: 844.8794 | G37: 855.34946 | H37: 836.34053 | I37: 926.42302 | J37: 926.42302
B38: Retail customers | C38: 408.26244 | D38: 390.09651 | E38: 203.42179 | F38: 181.49798 | G38: 120.36043 | H38: 109.4169 | I38: 108.6815 | J38: 108.6815
B39: Total loss provision in the balance sheet | C39: 2170.1923 | D39: 2056.7709 | E39: 1049.1742 | F39: 1026.3774 | G39: 975.70989 | H39: 945.75743 | I39: 1035.1045 | J39: 1035.1045
B41: Individual loss provisions | C41: 736.28572 | D41: 428
B42: Model-based loss provision | C42: 1433.9066 | D42: 1629
B43: Total loss provision in the balance sheet | C43: 2170.1923 | D43: 2057
B45: Loss cost for the period:
B46: Change in total write-downs | C46: 241.57682 | D46: 80.411429 | E46: 22.796872 | F46: 50.667498 | G46: 29.952462 | H46: -89.3471 | I46: 352.77189 | J46: 352.77189
B47: Confirmed loss | C47: 11.733808 | D47: 250.14569 | E47: 89.322772 | F47: 54.48951 | G47: 51.676592 | H47: 83.776316 | I47: 120.65188 | J47: 120.65188
B48: Recoveries in previosly confimed write-downs | C48: -20.530867 | D48: -18.424258 | E48: -15.221142 | F48: -10.866242 | G48: -19.521919 | H48: -26.125548 | I48: -33.005566 | J48: -33.005566
B49: Other changes | C49: 0 | D49: 0 | E49: 0 | F49: 0.542129 | G49: -10.20005 | H49: 1.010796 | I49: 7.40073 | J49: 7.40073
...

Sheet Proforma
B2: 1.7.1 Sparebanken Norge - Proforma
B4: Quarterly figures
B5: (MNOK) | C5: Q3-26 | D5: Q2-26 | E5: Q1-26 | F5: Q4-25** | G5: Q3-25 | H5: Q2-25* | I5: Q1-25 | J5: Q4-24 | K5: Q3-24 | L5: Q2-24 | M5: Q1-24
B6: Net interest and credit commission income | C6: 2663.5766 | D6: 2529.0206 | E6: 2640.8236 | F6: 2767.527 | G6: 2800.087 | H6: 2748.904 | I6: 2603.827 | J6: 2679.117 | K6: 2671.375 | L6: 2608.701 | M6: 2536.284
B7: Net commission income and income from banking services | C7: 493.00202 | D7: 520.67287 | E7: 435.0625 | F7: 555.691 | G7: 451.996 | H7: 478.143 | I7: 409.672 | J7: 446.972 | K7: 383.996 | L7: 396.509 | M7: 306.517
B8: Income from associated companies | C8: 124.10412 | D8: 189.12467 | E8: 79.450466 | F8: 113.7292 | G8: 119 | H8: 169 | I8: 26 | J8: 57 | K8: 56 | L8: 72 | M8: -11
B9: Net gain/(loss) on financial instruments | C9: -2.538175 | D9: 95.98115 | E9: 93.680422 | F9: 37.188 | G9: 32.384 | H9: 170.756 | I9: 85.763 | J9: -111.836 | K9: 53.384 | L9: -7.78 | M9: 73.763
B10: Other operating income | C10: 0.427212 | D10: 4.013701 | E10: 1.820757 | F10: 12.227949 | G10: 3 | H10: 3 | I10: 3 | J10: 12.037 | K10: 4 | L10: 2 | M10: 3
B11: Net operating income | C11: 3278.5718 | D11: 3338.8129 | E11: 3250.8377 | F11: 3486.3632 | G11: 3406.467 | H11: 3569.803 | I11: 3128.262 | J11: 3083.29 | K11: 3168.755 | L11: 3071.43 | M11: 2908.564
B12: Operating expenses | C12: 973.56422 | D12: 983.12138 | E12: 969.26997 | F12: 1070.289 | G12: 941.622 | H12: 961.622 | I12: 939.921 | J12: 1015.124 | K12: 852.248 | L12: 889.986 | M12: 869.745
B13: Merger-related one-off costs | C13: 26 | D13: 26 | E13: 23 | F13: 65.35 | G13: 19.5 | H13: 59.2 | I13: 80 | J13: 11 | K13: 19 | L13: 0 | M13: 0
B14: Amortisation of merger-related intangible assets | C14: 44.147829 | D14: 44.147829 | E14: 44 | F14: 43.4 | G14: 43 | H14: 29 | I14: 0 | J14: 0 | K14: 0 | L14: 0 | M14: 0
B15: Write-downs of loans and losses on guarantees | C15: 96.726959 | D15: 33.425822 | E15: 102.62698 | F15: 59.863 | G15: 73.887 | H15: 79.103 | I15: 35.168 | J15: 72.399 | K15: 53.723 | L15: 56.824 | M15: 129.772
B16: Profit/loss before tax expense | C16: 2138.1328 | D16: 2252.1179 | E16: 2111.9408 | F16: 2247.4612 | G16: 2328.458 | H16: 2440.878 | I16: 2073.173 | J16: 1984.767 | K16: 2243.784 | L16: 2124.62 | M16: 1909.047
B17: Tax expense | C17: 460.6447 | D17: 485.83557 | E17: 95.521134 | F17: 501.86422 | G17: 512.364 | H17: 513.998 | I17: 137.116 | J17: 463.641 | K17: 528.261 | L17: 489.573 | M17: 98.434
B18: Profit/loss for the period | C18: 1677.4881 | D18: 1766.2823 | E18: 2016.4196 | F18: 1745.5969 | G18: 1816.094 | H18: 1926.88 | I18: 1936.057 | J18: 1521.126 | K18: 1715.523 | L18: 1635.047 | M18: 1810.613
B19: *Q2-25 excl. Merger effects losses on loans 114 MNOK and gain on financial instruments 55 MNOK Brage
B20: **Q4 2025 excl. merger effects losses on loans -12 MNOK
B22: Profitability
B23: Return on equity after tax | C23: 0.12678286 | D23: 0.13992357 | E23: 0.16091369 | F23: 0.13397708 | G23: 0.14420588 | H23: 0.16242319 | I23: 0.18009742 | J23: 0.13958021 | K23: 0.16556016 | L23: 0.16508682 | M23: 0.18426362
B24: Return on equity adjusted for merger effects in 2025 (see APM) | C24: 0.14451543 | D24: 0.16003817 | E24: 0.18331713 | F24: 0.15243445 | G24: 0.16456177 | H24: 0.17755134 | I24: 0.18009742 | J24: 0.13958021 | K24: 0.16556016 | L24: 0.16508682 | M24: 0.18426362
B25: Operating expenses as a percentage of net operating income (cost-income) | C25: 0.31834351 | D25: 0.31546218 | E25: 0.31877013 | F25: 0.33818594 | G25: 0.29476933 | H25: 0.29408402 | I25: 0.32603439 | J25: 0.33280165 | K25: 0.27494963 | L25: 0.28976275 | M25: 0.29902901
B26: Operating expenses as a percentage of net operating income (cost-income), adjusted for merger-related one-off-costs | C26: 0.31041322 | D26: 0.30767498 | E26: 0.31169503 | F26: 0.31944148 | G26: 0.28904493 | H26: 0.27750047 | I26: 0.30046109 | J26: 0.32923403 | K26: 0.26895358 | L26: 0.28976275 | M26: 0.29902901
B28: Balance sheet figures
B29: Gross loans to customers | C29: 513216.71 | D29: 504914 | E29: 494299.15 | F29: 487477 | G29: 478680.69 | H29: 467653.27 | I29: 456771.13 | J29: 447363.58 | K29: 439088.47 | L29: 433032.24 | M29: 422479.39
B30: Lending growth, last 12 months | C30: 0.072148348 | D30: 0.079675981 | E30: 0.08215936 | F30: 0.089666257 | G30: 0.090169118 | H30: 0.079950227 | I30: 0.081167855 | J30: 0.086915394 | K30: 0.094057205 | L30: 0.10203366 | M30: 0.10738396
B31: Retail customer lending | C31: 357023.98 | D31: 352057 | E31: 344901.87 | F31: 341177 | G31: 334514.76 | H31: 325300.73 | I31: 317331.61 | J31: 312114.07 | K31: 305519.04 | L31: 300430.72 | M31: 292264.22
B32: Lending growth retail customers, last 12 months | C32: 0.067289171 | D32: 0.082250859 | E32: 0.086881529 | F32: 0.093116365 | G32: 0.09490642 | H32: 0.082781195 | I32: 0.085769635 | J32: 0.091989716 | K32: 0.089742652 | L32: 0.10269771 | M32: 0.10900209
B33: whereof Bulder | C33: 77895.602 | D33: 77633 | E33: 76220 | F33: 75619 | G33: 72025 | H33: 65396 | I33: 62549 | J33: 60913 | K33: 57600.049 | L33: 56121.595 | M33: 52256
B34: whereof Retail ex. Bulder | C34: 279128.37 | D34: 274424 | E34: 268681.87 | F34: 265558 | G34: 262489.76 | H34: 259904.73 | I34: 254782.61 | J34: 251201.07 | K34: 247918.99 | L34: 244309.13 | M34: 240008.22
B35: Corporate customer lending | C35: 156192.73 | D35: 152857 | E35: 149397.28 | F35: 146300 | G35: 144165.93 | H35: 142352.53 | I35: 139439.52 | J35: 135249.51 | K35: 133569.43 | L35: 132601.52 | M35: 130215.17
B36: Lending growth corporate customers, last 12 months | C36: 0.083423315 | D36: 0.073791929 | E36: 0.071412814 | F36: 0.081704473 | G36: 0.079333286 | H36: 0.073536201 | I36: 0.070839291 | J36: 0.075383504 | K36: 0.10405569 | L36: 0.10053211 | M36: 0.10376924
B37: Customer deposits | C37: 233424.93 | D37: 231116.59 | E37: 222130.57 | F37: 225640 | G37: 227634.71 | H37: 227647.94 | I37: 214650.16 | J37: 213386.45 | K37: 211307.65 | L37: 213590.02 | M37: 201537.52
B38: Deposit growth, last 12 months | C38: 0.025436457 | D38: 0.015236908 | E38: 0.034849301 | F38: 0.057424193 | G38: 0.077266802 | H38: 0.065817317 | I38: 0.06506301 | J38: 0.088811951 | K38: 0.074685476 | L38: 0.077632493 | M38: 0.080331341
B39: Retail customer deposits | C39: 134838.37 | D39: 136526.17 | E39: 128883.11 | F39: 126700 | G39: 126804 | H39: 127489 | I39: 119097.68 | J39: 115612.15 | K39: 113380.55 | L39: 114814.56 | M39: 107063.06
B40: Deposit growth retail customers, last 12 months | C40: 0.063360537 | D40: 0.070885854 | E40: 0.082163034 | F40: 0.095905577 | G40: 0.11839289 | H40: 0.11039051 | I40: 0.11240683 | J40: 0.12324414 | K40: 0.11598891 | L40: 0.12195717 | M40: 0.098688467
... B45: Average intangible assets / goodwill related to mergers | C45: 5034.0325 | D45: 5067.1 | E45: 5100.2543 | F45: 5021 | G45: 5015 | H45: 3361 | I45: 0 | J45: 0 | K45: 0 | L45: 0 | M45: 0
B48: Personnel
B49: Number of full-time equivalents | C49: 1648 | D49: 1649 | E49: 1660 | F49: 1644 | G49: 1624 | H49: 1639 | I49: 1654 | J49: 1632 | K49: 1615 | L49: 1606 | M49: 1579
B51: Sparebanken Norge equity certificate
...

Sheet Balance Sheet items
A1: Back to contents
B6: Section 2 - Balance sheet items
B8: 2.1 Balance sheet
B10: 2.2 Lending by sector
B12: 2.3 Deposits by sector

Sheet Balance Sheet
A1: Back to contents
B2: 2.1.1 Balance sheet
