Workbook
Name Anläggningssten: Tabeller!$K$2:$K$26
Name Asfalt: Tabeller!$G$2:$G$26
Name Betong: Tabeller!$H$2:$H$26
Name Materialnamn: Materialtabell[Materialnamn]
Name Materialnamn: Materialtabell[Materialnamn]
Name Materialnamn: Materialtabell[Materialnamn]
Name Materialtyp: Tabeller!$E$2:$E$26
Name Metall: Tabeller!$I$2:$I$26
Name Omräkningsfaktor: Tabeller!$B$2:$B$26
Name Plast: Tabeller!$J$2:$J$26
Name Projektskede: Tabeller!$D$2:$D$26
Name Schaktmassa: Tabeller!$L$2:$L$26
Name Skeden: Tabeller!$C$2:$C$26
Name Teknikomr: Tabeller!$F$2:$F$26
Name Övrigt: Tabeller!$O$2:$O$26

Sheet Vägledning
C2: KEX - Klimatberäkningsverktyget
C5: Inledning Detta klimatberäkningsverktyg används för att göra övergripande uppskattning av materials klimatpåverkan för anläggningsprojekt åt Stockholms stad. Verktyget bygger på LCA (livscykelanalys) metodik med generiska klimatdata ifrån Trafikverkets klimatkalkyl och Boverkets klimatdatabas. För vissa produktspecifika material används specificerad miljövarudeklaration (EPD). Källreferenser för respektive klimatdata redovisas. Verktyget omfattar livscykelskeden A1-4.
C27: Instruktioner Vägledande genom verktyget är att vita celler än tänkta för ifyllande av användare medan färgade celler är nödvändiga för beräkningslogik och är låsta. Verktyget används genom att man på flik Försättsblad anger övergripande projektinformation. Klimatpåverkande material sammanställer men i början av projektet på flik Kalkyl start vilket blir som en baslinje. Under projektets gång arbetar man och optimerar för att minska klimatpåverkan och vid slut sammanställer man utfall på flik Kalkyl slut. I klimatkalkylerna anger man materialtyp och mängd som man matchar med klimatpåverkande material som inhämtas ifrån Materiallista. Tillgänglig enhet för respektive material behöver anges. Samtliga material kan anges i viktenhet kg/ton medan längd/area/volym, m, m2, m3, varierar beroende på material. För vissa material kan verktyget inte omvandla enheten ur AMA till kg, då behöver man själv räkna om till en möjlig enhet. För transparens bör detta omräkningsunderlag sparas på fliken Enhetsomräkning. Klimatpåverkan redovisas som koldioxidekvivalenter, CO2e för livscykelskeden A1-3 samt A4. För livscykelskede A4, transport, presenteras schabloniserade avstånd. Om faktiska transportavstånd är kända bör avståndet justeras. Önskar man inkludera något material men exkludera dess klimatpåverkan kan man välja Exkluderat material ur listan. Anger man exkluderat material bör man även kommentera varför. Resultat av klimatkalkylen presenteras på flik Sammanställning. Flik Materiallista innehåller den databas som länkar in i klimatkalkylen. Denna är låst för ändringar. Önskar man inkludera material man bedömer saknas kan man kontakta Stockholm stad, se sedan. Flik Anteckningar har ingen koppling till verktygets funktion och är helt olåst. Här kan exempelvis egna anteckningar, beräkningar, underlag m.m. infogas och bearbetas. Förtydliganden KEX redovisar koldioxidutsläpp utgående från 2025 års klimatdata. Massahantering bedöms ur LCA-metodik inte ha någon klimatpåverkan för livscykelskeden A1-3. Dessa skeden omfattar råvaruutvinning, transport och tillverkning av material vilket inte omfattar massor redan på byggplatsen. Klimatpåverkan för massahantering upparbetas vid bygg- och installationsprocesser i skede A5, vilket detta verktyg inte omfattar. Bakgrund Stockholms stads första ansats till att beräkna klimatpåverkan från den bebyggda miljön genomfördes i uppföljningen av Hammarby Sjöstad. Exploateringskontoret, i samarbete med KTH, utvecklade verktyget Miljöbelastningsprofilen, som inkluderade klimatpåverkan som en av flera utsläppskategorier. Analysen visade att inbyggda material stod för en stor del av klimatpåverkan. Erfarenheterna inspirerade utvecklingen av Norra Djurgårdstaden, där staden vidareutvecklade ett enklare klimatberäkningsverktyg och använda emissionsfaktorer från Trafikverkets klimatkalkyl.
C55: Om du vill tillföra eller ändra material i materiallistan, eller har frågor om verktyget, kontakta:
D56: Miljö : Exploateringskontoret Stockholms stad
C58: Länkar för mer information om livscykelanalys och klimatberäkningar:
D59: Boverket introduktion till livscykelanalys
D60: HS30 klimatberäkningar
C64: Versionshistorik
C65: v.1.0b | D65: 45987 | F65: Upprättande av klimatberäkningsverktyg med validerade material v. beta.
C66: v.1.0 | D66: 46002 | F66: Upprättande av klimatberäkningsverktyg med validerade material.
C67: v.1.1 | D67: 46008 | F67: Mindre justeringar och buggfix.
C68: v.1.2 | D68: 46071 | F68: Mindre justeringar och buggfix.
C69: v.1.3 | D69: 46184 | F69: Funktion A4 transporter introduceras. Omarbetning och anpassning för AMA-material samt ändrad logik för start- och slutkalkyl. Mindre justeringar och buggfix.
C70: v. | D70: 2026-xx-xx
C71: v. | D71: 202x-xx-xx

Sheet Försättsblad
C2: KEX - Projektinformation
C5: Projektinformation
C7: Projektnamn
C8: Projektnummer Stockholms stad
C9: Typ av entreprenad
C10: Projektskede
C11: Projektyta
C12: Yta gata – hårdgjorda ytor
C13: Yta park – gräs, grus
C14: Yta natur
C15: Yta övrigt
C16: Projektyta totalt | D16: =SUM(D12:D15) -> 0
C17: Projektkostnad
C18: Reduktionsmål | D18: 0.25
C19: Datum
C20: Skapad av
C21: Granskad av
C22: Noteringar

Sheet Kalkyl start
C2: KEX - Startkalkyl
C4: Instruktioner | J4: Klimatpåverkan från material (A1-3) | P4: Klimatpåverkan från transport (A4)
B5: # | C5: Teknikområde | D5: AMA-kod | E5: Material / produkt / AMA-beskrivning | F5: Mängd | G5: Enhet | H5: Klimatmaterial | I5: Materialtyp | J5: Omräknings-faktor | K5: Faktorenhet | L5: Materialvikt | M5: 2019 kg CO2e | N5: A1-3 kg CO2e | O5: Avstånd km | P5: 20% HVO kg CO2e | Q5: 100% HVO kg CO2e | R5: Kommentar
B6: 1 | I6: =IFERROR(VLOOKUP(KalkylStart[[#This Row],[Klimatmaterial]],Materialtabell[[#All],[Materialnamn]:[Materialtyp]],2,0),"") | J6: =IFERROR(IF(G6="kg",1,IF(G6="ton",1000,IF(G6=RIGHT(VLOOKUP(H6,Materialtabell[[#All],[Materialnamn]:[Enhet]],4,0),LEN(VLOOKUP(H6,Materialtabell[[#All],[Materialnamn]:[Enhet]],4,0))-3),VLOOKUP(H6,Materialtabell[[#All],[Materialnamn]:[Enhet]],3,0),"Enhetsfel"))),"") | K6: =IFERROR(IF(G6="kg","kg/kg",IF(G6="ton","kg/ton",IF(RIGHT(VLOOKUP(H6,Materialtabell[[#All],[Materialnamn]:[Enhet]],4,0),LEN(VLOOKUP(H6,Materialtabell[[#All],[Materialnamn]:[Enhet]],4,0))-3)=G6,VLOOKUP(H6,Materialtabell[[#All],[Materialnamn]:[Enhet]],4,0),"kg/ton/"&RIGHT(VLOOKUP(H6,Materialtabell[[#All],[Materialnamn]:[Enhet]],4,0),LEN(VLOOKUP(H6,Materialtabell[[#All],[Materialnamn]:[Enhet]],4,0))-3)))),"") | L6: =IFERROR(KalkylStart[[#This Row],[Mängd]]*KalkylStart[[#This Row],[Omräknings-faktor]],"") | M6: =IFERROR(F6*J6*VLOOKUP(H6,Materialtabell[[#All],[Materialnamn]:[Emissionsfaktor 2019 kg CO2e/kg]],5,0),"") | N6: =IFERROR(F6*J6*VLOOKUP(H6,Materialtabell[[#All],[Materialnamn]:[Emissionsfaktor 2025 kg CO2e/kg]],6,0),"") | O6: =IFERROR(VLOOKUP(H6,Materialtabell[[#All],[Materialnamn]:[Kommentar A4]],24,0),"") | P6: =IFERROR(($F6*$J6*$O6*VLOOKUP($H6,Materialtabell[[#All],[Materialnamn]:[Bränsle MJ/ton, km]],25,0)*Materiallista!$AF$5)/1000,"") | Q6: =IFERROR(($F6*$J6*$O6*VLOOKUP($H6,Materialtabell[[#All],[Materialnamn]:[Bränsle MJ/ton, km]],25,0)*Materiallista!$AF$6)/1000,"")
B7: 2 | I7: =IFERROR(VLOOKUP(KalkylStart[[#This Row],[Klimatmaterial]],Materialtabell[[#All],[Materialnamn]:[Materialtyp]],2,0),"") | J7: =IFERROR(IF(G7="kg",1,IF(G7="ton",1000,IF(G7=RIGHT(VLOOKUP(H7,Materialtabell[[#All],[Materialnamn]:[Enhet]],4,0),LEN(VLOOKUP(H7,Materialtabell[[#All],[Materialnamn]:[Enhet]],4,0))-3),VLOOKUP(H7,Materialtabell[[#All],[Materialnamn]:[Enhet]],3,0),"Enhetsfel"))),"") | K7: =IFERROR(IF(G7="kg","kg/kg",IF(G7="ton","kg/ton",IF(RIGHT(VLOOKUP(H7,Materialtabell[[#All],[Materialnamn]:[Enhet]],4,0),LEN(VLOOKUP(H7,Materialtabell[[#All],[Materialnamn]:[Enhet]],4,0))-3)=G7,VLOOKUP(H7,Materialtabell[[#All],[Materialnamn]:[Enhet]],4,0),"kg/ton/"&RIGHT(VLOOKUP(H7,Materialtabell[[#All],[Materialnamn]:[Enhet]],4,0),LEN(VLOOKUP(H7,Materialtabell[[#All],[Materialnamn]:[Enhet]],4,0))-3)))),"") | L7: =IFERROR(KalkylStart[[#This Row],[Mängd]]*KalkylStart[[#This Row],[Omräknings-faktor]],"") | M7: =IFERROR(F7*J7*VLOOKUP(H7,Materialtabell[[#All],[Materialnamn]:[Emissionsfaktor 2019 kg CO2e/kg]],5,0),"") | N7: =IFERROR(F7*J7*VLOOKUP(H7,Materialtabell[[#All],[Materialnamn]:[Emissionsfaktor 2025 kg CO2e/kg]],6,0),"") | O7: =IFERROR(VLOOKUP(H7,Materialtabell[[#All],[Materialnamn]:[Kommentar A4]],24,0),"") | P7: =IFERROR(($F7*$J7*$O7*VLOOKUP($H7,Materialtabell[[#All],[Materialnamn]:[Bränsle MJ/ton, km]],25,0)*Materiallista!$AF$5)/1000,"") | Q7: =IFERROR(($F7*$J7*$O7*VLOOKUP($H7,Materialtabell[[#All],[Materialnamn]:[Bränsle MJ/ton, km]],25,0)*Materiallista!$AF$6)/1000,"")
B8: 3 | I8: =IFERROR(VLOOKUP(KalkylStart[[#This Row],[Klimatmaterial]],Materialtabell[[#All],[Materialnamn]:[Materialtyp]],2,0),"") | J8: =IFERROR(IF(G8="kg",1,IF(G8="ton",1000,IF(G8=RIGHT(VLOOKUP(H8,Materialtabell[[#All],[Materialnamn]:[Enhet]],4,0),LEN(VLOOKUP(H8,Materialtabell[[#All],[Materialnamn]:[Enhet]],4,0))-3),VLOOKUP(H8,Materialtabell[[#All],[Materialnamn]:[Enhet]],3,0),"Enhetsfel"))),"") | K8: =IFERROR(IF(G8="kg","kg/kg",IF(G8="ton","kg/ton",IF(RIGHT(VLOOKUP(H8,Materialtabell[[#All],[Materialnamn]:[Enhet]],4,0),LEN(VLOOKUP(H8,Materialtabell[[#All],[Materialnamn]:[Enhet]],4,0))-3)=G8,VLOOKUP(H8,Materialtabell[[#All],[Materialnamn]:[Enhet]],4,0),"kg/ton/"&RIGHT(VLOOKUP(H8,Materialtabell[[#All],[Materialnamn]:[Enhet]],4,0),LEN(VLOOKUP(H8,Materialtabell[[#All],[Materialnamn]:[Enhet]],4,0))-3)))),"") | L8: =IFERROR(KalkylStart[[#This Row],[Mängd]]*KalkylStart[[#This Row],[Omräknings-faktor]],"") | M8: =IFERROR(F8*J8*VLOOKUP(H8,Materialtabell[[#All],[Materialnamn]:[Emissionsfaktor 2019 kg CO2e/kg]],5,0),"") | N8: =IFERROR(F8*J8*VLOOKUP(H8,Materialtabell[[#All],[Materialnamn]:[Emissionsfaktor 2025 kg CO2e/kg]],6,0),"") | O8: =IFERROR(VLOOKUP(H8,Materialtabell[[#All],[Materialnamn]:[Kommentar A4]],24,0),"") | P8: =IFERROR(($F8*$J8*$O8*VLOOKUP($H8,Materialtabell[[#All],[Materialnamn]:[Bränsle MJ/ton, km]],25,0)*Materiallista!$AF$5)/1000,"") | Q8: =IFERROR(($F8*$J8*$O8*VLOOKUP($H8,Materialtabell[[#All],[Materialnamn]:[Bränsle MJ/ton, km]],25,0)*Materiallista!$AF$6)/1000,"")
B9: 4 | I9: =IFERROR(VLOOKUP(KalkylStart[[#This Row],[Klimatmaterial]],Materialtabell[[#All],[Materialnamn]:[Materialtyp]],2,0),"") | J9: =IFERROR(IF(G9="kg",1,IF(G9="ton",1000,IF(G9=RIGHT(VLOOKUP(H9,Materialtabell[[#All],[Materialnamn]:[Enhet]],4,0),LEN(VLOOKUP(H9,Materialtabell[[#All],[Materialnamn]:[Enhet]],4,0))-3),VLOOKUP(H9,Materialtabell[[#All],[Materialnamn]:[Enhet]],3,0),"Enhetsfel"))),"") | K9: =IFERROR(IF(G9="kg","kg/kg",IF(G9="ton","kg/ton",IF(RIGHT(VLOOKUP(H9,Materialtabell[[#All],[Materialnamn]:[Enhet]],4,0),LEN(VLOOKUP(H9,Materialtabell[[#All],[Materialnamn]:[Enhet]],4,0))-3)=G9,VLOOKUP(H9,Materialtabell[[#All],[Materialnamn]:[Enhet]],4,0),"kg/ton/"&RIGHT(VLOOKUP(H9,Materialtabell[[#All],[Materialnamn]:[Enhet]],4,0),LEN(VLOOKUP(H9,Materialtabell[[#All],[Materialnamn]:[Enhet]],4,0))-3)))),"") | L9: =IFERROR(KalkylStart[[#This Row],[Mängd]]*KalkylStart[[#This Row],[Omräknings-faktor]],"") | M9: =IFERROR(F9*J9*VLOOKUP(H9,Materialtabell[[#All],[Materialnamn]:[Emissionsfaktor 2019 kg CO2e/kg]],5,0),"") | N9: =IFERROR(F9*J9*VLOOKUP(H9,Materialtabell[[#All],[Materialnamn]:[Emissionsfaktor 2025 kg CO2e/kg]],6,0),"") | O9: =IFERROR(VLOOKUP(H9,Materialtabell[[#All],[Materialnamn]:[Kommentar A4]],24,0),"") | P9: =IFERROR(($F9*$J9*$O9*VLOOKUP($H9,Materialtabell[[#All],[Materialnamn]:[Bränsle MJ/ton, km]],25,0)*Materiallista!$AF$5)/1000,"") | Q9: =IFERROR(($F9*$J9*$O9*VLOOKUP($H9,Materialtabell[[#All],[Materialnamn]:[Bränsle MJ/ton, km]],25,0)*Materiallista!$AF$6)/1000,"")
B10: 5 | I10: =IFERROR(VLOOKUP(KalkylStart[[#This Row],[Klimatmaterial]],Materialtabell[[#All],[Materialnamn]:[Materialtyp]],2,0),"") | J10: =IFERROR(IF(G10="kg",1,IF(G10="ton",1000,IF(G10=RIGHT(VLOOKUP(H10,Materialtabell[[#All],[Materialnamn]:[Enhet]],4,0),LEN(VLOOKUP(H10,Materialtabell[[#All],[Materialnamn]:[Enhet]],4,0))-3),VLOOKUP(H10,Materialtabell[[#All],[Materialnamn]:[Enhet]],3,0),"Enhetsfel"))),"") | K10: =IFERROR(IF(G10="kg","kg/kg",IF(G10="ton","kg/ton",IF(RIGHT(VLOOKUP(H10,Materialtabell[[#All],[Materialnamn]:[Enhet]],4,0),LEN(VLOOKUP(H10,Materialtabell[[#All],[Materialnamn]:[Enhet]],4,0))-3)=G10,VLOOKUP(H10,Materialtabell[[#All],[Materialnamn]:[Enhet]],4,0),"kg/ton/"&RIGHT(VLOOKUP(H10,Materialtabell[[#All],[Materialnamn]:[Enhet]],4,0),LEN(VLOOKUP(H10,Materialtabell[[#All],[Materialnamn]:[Enhet]],4,0))-3)))),"") | L10: =IFERROR(KalkylStart[[#This Row],[Mängd]]*KalkylStart[[#This Row],[Omräknings-faktor]],"") | M10: =IFERROR(F10*J10*VLOOKUP(H10,Materialtabell[[#All],[Materialnamn]:[Emissionsfaktor 2019 kg CO2e/kg]],5,0),"") | N10: =IFERROR(F10*J10*VLOOKUP(H10,Materialtabell[[#All],[Materialnamn]:[Emissionsfaktor 2025 kg CO2e/kg]],6,0),"") | O10: =IFERROR(VLOOKUP(H10,Materialtabell[[#All],[Materialnamn]:[Kommentar A4]],24,0),"") | P10: =IFERROR(($F10*$J10*$O10*VLOOKUP($H10,Materialtabell[[#All],[Materialnamn]:[Bränsle MJ/ton, km]],25,0)*Materiallista!$AF$5)/1000,"") | Q10: =IFERROR(($F10*$J10*$O10*VLOOKUP($H10,Materialtabell[[#All],[Materialnamn]:[Bränsle MJ/ton, km]],25,0)*Materiallista!$AF$6)/1000,"")
B11: 6 | I11: =IFERROR(VLOOKUP(KalkylStart[[#This Row],[Klimatmaterial]],Materialtabell[[#All],[Materialnamn]:[Materialtyp]],2,0),"") | J11: =IFERROR(IF(G11="kg",1,IF(G11="ton",1000,IF(G11=RIGHT(VLOOKUP(H11,Materialtabell[[#All],[Materialnamn]:[Enhet]],4,0),LEN(VLOOKUP(H11,Materialtabell[[#All],[Materialnamn]:[Enhet]],4,0))-3),VLOOKUP(H11,Materialtabell[[#All],[Materialnamn]:[Enhet]],3,0),"Enhetsfel"))),"") | K11: =IFERROR(IF(G11="kg","kg/kg",IF(G11="ton","kg/ton",IF(RIGHT(VLOOKUP(H11,Materialtabell[[#All],[Materialnamn]:[Enhet]],4,0),LEN(VLOOKUP(H11,Materialtabell[[#All],[Materialnamn]:[Enhet]],4,0))-3)=G11,VLOOKUP(H11,Materialtabell[[#All],[Materialnamn]:[Enhet]],4,0),"kg/ton/"&RIGHT(VLOOKUP(H11,Materialtabell[[#All],[Materialnamn]:[Enhet]],4,0),LEN(VLOOKUP(H11,Materialtabell[[#All],[Materialnamn]:[Enhet]],4,0))-3)))),"") | L11: =IFERROR(KalkylStart[[#This Row],[Mängd]]*KalkylStart[[#This Row],[Omräknings-faktor]],"") | M11: =IFERROR(F11*J11*VLOOKUP(H11,Materialtabell[[#All],[Materialnamn]:[Emissionsfaktor 2019 kg CO2e/kg]],5,0),"") | N11: =IFERROR(F11*J11*VLOOKUP(H11,Materialtabell[[#All],[Materialnamn]:[Emissionsfaktor 2025 kg CO2e/kg]],6,0),"") | O11: =IFERROR(VLOOKUP(H11,Materialtabell[[#All],[Materialnamn]:[Kommentar A4]],24,0),"") | P11: =IFERROR(($F11*$J11*$O11*VLOOKUP($H11,Materialtabell[[#All],[Materialnamn]:[Bränsle MJ/ton, km]],25,0)*Materiallista!$AF$5)/1000,"") | Q11: =IFERROR(($F11*$J11*$O11*VLOOKUP($H11,Materialtabell[[#All],[Materialnamn]:[Bränsle MJ/ton, km]],25,0)*Materiallista!$AF$6)/1000,"")
B12: 7 | I12: =IFERROR(VLOOKUP(KalkylStart[[#This Row],[Klimatmaterial]],Materialtabell[[#All],[Materialnamn]:[Materialtyp]],2,0),"") | J12: =IFERROR(IF(G12="kg",1,IF(G12="ton",1000,IF(G12=RIGHT(VLOOKUP(H12,Materialtabell[[#All],[Materialnamn]:[Enhet]],4,0),LEN(VLOOKUP(H12,Materialtabell[[#All],[Materialnamn]:[Enhet]],4,0))-3),VLOOKUP(H12,Materialtabell[[#All],[Materialnamn]:[Enhet]],3,0),"Enhetsfel"))),"") | K12: =IFERROR(IF(G12="kg","kg/kg",IF(G12="ton","kg/ton",IF(RIGHT(VLOOKUP(H12,Materialtabell[[#All],[Materialnamn]:[Enhet]],4,0),LEN(VLOOKUP(H12,Materialtabell[[#All],[Materialnamn]:[Enhet]],4,0))-3)=G12,VLOOKUP(H12,Materialtabell[[#All],[Materialnamn]:[Enhet]],4,0),"kg/ton/"&RIGHT(VLOOKUP(H12,Materialtabell[[#All],[Materialnamn]:[Enhet]],4,0),LEN(VLOOKUP(H12,Materialtabell[[#All],[Materialnamn]:[Enhet]],4,0))-3)))),"") | L12: =IFERROR(KalkylStart[[#This Row],[Mängd]]*KalkylStart[[#This Row],[Omräknings-faktor]],"") | M12: =IFERROR(F12*J12*VLOOKUP(H12,Materialtabell[[#All],[Materialnamn]:[Emissionsfaktor 2019 kg CO2e/kg]],5,0),"") | N12: =IFERROR(F12*J12*VLOOKUP(H12,Materialtabell[[#All],[Materialnamn]:[Emissionsfaktor 2025 kg CO2e/kg]],6,0),"") | O12: =IFERROR(VLOOKUP(H12,Materialtabell[[#All],[Materialnamn]:[Kommentar A4]],24,0),"") | P12: =IFERROR(($F12*$J12*$O12*VLOOKUP($H12,Materialtabell[[#All],[Materialnamn]:[Bränsle MJ/ton, km]],25,0)*Materiallista!$AF$5)/1000,"") | Q12: =IFERROR(($F12*$J12*$O12*VLOOKUP($H12,Materialtabell[[#All],[Materialnamn]:[Bränsle MJ/ton, km]],25,0)*Materiallista!$AF$6)/1000,"")
B13: 8 | I13: =IFERROR(VLOOKUP(KalkylStart[[#This Row],[Klimatmaterial]],Materialtabell[[#All],[Materialnamn]:[Materialtyp]],2,0),"") | J13: =IFERROR(IF(G13="kg",1,IF(G13="ton",1000,IF(G13=RIGHT(VLOOKUP(H13,Materialtabell[[#All],[Materialnamn]:[Enhet]],4,0),LEN(VLOOKUP(H13,Materialtabell[[#All],[Materialnamn]:[Enhet]],4,0))-3),VLOOKUP(H13,Materialtabell[[#All],[Materialnamn]:[Enhet]],3,0),"Enhetsfel"))),"") | K13: =IFERROR(IF(G13="kg","kg/kg",IF(G13="ton","kg/ton",IF(RIGHT(VLOOKUP(H13,Materialtabell[[#All],[Materialnamn]:[Enhet]],4,0),LEN(VLOOKUP(H13,Materialtabell[[#All],[Materialnamn]:[Enhet]],4,0))-3)=G13,VLOOKUP(H13,Materialtabell[[#All],[Materialnamn]:[Enhet]],4,0),"kg/ton/"&RIGHT(VLOOKUP(H13,Materialtabell[[#All],[Materialnamn]:[Enhet]],4,0),LEN(VLOOKUP(H13,Materialtabell[[#All],[Materialnamn]:[Enhet]],4,0))-3)))),"") | L13: =IFERROR(KalkylStart[[#This Row],[Mängd]]*KalkylStart[[#This Row],[Omräknings-faktor]],"") | M13: =IFERROR(F13*J13*VLOOKUP(H13,Materialtabell[[#All],[Materialnamn]:[Emissionsfaktor 2019 kg CO2e/kg]],5,0),"") | N13: =IFERROR(F13*J13*VLOOKUP(H13,Materialtabell[[#All],[Materialnamn]:[Emissionsfaktor 2025 kg CO2e/kg]],6,0),"") | O13: =IFERROR(VLOOKUP(H13,Materialtabell[[#All],[Materialnamn]:[Kommentar A4]],24,0),"") | P13: =IFERROR(($F13*$J13*$O13*VLOOKUP($H13,Materialtabell[[#All],[Materialnamn]:[Bränsle MJ/ton, km]],25,0)*Materiallista!$AF$5)/1000,"") | Q13: =IFERROR(($F13*$J13*$O13*VLOOKUP($H13,Materialtabell[[#All],[Materialnamn]:[Bränsle MJ/ton, km]],25,0)*Materiallista!$AF$6)/1000,"")
B14: 9 | I14: =IFERROR(VLOOKUP(KalkylStart[[#This Row],[Klimatmaterial]],Materialtabell[[#All],[Materialnamn]:[Materialtyp]],2,0),"") | J14: =IFERROR(IF(G14="kg",1,IF(G14="ton",1000,IF(G14=RIGHT(VLOOKUP(H14,Materialtabell[[#All],[Materialnamn]:[Enhet]],4,0),LEN(VLOOKUP(H14,Materialtabell[[#All],[Materialnamn]:[Enhet]],4,0))-3),VLOOKUP(H14,Materialtabell[[#All],[Materialnamn]:[Enhet]],3,0),"Enhetsfel"))),"") | K14: =IFERROR(IF(G14="kg","kg/kg",IF(G14="ton","kg/ton",IF(RIGHT(VLOOKUP(H14,Materialtabell[[#All],[Materialnamn]:[Enhet]],4,0),LEN(VLOOKUP(H14,Materialtabell[[#All],[Materialnamn]:[Enhet]],4,0))-3)=G14,VLOOKUP(H14,Materialtabell[[#All],[Materialnamn]:[Enhet]],4,0),"kg/ton/"&RIGHT(VLOOKUP(H14,Materialtabell[[#All],[Materialnamn]:[Enhet]],4,0),LEN(VLOOKUP(H14,Materialtabell[[#All],[Materialnamn]:[Enhet]],4,0))-3)))),"") | L14: =IFERROR(KalkylStart[[#This Row],[Mängd]]*KalkylStart[[#This Row],[Omräknings-faktor]],"") | M14: =IFERROR(F14*J14*VLOOKUP(H14,Materialtabell[[#All],[Materialnamn]:[Emissionsfaktor 2019 kg CO2e/kg]],5,0),"") | N14: =IFERROR(F14*J14*VLOOKUP(H14,Materialtabell[[#All],[Materialnamn]:[Emissionsfaktor 2025 kg CO2e/kg]],6,0),"") | O14: =IFERROR(VLOOKUP(H14,Materialtabell[[#All],[Materialnamn]:[Kommentar A4]],24,0),"") | P14: =IFERROR(($F14*$J14*$O14*VLOOKUP($H14,Materialtabell[[#All],[Materialnamn]:[Bränsle MJ/ton, km]],25,0)*Materiallista!$AF$5)/1000,"") | Q14: =IFERROR(($F14*$J14*$O14*VLOOKUP($H14,Materialtabell[[#All],[Materialnamn]:[Bränsle MJ/ton, km]],25,0)*Materiallista!$AF$6)/1000,"")
B15: 10 | I15: =IFERROR(VLOOKUP(KalkylStart[[#This Row],[Klimatmaterial]],Materialtabell[[#All],[Materialnamn]:[Materialtyp]],2,0),"") | J15: =IFERROR(IF(G15="kg",1,IF(G15="ton",1000,IF(G15=RIGHT(VLOOKUP(H15,Materialtabell[[#All],[Materialnamn]:[Enhet]],4,0),LEN(VLOOKUP(H15,Materialtabell[[#All],[Materialnamn]:[Enhet]],4,0))-3),VLOOKUP(H15,Materialtabell[[#All],[Materialnamn]:[Enhet]],3,0),"Enhetsfel"))),"") | K15: =IFERROR(IF(G15="kg","kg/kg",IF(G15="ton","kg/ton",IF(RIGHT(VLOOKUP(H15,Materialtabell[[#All],[Materialnamn]:[Enhet]],4,0),LEN(VLOOKUP(H15,Materialtabell[[#All],[Materialnamn]:[Enhet]],4,0))-3)=G15,VLOOKUP(H15,Materialtabell[[#All],[Materialnamn]:[Enhet]],4,0),"kg/ton/"&RIGHT(VLOOKUP(H15,Materialtabell[[#All],[Materialnamn]:[Enhet]],4,0),LEN(VLOOKUP(H15,Materialtabell[[#All],[Materialnamn]:[Enhet]],4,0))-3)))),"") | L15: =IFERROR(KalkylStart[[#This Row],[Mängd]]*KalkylStart[[#This Row],[Omräknings-faktor]],"") | M15: =IFERROR(F15*J15*VLOOKUP(H15,Materialtabell[[#All],[Materialnamn]:[Emissionsfaktor 2019 kg CO2e/kg]],5,0),"") | N15: =IFERROR(F15*J15*VLOOKUP(H15,Materialtabell[[#All],[Materialnamn]:[Emissionsfaktor 2025 kg CO2e/kg]],6,0),"") | O15: =IFERROR(VLOOKUP(H15,Materialtabell[[#All],[Materialnamn]:[Kommentar A4]],24,0),"") | P15: =IFERROR(($F15*$J15*$O15*VLOOKUP($H15,Materialtabell[[#All],[Materialnamn]:[Bränsle MJ/ton, km]],25,0)*Materiallista!$AF$5)/1000,"") | Q15: =IFERROR(($F15*$J15*$O15*VLOOKUP($H15,Materialtabell[[#All],[Materialnamn]:[Bränsle MJ/ton, km]],25,0)*Materiallista!$AF$6)/1000,"")
B16: 11 | I16: =IFERROR(VLOOKUP(KalkylStart[[#This Row],[Klimatmaterial]],Materialtabell[[#All],[Materialnamn]:[Materialtyp]],2,0),"") | J16: =IFERROR(IF(G16="kg",1,IF(G16="ton",1000,IF(G16=RIGHT(VLOOKUP(H16,Materialtabell[[#All],[Materialnamn]:[Enhet]],4,0),LEN(VLOOKUP(H16,Materialtabell[[#All],[Materialnamn]:[Enhet]],4,0))-3),VLOOKUP(H16,Materialtabell[[#All],[Materialnamn]:[Enhet]],3,0),"Enhetsfel"))),"") | K16: =IFERROR(IF(G16="kg","kg/kg",IF(G16="ton","kg/ton",IF(RIGHT(VLOOKUP(H16,Materialtabell[[#All],[Materialnamn]:[Enhet]],4,0),LEN(VLOOKUP(H16,Materialtabell[[#All],[Materialnamn]:[Enhet]],4,0))-3)=G16,VLOOKUP(H16,Materialtabell[[#All],[Materialnamn]:[Enhet]],4,0),"kg/ton/"&RIGHT(VLOOKUP(H16,Materialtabell[[#All],[Materialnamn]:[Enhet]],4,0),LEN(VLOOKUP(H16,Materialtabell[[#All],[Materialnamn]:[Enhet]],4,0))-3)))),"") | L16: =IFERROR(KalkylStart[[#This Row],[Mängd]]*KalkylStart[[#This Row],[Omräknings-faktor]],"") | M16: =IFERROR(F16*J16*VLOOKUP(H16,Materialtabell[[#All],[Materialnamn]:[Emissionsfaktor 2019 kg CO2e/kg]],5,0),"") | N16: =IFERROR(F16*J16*VLOOKUP(H16,Materialtabell[[#All],[Materialnamn]:[Emissionsfaktor 2025 kg CO2e/kg]],6,0),"") | O16: =IFERROR(VLOOKUP(H16,Materialtabell[[#All],[Materialnamn]:[Kommentar A4]],24,0),"") | P16: =IFERROR(($F16*$J16*$O16*VLOOKUP($H16,Materialtabell[[#All],[Materialnamn]:[Bränsle MJ/ton, km]],25,0)*Materiallista!$AF$5)/1000,"") | Q16: =IFERROR(($F16*$J16*$O16*VLOOKUP($H16,Materialtabell[[#All],[Materialnamn]:[Bränsle MJ/ton, km]],25,0)*Materiallista!$AF$6)/1000,"")
B17: 12 | I17: =IFERROR(VLOOKUP(KalkylStart[[#This Row],[Klimatmaterial]],Materialtabell[[#All],[Materialnamn]:[Materialtyp]],2,0),"") | J17: =IFERROR(IF(G17="kg",1,IF(G17="ton",1000,IF(G17=RIGHT(VLOOKUP(H17,Materialtabell[[#All],[Materialnamn]:[Enhet]],4,0),LEN(VLOOKUP(H17,Materialtabell[[#All],[Materialnamn]:[Enhet]],4,0))-3),VLOOKUP(H17,Materialtabell[[#All],[Materialnamn]:[Enhet]],3,0),"Enhetsfel"))),"") | K17: =IFERROR(IF(G17="kg","kg/kg",IF(G17="ton","kg/ton",IF(RIGHT(VLOOKUP(H17,Materialtabell[[#All],[Materialnamn]:[Enhet]],4,0),LEN(VLOOKUP(H17,Materialtabell[[#All],[Materialnamn]:[Enhet]],4,0))-3)=G17,VLOOKUP(H17,Materialtabell[[#All],[Materialnamn]:[Enhet]],4,0),"kg/ton/"&RIGHT(VLOOKUP(H17,Materialtabell[[#All],[Materialnamn]:[Enhet]],4,0),LEN(VLOOKUP(H17,Materialtabell[[#All],[Materialnamn]:[Enhet]],4,0))-3)))),"") | L17: =IFERROR(KalkylStart[[#This Row],[Mängd]]*KalkylStart[[#This Row],[Omräknings-faktor]],"") | M17: =IFERROR(F17*J17*VLOOKUP(H17,Materialtabell[[#All],[Materialnamn]:[Emissionsfaktor 2019 kg CO2e/kg]],5,0),"") | N17: =IFERROR(F17*J17*VLOOKUP(H17,Materialtabell[[#All],[Materialnamn]:[Emissionsfaktor 2025 kg CO2e/kg]],6,0),"") | O17: =IFERROR(VLOOKUP(H17,Materialtabell[[#All],[Materialnamn]:[Kommentar A4]],24,0),"") | P17: =IFERROR(($F17*$J17*$O17*VLOOKUP($H17,Materialtabell[[#All],[Materialnamn]:[Bränsle MJ/ton, km]],25,0)*Materiallista!$AF$5)/1000,"") | Q17: =IFERROR(($F17*$J17*$O17*VLOOKUP($H17,Materialtabell[[#All],[Materialnamn]:[Bränsle MJ/ton, km]],25,0)*Materiallista!$AF$6)/1000,"")
... B255: 250 | I255: =IFERROR(VLOOKUP(KalkylStart[[#This Row],[Klimatmaterial]],Materialtabell[[#All],[Materialnamn]:[Materialtyp]],2,0),"") | J255: =IFERROR(IF(G255="kg",1,IF(G255="ton",1000,IF(G255=RIGHT(VLOOKUP(H255,Materialtabell[[#All],[Materialnamn]:[Enhet]],4,0),LEN(VLOOKUP(H255,Materialtabell[[#All],[Materialnamn]:[Enhet]],4,0))-3),VLOOKUP(H255,Materialtabell[[#All],[Materialnamn]:[Enhet]],3,0),"Enhetsfel"))),"") | K255: =IFERROR(IF(G255="kg","kg/kg",IF(G255="ton","kg/ton",IF(RIGHT(VLOOKUP(H255,Materialtabell[[#All],[Materialnamn]:[Enhet]],4,0),LEN(VLOOKUP(H255,Materialtabell[[#All],[Materialnamn]:[Enhet]],4,0))-3)=G255,VLOOKUP(H255,Materialtabell[[#All],[Materialnamn]:[Enhet]],4,0),"kg/ton/"&RIGHT(VLOOKUP(H255,Materialtabell[[#All],[Materialnamn]:[Enhet]],4,0),LEN(VLOOKUP(H255,Materialtabell[[#All],[Materialnamn]:[Enhet]],4,0))-3)))),"") | L255: =IFERROR(KalkylStart[[#This Row],[Mängd]]*KalkylStart[[#This Row],[Omräknings-faktor]],"") | M255: =IFERROR(F255*J255*VLOOKUP(H255,Materialtabell[[#All],[Materialnamn]:[Emissionsfaktor 2019 kg CO2e/kg]],5,0),"") | N255: =IFERROR(F255*J255*VLOOKUP(H255,Materialtabell[[#All],[Materialnamn]:[Emissionsfaktor 2025 kg CO2e/kg]],6,0),"") | O255: =IFERROR(VLOOKUP(H255,Materialtabell[[#All],[Materialnamn]:[Kommentar A4]],24,0),"") | P255: =IFERROR(($F255*$J255*$O255*VLOOKUP($H255,Materialtabell[[#All],[Materialnamn]:[Bränsle MJ/ton, km]],25,0)*Materiallista!$AF$5)/1000,"") | Q255: =IFERROR(($F255*$J255*$O255*VLOOKUP($H255,Materialtabell[[#All],[Materialnamn]:[Bränsle MJ/ton, km]],25,0)*Materiallista!$AF$6)/1000,"")

Sheet Kalkyl slut
C2: KEX - Slutkalkyl
C4: Instruktioner | J4: Klimatpåverkan från material (A1-3) | P4: Klimatpåverkan från transport (A4)
B5: # | C5: Teknikområde | D5: AMA-kod | E5: Material / produkt / AMA-beskrivning | F5: Mängd | G5: Enhet | H5: Klimatmaterial | I5: Materialtyp | J5: Omräknings-faktor | K5: Faktorenhet | L5: Materialvikt | M5: 2019 kg CO2e | N5: A1-3 kg CO2e | O5: Avstånd km | P5: 20% HVO kg CO2e | Q5: 100% HVO kg CO2e | R5: Kommentar
B6: 1 | I6: =IFERROR(VLOOKUP(KalkylSlut[[#This Row],[Klimatmaterial]],Materialtabell[[#All],[Materialnamn]:[Materialtyp]],2,0),"") | J6: =IFERROR(IF(G6="kg",1,IF(G6="ton",1000,IF(G6=RIGHT(VLOOKUP(H6,Materialtabell[[#All],[Materialnamn]:[Enhet]],4,0),LEN(VLOOKUP(H6,Materialtabell[[#All],[Materialnamn]:[Enhet]],4,0))-3),VLOOKUP(H6,Materialtabell[[#All],[Materialnamn]:[Enhet]],3,0),"Enhetsfel"))),"") | K6: =IFERROR(IF(G6="kg","kg/kg",IF(G6="ton","kg/ton",IF(RIGHT(VLOOKUP(H6,Materialtabell[[#All],[Materialnamn]:[Enhet]],4,0),LEN(VLOOKUP(H6,Materialtabell[[#All],[Materialnamn]:[Enhet]],4,0))-3)=G6,VLOOKUP(H6,Materialtabell[[#All],[Materialnamn]:[Enhet]],4,0),"kg/ton/"&RIGHT(VLOOKUP(H6,Materialtabell[[#All],[Materialnamn]:[Enhet]],4,0),LEN(VLOOKUP(H6,Materialtabell[[#All],[Materialnamn]:[Enhet]],4,0))-3)))),"") | L6: =IFERROR(KalkylSlut[[#This Row],[Mängd]]*KalkylSlut[[#This Row],[Omräknings-faktor]],"") | M6: =IFERROR(F6*J6*VLOOKUP(H6,Materialtabell[[#All],[Materialnamn]:[Emissionsfaktor 2019 kg CO2e/kg]],5,0),"") | N6: =IFERROR(F6*J6*VLOOKUP(H6,Materialtabell[[#All],[Materialnamn]:[Emissionsfaktor 2025 kg CO2e/kg]],6,0),"") | O6: =IFERROR(VLOOKUP(H6,Materialtabell[[#All],[Materialnamn]:[Kommentar A4]],24,0),"") | P6: =IFERROR(($F6*$J6*$O6*VLOOKUP($H6,Materialtabell[[#All],[Materialnamn]:[Bränsle MJ/ton, km]],25,0)*Materiallista!$AF$5)/1000,"") | Q6: =IFERROR(($F6*$J6*$O6*VLOOKUP($H6,Materialtabell[[#All],[Materialnamn]:[Bränsle MJ/ton, km]],25,0)*Materiallista!$AF$6)/1000,"")
B7: 2 | I7: =IFERROR(VLOOKUP(KalkylSlut[[#This Row],[Klimatmaterial]],Materialtabell[[#All],[Materialnamn]:[Materialtyp]],2,0),"") | J7: =IFERROR(IF(G7="kg",1,IF(G7="ton",1000,IF(G7=RIGHT(VLOOKUP(H7,Materialtabell[[#All],[Materialnamn]:[Enhet]],4,0),LEN(VLOOKUP(H7,Materialtabell[[#All],[Materialnamn]:[Enhet]],4,0))-3),VLOOKUP(H7,Materialtabell[[#All],[Materialnamn]:[Enhet]],3,0),"Enhetsfel"))),"") | K7: =IFERROR(IF(G7="kg","kg/kg",IF(G7="ton","kg/ton",IF(RIGHT(VLOOKUP(H7,Materialtabell[[#All],[Materialnamn]:[Enhet]],4,0),LEN(VLOOKUP(H7,Materialtabell[[#All],[Materialnamn]:[Enhet]],4,0))-3)=G7,VLOOKUP(H7,Materialtabell[[#All],[Materialnamn]:[Enhet]],4,0),"kg/ton/"&RIGHT(VLOOKUP(H7,Materialtabell[[#All],[Materialnamn]:[Enhet]],4,0),LEN(VLOOKUP(H7,Materialtabell[[#All],[Materialnamn]:[Enhet]],4,0))-3)))),"") | L7: =IFERROR(KalkylSlut[[#This Row],[Mängd]]*KalkylSlut[[#This Row],[Omräknings-faktor]],"") | M7: =IFERROR(F7*J7*VLOOKUP(H7,Materialtabell[[#All],[Materialnamn]:[Emissionsfaktor 2019 kg CO2e/kg]],5,0),"") | N7: =IFERROR(F7*J7*VLOOKUP(H7,Materialtabell[[#All],[Materialnamn]:[Emissionsfaktor 2025 kg CO2e/kg]],6,0),"") | O7: =IFERROR(VLOOKUP(H7,Materialtabell[[#All],[Materialnamn]:[Kommentar A4]],24,0),"") | P7: =IFERROR(($F7*$J7*$O7*VLOOKUP($H7,Materialtabell[[#All],[Materialnamn]:[Bränsle MJ/ton, km]],25,0)*Materiallista!$AF$5)/1000,"") | Q7: =IFERROR(($F7*$J7*$O7*VLOOKUP($H7,Materialtabell[[#All],[Materialnamn]:[Bränsle MJ/ton, km]],25,0)*Materiallista!$AF$6)/1000,"")
B8: 3 | I8: =IFERROR(VLOOKUP(KalkylSlut[[#This Row],[Klimatmaterial]],Materialtabell[[#All],[Materialnamn]:[Materialtyp]],2,0),"") | J8: =IFERROR(IF(G8="kg",1,IF(G8="ton",1000,IF(G8=RIGHT(VLOOKUP(H8,Materialtabell[[#All],[Materialnamn]:[Enhet]],4,0),LEN(VLOOKUP(H8,Materialtabell[[#All],[Materialnamn]:[Enhet]],4,0))-3),VLOOKUP(H8,Materialtabell[[#All],[Materialnamn]:[Enhet]],3,0),"Enhetsfel"))),"") | K8: =IFERROR(IF(G8="kg","kg/kg",IF(G8="ton","kg/ton",IF(RIGHT(VLOOKUP(H8,Materialtabell[[#All],[Materialnamn]:[Enhet]],4,0),LEN(VLOOKUP(H8,Materialtabell[[#All],[Materialnamn]:[Enhet]],4,0))-3)=G8,VLOOKUP(H8,Materialtabell[[#All],[Materialnamn]:[Enhet]],4,0),"kg/ton/"&RIGHT(VLOOKUP(H8,Materialtabell[[#All],[Materialnamn]:[Enhet]],4,0),LEN(VLOOKUP(H8,Materialtabell[[#All],[Materialnamn]:[Enhet]],4,0))-3)))),"") | L8: =IFERROR(KalkylSlut[[#This Row],[Mängd]]*KalkylSlut[[#This Row],[Omräknings-faktor]],"") | M8: =IFERROR(F8*J8*VLOOKUP(H8,Materialtabell[[#All],[Materialnamn]:[Emissionsfaktor 2019 kg CO2e/kg]],5,0),"") | N8: =IFERROR(F8*J8*VLOOKUP(H8,Materialtabell[[#All],[Materialnamn]:[Emissionsfaktor 2025 kg CO2e/kg]],6,0),"") | O8: =IFERROR(VLOOKUP(H8,Materialtabell[[#All],[Materialnamn]:[Kommentar A4]],24,0),"") | P8: =IFERROR(($F8*$J8*$O8*VLOOKUP($H8,Materialtabell[[#All],[Materialnamn]:[Bränsle MJ/ton, km]],25,0)*Materiallista!$AF$5)/1000,"") | Q8: =IFERROR(($F8*$J8*$O8*VLOOKUP($H8,Materialtabell[[#All],[Materialnamn]:[Bränsle MJ/ton, km]],25,0)*Materiallista!$AF$6)/1000,"")
B9: 4 | I9: =IFERROR(VLOOKUP(KalkylSlut[[#This Row],[Klimatmaterial]],Materialtabell[[#All],[Materialnamn]:[Materialtyp]],2,0),"") | J9: =IFERROR(IF(G9="kg",1,IF(G9="ton",1000,IF(G9=RIGHT(VLOOKUP(H9,Materialtabell[[#All],[Materialnamn]:[Enhet]],4,0),LEN(VLOOKUP(H9,Materialtabell[[#All],[Materialnamn]:[Enhet]],4,0))-3),VLOOKUP(H9,Materialtabell[[#All],[Materialnamn]:[Enhet]],3,0),"Enhetsfel"))),"") | K9: =IFERROR(IF(G9="kg","kg/kg",IF(G9="ton","kg/ton",IF(RIGHT(VLOOKUP(H9,Materialtabell[[#All],[Materialnamn]:[Enhet]],4,0),LEN(VLOOKUP(H9,Materialtabell[[#All],[Materialnamn]:[Enhet]],4,0))-3)=G9,VLOOKUP(H9,Materialtabell[[#All],[Materialnamn]:[Enhet]],4,0),"kg/ton/"&RIGHT(VLOOKUP(H9,Materialtabell[[#All],[Materialnamn]:[Enhet]],4,0),LEN(VLOOKUP(H9,Materialtabell[[#All],[Materialnamn]:[Enhet]],4,0))-3)))),"") | L9: =IFERROR(KalkylSlut[[#This Row],[Mängd]]*KalkylSlut[[#This Row],[Omräknings-faktor]],"") | M9: =IFERROR(F9*J9*VLOOKUP(H9,Materialtabell[[#All],[Materialnamn]:[Emissionsfaktor 2019 kg CO2e/kg]],5,0),"") | N9: =IFERROR(F9*J9*VLOOKUP(H9,Materialtabell[[#All],[Materialnamn]:[Emissionsfaktor 2025 kg CO2e/kg]],6,0),"") | O9: =IFERROR(VLOOKUP(H9,Materialtabell[[#All],[Materialnamn]:[Kommentar A4]],24,0),"") | P9: =IFERROR(($F9*$J9*$O9*VLOOKUP($H9,Materialtabell[[#All],[Materialnamn]:[Bränsle MJ/ton, km]],25,0)*Materiallista!$AF$5)/1000,"") | Q9: =IFERROR(($F9*$J9*$O9*VLOOKUP($H9,Materialtabell[[#All],[Materialnamn]:[Bränsle MJ/ton, km]],25,0)*Materiallista!$AF$6)/1000,"")
B10: 5 | I10: =IFERROR(VLOOKUP(KalkylSlut[[#This Row],[Klimatmaterial]],Materialtabell[[#All],[Materialnamn]:[Materialtyp]],2,0),"") | J10: =IFERROR(IF(G10="kg",1,IF(G10="ton",1000,IF(G10=RIGHT(VLOOKUP(H10,Materialtabell[[#All],[Materialnamn]:[Enhet]],4,0),LEN(VLOOKUP(H10,Materialtabell[[#All],[Materialnamn]:[Enhet]],4,0))-3),VLOOKUP(H10,Materialtabell[[#All],[Materialnamn]:[Enhet]],3,0),"Enhetsfel"))),"") | K10: =IFERROR(IF(G10="kg","kg/kg",IF(G10="ton","kg/ton",IF(RIGHT(VLOOKUP(H10,Materialtabell[[#All],[Materialnamn]:[Enhet]],4,0),LEN(VLOOKUP(H10,Materialtabell[[#All],[Materialnamn]:[Enhet]],4,0))-3)=G10,VLOOKUP(H10,Materialtabell[[#All],[Materialnamn]:[Enhet]],4,0),"kg/ton/"&RIGHT(VLOOKUP(H10,Materialtabell[[#All],[Materialnamn]:[Enhet]],4,0),LEN(VLOOKUP(H10,Materialtabell[[#All],[Materialnamn]:[Enhet]],4,0))-3)))),"") | L10: =IFERROR(KalkylSlut[[#This Row],[Mängd]]*KalkylSlut[[#This Row],[Omräknings-faktor]],"") | M10: =IFERROR(F10*J10*VLOOKUP(H10,Materialtabell[[#All],[Materialnamn]:[Emissionsfaktor 2019 kg CO2e/kg]],5,0),"") | N10: =IFERROR(F10*J10*VLOOKUP(H10,Materialtabell[[#All],[Materialnamn]:[Emissionsfaktor 2025 kg CO2e/kg]],6,0),"") | O10: =IFERROR(VLOOKUP(H10,Materialtabell[[#All],[Materialnamn]:[Kommentar A4]],24,0),"") | P10: =IFERROR(($F10*$J10*$O10*VLOOKUP($H10,Materialtabell[[#All],[Materialnamn]:[Bränsle MJ/ton, km]],25,0)*Materiallista!$AF$5)/1000,"") | Q10: =IFERROR(($F10*$J10*$O10*VLOOKUP($H10,Materialtabell[[#All],[Materialnamn]:[Bränsle MJ/ton, km]],25,0)*Materiallista!$AF$6)/1000,"")
B11: 6 | I11: =IFERROR(VLOOKUP(KalkylSlut[[#This Row],[Klimatmaterial]],Materialtabell[[#All],[Materialnamn]:[Materialtyp]],2,0),"") | J11: =IFERROR(IF(G11="kg",1,IF(G11="ton",1000,IF(G11=RIGHT(VLOOKUP(H11,Materialtabell[[#All],[Materialnamn]:[Enhet]],4,0),LEN(VLOOKUP(H11,Materialtabell[[#All],[Materialnamn]:[Enhet]],4,0))-3),VLOOKUP(H11,Materialtabell[[#All],[Materialnamn]:[Enhet]],3,0),"Enhetsfel"))),"") | K11: =IFERROR(IF(G11="kg","kg/kg",IF(G11="ton","kg/ton",IF(RIGHT(VLOOKUP(H11,Materialtabell[[#All],[Materialnamn]:[Enhet]],4,0),LEN(VLOOKUP(H11,Materialtabell[[#All],[Materialnamn]:[Enhet]],4,0))-3)=G11,VLOOKUP(H11,Materialtabell[[#All],[Materialnamn]:[Enhet]],4,0),"kg/ton/"&RIGHT(VLOOKUP(H11,Materialtabell[[#All],[Materialnamn]:[Enhet]],4,0),LEN(VLOOKUP(H11,Materialtabell[[#All],[Materialnamn]:[Enhet]],4,0))-3)))),"") | L11: =IFERROR(KalkylSlut[[#This Row],[Mängd]]*KalkylSlut[[#This Row],[Omräknings-faktor]],"") | M11: =IFERROR(F11*J11*VLOOKUP(H11,Materialtabell[[#All],[Materialnamn]:[Emissionsfaktor 2019 kg CO2e/kg]],5,0),"") | N11: =IFERROR(F11*J11*VLOOKUP(H11,Materialtabell[[#All],[Materialnamn]:[Emissionsfaktor 2025 kg CO2e/kg]],6,0),"") | O11: =IFERROR(VLOOKUP(H11,Materialtabell[[#All],[Materialnamn]:[Kommentar A4]],24,0),"") | P11: =IFERROR(($F11*$J11*$O11*VLOOKUP($H11,Materialtabell[[#All],[Materialnamn]:[Bränsle MJ/ton, km]],25,0)*Materiallista!$AF$5)/1000,"") | Q11: =IFERROR(($F11*$J11*$O11*VLOOKUP($H11,Materialtabell[[#All],[Materialnamn]:[Bränsle MJ/ton, km]],25,0)*Materiallista!$AF$6)/1000,"")
B12: 7 | I12: =IFERROR(VLOOKUP(KalkylSlut[[#This Row],[Klimatmaterial]],Materialtabell[[#All],[Materialnamn]:[Materialtyp]],2,0),"") | J12: =IFERROR(IF(G12="kg",1,IF(G12="ton",1000,IF(G12=RIGHT(VLOOKUP(H12,Materialtabell[[#All],[Materialnamn]:[Enhet]],4,0),LEN(VLOOKUP(H12,Materialtabell[[#All],[Materialnamn]:[Enhet]],4,0))-3),VLOOKUP(H12,Materialtabell[[#All],[Materialnamn]:[Enhet]],3,0),"Enhetsfel"))),"") | K12: =IFERROR(IF(G12="kg","kg/kg",IF(G12="ton","kg/ton",IF(RIGHT(VLOOKUP(H12,Materialtabell[[#All],[Materialnamn]:[Enhet]],4,0),LEN(VLOOKUP(H12,Materialtabell[[#All],[Materialnamn]:[Enhet]],4,0))-3)=G12,VLOOKUP(H12,Materialtabell[[#All],[Materialnamn]:[Enhet]],4,0),"kg/ton/"&RIGHT(VLOOKUP(H12,Materialtabell[[#All],[Materialnamn]:[Enhet]],4,0),LEN(VLOOKUP(H12,Materialtabell[[#All],[Materialnamn]:[Enhet]],4,0))-3)))),"") | L12: =IFERROR(KalkylSlut[[#This Row],[Mängd]]*KalkylSlut[[#This Row],[Omräknings-faktor]],"") | M12: =IFERROR(F12*J12*VLOOKUP(H12,Materialtabell[[#All],[Materialnamn]:[Emissionsfaktor 2019 kg CO2e/kg]],5,0),"") | N12: =IFERROR(F12*J12*VLOOKUP(H12,Materialtabell[[#All],[Materialnamn]:[Emissionsfaktor 2025 kg CO2e/kg]],6,0),"") | O12: =IFERROR(VLOOKUP(H12,Materialtabell[[#All],[Materialnamn]:[Kommentar A4]],24,0),"") | P12: =IFERROR(($F12*$J12*$O12*VLOOKUP($H12,Materialtabell[[#All],[Materialnamn]:[Bränsle MJ/ton, km]],25,0)*Materiallista!$AF$5)/1000,"") | Q12: =IFERROR(($F12*$J12*$O12*VLOOKUP($H12,Materialtabell[[#All],[Materialnamn]:[Bränsle MJ/ton, km]],25,0)*Materiallista!$AF$6)/1000,"")
B13: 8 | I13: =IFERROR(VLOOKUP(KalkylSlut[[#This Row],[Klimatmaterial]],Materialtabell[[#All],[Materialnamn]:[Materialtyp]],2,0),"") | J13: =IFERROR(IF(G13="kg",1,IF(G13="ton",1000,IF(G13=RIGHT(VLOOKUP(H13,Materialtabell[[#All],[Materialnamn]:[Enhet]],4,0),LEN(VLOOKUP(H13,Materialtabell[[#All],[Materialnamn]:[Enhet]],4,0))-3),VLOOKUP(H13,Materialtabell[[#All],[Materialnamn]:[Enhet]],3,0),"Enhetsfel"))),"") | K13: =IFERROR(IF(G13="kg","kg/kg",IF(G13="ton","kg/ton",IF(RIGHT(VLOOKUP(H13,Materialtabell[[#All],[Materialnamn]:[Enhet]],4,0),LEN(VLOOKUP(H13,Materialtabell[[#All],[Materialnamn]:[Enhet]],4,0))-3)=G13,VLOOKUP(H13,Materialtabell[[#All],[Materialnamn]:[Enhet]],4,0),"kg/ton/"&RIGHT(VLOOKUP(H13,Materialtabell[[#All],[Materialnamn]:[Enhet]],4,0),LEN(VLOOKUP(H13,Materialtabell[[#All],[Materialnamn]:[Enhet]],4,0))-3)))),"") | L13: =IFERROR(KalkylSlut[[#This Row],[Mängd]]*KalkylSlut[[#This Row],[Omräknings-faktor]],"") | M13: =IFERROR(F13*J13*VLOOKUP(H13,Materialtabell[[#All],[Materialnamn]:[Emissionsfaktor 2019 kg CO2e/kg]],5,0),"") | N13: =IFERROR(F13*J13*VLOOKUP(H13,Materialtabell[[#All],[Materialnamn]:[Emissionsfaktor 2025 kg CO2e/kg]],6,0),"") | O13: =IFERROR(VLOOKUP(H13,Materialtabell[[#All],[Materialnamn]:[Kommentar A4]],24,0),"") | P13: =IFERROR(($F13*$J13*$O13*VLOOKUP($H13,Materialtabell[[#All],[Materialnamn]:[Bränsle MJ/ton, km]],25,0)*Materiallista!$AF$5)/1000,"") | Q13: =IFERROR(($F13*$J13*$O13*VLOOKUP($H13,Materialtabell[[#All],[Materialnamn]:[Bränsle MJ/ton, km]],25,0)*Materiallista!$AF$6)/1000,"")
B14: 9 | I14: =IFERROR(VLOOKUP(KalkylSlut[[#This Row],[Klimatmaterial]],Materialtabell[[#All],[Materialnamn]:[Materialtyp]],2,0),"") | J14: =IFERROR(IF(G14="kg",1,IF(G14="ton",1000,IF(G14=RIGHT(VLOOKUP(H14,Materialtabell[[#All],[Materialnamn]:[Enhet]],4,0),LEN(VLOOKUP(H14,Materialtabell[[#All],[Materialnamn]:[Enhet]],4,0))-3),VLOOKUP(H14,Materialtabell[[#All],[Materialnamn]:[Enhet]],3,0),"Enhetsfel"))),"") | K14: =IFERROR(IF(G14="kg","kg/kg",IF(G14="ton","kg/ton",IF(RIGHT(VLOOKUP(H14,Materialtabell[[#All],[Materialnamn]:[Enhet]],4,0),LEN(VLOOKUP(H14,Materialtabell[[#All],[Materialnamn]:[Enhet]],4,0))-3)=G14,VLOOKUP(H14,Materialtabell[[#All],[Materialnamn]:[Enhet]],4,0),"kg/ton/"&RIGHT(VLOOKUP(H14,Materialtabell[[#All],[Materialnamn]:[Enhet]],4,0),LEN(VLOOKUP(H14,Materialtabell[[#All],[Materialnamn]:[Enhet]],4,0))-3)))),"") | L14: =IFERROR(KalkylSlut[[#This Row],[Mängd]]*KalkylSlut[[#This Row],[Omräknings-faktor]],"") | M14: =IFERROR(F14*J14*VLOOKUP(H14,Materialtabell[[#All],[Materialnamn]:[Emissionsfaktor 2019 kg CO2e/kg]],5,0),"") | N14: =IFERROR(F14*J14*VLOOKUP(H14,Materialtabell[[#All],[Materialnamn]:[Emissionsfaktor 2025 kg CO2e/kg]],6,0),"") | O14: =IFERROR(VLOOKUP(H14,Materialtabell[[#All],[Materialnamn]:[Kommentar A4]],24,0),"") | P14: =IFERROR(($F14*$J14*$O14*VLOOKUP($H14,Materialtabell[[#All],[Materialnamn]:[Bränsle MJ/ton, km]],25,0)*Materiallista!$AF$5)/1000,"") | Q14: =IFERROR(($F14*$J14*$O14*VLOOKUP($H14,Materialtabell[[#All],[Materialnamn]:[Bränsle MJ/ton, km]],25,0)*Materiallista!$AF$6)/1000,"")
B15: 10 | I15: =IFERROR(VLOOKUP(KalkylSlut[[#This Row],[Klimatmaterial]],Materialtabell[[#All],[Materialnamn]:[Materialtyp]],2,0),"") | J15: =IFERROR(IF(G15="kg",1,IF(G15="ton",1000,IF(G15=RIGHT(VLOOKUP(H15,Materialtabell[[#All],[Materialnamn]:[Enhet]],4,0),LEN(VLOOKUP(H15,Materialtabell[[#All],[Materialnamn]:[Enhet]],4,0))-3),VLOOKUP(H15,Materialtabell[[#All],[Materialnamn]:[Enhet]],3,0),"Enhetsfel"))),"") | K15: =IFERROR(IF(G15="kg","kg/kg",IF(G15="ton","kg/ton",IF(RIGHT(VLOOKUP(H15,Materialtabell[[#All],[Materialnamn]:[Enhet]],4,0),LEN(VLOOKUP(H15,Materialtabell[[#All],[Materialnamn]:[Enhet]],4,0))-3)=G15,VLOOKUP(H15,Materialtabell[[#All],[Materialnamn]:[Enhet]],4,0),"kg/ton/"&RIGHT(VLOOKUP(H15,Materialtabell[[#All],[Materialnamn]:[Enhet]],4,0),LEN(VLOOKUP(H15,Materialtabell[[#All],[Materialnamn]:[Enhet]],4,0))-3)))),"") | L15: =IFERROR(KalkylSlut[[#This Row],[Mängd]]*KalkylSlut[[#This Row],[Omräknings-faktor]],"") | M15: =IFERROR(F15*J15*VLOOKUP(H15,Materialtabell[[#All],[Materialnamn]:[Emissionsfaktor 2019 kg CO2e/kg]],5,0),"") | N15: =IFERROR(F15*J15*VLOOKUP(H15,Materialtabell[[#All],[Materialnamn]:[Emissionsfaktor 2025 kg CO2e/kg]],6,0),"") | O15: =IFERROR(VLOOKUP(H15,Materialtabell[[#All],[Materialnamn]:[Kommentar A4]],24,0),"") | P15: =IFERROR(($F15*$J15*$O15*VLOOKUP($H15,Materialtabell[[#All],[Materialnamn]:[Bränsle MJ/ton, km]],25,0)*Materiallista!$AF$5)/1000,"") | Q15: =IFERROR(($F15*$J15*$O15*VLOOKUP($H15,Materialtabell[[#All],[Materialnamn]:[Bränsle MJ/ton, km]],25,0)*Materiallista!$AF$6)/1000,"")
B16: 11 | I16: =IFERROR(VLOOKUP(KalkylSlut[[#This Row],[Klimatmaterial]],Materialtabell[[#All],[Materialnamn]:[Materialtyp]],2,0),"") | J16: =IFERROR(IF(G16="kg",1,IF(G16="ton",1000,IF(G16=RIGHT(VLOOKUP(H16,Materialtabell[[#All],[Materialnamn]:[Enhet]],4,0),LEN(VLOOKUP(H16,Materialtabell[[#All],[Materialnamn]:[Enhet]],4,0))-3),VLOOKUP(H16,Materialtabell[[#All],[Materialnamn]:[Enhet]],3,0),"Enhetsfel"))),"") | K16: =IFERROR(IF(G16="kg","kg/kg",IF(G16="ton","kg/ton",IF(RIGHT(VLOOKUP(H16,Materialtabell[[#All],[Materialnamn]:[Enhet]],4,0),LEN(VLOOKUP(H16,Materialtabell[[#All],[Materialnamn]:[Enhet]],4,0))-3)=G16,VLOOKUP(H16,Materialtabell[[#All],[Materialnamn]:[Enhet]],4,0),"kg/ton/"&RIGHT(VLOOKUP(H16,Materialtabell[[#All],[Materialnamn]:[Enhet]],4,0),LEN(VLOOKUP(H16,Materialtabell[[#All],[Materialnamn]:[Enhet]],4,0))-3)))),"") | L16: =IFERROR(KalkylSlut[[#This Row],[Mängd]]*KalkylSlut[[#This Row],[Omräknings-faktor]],"") | M16: =IFERROR(F16*J16*VLOOKUP(H16,Materialtabell[[#All],[Materialnamn]:[Emissionsfaktor 2019 kg CO2e/kg]],5,0),"") | N16: =IFERROR(F16*J16*VLOOKUP(H16,Materialtabell[[#All],[Materialnamn]:[Emissionsfaktor 2025 kg CO2e/kg]],6,0),"") | O16: =IFERROR(VLOOKUP(H16,Materialtabell[[#All],[Materialnamn]:[Kommentar A4]],24,0),"") | P16: =IFERROR(($F16*$J16*$O16*VLOOKUP($H16,Materialtabell[[#All],[Materialnamn]:[Bränsle MJ/ton, km]],25,0)*Materiallista!$AF$5)/1000,"") | Q16: =IFERROR(($F16*$J16*$O16*VLOOKUP($H16,Materialtabell[[#All],[Materialnamn]:[Bränsle MJ/ton, km]],25,0)*Materiallista!$AF$6)/1000,"")
B17: 12 | I17: =IFERROR(VLOOKUP(KalkylSlut[[#This Row],[Klimatmaterial]],Materialtabell[[#All],[Materialnamn]:[Materialtyp]],2,0),"") | J17: =IFERROR(IF(G17="kg",1,IF(G17="ton",1000,IF(G17=RIGHT(VLOOKUP(H17,Materialtabell[[#All],[Materialnamn]:[Enhet]],4,0),LEN(VLOOKUP(H17,Materialtabell[[#All],[Materialnamn]:[Enhet]],4,0))-3),VLOOKUP(H17,Materialtabell[[#All],[Materialnamn]:[Enhet]],3,0),"Enhetsfel"))),"") | K17: =IFERROR(IF(G17="kg","kg/kg",IF(G17="ton","kg/ton",IF(RIGHT(VLOOKUP(H17,Materialtabell[[#All],[Materialnamn]:[Enhet]],4,0),LEN(VLOOKUP(H17,Materialtabell[[#All],[Materialnamn]:[Enhet]],4,0))-3)=G17,VLOOKUP(H17,Materialtabell[[#All],[Materialnamn]:[Enhet]],4,0),"kg/ton/"&RIGHT(VLOOKUP(H17,Materialtabell[[#All],[Materialnamn]:[Enhet]],4,0),LEN(VLOOKUP(H17,Materialtabell[[#All],[Materialnamn]:[Enhet]],4,0))-3)))),"") | L17: =IFERROR(KalkylSlut[[#This Row],[Mängd]]*KalkylSlut[[#This Row],[Omräknings-faktor]],"") | M17: =IFERROR(F17*J17*VLOOKUP(H17,Materialtabell[[#All],[Materialnamn]:[Emissionsfaktor 2019 kg CO2e/kg]],5,0),"") | N17: =IFERROR(F17*J17*VLOOKUP(H17,Materialtabell[[#All],[Materialnamn]:[Emissionsfaktor 2025 kg CO2e/kg]],6,0),"") | O17: =IFERROR(VLOOKUP(H17,Materialtabell[[#All],[Materialnamn]:[Kommentar A4]],24,0),"") | P17: =IFERROR(($F17*$J17*$O17*VLOOKUP($H17,Materialtabell[[#All],[Materialnamn]:[Bränsle MJ/ton, km]],25,0)*Materiallista!$AF$5)/1000,"") | Q17: =IFERROR(($F17*$J17*$O17*VLOOKUP($H17,Materialtabell[[#All],[Materialnamn]:[Bränsle MJ/ton, km]],25,0)*Materiallista!$AF$6)/1000,"")
... B255: 250 | I255: =IFERROR(VLOOKUP(KalkylSlut[[#This Row],[Klimatmaterial]],Materialtabell[[#All],[Materialnamn]:[Materialtyp]],2,0),"") | J255: =IFERROR(IF(G255="kg",1,IF(G255="ton",1000,IF(G255=RIGHT(VLOOKUP(H255,Materialtabell[[#All],[Materialnamn]:[Enhet]],4,0),LEN(VLOOKUP(H255,Materialtabell[[#All],[Materialnamn]:[Enhet]],4,0))-3),VLOOKUP(H255,Materialtabell[[#All],[Materialnamn]:[Enhet]],3,0),"Enhetsfel"))),"") | K255: =IFERROR(IF(G255="kg","kg/kg",IF(G255="ton","kg/ton",IF(RIGHT(VLOOKUP(H255,Materialtabell[[#All],[Materialnamn]:[Enhet]],4,0),LEN(VLOOKUP(H255,Materialtabell[[#All],[Materialnamn]:[Enhet]],4,0))-3)=G255,VLOOKUP(H255,Materialtabell[[#All],[Materialnamn]:[Enhet]],4,0),"kg/ton/"&RIGHT(VLOOKUP(H255,Materialtabell[[#All],[Materialnamn]:[Enhet]],4,0),LEN(VLOOKUP(H255,Materialtabell[[#All],[Materialnamn]:[Enhet]],4,0))-3)))),"") | L255: =IFERROR(KalkylSlut[[#This Row],[Mängd]]*KalkylSlut[[#This Row],[Omräknings-faktor]],"") | M255: =IFERROR(F255*J255*VLOOKUP(H255,Materialtabell[[#All],[Materialnamn]:[Emissionsfaktor 2019 kg CO2e/kg]],5,0),"") | N255: =IFERROR(F255*J255*VLOOKUP(H255,Materialtabell[[#All],[Materialnamn]:[Emissionsfaktor 2025 kg CO2e/kg]],6,0),"") | O255: =IFERROR(VLOOKUP(H255,Materialtabell[[#All],[Materialnamn]:[Kommentar A4]],24,0),"") | P255: =IFERROR(($F255*$J255*$O255*VLOOKUP($H255,Materialtabell[[#All],[Materialnamn]:[Bränsle MJ/ton, km]],25,0)*Materiallista!$AF$5)/1000,"") | Q255: =IFERROR(($F255*$J255*$O255*VLOOKUP($H255,Materialtabell[[#All],[Materialnamn]:[Bränsle MJ/ton, km]],25,0)*Materiallista!$AF$6)/1000,"")

Sheet Sammanställning
L1: Utskriven | M1: =TODAY() -> 46282
C2: KEX - Sammanställning
D4: Projekt: | E4: =IF(Försättsblad!$D$7=0,"",Försättsblad!$D$7) | J4: Projektyta: | L4: =IF(Försättsblad!$D$16=0,"",Försättsblad!$D$16) | M4: m2
D5: Skede: | E5: =IF(Försättsblad!$D$10=0,"",Försättsblad!$D$10) | J5: Projektkostnad: | L5: =IF(Försättsblad!$D$17=0,"",Försättsblad!$D$17) | M5: kr
F8: Material ton | H8: CO2e ton | J8: CO2e/m2 kg | L8: CO2e/Mkr ton
D9: Material A1-3 | F9: Start | G9: Slut | H9: Start | I9: Slut | J9: Start | K9: Slut | L9: Start | M9: Slut
D10: Asfalt | F10: =IF((SUMIF(KalkylStart[[#All],[Materialtyp]],D10,KalkylStart[[#All],[Materialvikt]]))/1000=0,"",(SUMIF(KalkylStart[[#All],[Materialtyp]],D10,KalkylStart[[#All],[Materialvikt]]))/1000) | G10: =IF((SUMIF(KalkylSlut[[#All],[Materialtyp]],D10,KalkylSlut[[#All],[Materialvikt]]))/1000=0,"",(SUMIF(KalkylSlut[[#All],[Materialtyp]],D10,KalkylSlut[[#All],[Materialvikt]]))/1000) | H10: =IF(SUMIF(KalkylStart[[#All],[Materialtyp]],D10,KalkylStart[[#All],[A1-3 kg CO2e]])/1000=0,"",SUMIF(KalkylStart[[#All],[Materialtyp]],D10,KalkylStart[[#All],[A1-3 kg CO2e]])/1000) | I10: =IF(SUMIF(KalkylSlut[[#All],[Materialtyp]],D10,KalkylSlut[[#All],[A1-3 kg CO2e]])/1000=0,"",SUMIF(KalkylSlut[[#All],[Materialtyp]],D10,KalkylSlut[[#All],[A1-3 kg CO2e]])/1000) | J10: =IFERROR(H10/$L$4*1000,"") | K10: =IFERROR(I10/$L$4*1000,"") | L10: =IFERROR(H10/($L$5/1000000),"") | M10: =IFERROR(I10/($L$5/1000000),"")
D11: Betong | F11: =IF((SUMIF(KalkylStart[[#All],[Materialtyp]],D11,KalkylStart[[#All],[Materialvikt]]))/1000=0,"",(SUMIF(KalkylStart[[#All],[Materialtyp]],D11,KalkylStart[[#All],[Materialvikt]]))/1000) | G11: =IF((SUMIF(KalkylSlut[[#All],[Materialtyp]],D11,KalkylSlut[[#All],[Materialvikt]]))/1000=0,"",(SUMIF(KalkylSlut[[#All],[Materialtyp]],D11,KalkylSlut[[#All],[Materialvikt]]))/1000) | H11: =IF(SUMIF(KalkylStart[[#All],[Materialtyp]],D11,KalkylStart[[#All],[A1-3 kg CO2e]])/1000=0,"",SUMIF(KalkylStart[[#All],[Materialtyp]],D11,KalkylStart[[#All],[A1-3 kg CO2e]])/1000) | I11: =IF(SUMIF(KalkylSlut[[#All],[Materialtyp]],D11,KalkylSlut[[#All],[A1-3 kg CO2e]])/1000=0,"",SUMIF(KalkylSlut[[#All],[Materialtyp]],D11,KalkylSlut[[#All],[A1-3 kg CO2e]])/1000) | J11: =IFERROR(H11/$L$4*1000,"") | K11: =IFERROR(I11/$L$4*1000,"") | L11: =IFERROR(H11/($L$5/1000000),"") | M11: =IFERROR(I11/($L$5/1000000),"")
D12: Metall | F12: =IF((SUMIF(KalkylStart[[#All],[Materialtyp]],D12,KalkylStart[[#All],[Materialvikt]]))/1000=0,"",(SUMIF(KalkylStart[[#All],[Materialtyp]],D12,KalkylStart[[#All],[Materialvikt]]))/1000) | G12: =IF((SUMIF(KalkylSlut[[#All],[Materialtyp]],D12,KalkylSlut[[#All],[Materialvikt]]))/1000=0,"",(SUMIF(KalkylSlut[[#All],[Materialtyp]],D12,KalkylSlut[[#All],[Materialvikt]]))/1000) | H12: =IF(SUMIF(KalkylStart[[#All],[Materialtyp]],D12,KalkylStart[[#All],[A1-3 kg CO2e]])/1000=0,"",SUMIF(KalkylStart[[#All],[Materialtyp]],D12,KalkylStart[[#All],[A1-3 kg CO2e]])/1000) | I12: =IF(SUMIF(KalkylSlut[[#All],[Materialtyp]],D12,KalkylSlut[[#All],[A1-3 kg CO2e]])/1000=0,"",SUMIF(KalkylSlut[[#All],[Materialtyp]],D12,KalkylSlut[[#All],[A1-3 kg CO2e]])/1000) | J12: =IFERROR(H12/$L$4*1000,"") | K12: =IFERROR(I12/$L$4*1000,"") | L12: =IFERROR(H12/($L$5/1000000),"") | M12: =IFERROR(I12/($L$5/1000000),"")
D13: Plast | F13: =IF((SUMIF(KalkylStart[[#All],[Materialtyp]],D13,KalkylStart[[#All],[Materialvikt]]))/1000=0,"",(SUMIF(KalkylStart[[#All],[Materialtyp]],D13,KalkylStart[[#All],[Materialvikt]]))/1000) | G13: =IF((SUMIF(KalkylSlut[[#All],[Materialtyp]],D13,KalkylSlut[[#All],[Materialvikt]]))/1000=0,"",(SUMIF(KalkylSlut[[#All],[Materialtyp]],D13,KalkylSlut[[#All],[Materialvikt]]))/1000) | H13: =IF(SUMIF(KalkylStart[[#All],[Materialtyp]],D13,KalkylStart[[#All],[A1-3 kg CO2e]])/1000=0,"",SUMIF(KalkylStart[[#All],[Materialtyp]],D13,KalkylStart[[#All],[A1-3 kg CO2e]])/1000) | I13: =IF(SUMIF(KalkylSlut[[#All],[Materialtyp]],D13,KalkylSlut[[#All],[A1-3 kg CO2e]])/1000=0,"",SUMIF(KalkylSlut[[#All],[Materialtyp]],D13,KalkylSlut[[#All],[A1-3 kg CO2e]])/1000) | J13: =IFERROR(H13/$L$4*1000,"") | K13: =IFERROR(I13/$L$4*1000,"") | L13: =IFERROR(H13/($L$5/1000000),"") | M13: =IFERROR(I13/($L$5/1000000),"")
D14: Anläggningssten | F14: =IF((SUMIF(KalkylStart[[#All],[Materialtyp]],D14,KalkylStart[[#All],[Materialvikt]]))/1000=0,"",(SUMIF(KalkylStart[[#All],[Materialtyp]],D14,KalkylStart[[#All],[Materialvikt]]))/1000) | G14: =IF((SUMIF(KalkylSlut[[#All],[Materialtyp]],D14,KalkylSlut[[#All],[Materialvikt]]))/1000=0,"",(SUMIF(KalkylSlut[[#All],[Materialtyp]],D14,KalkylSlut[[#All],[Materialvikt]]))/1000) | H14: =IF(SUMIF(KalkylStart[[#All],[Materialtyp]],D14,KalkylStart[[#All],[A1-3 kg CO2e]])/1000=0,"",SUMIF(KalkylStart[[#All],[Materialtyp]],D14,KalkylStart[[#All],[A1-3 kg CO2e]])/1000) | I14: =IF(SUMIF(KalkylSlut[[#All],[Materialtyp]],D14,KalkylSlut[[#All],[A1-3 kg CO2e]])/1000=0,"",SUMIF(KalkylSlut[[#All],[Materialtyp]],D14,KalkylSlut[[#All],[A1-3 kg CO2e]])/1000) | J14: =IFERROR(H14/$L$4*1000,"") | K14: =IFERROR(I14/$L$4*1000,"") | L14: =IFERROR(H14/($L$5/1000000),"") | M14: =IFERROR(I14/($L$5/1000000),"")
D15: Schakt | F15: =IF((SUMIF(KalkylStart[[#All],[Materialtyp]],D15,KalkylStart[[#All],[Materialvikt]]))/1000=0,"",(SUMIF(KalkylStart[[#All],[Materialtyp]],D15,KalkylStart[[#All],[Materialvikt]]))/1000) | G15: =IF((SUMIF(KalkylSlut[[#All],[Materialtyp]],D15,KalkylSlut[[#All],[Materialvikt]]))/1000=0,"",(SUMIF(KalkylSlut[[#All],[Materialtyp]],D15,KalkylSlut[[#All],[Materialvikt]]))/1000) | H15: =IF(SUMIF(KalkylStart[[#All],[Materialtyp]],D15,KalkylStart[[#All],[A1-3 kg CO2e]])/1000=0,"",SUMIF(KalkylStart[[#All],[Materialtyp]],D15,KalkylStart[[#All],[A1-3 kg CO2e]])/1000) | I15: =IF(SUMIF(KalkylSlut[[#All],[Materialtyp]],D15,KalkylSlut[[#All],[A1-3 kg CO2e]])/1000=0,"",SUMIF(KalkylSlut[[#All],[Materialtyp]],D15,KalkylSlut[[#All],[A1-3 kg CO2e]])/1000) | J15: =IFERROR(H15/$L$4*1000,"") | K15: =IFERROR(I15/$L$4*1000,"") | L15: =IFERROR(H15/($L$5/1000000),"") | M15: =IFERROR(I15/($L$5/1000000),"")
D16: Fyll | F16: =IF((SUMIF(KalkylStart[[#All],[Materialtyp]],D16,KalkylStart[[#All],[Materialvikt]]))/1000=0,"",(SUMIF(KalkylStart[[#All],[Materialtyp]],D16,KalkylStart[[#All],[Materialvikt]]))/1000) | G16: =IF((SUMIF(KalkylSlut[[#All],[Materialtyp]],D16,KalkylSlut[[#All],[Materialvikt]]))/1000=0,"",(SUMIF(KalkylSlut[[#All],[Materialtyp]],D16,KalkylSlut[[#All],[Materialvikt]]))/1000) | H16: =IF(SUMIF(KalkylStart[[#All],[Materialtyp]],D16,KalkylStart[[#All],[A1-3 kg CO2e]])/1000=0,"",SUMIF(KalkylStart[[#All],[Materialtyp]],D16,KalkylStart[[#All],[A1-3 kg CO2e]])/1000) | I16: =IF(SUMIF(KalkylSlut[[#All],[Materialtyp]],D16,KalkylSlut[[#All],[A1-3 kg CO2e]])/1000=0,"",SUMIF(KalkylSlut[[#All],[Materialtyp]],D16,KalkylSlut[[#All],[A1-3 kg CO2e]])/1000) | J16: =IFERROR(H16/$L$4*1000,"") | K16: =IFERROR(I16/$L$4*1000,"") | L16: =IFERROR(H16/($L$5/1000000),"") | M16: =IFERROR(I16/($L$5/1000000),"")
D17: Teknisk massa | F17: =IF((SUMIF(KalkylStart[[#All],[Materialtyp]],D17,KalkylStart[[#All],[Materialvikt]]))/1000=0,"",(SUMIF(KalkylStart[[#All],[Materialtyp]],D17,KalkylStart[[#All],[Materialvikt]]))/1000) | G17: =IF((SUMIF(KalkylSlut[[#All],[Materialtyp]],D17,KalkylSlut[[#All],[Materialvikt]]))/1000=0,"",(SUMIF(KalkylSlut[[#All],[Materialtyp]],D17,KalkylSlut[[#All],[Materialvikt]]))/1000) | H17: =IF(SUMIF(KalkylStart[[#All],[Materialtyp]],D17,KalkylStart[[#All],[A1-3 kg CO2e]])/1000=0,"",SUMIF(KalkylStart[[#All],[Materialtyp]],D17,KalkylStart[[#All],[A1-3 kg CO2e]])/1000) | I17: =IF(SUMIF(KalkylSlut[[#All],[Materialtyp]],D17,KalkylSlut[[#All],[A1-3 kg CO2e]])/1000=0,"",SUMIF(KalkylSlut[[#All],[Materialtyp]],D17,KalkylSlut[[#All],[A1-3 kg CO2e]])/1000) | J17: =IFERROR(H17/$L$4*1000,"") | K17: =IFERROR(I17/$L$4*1000,"") | L17: =IFERROR(H17/($L$5/1000000),"") | M17: =IFERROR(I17/($L$5/1000000),"")
D18: Övrigt | F18: =IF((SUMIF(KalkylStart[[#All],[Materialtyp]],D18,KalkylStart[[#All],[Materialvikt]]))/1000=0,"",(SUMIF(KalkylStart[[#All],[Materialtyp]],D18,KalkylStart[[#All],[Materialvikt]]))/1000) | G18: =IF((SUMIF(KalkylSlut[[#All],[Materialtyp]],D18,KalkylSlut[[#All],[Materialvikt]]))/1000=0,"",(SUMIF(KalkylSlut[[#All],[Materialtyp]],D18,KalkylSlut[[#All],[Materialvikt]]))/1000) | H18: =IF(SUMIF(KalkylStart[[#All],[Materialtyp]],D18,KalkylStart[[#All],[A1-3 kg CO2e]])/1000=0,"",SUMIF(KalkylStart[[#All],[Materialtyp]],D18,KalkylStart[[#All],[A1-3 kg CO2e]])/1000) | I18: =IF(SUMIF(KalkylSlut[[#All],[Materialtyp]],D18,KalkylSlut[[#All],[A1-3 kg CO2e]])/1000=0,"",SUMIF(KalkylSlut[[#All],[Materialtyp]],D18,KalkylSlut[[#All],[A1-3 kg CO2e]])/1000) | J18: =IFERROR(H18/$L$4*1000,"") | K18: =IFERROR(I18/$L$4*1000,"") | L18: =IFERROR(H18/($L$5/1000000),"") | M18: =IFERROR(I18/($L$5/1000000),"")
D19: Transport A4 | E19: 100% HVO | F19: - | G19: - | H19: =IF(SUM(KalkylStart[[#All],[100% HVO kg CO2e]])/1000=0,"",SUM(KalkylStart[[#All],[100% HVO kg CO2e]])/1000) | I19: =IF(SUM(KalkylSlut[[#All],[100% HVO kg CO2e]])/1000=0,"",SUM(KalkylSlut[[#All],[100% HVO kg CO2e]])/1000) | J19: =IFERROR(H19/$L$4*1000,"") | K19: =IFERROR(I19/$L$4*1000,"") | L19: =IFERROR(H19/($L$5/1000000),"") | M19: =IFERROR(I19/($L$5/1000000),"")
D20: Totalt | F20: =SUM(F10:F19) -> 0 | G20: =SUM(G10:G19) -> 0 | H20: =SUM(H10:H19) -> 0 | I20: =SUM(I10:I19) -> 0 | J20: =SUM(J10:J19) -> 0 | K20: =SUM(K10:K19) -> 0 | L20: =SUM(L10:L19) -> 0 | M20: =SUM(M10:M19) -> 0
D23: Mål | E23: =Försättsblad!$D$18 -> 0.25 | F23: reduktion slut vs. start
E24: =J20*(1-E23) -> 0 | F24: Mål kg CO2e/m2
E25: =K20-E24 -> 0 | F25: Gentemot mål, kg CO2e/m2 | K25: Startkalkyl | L25: Slutkalkyl
E26: =IFERROR((K20/E24)-1,0)*100 -> 0 | F26: Gentemot mål, % | J26: kg CO2e/m2 | K26: =J20 -> 0 | L26: =K20 -> 0
J27: Minskning | L27: =IF(K26-L26=K26,0,K26-L26) -> 0
D28: Slut vs. start | J28: Mål | K28: =L28 -> 0 | L28: =K26*(1-E23) -> 0
D29: Material | E29: =G20-F20 -> 0 | F29: ton
D30: Klimatpåverkan | E30: =I20-H20 -> 0 | F30: ton CO2e
D31: /m2 | E31: =K20-J20 -> 0 | F31: kg CO2e/m2
D32: /kr | E32: =M20-L20 -> 0 | F32: ton CO2e/Mkr
K73: 20% HVO | L73: 100% HVO
J74: Start | K74: =SUM(KalkylStart[[#All],[20% HVO kg CO2e]])/1000 -> 0 | L74: =SUM(KalkylStart[[#All],[100% HVO kg CO2e]])/1000 -> 0
J75: Slut | K75: =SUM(KalkylSlut[[#All],[20% HVO kg CO2e]])/1000 -> 0 | L75: =SUM(KalkylSlut[[#All],[100% HVO kg CO2e]])/1000 -> 0

Sheet Materiallista
C2: KEX - Materiallista
B4: # | C4: Materialnamn | D4: Materialtyp | E4: Omräknings-faktor | F4: Enhet | G4: Emissionsfaktor 2019 kg CO2e/kg | H4: Emissionsfaktor 2025 kg CO2e/kg | I4: Produktnamn/ID 2019 | J4: Källa 2019 | K4: Produktnamn/ID 2025 | L4: Källa 2025 | M4: Notering | N4: Transporttyp leg 1 | O4: Transporttyp leg 2 | P4: Transporttyp leg 3 | Q4: Transporttyp leg 4 | R4: Sträcka leg 1, km | S4: Sträcka leg 2, km | T4: Sträcka leg 3, km | U4: Sträcka leg 4, km | V4: Bränsle leg 1 MJ/tonkm | W4: Bränsle leg 2 MJ/tonkm | X4: Bränsle leg 3 MJ/tonkm | Y4: Bränsle leg 4 MJ/tonkm | Z4: Transport km | AA4: Bränsle MJ/ton, km | AB4: Källa A4 | AC4: Kommentar A4 | AF4: Emissionfaktorer bränsle A4 transporter
B5: 1 | C5: Asfalt: Asfalt, generellt värde | D5: Asfalt | E5: 2243 | F5: kg/m3 | G5: 0.049 | H5: 0.026 | I5: Asfalt, generellt värde | J5: Trafikverket Klimatkalkyl v.8 2015 | K5: Asfalt, ABT | L5: Miljökrav för entreprenadens genomförande (MEG) v. 1.0, dat. 2025-01-01 | N5: Lastbil, regiontransport | R5: 50 | S5: 0 | T5: 0 | U5: 0 | V5: 1.5 | W5: 0 | X5: 0 | Y5: 0 | Z5: =SUM(R5:U5) -> 50 | AA5: =IFERROR(((R5*V5)+(S5*W5)+(T5*X5)+(U5*Y5))/Materialtabell[[#This Row],[Transport km]],0) -> 1.5 | AB5: Trafikverket klimatkalkyl, 2025-12-09. | AC5: Räknar med samma värde för samtliga asfaltstyper då Trafikverket endast anger ett värde. | AE5: 2019: 20% HVO | AF5: 0.07928 | AG5: kg CO2e/MJ
B6: 2 | C6: Asfalt: Asfalt, halvvarm asfalt | D6: Asfalt | E6: 2243 | F6: kg/m3 | G6: 0.026 | H6: 0.022 | I6: Asfalt, halvvarm asfalt (MJAG & MJOG) | J6: Trafikverket Klimatkalkyl v.8 2015 | K6: Asfalt, halvvarm asfalt (MJAG & MJOG) | L6: Miljökrav för entreprenadens genomförande (MEG) v. 1.0, dat. 2025-01-01 | N6: Lastbil, regiontransport | R6: 50 | S6: 0 | T6: 0 | U6: 0 | V6: 1.5 | W6: 0 | X6: 0 | Y6: 0 | Z6: =SUM(R6:U6) -> 50 | AA6: =IFERROR(((R6*V6)+(S6*W6)+(T6*X6)+(U6*Y6))/Materialtabell[[#This Row],[Transport km]],0) -> 1.5 | AB6: Trafikverket klimatkalkyl, 2025-12-09. | AE6: 2025: 100% HVO | AF6: 0.016 | AG6: kg CO2e/MJ
B7: 3 | C7: Asfalt: Bitumen | D7: Asfalt | E7: ----- | F7: ----- | G7: 0.213 | H7: 0.213 | I7: Bitumen | J7: Trafikverket Klimatkalkyl v.8 2015 | K7: Bitumen | L7: Trafikverket Klimatkalkyl v. 8 2020 | N7: Lastbil, landsvägstransport | O7: Lastbil, närdistribution | R7: 500 | S7: 40 | T7: 0 | U7: 0 | V7: 1 | W7: 2.5 | X7: 0 | Y7: 0 | Z7: =SUM(R7:U7) -> 540 | AA7: =IFERROR(((R7*V7)+(S7*W7)+(T7*X7)+(U7*Y7))/Materialtabell[[#This Row],[Transport km]],0) -> 1.1111111 | AB7: Trafikverket klimatkalkyl, 2025-12-09. | AE7: Källa | AG7: Boverket, Version 02.07.000, 2026-01-21
B8: 4 | C8: Asfalt: Bitumenmatta | D8: Asfalt | E8: ----- | F8: ----- | G8: 0.742 | H8: 0.742 | I8: Bitumenmatta | J8: Trafikverket Klimatkalkyl v.8 2015 | K8: Bitumenmatta | L8: Trafikverket Klimatkalkyl v. 8 2020 | N8: Lastbil, landsvägstransport | O8: Lastbil, närdistribution | R8: 500 | S8: 40 | T8: 0 | U8: 0 | V8: 1 | W8: 2.5 | X8: 0 | Y8: 0 | Z8: =SUM(R8:U8) -> 540 | AA8: =IFERROR(((R8*V8)+(S8*W8)+(T8*X8)+(U8*Y8))/Materialtabell[[#This Row],[Transport km]],0) -> 1.1111111 | AB8: Trafikverket klimatkalkyl, 2025-12-09.
B9: 5 | C9: Asfalt: Asfalt, ABb | D9: Asfalt | E9: 2243 | F9: kg/m3 | G9: 0.043 | H9: 0.026 | I9: Asfalt, ABb | J9: Trafikverket klimatkalkyl v.8 2015 - post "Asfalt, Abb" | K9: Asfalt, ABb | L9: Miljökrav för entreprenadens genomförande (MEG) v. 1.0, dat. 2025-01-01 | M9: Klimatkrav Stockholm stad 2025- : 0,026 kg CO2e/kg | N9: Lastbil, regiontransport | R9: 50 | S9: 0 | T9: 0 | U9: 0 | V9: 1.5 | W9: 0 | X9: 0 | Y9: 0 | Z9: =SUM(R9:U9) -> 50 | AA9: =IFERROR(((R9*V9)+(S9*W9)+(T9*X9)+(U9*Y9))/Materialtabell[[#This Row],[Transport km]],0) -> 1.5 | AB9: Trafikverket klimatkalkyl, 2025-12-09.
B10: 6 | C10: Asfalt: Bindlager, ABb 11, 30-45 mm | D10: Asfalt | E10: =2243/1000*45 -> 100.935 | F10: kg/m2 | G10: 0.043 | H10: 0.026 | I10: Asfalt, ABb | J10: Trafikverket klimatkalkyl v.8 2015 - post "Asfalt, Abb" | K10: Asfalt, ABb | L10: Miljökrav för entreprenadens genomförande (MEG) v. 1.0, dat. 2025-01-01 | N10: Lastbil, regiontransport | R10: 50 | S10: 0 | T10: 0 | U10: 0 | V10: 1.5 | W10: 0 | X10: 0 | Y10: 0 | Z10: =SUM(R10:U10) -> 50 | AA10: =IFERROR(((R10*V10)+(S10*W10)+(T10*X10)+(U10*Y10))/Materialtabell[[#This Row],[Transport km]],0) -> 1.5 | AB10: Trafikverket klimatkalkyl, 2025-12-09.
B11: 7 | C11: Asfalt: Bindlager, ABb 16, 40-60 mm | D11: Asfalt | E11: =2243/1000*60 -> 134.58 | F11: kg/m2 | G11: 0.043 | H11: 0.026 | I11: Asfalt, ABb | J11: Trafikverket klimatkalkyl v.8 2015 - post "Asfalt, Abb" | K11: Asfalt, ABb | L11: Miljökrav för entreprenadens genomförande (MEG) v. 1.0, dat. 2025-01-01 | N11: Lastbil, regiontransport | R11: 50 | S11: 0 | T11: 0 | U11: 0 | V11: 1.5 | W11: 0 | X11: 0 | Y11: 0 | Z11: =SUM(R11:U11) -> 50 | AA11: =IFERROR(((R11*V11)+(S11*W11)+(T11*X11)+(U11*Y11))/Materialtabell[[#This Row],[Transport km]],0) -> 1.5 | AB11: Trafikverket klimatkalkyl, 2025-12-09.
B12: 8 | C12: Asfalt: Bindlager, ABb 22, 55-80 mm | D12: Asfalt | E12: =2243/1000*80 -> 179.44 | F12: kg/m2 | G12: 0.043 | H12: 0.026 | I12: Asfalt, ABb | J12: Trafikverket klimatkalkyl v.8 2015 - post "Asfalt, Abb" | K12: Asfalt, ABb | L12: Miljökrav för entreprenadens genomförande (MEG) v. 1.0, dat. 2025-01-01 | N12: Lastbil, regiontransport | R12: 50 | S12: 0 | T12: 0 | U12: 0 | V12: 1.5 | W12: 0 | X12: 0 | Y12: 0 | Z12: =SUM(R12:U12) -> 50 | AA12: =IFERROR(((R12*V12)+(S12*W12)+(T12*X12)+(U12*Y12))/Materialtabell[[#This Row],[Transport km]],0) -> 1.5 | AB12: Trafikverket klimatkalkyl, 2025-12-09.
B13: 9 | C13: Asfalt: Asfalt, ABb PMB, 50 mm | D13: Asfalt | E13: =2243/1000*50 -> 112.15 | F13: kg/m2 | G13: 0.05 | H13: 0.031 | I13: Asfalt, ABb PMB | J13: Trafikverket klimatkalkyl v.8 2015 - post "Asfalt, Abb PMB" | K13: Asfalt, ABb PMB | L13: Miljökrav för entreprenadens genomförande (MEG) v. 1.0, dat. 2025-01-01 | M13: Klimatkrav Stockholm stad 2025- : 0,034 kg CO2e/kg | N13: Lastbil, regiontransport | R13: 50 | S13: 0 | T13: 0 | U13: 0 | V13: 1.5 | W13: 0 | X13: 0 | Y13: 0 | Z13: =SUM(R13:U13) -> 50 | AA13: =IFERROR(((R13*V13)+(S13*W13)+(T13*X13)+(U13*Y13))/Materialtabell[[#This Row],[Transport km]],0) -> 1.5 | AB13: Trafikverket klimatkalkyl, 2025-12-09.
B14: 10 | C14: Asfalt: Slitlager, ABS, 40 mm | D14: Asfalt | E14: =2243/1000*40 -> 89.72 | F14: kg/m2 | G14: 0.049 | H14: 0.03 | I14: Asfalt, ABS | J14: Trafikverket klimatkalkyl v.8 2015 - post "Asfalt, ABS" | K14: Asfalt, ABS | L14: Miljökrav för entreprenadens genomförande (MEG) v. 1.0, dat. 2025-01-01 | M14: Klimatkrav Stockholm stad 2025- : 0,024 kg CO2e/kg | N14: Lastbil, regiontransport | R14: 50 | S14: 0 | T14: 0 | U14: 0 | V14: 1.5 | W14: 0 | X14: 0 | Y14: 0 | Z14: =SUM(R14:U14) -> 50 | AA14: =IFERROR(((R14*V14)+(S14*W14)+(T14*X14)+(U14*Y14))/Materialtabell[[#This Row],[Transport km]],0) -> 1.5 | AB14: Trafikverket klimatkalkyl, 2025-12-09.
B15: 11 | C15: Asfalt: Asfalt, ABS PMB, 40 mm | D15: Asfalt | E15: =2243/1000*40 -> 89.72 | F15: kg/m2 | G15: 0.059 | H15: 0.038 | I15: Asfalt, ABS PMB | J15: Trafikverket klimatkalkyl v.8 2015 - post "Asfalt, ABS PMB" | K15: Asfalt, ABS PMB | L15: Miljökrav för entreprenadens genomförande (MEG) v. 1.0, dat. 2025-01-01 | M15: Klimatkrav Stockholm stad 2025- : 0,029 kg CO2e/kg | N15: Lastbil, regiontransport | R15: 50 | S15: 0 | T15: 0 | U15: 0 | V15: 1.5 | W15: 0 | X15: 0 | Y15: 0 | Z15: =SUM(R15:U15) -> 50 | AA15: =IFERROR(((R15*V15)+(S15*W15)+(T15*X15)+(U15*Y15))/Materialtabell[[#This Row],[Transport km]],0) -> 1.5 | AB15: Trafikverket klimatkalkyl, 2025-12-09.
B16: 12 | C16: Asfalt: Slitlager, ABT, 40 mm | D16: Asfalt | E16: =2243/1000*40 -> 89.72 | F16: kg/m2 | G16: 0.049 | H16: 0.026 | I16: Asfalt, ABT | J16: Trafikverket Klimatkalkyl v.8 2015 | K16: Asfalt, ABT | L16: Miljökrav för entreprenadens genomförande (MEG) v. 1.0, dat. 2025-01-01 | M16: Klimatkrav Stockholm stad 2025- : 0,026 kg CO2e/kg | N16: Lastbil, regiontransport | R16: 50 | S16: 0 | T16: 0 | U16: 0 | V16: 1.5 | W16: 0 | X16: 0 | Y16: 0 | Z16: =SUM(R16:U16) -> 50 | AA16: =IFERROR(((R16*V16)+(S16*W16)+(T16*X16)+(U16*Y16))/Materialtabell[[#This Row],[Transport km]],0) -> 1.5 | AB16: Trafikverket klimatkalkyl, 2025-12-09.
B17: 13 | C17: Asfalt: Asfalt, ABT PMB, 40 mm | D17: Asfalt | E17: =2243/1000*40 -> 89.72 | F17: kg/m3 | G17: 0.059 | H17: 0.034 | I17: Asfalt, ABT PMB | J17: Trafikverket Klimatkalkyl v.8 2015 | K17: Asfalt, ABT PMB | L17: Miljökrav för entreprenadens genomförande (MEG) v. 1.0, dat. 2025-01-01 | M17: Klimatkrav Stockholm stad 2020-2024: 0,125 kg CO2e/kg samt miljövarudeklaration typ III (EPD) Klimatkrav Stockholm stad 2025- :0,12 kg CO2e/kg samt miljövarudeklaration typ III (EPD) | N17: Lastbil, regiontransport | R17: 50 | S17: 0 | T17: 0 | U17: 0 | V17: 1.5 | W17: 0 | X17: 0 | Y17: 0 | Z17: =SUM(R17:U17) -> 50 | AA17: =IFERROR(((R17*V17)+(S17*W17)+(T17*X17)+(U17*Y17))/Materialtabell[[#This Row],[Transport km]],0) -> 1.5 | AB17: Trafikverket klimatkalkyl, 2025-12-09.
B18: 14 | C18: Asfalt: Asfalt, AG | D18: Asfalt | E18: 2243 | F18: kg/m3 | G18: 0.043 | H18: 0.024 | I18: Asfalt, AG | J18: Trafikverket Klimatkalkyl v.8 2015 | K18: Asfalt, AG | L18: Miljökrav för entreprenadens genomförande (MEG) v. 1.0, dat. 2025-01-01 | M18: Klimatkrav Stockholm stad 2020-2024: 0,125 kg CO2e/kg Klimatkrav Stockholm stad 2025- :0,11 kg CO2e/kg samt miljövarudeklaration typ III (EPD) | N18: Lastbil, regiontransport | R18: 50 | S18: 0 | T18: 0 | U18: 0 | V18: 1.5 | W18: 0 | X18: 0 | Y18: 0 | Z18: =SUM(R18:U18) -> 50 | AA18: =IFERROR(((R18*V18)+(S18*W18)+(T18*X18)+(U18*Y18))/Materialtabell[[#This Row],[Transport km]],0) -> 1.5 | AB18: Trafikverket klimatkalkyl, 2025-12-09.
B19: 15 | C19: Asfalt: Bärlager, AG 16, 40-60 mm | D19: Asfalt | E19: =2243/1000*60 -> 134.58 | F19: kg/m2 | G19: 0.043 | H19: 0.024 | I19: Asfalt, AG | J19: Trafikverket Klimatkalkyl v.8 2015 | K19: Asfalt, AG | L19: Miljökrav för entreprenadens genomförande (MEG) v. 1.0, dat. 2025-01-01 | M19: Klimatkrav Stockholm stad 2020-2024: 0,125 kg CO2e/kg Klimatkrav Stockholm stad 2025- :0,11 kg CO2e/kg samt miljövarudeklaration typ III (EPD) | N19: Lastbil, regiontransport | R19: 50 | S19: 0 | T19: 0 | U19: 0 | V19: 1.5 | W19: 0 | X19: 0 | Y19: 0 | Z19: =SUM(R19:U19) -> 50 | AA19: =IFERROR(((R19*V19)+(S19*W19)+(T19*X19)+(U19*Y19))/Materialtabell[[#This Row],[Transport km]],0) -> 1.5 | AB19: Trafikverket klimatkalkyl, 2025-12-09.
B20: 16 | C20: Asfalt: Bärlager, AG 22, 60-80 mm | D20: Asfalt | E20: =2243/1000*80 -> 179.44 | F20: kg/m2 | G20: 0.043 | H20: 0.024 | I20: Asfalt, AG | J20: Trafikverket Klimatkalkyl v.8 2015 | K20: Asfalt, AG | L20: Miljökrav för entreprenadens genomförande (MEG) v. 1.0, dat. 2025-01-01 | M20: Klimatkrav Stockholm stad 2020-2024: 0,125 kg CO2e/kg Klimatkrav Stockholm stad 2025- :0,11 kg CO2e/kg samt miljövarudeklaration typ III (EPD) | N20: Lastbil, regiontransport | R20: 50 | S20: 0 | T20: 0 | U20: 0 | V20: 1.5 | W20: 0 | X20: 0 | Y20: 0 | Z20: =SUM(R20:U20) -> 50 | AA20: =IFERROR(((R20*V20)+(S20*W20)+(T20*X20)+(U20*Y20))/Materialtabell[[#This Row],[Transport km]],0) -> 1.5 | AB20: Trafikverket klimatkalkyl, 2025-12-09.
B21: 17 | C21: Asfalt: Bärlager, AG 32, 80-120 mm | D21: Asfalt | E21: =2243/1000*120 -> 269.16 | F21: kg/m2 | G21: 0.043 | H21: 0.024 | I21: Asfalt, AG | J21: Trafikverket Klimatkalkyl v.8 2015 | K21: Asfalt, AG | L21: Miljökrav för entreprenadens genomförande (MEG) v. 1.0, dat. 2025-01-01 | M21: Klimatkrav Stockholm stad 2020-2024: 0,125 kg CO2e/kg Klimatkrav Stockholm stad 2025- :0,11 kg CO2e/kg samt miljövarudeklaration typ III (EPD) | N21: Lastbil, regiontransport | R21: 50 | S21: 0 | T21: 0 | U21: 0 | V21: 1.5 | W21: 0 | X21: 0 | Y21: 0 | Z21: =SUM(R21:U21) -> 50 | AA21: =IFERROR(((R21*V21)+(S21*W21)+(T21*X21)+(U21*Y21))/Materialtabell[[#This Row],[Transport km]],0) -> 1.5 | AB21: Trafikverket klimatkalkyl, 2025-12-09.
B22: 18 | C22: Asfalt: Asfalt, AG PMB, 60 mm | D22: Asfalt | E22: =2243/1000*60 -> 134.58 | F22: kg/m2 | G22: 0.05 | H22: 0.029 | I22: Asfalt, AG PMB | J22: Trafikverket Klimatkalkyl v.8 2015 | K22: Asfalt, AG PMB | L22: Miljökrav för entreprenadens genomförande (MEG) v. 1.0, dat. 2025-01-01 | N22: Lastbil, regiontransport | R22: 50 | S22: 0 | T22: 0 | U22: 0 | V22: 1.5 | W22: 0 | X22: 0 | Y22: 0 | Z22: =SUM(R22:U22) -> 50 | AA22: =IFERROR(((R22*V22)+(S22*W22)+(T22*X22)+(U22*Y22))/Materialtabell[[#This Row],[Transport km]],0) -> 1.5 | AB22: Trafikverket klimatkalkyl, 2025-12-09.
B23: 19 | C23: Betong: Cement (CEM I) | D23: Betong | E23: ----- | F23: ----- | G23: 0.87 | H23: 0.807 | I23: Cement, anläggningscement, CEM I | J23: Trafikverket Klimatkalkyl v.8 2015 | K23: Cement, anläggningscement, CEM I | L23: Trafikverket Klimatkalkyl v. 8 2020 | N23: Lastbil, landsvägstransport | O23: Lastbil, närdistribution | R23: 400 | S23: 40 | T23: 0 | U23: 0 | V23: 1 | W23: 2.5 | X23: 0 | Y23: 0 | Z23: =SUM(R23:U23) -> 440 | AA23: =IFERROR(((R23*V23)+(S23*W23)+(T23*X23)+(U23*Y23))/Materialtabell[[#This Row],[Transport km]],0) -> 1.1363636 | AB23: Boverket, Cement, Version 02.07.000, 2026-01-21 | AC23: Trafikverket har ej transportsträckor för Cement. Räknar med Boverkets generiska transportsträckor för Cement typ CEM II
B24: 20 | C24: Betong: Cement (CEM II) | D24: Betong | E24: ----- | F24: ----- | G24: 0.76 | H24: 0.674 | I24: Cement, bascement, CEM II | J24: Trafikverket Klimatkalkyl v.8 2015 | K24: Cement, bascement, CEM II | L24: Trafikverket Klimatkalkyl v. 8 2020 | N24: Lastbil, landsvägstransport | O24: Lastbil, närdistribution | R24: 400 | S24: 40 | T24: 0 | U24: 0 | V24: 1 | W24: 2.5 | X24: 0 | Y24: 0 | Z24: =SUM(R24:U24) -> 440 | AA24: =IFERROR(((R24*V24)+(S24*W24)+(T24*X24)+(U24*Y24))/Materialtabell[[#This Row],[Transport km]],0) -> 1.1363636 | AB24: Boverket, Cement, Version 02.07.000, 2026-01-21 | AC24: Trafikverket har ej transportsträckor för Cement. Räknar med Boverkets generiska transportsträckor för Cement typ CEM II
B25: 21 | C25: Betong: Prefabricerad armerat betongelement, övrigt | D25: Betong | E25: 2400 | F25: kg/m3 | G25: 0.198 | H25: 0.198 | I25: Prefabricerad armerat betongelement, övrigt | J25: 2022-01-01 Boverkets Klimatdatabas | K25: Prefabricerad armerat betongelement, övrigt | L25: Boverkts klimatdatabas, prefabriderat armerat ebtongelement övrigt, version 02.06.000 Gällande version | M25: Klimatkrav Stockholm stad 2020-2024: 0,75 kg CO2e/kg samt miljövarudeklaration typ III (EPD) Klimatkrav Stockholm stad 2025- :0,52 kg CO2e/kg samt miljövarudeklaration typ III (EPD) | N25: Lastbil, landsvägstransport | O25: Lastbil, närdistribution | R25: 400 | S25: 40 | T25: 0 | U25: 0 | V25: 1 | W25: 2.5 | X25: 0 | Y25: 0 | Z25: =SUM(R25:U25) -> 440 | AA25: =IFERROR(((R25*V25)+(S25*W25)+(T25*X25)+(U25*Y25))/Materialtabell[[#This Row],[Transport km]],0) -> 1.1363636 | AB25: Trafikverket Prefabricerad Betong, 2025-12-09 | AC25: Samma A4 som Prefabricerad armerat betongelement, övrigt
B26: 22 | C26: Betong: Betongkantstöd | D26: Betong | E26: 40 | F26: kg/m | G26: 0.198 | H26: 0.198 | I26: Prefabricerad armerat betongelement, övrigt | J26: 2022-01-01 Boverkets Klimatdatabas | K26: Prefabricerad armerat betongelement, övrigt | L26: Boverkts klimatdatabas, prefabriderat armerat ebtongelement övrigt, version 02.06.000 Gällande version | M26: Omräkningsfaktor efterhållen ifrån staden | N26: Lastbil, landsvägstransport | O26: Lastbil, närdistribution | R26: 400 | S26: 40 | T26: 0 | U26: 0 | V26: 1 | W26: 2.5 | X26: 0 | Y26: 0 | Z26: =SUM(R26:U26) -> 440 | AA26: =IFERROR(((R26*V26)+(S26*W26)+(T26*X26)+(U26*Y26))/Materialtabell[[#This Row],[Transport km]],0) -> 1.1363636 | AB26: Trafikverket Prefabricerad Betong, 2025-12-09 | AC26: Samma A4 som Prefabricerad armerat betongelement, övrigt
B27: 23 | C27: Betong: Stödmur, 2m längd (höjd 0,6) | D27: Betong | E27: 500 | F27: kg/st | G27: 0.198 | H27: 0.198 | I27: Prefabricerad armerat betongelement, övrigt | J27: 2022-01-01 Boverkets Klimatdatabas | K27: Prefabricerad armerat betongelement, övrigt | L27: Boverkts klimatdatabas, prefabriderat armerat ebtongelement övrigt, version 02.06.000 Gällande version | M27: Omräkningsfaktor efterhållen ifrån staden | N27: Lastbil, landsvägstransport | O27: Lastbil, närdistribution | R27: 400 | S27: 40 | T27: 0 | U27: 0 | V27: 1 | W27: 2.5 | X27: 0 | Y27: 0 | Z27: =SUM(R27:U27) -> 440 | AA27: =IFERROR(((R27*V27)+(S27*W27)+(T27*X27)+(U27*Y27))/Materialtabell[[#This Row],[Transport km]],0) -> 1.1363636 | AB27: Trafikverket Prefabricerad Betong, 2025-12-09 | AC27: Samma A4 som Prefabricerad armerat betongelement, övrigt
B28: 24 | C28: Betong: Stödmur, 2m längd (höjd 1) | D28: Betong | E28: 840 | F28: kg/st | G28: 0.198 | H28: 0.198 | I28: Prefabricerad armerat betongelement, övrigt | J28: 2022-01-01 Boverkets Klimatdatabas | K28: Prefabricerad armerat betongelement, övrigt | L28: Boverkts klimatdatabas, prefabriderat armerat ebtongelement övrigt, version 02.06.000 Gällande version | M28: Omräkningsfaktor efterhållen ifrån staden | N28: Lastbil, landsvägstransport | O28: Lastbil, närdistribution | R28: 400 | S28: 40 | T28: 0 | U28: 0 | V28: 1 | W28: 2.5 | X28: 0 | Y28: 0 | Z28: =SUM(R28:U28) -> 440 | AA28: =IFERROR(((R28*V28)+(S28*W28)+(T28*X28)+(U28*Y28))/Materialtabell[[#This Row],[Transport km]],0) -> 1.1363636 | AB28: Trafikverket Prefabricerad Betong, 2025-12-09 | AC28: Samma A4 som Prefabricerad armerat betongelement, övrigt
B29: 25 | C29: Betong: Stödmur, 2m längd (höjd 1.4) | D29: Betong | E29: 1290 | F29: kg/st | G29: 0.198 | H29: 0.198 | I29: Prefabricerad armerat betongelement, övrigt | J29: 2022-01-01 Boverkets Klimatdatabas | K29: Prefabricerad armerat betongelement, övrigt | L29: Boverkts klimatdatabas, prefabriderat armerat ebtongelement övrigt, version 02.06.000 Gällande version | M29: Omräkningsfaktor efterhållen ifrån staden | N29: Lastbil, landsvägstransport | O29: Lastbil, närdistribution | R29: 400 | S29: 40 | T29: 0 | U29: 0 | V29: 1 | W29: 2.5 | X29: 0 | Y29: 0 | Z29: =SUM(R29:U29) -> 440 | AA29: =IFERROR(((R29*V29)+(S29*W29)+(T29*X29)+(U29*Y29))/Materialtabell[[#This Row],[Transport km]],0) -> 1.1363636 | AB29: Trafikverket Prefabricerad Betong, 2025-12-09 | AC29: Samma A4 som Prefabricerad armerat betongelement, övrigt
B30: 26 | C30: Betong: Stödmur, 2m längd (höjd 1.8) | D30: Betong | E30: 1750 | F30: kg/st | G30: 0.198 | H30: 0.198 | I30: Prefabricerad armerat betongelement, övrigt | J30: 2022-01-01 Boverkets Klimatdatabas | K30: Prefabricerad armerat betongelement, övrigt | L30: Boverkts klimatdatabas, prefabriderat armerat ebtongelement övrigt, version 02.06.000 Gällande version | M30: Omräkningsfaktor efterhållen ifrån staden | N30: Lastbil, landsvägstransport | O30: Lastbil, närdistribution | R30: 400 | S30: 40 | T30: 0 | U30: 0 | V30: 1 | W30: 2.5 | X30: 0 | Y30: 0 | Z30: =SUM(R30:U30) -> 440 | AA30: =IFERROR(((R30*V30)+(S30*W30)+(T30*X30)+(U30*Y30))/Materialtabell[[#This Row],[Transport km]],0) -> 1.1363636 | AB30: Trafikverket Prefabricerad Betong, 2025-12-09 | AC30: Samma A4 som Prefabricerad armerat betongelement, övrigt
B31: 27 | C31: Betong: Betongfundament belysning, Cetong XXX/900 | D31: Betong | E31: 120 | F31: kg/st | G31: 0.198 | H31: 0.198 | I31: Prefabricerad armerat betongelement, övrigt | J31: 2022-01-01 Boverkets Klimatdatabas | K31: Prefabricerad armerat betongelement, övrigt | L31: Boverkts klimatdatabas, prefabriderat armerat ebtongelement övrigt, version 02.06.000 Gällande version | M31: Omräkningsfaktor efterhållen ifrån staden | N31: Lastbil, landsvägstransport | O31: Lastbil, närdistribution | R31: 400 | S31: 40 | T31: 0 | U31: 0 | V31: 1 | W31: 2.5 | X31: 0 | Y31: 0 | Z31: =SUM(R31:U31) -> 440 | AA31: =IFERROR(((R31*V31)+(S31*W31)+(T31*X31)+(U31*Y31))/Materialtabell[[#This Row],[Transport km]],0) -> 1.1363636 | AB31: Trafikverket Prefabricerad Betong, 2025-12-09 | AC31: Samma A4 som Prefabricerad armerat betongelement, övrigt
B32: 28 | C32: Betong: Betongfundament belysning, Cetong XXX/1300 | D32: Betong | E32: 250 | F32: kg/st | G32: 0.198 | H32: 0.198 | I32: Prefabricerad armerat betongelement, övrigt | J32: 2022-01-01 Boverkets Klimatdatabas | K32: Prefabricerad armerat betongelement, övrigt | L32: Boverkts klimatdatabas, prefabriderat armerat ebtongelement övrigt, version 02.06.000 Gällande version | M32: Omräkningsfaktor efterhållen ifrån staden | N32: Lastbil, landsvägstransport | O32: Lastbil, närdistribution | R32: 400 | S32: 40 | T32: 0 | U32: 0 | V32: 1 | W32: 2.5 | X32: 0 | Y32: 0 | Z32: =SUM(R32:U32) -> 440 | AA32: =IFERROR(((R32*V32)+(S32*W32)+(T32*X32)+(U32*Y32))/Materialtabell[[#This Row],[Transport km]],0) -> 1.1363636 | AB32: Trafikverket Prefabricerad Betong, 2025-12-09 | AC32: Samma A4 som Prefabricerad armerat betongelement, övrigt
B33: 29 | C33: Betong: Betongfundament belysning, Cetong XXX/1500 (Linspänn) | D33: Betong | E33: 500 | F33: kg/st | G33: 0.198 | H33: 0.198 | I33: Prefabricerad armerat betongelement, övrigt | J33: 2022-01-01 Boverkets Klimatdatabas | K33: Prefabricerad armerat betongelement, övrigt | L33: Boverkts klimatdatabas, prefabriderat armerat ebtongelement övrigt, version 02.06.000 Gällande version | M33: Omräkningsfaktor efterhållen ifrån staden | N33: Lastbil, landsvägstransport | O33: Lastbil, närdistribution | R33: 400 | S33: 40 | T33: 0 | U33: 0 | V33: 1 | W33: 2.5 | X33: 0 | Y33: 0 | Z33: =SUM(R33:U33) -> 440 | AA33: =IFERROR(((R33*V33)+(S33*W33)+(T33*X33)+(U33*Y33))/Materialtabell[[#This Row],[Transport km]],0) -> 1.1363636 | AB33: Trafikverket Prefabricerad Betong, 2025-12-09 | AC33: Samma A4 som Prefabricerad armerat betongelement, övrigt
B34: 30 | C34: Betong: Betong, anläggning, generellt värde (C35/45), exponeringsklass XD3, XS3, XF4 | D34: Betong | E34: 2350 | F34: kg/m3 | G34: 0.164 | H34: 0.13 | I34: Betong, anläggning, generellt värde (C35/45) | J34: Trafikverket Klimatkalkyl v. 8 2015 | K34: Betong platsgjuten, exponeringsklass XD3, XS3, XF4 | L34: Miljökrav för entreprenadens genomförande (MEG) v. 1.0, dat. 2025-01-01 | N34: Lastbil, närdistribution | R34: 35 | S34: 0 | T34: 0 | U34: 0 | V34: 2.5 | W34: 0 | X34: 0 | Y34: 0 | Z34: =SUM(R34:U34) -> 35 | AA34: =IFERROR(((R34*V34)+(S34*W34)+(T34*X34)+(U34*Y34))/Materialtabell[[#This Row],[Transport km]],0) -> 2.5 | AB34: Trafikverket, Platsgjuten betong, 2025-12-09
B35: 31 | C35: Betong: KC-pelare | D35: Betong | E35: 34.6 | F35: kg/m | G35: 1.1601156 | H35: 1.1283237 | I35: KC-pelare | J35: Trafikverket Klimatkalkyl v.8 2015 | K35: KC-pelare | L35: Trafikverket Klimatkalkyl v. 8 2020 | N35: Lastbil, landsvägstransport | O35: Lastbil, närdistribution | R35: 700 | S35: 40 | T35: 0 | U35: 0 | V35: 1 | W35: 2.5 | X35: 0 | Y35: 0 | Z35: =SUM(R35:U35) -> 740 | AA35: =IFERROR(((R35*V35)+(S35*W35)+(T35*X35)+(U35*Y35))/Materialtabell[[#This Row],[Transport km]],0) -> 1.0810811 | AB35: Trafikverket, KC-pelare, v 8.0. | AC35: Trafikverket delar upp transporten för kalk & cement. Kalk transporteras 1000 km med landsvägsdistribution och cement 400 km. Eftersom innehållet är 50/50 räknas transporten som 0,5*1000+0,5*400=700 km. + 40 km närdistribution.
B36: 32 | C36: Betong: Fibercementskiva | D36: Betong | E36: ----- | F36: ----- | G36: 1.09 | H36: 1.09 | I36: Fibercementskiva | J36: Trafikverket Klimatkalkyl v.8 2015 | K36: Fibercementskiva | L36: Trafikverket Klimatkalkyl v. 8 2020 | N36: Lastbil, landsvägstransport | O36: Lastbil, närdistribution | R36: 1000 | S36: 40 | T36: 0 | U36: 0 | V36: 1 | W36: 2.5 | X36: 0 | Y36: 0 | Z36: =SUM(R36:U36) -> 1040 | AA36: =IFERROR(((R36*V36)+(S36*W36)+(T36*X36)+(U36*Y36))/Materialtabell[[#This Row],[Transport km]],0) -> 1.0576923 | AB36: Boverket, Fibercementskiva, Version 02.07.000, 2026-01-21
B37: 33 | C37: Betong: Markplattor, betong, 0-50 mm | D37: Betong | E37: =2400/1000*50 -> 120 | F37: kg/m2 | G37: 0.135 | H37: 0.135 | I37: Betong marksten | J37: CO2data.fi Utsläppsdatabas för infrastrukturbyggande | K37: Betong marksten | L37: CO2data.fi Utsläppsdatabas för infrastrukturbyggande | M37: Klimatkrav Stockholm stad 2025- :0,022 kg CO2e/kg | N37: Lastbil, landsvägstransport | O37: Lastbil, närdistribution | R37: 400 | S37: 40 | T37: 0 | U37: 0 | V37: 1 | W37: 2.5 | X37: 0 | Y37: 0 | Z37: =SUM(R37:U37) -> 440 | AA37: =IFERROR(((R37*V37)+(S37*W37)+(T37*X37)+(U37*Y37))/Materialtabell[[#This Row],[Transport km]],0) -> 1.1363636 | AB37: Trafikverket Prefabricerad Betong, 2025-12-09
B38: 34 | C38: Betong: Markplattor, betong, 50-100 mm | D38: Betong | E38: =2400/1000*100 -> 240 | F38: kg/m2 | G38: 0.135 | H38: 0.135 | I38: Betong marksten | J38: CO2data.fi Utsläppsdatabas för infrastrukturbyggande | K38: Betong marksten | L38: CO2data.fi Utsläppsdatabas för infrastrukturbyggande | N38: Lastbil, landsvägstransport | O38: Lastbil, närdistribution | R38: 400 | S38: 40 | T38: 0 | U38: 0 | V38: 1 | W38: 2.5 | X38: 0 | Y38: 0 | Z38: =SUM(R38:U38) -> 440 | AA38: =IFERROR(((R38*V38)+(S38*W38)+(T38*X38)+(U38*Y38))/Materialtabell[[#This Row],[Transport km]],0) -> 1.1363636 | AB38: Trafikverket Prefabricerad Betong, 2025-12-09
B39: 35 | C39: Betong: Betong anläggning (C30/37), exponeringsklass XC1 | D39: Betong | E39: 2350 | F39: kg/m3 | G39: 0.125 | H39: 0.109 | I39: Cement/Betong platsgjuten | J39: Gemensamma miljökrav för entreprenader 2024 v.1.1, dat. 2024-05-01 | K39: Betong, grundkonstruktioner (C30/37) | L39: Trafikverket Klimatkalkyl v. 8 2020 | N39: Lastbil, närdistribution | R39: 35 | S39: 0 | T39: 0 | U39: 0 | V39: 2.5 | W39: 0 | X39: 0 | Y39: 0 | Z39: =SUM(R39:U39) -> 35 | AA39: =IFERROR(((R39*V39)+(S39*W39)+(T39*X39)+(U39*Y39))/Materialtabell[[#This Row],[Transport km]],0) -> 2.5 | AB39: Trafikverket, Platsgjuten betong, 2025-12-09
B40: 36 | C40: Betong: Betong, anläggning (C32/40) exponeringsklass XD2, XS2, XF2 | D40: Betong | E40: 2350 | F40: kg/m3 | G40: 0.125 | H40: 0.12 | I40: Cement/Betong platsgjuten | J40: Gemensamma miljökrav för entreprenader 2024 v.1.1, dat. 2024-05-01 | K40: Betong platsgjuten, exponeringsklass XD1, XD2, XS2, XF2 | L40: Miljökrav för entreprenadens genomförande (MEG) v. 1.0, dat. 2025-01-01 | M40: Klimatkrav Stockholm stad 2025- :0,13 kg CO2e/kg samt miljövarudeklaration typ III (EPD) | N40: Lastbil, närdistribution | R40: 35 | S40: 0 | T40: 0 | U40: 0 | V40: 2.5 | W40: 0 | X40: 0 | Y40: 0 | Z40: =SUM(R40:U40) -> 35 | AA40: =IFERROR(((R40*V40)+(S40*W40)+(T40*X40)+(U40*Y40))/Materialtabell[[#This Row],[Transport km]],0) -> 2.5 | AB40: Trafikverket, Platsgjuten betong, 2025-12-09
B41: 37 | C41: Betong: Betong, byggnad (C40/50) exponeringsklass XD3 | D41: Betong | E41: 2350 | F41: kg/m3 | G41: 0.145 | H41: 0.13 | I41: Betong, byggnad (C40/50) | J41: Trafikverket Klimatkalkyl v. 8 2015 | K41: Betong platsgjuten, exponeringsklass XD3, XS3, XF4 | L41: Miljökrav för entreprenadens genomförande (MEG) v. 1.0, dat. 2025-01-01 | M41: Klimatkrav Stockholm stad 2025- :0,13 kg CO2e/kg samt miljövarudeklaration typ III (EPD) | N41: Lastbil, regiontransport | R41: 35 | S41: 0 | T41: 0 | U41: 0 | V41: 1.5 | W41: 0 | X41: 0 | Y41: 0 | Z41: =SUM(R41:U41) -> 35 | AA41: =IFERROR(((R41*V41)+(S41*W41)+(T41*X41)+(U41*Y41))/Materialtabell[[#This Row],[Transport km]],0) -> 1.5 | AB41: Boverket, Fabriksbetong, Version 02.07.000, 2026-01-21
B42: 38 | C42: Metall: Stål, varmförzinkat, generellt värde | D42: Metall | E42: 7850 | F42: kg/m3 | G42: 2.6 | H42: 2.39 | I42: Stål, konstruktionsstål, generellt värde, varmförzinkat | J42: Trafikverket Klimatkalkyl v.8 2015 | K42: Stål, konstruktionsstål, generellt värde, varmförzinkat | L42: Trafikverket Klimatkalkyl v. 8 2020 | N42: Lastbil, landsvägstransport | O42: Lastbil, närdistribution | R42: 1000 | S42: 40 | T42: 0 | U42: 0 | V42: 1 | W42: 2.5 | X42: 0 | Y42: 0 | Z42: =SUM(R42:U42) -> 1040 | AA42: =IFERROR(((R42*V42)+(S42*W42)+(T42*X42)+(U42*Y42))/Materialtabell[[#This Row],[Transport km]],0) -> 1.0576923 | AB42: Boverket, Konstruktionsstål, Version 02.07.000, 2026-01-21 | AC42: Beräknas med Boverkets generiska transporter för att avgränsa bort transportavstånd med järnväg, utifrån dialog med Stockholm Stad
B43: 39 | C43: Metall: Stolpe vägmärke 3m, 60mm | D43: Metall | E43: 10 | F43: kg/st | G43: 2.6 | H43: 2.39 | I43: Stål, konstruktionsstål, generellt värde, varmförzinkat | J43: Trafikverket Klimatkalkyl v.8 2015 | K43: Stål, konstruktionsstål, generellt värde, varmförzinkat | L43: Trafikverket Klimatkalkyl v. 8 2020 | M43: Omräkningsfaktor efterhållen ifrån staden | N43: Lastbil, landsvägstransport | O43: Lastbil, närdistribution | R43: 1000 | S43: 40 | T43: 0 | U43: 0 | V43: 1 | W43: 2.5 | X43: 0 | Y43: 0 | Z43: =SUM(R43:U43) -> 1040 | AA43: =IFERROR(((R43*V43)+(S43*W43)+(T43*X43)+(U43*Y43))/Materialtabell[[#This Row],[Transport km]],0) -> 1.0576923 | AB43: Boverket, Konstruktionsstål, Version 02.07.000, 2026-01-21 | AC43: Samma A4 som Stål, varmförzinkat, generellt värde
B44: 40 | C44: Metall: Standardvägmärke, normalstorlek | D44: Metall | E44: 2 | F44: kg/st | G44: 2.6 | H44: 2.39 | I44: Stål, konstruktionsstål, generellt värde, varmförzinkat | J44: Trafikverket Klimatkalkyl v.8 2015 | K44: Stål, konstruktionsstål, generellt värde, varmförzinkat | L44: Trafikverket Klimatkalkyl v. 8 2020 | M44: Omräkningsfaktor efterhållen ifrån staden | N44: Lastbil, landsvägstransport | O44: Lastbil, närdistribution | R44: 1000 | S44: 40 | T44: 0 | U44: 0 | V44: 1 | W44: 2.5 | X44: 0 | Y44: 0 | Z44: =SUM(R44:U44) -> 1040 | AA44: =IFERROR(((R44*V44)+(S44*W44)+(T44*X44)+(U44*Y44))/Materialtabell[[#This Row],[Transport km]],0) -> 1.0576923 | AB44: Boverket, Konstruktionsstål, Version 02.07.000, 2026-01-21 | AC44: Samma A4 som Stål, varmförzinkat, generellt värde
B45: 41 | C45: Metall: Stål, konstruktionsstål, generellt värde, ej varmförzinkat | D45: Metall | E45: 7850 | F45: kg/m3 | G45: 2.27 | H45: 2.27 | I45: Stål, konstruktionsstål, generellt värde, ej varmförzinkat | J45: Trafikverket Klimatkalkyl v.8 2015 | K45: Stål, konstruktionsstål, generellt värde, ej varmförzinkat | L45: Trafikverket Klimatkalkyl v. 8 2020 | N45: Lastbil, landsvägstransport | O45: Lastbil, närdistribution | R45: 1000 | S45: 40 | T45: 0 | U45: 0 | V45: 1 | W45: 2.5 | X45: 0 | Y45: 0 | Z45: =SUM(R45:U45) -> 1040 | AA45: =IFERROR(((R45*V45)+(S45*W45)+(T45*X45)+(U45*Y45))/Materialtabell[[#This Row],[Transport km]],0) -> 1.0576923 | AB45: Boverket, Konstruktionsstål, Version 02.07.000, 2026-01-21 | AC45: Beräknas med Boverkets generiska transporter för att avgränsa bort transportavstånd med järnväg, utifrån dialog med Stockholm Stad
B46: 42 | C46: Metall: Stål, rostfritt, generellt värde | D46: Metall | E46: 7850 | F46: kg/m3 | G46: 3.42 | H46: 3.42 | I46: Stål, rostfritt, generellt värde | J46: Trafikverket Klimatkalkyl v.8 2015 | K46: Stål, rostfritt, generellt värde | L46: Trafikverket Klimatkalkyl v. 8 2020 | N46: Lastbil, landsvägstransport | O46: Lastbil, närdistribution | R46: 1000 | S46: 40 | T46: 0 | U46: 0 | V46: 1 | W46: 2.5 | X46: 0 | Y46: 0 | Z46: =SUM(R46:U46) -> 1040 | AA46: =IFERROR(((R46*V46)+(S46*W46)+(T46*X46)+(U46*Y46))/Materialtabell[[#This Row],[Transport km]],0) -> 1.0576923 | AB46: Boverket, Konstruktionsstål, Version 02.07.000, 2026-01-21 | AC46: Beräknas med Boverkets generiska transporter för att avgränsa bort transportavstånd med järnväg, utifrån dialog med Stockholm Stad
B47: 43 | C47: Metall: Aluminium | D47: Metall | E47: 2700 | F47: kg/m3 | G47: 9.16 | H47: 8.02 | I47: Aluminium | J47: Trafikverket Klimatkalkyl v.8 2015 | K47: Aluminium | L47: Trafikverket Klimatkalkyl v. 8 2020 | M47: Klimatkrav Stockholm stad: Krav på miljövarudeklaration typ III (EPD) | N47: Lastbil landsvägstransport | O47: Lastbil närdistribution, från byggvaruhandeln | R47: 400 | S47: 40 | T47: 0 | U47: 0 | V47: 1 | W47: 2.5 | X47: 0 | Y47: 0 | Z47: =SUM(R47:U47) -> 440 | AA47: =IFERROR(((R47*V47)+(S47*W47)+(T47*X47)+(U47*Y47))/Materialtabell[[#This Row],[Transport km]],0) -> 1.1363636 | AB47: Trafikverket klimatkalkyl, Aluminium, 2024-01-25
B48: 44 | C48: Metall: Stål, armeringsstänger, slakarmering | D48: Metall | E48: 7850 | F48: kg/m3 | G48: 0.7 | H48: 0.519 | I48: Armering, stål, slakarmering (stång) | J48: Trafikverket Klimatkalkyl v.8 2015 | K48: Armering, stål, slakarmering (stång) | L48: Trafikverket Klimatkalkyl v. 8 2020 | N48: Lastbil, landsvägstransport | O48: Lastbil, närdistribution | R48: 1000 | S48: 40 | T48: 0 | U48: 0 | V48: 1 | W48: 2.5 | X48: 0 | Y48: 0 | Z48: =SUM(R48:U48) -> 1040 | AA48: =IFERROR(((R48*V48)+(S48*W48)+(T48*X48)+(U48*Y48))/Materialtabell[[#This Row],[Transport km]],0) -> 1.0576923 | AB48: Boverket, Konstruktionsstål, Version 02.07.000, 2026-01-21 | AC48: Beräknas med Boverkets generiska transporter för att avgränsa bort transportavstånd med järnväg, utifrån dialog med Stockholm Stad
B49: 45 | C49: Metall: Stål, armeringstråd, spännarmering | D49: Metall | E49: 7850 | F49: kg/m3 | G49: 1.77 | H49: 1.77 | I49: Armering, stål, spännarmering (tråd) | J49: Trafikverket Klimatkalkyl v.8 2015 | K49: Armering, stål, spännarmering (tråd) | L49: Trafikverket Klimatkalkyl v. 8 2020 | N49: Lastbil, landsvägstransport | O49: Lastbil, närdistribution | R49: 1000 | S49: 40 | T49: 0 | U49: 0 | V49: 1 | W49: 2.5 | X49: 0 | Y49: 0 | Z49: =SUM(R49:U49) -> 1040 | AA49: =IFERROR(((R49*V49)+(S49*W49)+(T49*X49)+(U49*Y49))/Materialtabell[[#This Row],[Transport km]],0) -> 1.0576923 | AB49: Boverket, Konstruktionsstål, Version 02.07.000, 2026-01-21 | AC49: Beräknas med Boverkets generiska transporter för att avgränsa bort transportavstånd med järnväg, utifrån dialog med Stockholm Stad
B50: 46 | C50: Metall: Stål, rosttrögt stål/cortenstål | D50: Metall | E50: 7850 | F50: kg/m3 | G50: 2.6 | H50: 2.6 | I50: Stålplåt för tak och väggar, varmförzinkad, målad eller omålad eller på COR-TEN-yta | J50: CO2data.fi Utsläppsdatabas för infrastrukturbyggande | K50: Stålplåt för tak och väggar, varmförzinkad, målad eller omålad eller på COR-TEN-yta | L50: CO2data.fi Utsläppsdatabas för infrastrukturbyggande | M50: Klimatkrav Stockholm stad: Krav på miljövarudeklaration typ III (EPD) | N50: Lastbil, landsvägstransport | O50: Lastbil, närdistribution | R50: 1000 | S50: 40 | T50: 0 | U50: 0 | V50: 1 | W50: 2.5 | X50: 0 | Y50: 0 | Z50: =SUM(R50:U50) -> 1040 | AA50: =IFERROR(((R50*V50)+(S50*W50)+(T50*X50)+(U50*Y50))/Materialtabell[[#This Row],[Transport km]],0) -> 1.0576923 | AB50: Boverket, Konstruktionsstål, Version 02.07.000, 2026-01-21 | AC50: Beräknas med Boverkets generiska transporter för att avgränsa bort transportavstånd med järnväg, utifrån dialog med Stockholm Stad
B51: 47 | C51: Metall: Koppartråd | D51: Metall | E51: ----- | F51: ----- | G51: 4.36 | H51: 4.36 | I51: Koppartråd | J51: Trafikverket Klimatkalkyl v.8 2015 | K51: Koppartråd | L51: Trafikverket Klimatkalkyl v. 8 2020 | N51: Lastbil landsvägstransport | R51: 1000 | S51: 0 | T51: 0 | U51: 0 | V51: 1 | W51: 0 | X51: 0 | Y51: 0 | Z51: =SUM(R51:U51) -> 1000 | AA51: =IFERROR(((R51*V51)+(S51*W51)+(T51*X51)+(U51*Y51))/Materialtabell[[#This Row],[Transport km]],0) -> 1 | AB51: Trafikverket klimatkalkyl, Koppar, 2024-01-25
B52: 48 | C52: Plast: Cellplast, expanderad polystyren (lättfyllnadsmaterial) | D52: Plast | E52: 30 | F52: kg/m3 | G52: 3.24 | H52: 3.24 | I52: Cellplast, expanderad polystyren (EPS) och extruderad polystyren (XPS) | J52: Trafikverket Klimatkalkyl v.8 2015 | K52: Cellplast, expanderad polystyren (EPS) och extruderad polystyren (XPS) | L52: Trafikverket Klimatkalkyl v. 8 2020 | M52: Klimatkrav Stockholm stad: Krav på miljövarudeklaration typ III (EPD) | N52: Lastbil, landsvägstransport | O52: Lastbil, närdistribution | R52: 800 | S52: 40 | T52: 0 | U52: 0 | V52: 1 | W52: 2.5 | X52: 0 | Y52: 0 | Z52: =SUM(R52:U52) -> 840 | AA52: =IFERROR(((R52*V52)+(S52*W52)+(T52*X52)+(U52*Y52))/Materialtabell[[#This Row],[Transport km]],0) -> 1.0714286 | AB52: Trafikverkets klimatkalkyl, Cellplast, 2024-01-25
B53: 49 | C53: Plast: Geotextil, PP textil | D53: Plast | E53: 0.26 | F53: kg/m2 | G53: 2.92 | H53: 2.92 | I53: Geotextil | J53: Trafikverket Klimatkalkyl v.8 2015 | K53: Geotextil | L53: Trafikverket Klimatkalkyl v. 8 2020 | N53: Lastbil, landsvägstransport | R53: 1000 | S53: 0 | T53: 0 | U53: 0 | V53: 1 | W53: 0 | X53: 0 | Y53: 0 | Z53: =SUM(R53:U53) -> 1000 | AA53: =IFERROR(((R53*V53)+(S53*W53)+(T53*X53)+(U53*Y53))/Materialtabell[[#This Row],[Transport km]],0) -> 1 | AB53: Trafikverkets klimatkalkyl, Geotextil, 2024-01-25
B54: 50 | C54: Plast: Ledning av plaströr, dränrör dim 200 | D54: Plast | E54: 2 | F54: kg/m | G54: 1.8 | H54: 1.8 | I54: Ledning av plaströr, dränrör dim 200 | J54: Trafikverket Klimatkalkyl v.8 2015 | K54: Ledning av plaströr, dränrör dim 200 | L54: Trafikverket Klimatkalkyl v. 8 2020 | M54: Omräkningsfaktor efterhållen ifrån staden | N54: Lastbil, landsvägstransport | O54: Lastbil, närdistribution | R54: 500 | S54: 40 | T54: 0 | U54: 0 | V54: 1 | W54: 2.5 | X54: 0 | Y54: 0 | Z54: =SUM(R54:U54) -> 540 | AA54: =IFERROR(((R54*V54)+(S54*W54)+(T54*X54)+(U54*Y54))/Materialtabell[[#This Row],[Transport km]],0) -> 1.1111111 | AB54: Trafikverkets klimatkalkyl, Ledning av plaströr dränrör, v8.0
B55: 51 | C55: Plast: Ledning av plaströr, dränrör dim 110 | D55: Plast | E55: 0.5 | F55: kg/m | G55: 1.8 | H55: 1.8 | I55: Ledning av plaströr, dränrör dim 200 | J55: Trafikverket Klimatkalkyl v.8 2015 | K55: Ledning av plaströr, dränrör dim 200 | L55: Trafikverket Klimatkalkyl v. 8 2020 | M55: Omräkningsfaktor efterhållen ifrån staden | N55: Lastbil, landsvägstransport | O55: Lastbil, närdistribution | R55: 500 | S55: 40 | T55: 0 | U55: 0 | V55: 1 | W55: 2.5 | X55: 0 | Y55: 0 | Z55: =SUM(R55:U55) -> 540 | AA55: =IFERROR(((R55*V55)+(S55*W55)+(T55*X55)+(U55*Y55))/Materialtabell[[#This Row],[Transport km]],0) -> 1.1111111 | AB55: Trafikverkets klimatkalkyl, Ledning av plaströr dränrör, v8.0
B56: 52 | C56: Plast: Ledning av plaströr, dim 225 | D56: Plast | E56: 2 | F56: kg/m | G56: 1.8 | H56: 1.8 | I56: Ledning av plaströr, markavloppsrör dim 225 | J56: Trafikverket Klimatkalkyl v.8 2015 | K56: Ledning av plaströr, markavloppsrör dim 225 | L56: Trafikverket Klimatkalkyl v. 8 2020 | M56: Omräkningsfaktor efterhållen ifrån staden | N56: Lastbil, landsvägstransport | O56: Lastbil, närdistribution | R56: 500 | S56: 40 | T56: 0 | U56: 0 | V56: 1 | W56: 2.5 | X56: 0 | Y56: 0 | Z56: =SUM(R56:U56) -> 540 | AA56: =IFERROR(((R56*V56)+(S56*W56)+(T56*X56)+(U56*Y56))/Materialtabell[[#This Row],[Transport km]],0) -> 1.1111111 | AB56: Trafikverkets klimatkalkyl, Ledning av plaströr markavloppsrör, v8.0
B57: 53 | C57: Plast: Ledning av plaströr, dim 400 | D57: Plast | E57: 8 | F57: kg/m | G57: 1.8 | H57: 1.8 | I57: Ledning av plaströr, markavloppsrör dim 225 | J57: Trafikverket Klimatkalkyl v.8 2015 | K57: Ledning av plaströr, markavloppsrör dim 225 | L57: Trafikverket Klimatkalkyl v. 8 2020 | M57: Omräkningsfaktor efterhållen ifrån staden | N57: Lastbil, landsvägstransport | O57: Lastbil, närdistribution | R57: 500 | S57: 40 | T57: 0 | U57: 0 | V57: 1 | W57: 2.5 | X57: 0 | Y57: 0 | Z57: =SUM(R57:U57) -> 540 | AA57: =IFERROR(((R57*V57)+(S57*W57)+(T57*X57)+(U57*Y57))/Materialtabell[[#This Row],[Transport km]],0) -> 1.1111111 | AB57: Trafikverkets klimatkalkyl, Ledning av plaströr dränrör, v8.0
B58: 54 | C58: Plast: Polyamide, PA | D58: Plast | E58: ----- | F58: ----- | G58: 6.4 | H58: 6.4 | I58: Polyamide, PA | J58: Trafikverket Klimatkalkyl v.8 2015 | K58: Polyamide, PA | L58: Trafikverket Klimatkalkyl v. 8 2020 | N58: Lastbil, landsvägstransport | O58: Lastbil, närdistribution | R58: 500 | S58: 40 | T58: 0 | U58: 0 | V58: 1 | W58: 2.5 | X58: 0 | Y58: 0 | Z58: =SUM(R58:U58) -> 540 | AA58: =IFERROR(((R58*V58)+(S58*W58)+(T58*X58)+(U58*Y58))/Materialtabell[[#This Row],[Transport km]],0) -> 1.1111111 | AB58: Trafikverkets klimatkalkyl, Polyamid PA, 2024-01-25
B59: 55 | C59: Plast: Polyeten, HDPE | D59: Plast | E59: ----- | F59: ----- | G59: 1.8 | H59: 1.8 | I59: Polyeten, HDPE | J59: Trafikverket Klimatkalkyl v.8 2015 | K59: Polyeten, HDPE | L59: Trafikverket Klimatkalkyl v. 8 2020 | N59: Lastbil, landsvägstransport | O59: Lastbil, närdistribution | R59: 500 | S59: 40 | T59: 0 | U59: 0 | V59: 1 | W59: 2.5 | X59: 0 | Y59: 0 | Z59: =SUM(R59:U59) -> 540 | AA59: =IFERROR(((R59*V59)+(S59*W59)+(T59*X59)+(U59*Y59))/Materialtabell[[#This Row],[Transport km]],0) -> 1.1111111 | AB59: Trafikverkets klimatkalkyl, Polyeten HDPE, 2024-01-25
B60: 56 | C60: Plast: Polyeten, LDPE | D60: Plast | E60: ----- | F60: ----- | G60: 1.9 | H60: 1.9 | I60: Polyeten, LDPE | J60: Trafikverket Klimatkalkyl v.8 2015 | K60: Polyeten, LDPE | L60: Trafikverket Klimatkalkyl v. 8 2020 | N60: Lastbil, landsvägstransport | O60: Lastbil, närdistribution | R60: 500 | S60: 40 | T60: 0 | U60: 0 | V60: 1 | W60: 2.5 | X60: 0 | Y60: 0 | Z60: =SUM(R60:U60) -> 540 | AA60: =IFERROR(((R60*V60)+(S60*W60)+(T60*X60)+(U60*Y60))/Materialtabell[[#This Row],[Transport km]],0) -> 1.1111111 | AB60: Trafikverkets klimatkalkyl, Polyeten LDPE, 2024-01-25
B61: 57 | C61: Plast: Polypropylen, PP | D61: Plast | E61: ----- | F61: ----- | G61: 1.44 | H61: 1.44 | I61: Polypropylen, PP | J61: Trafikverket Klimatkalkyl v.8 2015 | K61: Polypropylen, PP | L61: Trafikverket Klimatkalkyl v. 8 2020 | N61: Lastbil, landsvägstransport | O61: Lastbil, närdistribution | R61: 500 | S61: 40 | T61: 0 | U61: 0 | V61: 1 | W61: 2.5 | X61: 0 | Y61: 0 | Z61: =SUM(R61:U61) -> 540 | AA61: =IFERROR(((R61*V61)+(S61*W61)+(T61*X61)+(U61*Y61))/Materialtabell[[#This Row],[Transport km]],0) -> 1.1111111 | AB61: Trafikverkets klimatkalkyl, Polypropylen PP, 2024-01-25
B62: 58 | C62: Plast: PVC | D62: Plast | E62: ----- | F62: ----- | G62: 2.56 | H62: 2.56 | I62: PVC | J62: Trafikverket Klimatkalkyl v.8 2015 | K62: PVC | L62: Trafikverket Klimatkalkyl v. 8 2020 | N62: Lastbil, landsvägstransport | O62: Lastbil, närdistribution | R62: 500 | S62: 40 | T62: 0 | U62: 0 | V62: 1 | W62: 2.5 | X62: 0 | Y62: 0 | Z62: =SUM(R62:U62) -> 540 | AA62: =IFERROR(((R62*V62)+(S62*W62)+(T62*X62)+(U62*Y62))/Materialtabell[[#This Row],[Transport km]],0) -> 1.1111111 | AB62: PVC har ej någon transportsträcka angedd i Trafikverkets klimatkalkyl. Boverket har transport för takduk PVC, vilken överensstämmer med Trafikverkets transporter för övriga plasttyper. Räknar därför med samma värde.
B63: 59 | C63: Anläggningssten: Anläggningssten, generellt värde | D63: Anläggningssten | E63: 2719 | F63: kg/m3 | G63: 0.05 | H63: 0.05 | I63: Anläggningssten | J63: Trafikverket Klimatkalkyl v.8 2015 | K63: Anläggningssten | L63: Trafikverket Klimatkalkyl v. 8 2020 | M63: Klimatkrav Stockholm stad 2025- : 0,038 kg CO2e/kg | N63: Lastbil landsvägstransport | O63: Lastbil närdistribution, från byggvaruhandeln | R63: 400 | S63: 40 | T63: 0 | U63: 0 | V63: 1 | W63: 2.5 | X63: 0 | Y63: 0 | Z63: =SUM(R63:U63) -> 440 | AA63: =IFERROR(((R63*V63)+(S63*W63)+(T63*X63)+(U63*Y63))/Materialtabell[[#This Row],[Transport km]],0) -> 1.1363636 | AB63: Trafikverket klimatkalkyl, Anläggningssten, 2024-04-26
B64: 60 | C64: Anläggningssten: Smågatsten | D64: Anläggningssten | E64: 200 | F64: kg/m2 | G64: 0.05 | H64: 0.05 | I64: Anläggningssten | J64: Trafikverket Klimatkalkyl v.8 2015 | K64: Anläggningssten | L64: Trafikverket Klimatkalkyl v. 8 2020 | M64: Omräkningsfaktor efterhållen ifrån staden | N64: Lastbil landsvägstransport | O64: Lastbil närdistribution, från byggvaruhandeln | R64: 400 | S64: 40 | T64: 0 | U64: 0 | V64: 1 | W64: 2.5 | X64: 0 | Y64: 0 | Z64: =SUM(R64:U64) -> 440 | AA64: =IFERROR(((R64*V64)+(S64*W64)+(T64*X64)+(U64*Y64))/Materialtabell[[#This Row],[Transport km]],0) -> 1.1363636 | AB64: Trafikverket klimatkalkyl, Anläggningssten, 2024-04-26
B65: 61 | C65: Anläggningssten: Storgatsten | D65: Anläggningssten | E65: 320 | F65: kg/m2 | G65: 0.05 | H65: 0.05 | I65: Anläggningssten | J65: Trafikverket Klimatkalkyl v.8 2015 | K65: Anläggningssten | L65: Trafikverket Klimatkalkyl v. 8 2020 | M65: Omräkningsfaktor efterhållen ifrån staden | N65: Lastbil landsvägstransport | O65: Lastbil närdistribution, från byggvaruhandeln | R65: 400 | S65: 40 | T65: 0 | U65: 0 | V65: 1 | W65: 2.5 | X65: 0 | Y65: 0 | Z65: =SUM(R65:U65) -> 440 | AA65: =IFERROR(((R65*V65)+(S65*W65)+(T65*X65)+(U65*Y65))/Materialtabell[[#This Row],[Transport km]],0) -> 1.1363636 | AB65: Trafikverket klimatkalkyl, Anläggningssten, 2024-04-26
B66: 62 | C66: Anläggningssten: Naturstensplattor, 70 mm | D66: Anläggningssten | E66: 185 | F66: kg/m2 | G66: 0.05 | H66: 0.05 | I66: Anläggningssten | J66: Trafikverket Klimatkalkyl v.8 2015 | K66: Anläggningssten | L66: Trafikverket Klimatkalkyl v. 8 2020 | M66: Omräkningsfaktor efterhållen ifrån staden | N66: Lastbil landsvägstransport | O66: Lastbil närdistribution, från byggvaruhandeln | R66: 400 | S66: 40 | T66: 0 | U66: 0 | V66: 1 | W66: 2.5 | X66: 0 | Y66: 0 | Z66: =SUM(R66:U66) -> 440 | AA66: =IFERROR(((R66*V66)+(S66*W66)+(T66*X66)+(U66*Y66))/Materialtabell[[#This Row],[Transport km]],0) -> 1.1363636 | AB66: Trafikverket klimatkalkyl, Anläggningssten, 2024-04-26
B67: 63 | C67: Anläggningssten: Granitkantstöd, generellt värde | D67: Anläggningssten | E67: 120 | F67: kg/m | G67: 0.104 | H67: 0.104 | I67: Granit, generellt värde | J67: CO2data.fi Utsläppsdatabas för infrastrukturbyggande | K67: Granit, generellt värde | L67: CO2data.fi Utsläppsdatabas för infrastrukturbyggande | M67: Samma A1-3 som Granit, generellt värde | N67: Lastbil, landsvägstransport | O67: Lastbil, närdistribution | R67: 600 | S67: 40 | T67: 0 | U67: 0 | V67: 1 | W67: 2.5 | X67: 0 | Y67: 0 | Z67: =SUM(R67:U67) -> 640 | AA67: =IFERROR(((R67*V67)+(S67*W67)+(T67*X67)+(U67*Y67))/Materialtabell[[#This Row],[Transport km]],0) -> 1.09375 | AB67: EPD: S-P-04621 EPD: HUB-2126 | AC67: Samma A4 som Granit, generellt värde. Klimatdata för granit kommer från CO2data.fi, vilka ej anger transporter. Information om transport tas ifrån EPD:er för svensk granit. Saknas information om generisk transportsträcka, men produktionsorter finns i Lysekil, Skåne och Öland. Från dessa platser är det ca 500-600 km till Stockholm. Antagande görs om att använda samma transportsätt som för marktegel (Boverket, Tegelsten, Version 02.07.000, 2026-01-21).
B68: 64 | C68: Anläggningssten: Granitkantstöd, generellt värde, tillverkad i Kina | D68: Anläggningssten | E68: 120 | F68: kg/m | G68: 0.24 | H68: 0.24 | I68: Granit, generellt värde (Kina) | J68: CO2data.fi Utsläppsdatabas för infrastrukturbyggande | K68: Granit, generellt värde (Kina) | L68: CO2data.fi Utsläppsdatabas för infrastrukturbyggande | M68: Samma A1-3 som Granit, generellt värde, tillverkad i Kina | N68: Lastbil, regionaltransport | O68: Båt, högsjöfart | P68: Lastbil, regionaltransport | R68: 220 | S68: 21000 | T68: 125 | U68: 0 | V68: 1.5 | W68: 0.2 | X68: 1.5 | Y68: 0 | Z68: =SUM(R68:U68) -> 21345 | AA68: =IFERROR(((R68*V68)+(S68*W68)+(T68*X68)+(U68*Y68))/Materialtabell[[#This Row],[Transport km]],0) -> 0.22101195 | AB68: EPD: S-P-13485 | AC68: Samma A4 som Granit, generellt värde, tillverkad i Kina. Transport för granit från Kina finns ej tillgängligt i generiska databaser. Räknar med transporter från EPD som representerar granitprodukter från fabrik i Kina som fraktas till Sverige/Norge. Räknar med regionaltransport istället för landsvägstransport för att ta höjd då lastbilstyp ej angavs.
B69: 65 | C69: Anläggningssten: Granit, generellt värde | D69: Anläggningssten | E69: 2700 | F69: kg/m3 | G69: 0.104 | H69: 0.104 | I69: Granit, generellt värde | J69: CO2data.fi Utsläppsdatabas för infrastrukturbyggande | K69: Granit, generellt värde | L69: CO2data.fi Utsläppsdatabas för infrastrukturbyggande | N69: Lastbil, landsvägstransport | O69: Lastbil, närdistribution | R69: 600 | S69: 40 | T69: 0 | U69: 0 | V69: 1 | W69: 2.5 | X69: 0 | Y69: 0 | Z69: =SUM(R69:U69) -> 640 | AA69: =IFERROR(((R69*V69)+(S69*W69)+(T69*X69)+(U69*Y69))/Materialtabell[[#This Row],[Transport km]],0) -> 1.09375 | AB69: EPD: S-P-04621 EPD: HUB-2126 | AC69: Klimatdata för granit kommer från CO2data.fi, vilka ej anger transporter. Information om transport tas ifrån EPD:er för svensk granit. Saknas information om generisk transportsträcka, men produktionsorter finns i Lysekil, Skåne och Öland. Från dessa platser är det ca 500-600 km till Stockholm. Antagande görs om att använda samma transportsätt som för marktegel (Boverket, Tegelsten, Version 02.07.000, 2026-01-21).
B70: 66 | C70: Anläggningssten: Granit, generellt värde, tillverkad i Kina | D70: Anläggningssten | E70: 2700 | F70: kg/m3 | G70: 0.24 | H70: 0.24 | I70: Granit, generellt värde (Kina) | J70: CO2data.fi Utsläppsdatabas för infrastrukturbyggande | K70: Granit, generellt värde (Kina) | L70: CO2data.fi Utsläppsdatabas för infrastrukturbyggande | N70: Lastbil, regionaltransport | O70: Båt, högsjöfart | P70: Lastbil, regionaltransport | R70: 220 | S70: 21000 | T70: 125 | U70: 0 | V70: 1.5 | W70: 0.2 | X70: 1.5 | Y70: 0 | Z70: =SUM(R70:U70) -> 21345 | AA70: =IFERROR(((R70*V70)+(S70*W70)+(T70*X70)+(U70*Y70))/Materialtabell[[#This Row],[Transport km]],0) -> 0.22101195 | AB70: EPD: S-P-13485 | AC70: Transport för granit från Kina finns ej tillgängligt i generiska databaser. Räknar med transporter från EPD som representerar granitprodukter från fabrik i Kina som fraktas till Sverige/Norge. Räknar med regionaltransport istället för landsvägstransport för att ta höjd då lastbilstyp ej angavs.
B71: 67 | C71: Schakt: Jordschakt Fall A | D71: Schakt | E71: 1600 | F71: kg/m3 | G71: 0 | H71: 0 | I71: Jordschakt Fall A (emissionsfaktor Massor) | J71: Trafikverket Klimatkalkyl v.8 2015 | K71: Jordschakt Fall A (emissionsfaktor Massor) | L71: Trafikverket Klimatkalkyl v. 8 2020 | N71: Dumper | O71: - | R71: 2 | S71: 0 | T71: 0 | U71: 0 | V71: 6.27 | W71: 0 | X71: 0 | Y71: 0 | Z71: =SUM(R71:U71) -> 2 | AA71: =IFERROR(((R71*V71)+(S71*W71)+(T71*X71)+(U71*Y71))/Materialtabell[[#This Row],[Transport km]],0) -> 6.27 | AB71: Trafikverket klimatkalkyl, Fall A-upplag, 2025-12-09 | AC71: För fall A sker transport inom projektområdet enligt info i Trafikverkets klimatkalkyl-verktyg.
B72: 68 | C72: Schakt: Jordschakt Fall B | D72: Schakt | E72: 1600 | F72: kg/m3 | G72: 0 | H72: 0 | I72: Jordschakt Fall B (emissionsfaktor Massor) | J72: Trafikverket Klimatkalkyl v.8 2015 | K72: Jordschakt Fall B (emissionsfaktor Massor) | L72: Trafikverket Klimatkalkyl v. 8 2020 | N72: Lastbil, regionaltransport | O72: - | R72: 30 | S72: 0 | T72: 0 | U72: 0 | V72: 1.5 | W72: 0 | X72: 0 | Y72: 0 | Z72: =SUM(R72:U72) -> 30 | AA72: =IFERROR(((R72*V72)+(S72*W72)+(T72*X72)+(U72*Y72))/Materialtabell[[#This Row],[Transport km]],0) -> 1.5 | AB72: Trafikverket klimatkalkyl, Fall B-upplag, 2025-12-09
B73: 69 | C73: Schakt: Bergschakt fall A | D73: Schakt | E73: 2700 | F73: kg/m3 | G73: 0.00098148148 | H73: 0.00048888889 | I73: Bergschakt Fall A (emissionsfaktorer Massor, Sprängämne) | J73: Trafikverket Klimatkalkyl v.8 2015 | K73: Bergschakt Fall A (emissionsfaktorer Massor, Sprängämne) | L73: Trafikverket Klimatkalkyl v. 8 2020 | N73: Dumper | O73: - | R73: 2 | S73: 0 | T73: 0 | U73: 0 | V73: 6.27 | W73: 0 | X73: 0 | Y73: 0 | Z73: =SUM(R73:U73) -> 2 | AA73: =IFERROR(((R73*V73)+(S73*W73)+(T73*X73)+(U73*Y73))/Materialtabell[[#This Row],[Transport km]],0) -> 6.27 | AB73: Trafikverket klimatkalkyl, Fall A-upplag, 2025-12-09 | AC73: För fall A sker transport inom projektområdet enligt info i Trafikverkets klimatkalkyl-verktyg.
B74: 70 | C74: Schakt: Bergschakt fall B | D74: Schakt | E74: 2700 | F74: kg/m3 | G74: 0.00098148148 | H74: 0.00048888889 | I74: Bergschakt Fall B (emissionsfaktorer Massor, Sprängämne) | J74: Trafikverket Klimatkalkyl v.8 2015 | K74: Bergschakt Fall B (emissionsfaktorer Massor, Sprängämne) | L74: Trafikverket Klimatkalkyl v. 8 2020 | N74: Lastbil, regionaltransport | O74: - | R74: 30 | S74: 0 | T74: 0 | U74: 0 | V74: 1.5 | W74: 0 | X74: 0 | Y74: 0 | Z74: =SUM(R74:U74) -> 30 | AA74: =IFERROR(((R74*V74)+(S74*W74)+(T74*X74)+(U74*Y74))/Materialtabell[[#This Row],[Transport km]],0) -> 1.5 | AB74: Trafikverket klimatkalkyl, Fall B-upplag, 2025-12-09
B75: 71 | C75: Fyll: Jord Fall A, fyll | D75: Fyll | E75: 1600 | F75: kg/m3 | G75: 0 | H75: 0 | I75: Jord Fall A, Fyll (emissionsfaktor Massor) | J75: Trafikverket Klimatkalkyl v.8 2015 | K75: Jord Fall A, Fyll (emissionsfaktor Massor) | L75: Trafikverket Klimatkalkyl v. 8 2020 | M75: Klimatkrav Stockholm stad: Krav på miljövarudeklaration typ III (EPD) | N75: Dumper | O75: - | R75: 2 | S75: 0 | T75: 0 | U75: 0 | V75: 6.27 | W75: 0 | X75: 0 | Y75: 0 | Z75: =SUM(R75:U75) -> 2 | AA75: =IFERROR(((R75*V75)+(S75*W75)+(T75*X75)+(U75*Y75))/Materialtabell[[#This Row],[Transport km]],0) -> 6.27 | AB75: Trafikverket klimatkalkyl, Fall A-upplag, 2025-12-09 | AC75: För fall A sker transport inom projektområdet enligt info i Trafikverkets klimatkalkyl-verktyg.
B76: 72 | C76: Fyll: Jord Fall B, fyll | D76: Fyll | E76: 1600 | F76: kg/m3 | G76: 0.0003 | H76: 0.0003 | I76: Jord Fall B, Fyll (emissionsfaktor Jord) | J76: Trafikverket Klimatkalkyl v.8 2015 | K76: Jord Fall B, Fyll (emissionsfaktor Jord) | L76: Trafikverket Klimatkalkyl v. 8 2020 | N76: Lastbil, regionaltransport | O76: - | R76: 30 | S76: 0 | T76: 0 | U76: 0 | V76: 1.5 | W76: 0 | X76: 0 | Y76: 0 | Z76: =SUM(R76:U76) -> 30 | AA76: =IFERROR(((R76*V76)+(S76*W76)+(T76*X76)+(U76*Y76))/Materialtabell[[#This Row],[Transport km]],0) -> 1.5 | AB76: Trafikverket klimatkalkyl, Fall B-upplag, 2025-12-09
B77: 73 | C77: Fyll: Berg Fall A, fyll | D77: Fyll | E77: 1800 | F77: kg/m3 | G77: 0 | H77: 0 | I77: Berg Fall A, Fyll (emissionsfaktor Massor) | J77: Trafikverket Klimatkalkyl v.8 2015 | K77: Berg Fall A, Fyll (emissionsfaktor Massor) | L77: Trafikverket Klimatkalkyl v. 8 2020 | N77: Dumper | O77: - | R77: 2 | S77: 0 | T77: 0 | U77: 0 | V77: 6.27 | W77: 0 | X77: 0 | Y77: 0 | Z77: =SUM(R77:U77) -> 2 | AA77: =IFERROR(((R77*V77)+(S77*W77)+(T77*X77)+(U77*Y77))/Materialtabell[[#This Row],[Transport km]],0) -> 6.27 | AB77: Trafikverket klimatkalkyl, Fall A-upplag, 2025-12-09 | AC77: För fall A sker transport inom projektområdet enligt info i Trafikverkets klimatkalkyl-verktyg.
B78: 74 | C78: Fyll: Berg Fall B, fyll | D78: Fyll | E78: 1800 | F78: kg/m3 | G78: 0.004 | H78: 0.003 | I78: Berg Fall B, Fyll (emissionsfaktor Krossmaterial) | J78: Trafikverket Klimatkalkyl v.8 2015 | K78: Berg Fall B, Fyll (emissionsfaktor Krossmaterial) | L78: Trafikverket Klimatkalkyl v. 8 2020 | N78: Lastbil, regionaltransport | O78: - | R78: 30 | S78: 0 | T78: 0 | U78: 0 | V78: 1.5 | W78: 0 | X78: 0 | Y78: 0 | Z78: =SUM(R78:U78) -> 30 | AA78: =IFERROR(((R78*V78)+(S78*W78)+(T78*X78)+(U78*Y78))/Materialtabell[[#This Row],[Transport km]],0) -> 1.5 | AB78: Trafikverket klimatkalkyl, Fall B-upplag, 2025-12-09
B79: 75 | C79: Teknisk massa: Krossmaterial, generellt värde | D79: Teknisk massa | E79: 1800 | F79: kg/m3 | G79: 0.004 | H79: 0.003 | I79: Krossmaterial | J79: Trafikverket Klimatkalkyl v.8 2015 | K79: Krossmaterial | L79: Trafikverket Klimatkalkyl v. 8 2020 | N79: Lastbil, regionaltransport | R79: 30 | S79: 0 | T79: 0 | U79: 0 | V79: 1.5 | W79: 0 | X79: 0 | Y79: 0 | Z79: =SUM(R79:U79) -> 30 | AA79: =IFERROR(((R79*V79)+(S79*W79)+(T79*X79)+(U79*Y79))/Materialtabell[[#This Row],[Transport km]],0) -> 1.5 | AB79: Trafikverket, klimatkalkyl, 2024-01-25 | AC79: Finns ej transport för generellt krossmaterial, men samtligt krossmaterial i Trafikverkets databas har samma transportsträcka, därför används denna.
B80: 76 | C80: Teknisk massa: Bärlager, 80 mm | D80: Teknisk massa | E80: =1800/1000*80 -> 144 | F80: kg/m2 | G80: 0.004 | H80: 0.003 | I80: Krossmaterial | J80: Trafikverket Klimatkalkyl v.8 2015 | K80: Krossmaterial | L80: Trafikverket Klimatkalkyl v. 8 2020 | N80: Lastbil, regionaltransport | R80: 30 | S80: 0 | T80: 0 | U80: 0 | V80: 1.5 | W80: 0 | X80: 0 | Y80: 0 | Z80: =SUM(R80:U80) -> 30 | AA80: =IFERROR(((R80*V80)+(S80*W80)+(T80*X80)+(U80*Y80))/Materialtabell[[#This Row],[Transport km]],0) -> 1.5 | AB80: Trafikverket, klimatkalkyl, 2024-01-25 | AC80: Samma A4 som Krossmaterial, generellt värde
B81: 77 | C81: Teknisk massa: Förstärkningslager | D81: Teknisk massa | E81: 1800 | F81: kg/m3 | G81: 0.004 | H81: 0.003 | I81: Krossmaterial | J81: Trafikverket Klimatkalkyl v.8 2015 | K81: Krossmaterial | L81: Trafikverket Klimatkalkyl v. 8 2020 | N81: Lastbil, regionaltransport | R81: 30 | S81: 0 | T81: 0 | U81: 0 | V81: 1.5 | W81: 0 | X81: 0 | Y81: 0 | Z81: =SUM(R81:U81) -> 30 | AA81: =IFERROR(((R81*V81)+(S81*W81)+(T81*X81)+(U81*Y81))/Materialtabell[[#This Row],[Transport km]],0) -> 1.5 | AB81: Trafikverket, klimatkalkyl, 2024-01-25 | AC81: Samma A4 som Krossmaterial, generellt värde
B82: 78 | C82: Teknisk massa: Lättklinker (lättfyllnadsmaterial) | D82: Teknisk massa | E82: 268 | F82: kg/m3 | G82: 0.298 | H82: 0.298 | I82: Lättklinker | J82: Trafikverket Klimatkalkyl v.8 2015 | K82: Lättklinker | L82: Trafikverket Klimatkalkyl v. 8 2020 | N82: Lastbil, landsvägstransport | O82: Lastbil, närdistribution | R82: 800 | S82: 40 | T82: 0 | U82: 0 | V82: 1 | W82: 2.5 | X82: 0 | Y82: 0 | Z82: =SUM(R82:U82) -> 840 | AA82: =IFERROR(((R82*V82)+(S82*W82)+(T82*X82)+(U82*Y82))/Materialtabell[[#This Row],[Transport km]],0) -> 1.0714286 | AB82: Trafikverket klimatkalkyl, Lättklinker, 2024-01-25
B83: 79 | C83: Teknisk massa: Makadam 16/32 | D83: Teknisk massa | E83: 1300 | F83: kg/m3 | G83: 0.006 | H83: 0.006 | I83: Makadam 16/32 | J83: CO2data.fi Utsläppsdatabas för infrastrukturbyggande | K83: Makadam 16/32 | L83: CO2data.fi Utsläppsdatabas för infrastrukturbyggande | N83: Lastbil, regionaltransport | R83: 30 | S83: 0 | T83: 0 | U83: 0 | V83: 1.5 | W83: 0 | X83: 0 | Y83: 0 | Z83: =SUM(R83:U83) -> 30 | AA83: =IFERROR(((R83*V83)+(S83*W83)+(T83*X83)+(U83*Y83))/Materialtabell[[#This Row],[Transport km]],0) -> 1.5 | AB83: Trafikverket, klimatkalkyl, Makadam, 2024-01-25
B84: 80 | C84: Teknisk massa: Sand/grus/singel m.m. | D84: Teknisk massa | E84: 1800 | F84: kg/m3 | G84: 0.004 | H84: 0.003 | I84: Krossmaterial | J84: Trafikverket Klimatkalkyl v.8 2015 | K84: Krossmaterial | L84: Trafikverket Klimatkalkyl v. 8 2020 | N84: Lastbil, regionaltransport | R84: 30 | S84: 0 | T84: 0 | U84: 0 | V84: 1.5 | W84: 0 | X84: 0 | Y84: 0 | Z84: =SUM(R84:U84) -> 30 | AA84: =IFERROR(((R84*V84)+(S84*W84)+(T84*X84)+(U84*Y84))/Materialtabell[[#This Row],[Transport km]],0) -> 1.5 | AB84: Trafikverket, klimatkalkyl, Grus, 2024-01-25 | AC84: Grus har transport 30 km enligt Trafikverket. Sand & Singel finns ej med. Räknar med samma för alla tre.
B85: 81 | C85: Övrigt: Trä | D85: Övrigt | E85: 455 | F85: kg/m3 | G85: 0.069 | H85: 0.061 | I85: Trä, hyvlat | J85: Trafikverket Klimatkalkyl v.8 2015 | K85: Trä, hyvlat | L85: Trafikverket Klimatkalkyl v. 8 2020 | N85: Lastbil, landsvägstransport | O85: Lastbil, närdistribution | R85: 150 | S85: 40 | T85: 0 | U85: 0 | V85: 1 | W85: 2.5 | X85: 0 | Y85: 0 | Z85: =SUM(R85:U85) -> 190 | AA85: =IFERROR(((R85*V85)+(S85*W85)+(T85*X85)+(U85*Y85))/Materialtabell[[#This Row],[Transport km]],0) -> 1.3157895 | AB85: Boverket, Hyvlat virke, version 02.07.000, 2026-01-21 | AC85: Trafikverket har ej transportsträckor för Trä. Räknar med Boverkets generiska transportsträckor för Hyvlat virke, u 16%, barrträ
B86: 82 | C86: Övrigt: Limträ | D86: Övrigt | E86: 455 | F86: kg/m3 | G86: 0.095 | H86: 0.095 | I86: Trä, limträ | J86: Trafikverket Klimatkalkyl v.8 2015 | K86: Trä, limträ | L86: Trafikverket Klimatkalkyl v. 8 2020 | N86: Lastbil, landsvägstransport | O86: Lastbil, närdistribution | R86: 400 | S86: 40 | T86: 0 | U86: 0 | V86: 1 | W86: 2.5 | X86: 0 | Y86: 0 | Z86: =SUM(R86:U86) -> 440 | AA86: =IFERROR(((R86*V86)+(S86*W86)+(T86*X86)+(U86*Y86))/Materialtabell[[#This Row],[Transport km]],0) -> 1.1363636 | AB86: Boverket, Limträ, version 02.07.000, 2026-01-21 | AC86: Trafikverket har ej transportsträckor för Trä. Räknar med Boverkets generiska transportsträckor för Limträ, u 12%, gran
B87: 83 | C87: Övrigt: Kalk | D87: Övrigt | E87: ----- | F87: ----- | G87: 1.45 | H87: 1.45 | I87: Kalk | J87: Trafikverket Klimatkalkyl v.8 2015 | K87: Kalk | L87: Trafikverket Klimatkalkyl v. 8 2020 | N87: Lastbil, landsvägstransport | R87: 1000 | S87: 0 | T87: 0 | U87: 0 | V87: 1 | W87: 0 | X87: 0 | Y87: 0 | Z87: =SUM(R87:U87) -> 1000 | AA87: =IFERROR(((R87*V87)+(S87*W87)+(T87*X87)+(U87*Y87))/Materialtabell[[#This Row],[Transport km]],0) -> 1 | AB87: Trafikverket klimatkalkyl, Kalk, 2024-01-25
B88: 84 | C88: Övrigt: Glas, härdat | D88: Övrigt | E88: ----- | F88: ----- | G88: 1.35 | H88: 1.35 | I88: Glas, härdat | J88: Trafikverket Klimatkalkyl v.8 2015 | K88: Glas, härdat | L88: Trafikverket Klimatkalkyl v. 8 2020 | N88: Lastbil, landsvägstransport | R88: 1000 | S88: 0 | T88: 0 | U88: 0 | V88: 1 | W88: 0 | X88: 0 | Y88: 0 | Z88: =SUM(R88:U88) -> 1000 | AA88: =IFERROR(((R88*V88)+(S88*W88)+(T88*X88)+(U88*Y88))/Materialtabell[[#This Row],[Transport km]],0) -> 1 | AB88: Trafikverket klimatkalkyl, Glas härdat, 2024-01-25
B89: 85 | C89: Övrigt: Glasfiber för optokabel | D89: Övrigt | E89: ----- | F89: ----- | G89: 1.54 | H89: 1.54 | I89: Glasfiber för optokabel | J89: Trafikverket Klimatkalkyl v.8 2015 | K89: Glasfiber för optokabel | L89: Trafikverket Klimatkalkyl v. 8 2020 | N89: Lastbil, landsvägstransport | R89: 1000 | S89: 0 | T89: 0 | U89: 0 | V89: 1 | W89: 0 | X89: 0 | Y89: 0 | Z89: =SUM(R89:U89) -> 1000 | AA89: =IFERROR(((R89*V89)+(S89*W89)+(T89*X89)+(U89*Y89))/Materialtabell[[#This Row],[Transport km]],0) -> 1 | AB89: Trafikverket klimatkalkyl, Glasfiber Optokabel, 2024-01-25
B90: 86 | C90: Övrigt: Marktegel, 70mm | D90: Övrigt | E90: =1800/1000*70 -> 126 | F90: kg/m2 | G90: 0.435 | H90: 0.435 | I90: Tegelsten, frostbeständigt, hårdbränd | J90: 2022-01-01 Boverkets Klimatdatabas | K90: Tegelsten, frostbeständigt, hårdbränd | L90: Boverkts klimatdatabas version 02.06.000 Gällande version | N90: Lastbil, landsvägstransport | O90: Lastbil, närdistribution | R90: 600 | S90: 40 | T90: 0 | U90: 0 | V90: 1 | W90: 2.5 | X90: 0 | Y90: 0 | Z90: =SUM(R90:U90) -> 640 | AA90: =IFERROR(((R90*V90)+(S90*W90)+(T90*X90)+(U90*Y90))/Materialtabell[[#This Row],[Transport km]],0) -> 1.09375 | AB90: Boverket, Tegelsten, Version 02.07.000, 2026-01-21
B91: 87 | C91: Exkluderat material | D91: Exkluderat | E91: ----- | F91: ----- | G91: 0 | H91: 0 | I91: - | J91: - | K91: - | L91: - | M91: Exkluderat material, förtydliga som kommentar | N91: Exkluderat material | R91: 0 | S91: 0 | T91: 0 | U91: 0 | V91: 0 | W91: 0 | X91: 0 | Y91: 0 | Z91: =SUM(R91:U91) -> 0 | AA91: =IFERROR(((R91*V91)+(S91*W91)+(T91*X91)+(U91*Y91))/Materialtabell[[#This Row],[Transport km]],0) -> 0 | AB91: -
B92: 88 | Z92: =SUM(R92:U92) -> 0 | AA92: =IFERROR(((R92*V92)+(S92*W92)+(T92*X92)+(U92*Y92))/Materialtabell[[#This Row],[Transport km]],0) -> 0
B93: 89 | Z93: =SUM(R93:U93) -> 0 | AA93: =IFERROR(((R93*V93)+(S93*W93)+(T93*X93)+(U93*Y93))/Materialtabell[[#This Row],[Transport km]],0) -> 0
B94: 90 | Z94: =SUM(R94:U94) -> 0 | AA94: =IFERROR(((R94*V94)+(S94*W94)+(T94*X94)+(U94*Y94))/Materialtabell[[#This Row],[Transport km]],0) -> 0
B95: 91 | Z95: =SUM(R95:U95) -> 0 | AA95: =IFERROR(((R95*V95)+(S95*W95)+(T95*X95)+(U95*Y95))/Materialtabell[[#This Row],[Transport km]],0) -> 0
B96: 92 | Z96: =SUM(R96:U96) -> 0 | AA96: =IFERROR(((R96*V96)+(S96*W96)+(T96*X96)+(U96*Y96))/Materialtabell[[#This Row],[Transport km]],0) -> 0
B97: 93 | Z97: =SUM(R97:U97) -> 0 | AA97: =IFERROR(((R97*V97)+(S97*W97)+(T97*X97)+(U97*Y97))/Materialtabell[[#This Row],[Transport km]],0) -> 0
B98: 94 | Z98: =SUM(R98:U98) -> 0 | AA98: =IFERROR(((R98*V98)+(S98*W98)+(T98*X98)+(U98*Y98))/Materialtabell[[#This Row],[Transport km]],0) -> 0
B99: 95 | Z99: =SUM(R99:U99) -> 0 | AA99: =IFERROR(((R99*V99)+(S99*W99)+(T99*X99)+(U99*Y99))/Materialtabell[[#This Row],[Transport km]],0) -> 0
B100: 96 | Z100: =SUM(R100:U100) -> 0 | AA100: =IFERROR(((R100*V100)+(S100*W100)+(T100*X100)+(U100*Y100))/Materialtabell[[#This Row],[Transport km]],0) -> 0
B101: 97 | Z101: =SUM(R101:U101) -> 0 | AA101: =IFERROR(((R101*V101)+(S101*W101)+(T101*X101)+(U101*Y101))/Materialtabell[[#This Row],[Transport km]],0) -> 0
B102: 98 | Z102: =SUM(R102:U102) -> 0 | AA102: =IFERROR(((R102*V102)+(S102*W102)+(T102*X102)+(U102*Y102))/Materialtabell[[#This Row],[Transport km]],0) -> 0
...

Sheet Anteckningar
A1: Denna flik har ingen koppling till verktygets funktion, beräkningar eller logik.
A4: Här kan exempelvis egna anteckningar, beräkningar, underlag m.m. infogas och bearbetas.
A5: Flik kan lämpligen användas för att inkludera mängdförteckning eller annan indata som du vill spara tillsammans med klimatkalkylen.

Sheet Enhetsomräkning
A1: Denna flik har ingen koppling till verktygets funktion, beräkningar eller logik.
A4: Använd gärna denna flik och nedan formateringsmall om du har vill omvandla mängder mellan enheter för att matcha klimatmaterials tillgängliga enheter för att klistra in i kalkyl.
A7: AMA-kod | B7: Material / produkt / AMA-beskrivning | C7: Mängd | D7: Enhet | E7: Omräkningsfaktor | F7: Mängd | G7: Enhet
F8: =C8*E8 -> 0 | G8: ="kg/ton/"&RIGHT(VLOOKUP(B8,Materialtabell[[#All],[Materialnamn]:[Enhet]],4,0),LEN(VLOOKUP(B8,Materialtabell[[#All],[Materialnamn]:[Enhet]],4,0))-3) -> #N/A
F9: =C9*E9 -> 0 | G9: ="kg/ton/"&RIGHT(VLOOKUP(B9,Materialtabell[[#All],[Materialnamn]:[Enhet]],4,0),LEN(VLOOKUP(B9,Materialtabell[[#All],[Materialnamn]:[Enhet]],4,0))-3) -> #N/A
F10: =C10*E10 -> 0 | G10: ="kg/ton/"&RIGHT(VLOOKUP(B10,Materialtabell[[#All],[Materialnamn]:[Enhet]],4,0),LEN(VLOOKUP(B10,Materialtabell[[#All],[Materialnamn]:[Enhet]],4,0))-3) -> #N/A
F11: =C11*E11 -> 0 | G11: ="kg/ton/"&RIGHT(VLOOKUP(B11,Materialtabell[[#All],[Materialnamn]:[Enhet]],4,0),LEN(VLOOKUP(B11,Materialtabell[[#All],[Materialnamn]:[Enhet]],4,0))-3) -> #N/A
F12: =C12*E12 -> 0 | G12: ="kg/ton/"&RIGHT(VLOOKUP(B12,Materialtabell[[#All],[Materialnamn]:[Enhet]],4,0),LEN(VLOOKUP(B12,Materialtabell[[#All],[Materialnamn]:[Enhet]],4,0))-3) -> #N/A
F13: =C13*E13 -> 0 | G13: ="kg/ton/"&RIGHT(VLOOKUP(B13,Materialtabell[[#All],[Materialnamn]:[Enhet]],4,0),LEN(VLOOKUP(B13,Materialtabell[[#All],[Materialnamn]:[Enhet]],4,0))-3) -> #N/A
F14: =C14*E14 -> 0 | G14: ="kg/ton/"&RIGHT(VLOOKUP(B14,Materialtabell[[#All],[Materialnamn]:[Enhet]],4,0),LEN(VLOOKUP(B14,Materialtabell[[#All],[Materialnamn]:[Enhet]],4,0))-3) -> #N/A
F15: =C15*E15 -> 0 | G15: ="kg/ton/"&RIGHT(VLOOKUP(B15,Materialtabell[[#All],[Materialnamn]:[Enhet]],4,0),LEN(VLOOKUP(B15,Materialtabell[[#All],[Materialnamn]:[Enhet]],4,0))-3) -> #N/A
F16: =C16*E16 -> 0 | G16: ="kg/ton/"&RIGHT(VLOOKUP(B16,Materialtabell[[#All],[Materialnamn]:[Enhet]],4,0),LEN(VLOOKUP(B16,Materialtabell[[#All],[Materialnamn]:[Enhet]],4,0))-3) -> #N/A
F17: =C17*E17 -> 0 | G17: ="kg/ton/"&RIGHT(VLOOKUP(B17,Materialtabell[[#All],[Materialnamn]:[Enhet]],4,0),LEN(VLOOKUP(B17,Materialtabell[[#All],[Materialnamn]:[Enhet]],4,0))-3) -> #N/A
F18: =C18*E18 -> 0 | G18: ="kg/ton/"&RIGHT(VLOOKUP(B18,Materialtabell[[#All],[Materialnamn]:[Enhet]],4,0),LEN(VLOOKUP(B18,Materialtabell[[#All],[Materialnamn]:[Enhet]],4,0))-3) -> #N/A
F19: =C19*E19 -> 0 | G19: ="kg/ton/"&RIGHT(VLOOKUP(B19,Materialtabell[[#All],[Materialnamn]:[Enhet]],4,0),LEN(VLOOKUP(B19,Materialtabell[[#All],[Materialnamn]:[Enhet]],4,0))-3) -> #N/A
... F30: =C30*E30 -> 0 | G30: ="kg/ton/"&RIGHT(VLOOKUP(B30,Materialtabell[[#All],[Materialnamn]:[Enhet]],4,0),LEN(VLOOKUP(B30,Materialtabell[[#All],[Materialnamn]:[Enhet]],4,0))-3) -> #N/A

Sheet Staden Export
C2: KEX - Exportfunktion KAN
C5: Exportinfo | J5: Vägledning export
C6: Exportdatum | F6: =TODAY() -> 46282 | J6: Komplettera eventuellt information ni vill inkludera med exporten under exportinfo till vänster.
C7: Gruppering | J7: Markera hela den blå rutan ifrån cell B18 till AM18 och kopiera.
C8: Referens/version | J8: Gå till analysverktyget KAN och klistra in data som värden på ny rad i tabell på importflik.
C9: Exportnotering | J9: OBS! Det är viktigt att data klistran in som värden. Så inte formler och länkar till den enskilda KEX filen klistras in.
J10: Uppdatera analaysverktyget KAN så samtliga grafer, pivottabeller m.m. inkluderar den nya datan.
C12: UNDER UTVECKLING FÖR KOMMANDE KAN-ANALYSVERKTYG
B17: Exportdatum | C17: Gruppering | D17: Referens/version | E17: Exportnotering | F17: Projektnamn | G17: Projektnummer Stockholms stad | H17: Typ av entreprenad | I17: Projektskede | J17: Yta gata – hårdgjorda ytor | K17: Yta park – gräs, grus | L17: Yta natur | M17: Yta övrigt | N17: Projektyta totalt | O17: Projektkostnad | P17: Reduktionsmål | Q17: Datum | R17: Skapad av | S17: Granskad av | T17: Noteringar | U17: Kalkyl | V17: Start Ton Material | W17: Start Ton CO2e 2019 | X17: Start Ton CO2e 2025 | Y17: Start Kg CO2e/m2 2019 | Z17: Start Kg CO2e/m2 2025 | AA17: Start Ton CO2e/Mkr 2019 | AB17: Start Ton CO2e/Mkr 2025 | AC17: Start 20% HVO ton CO2e | AD17: Start 100% HVO ton CO2e | AE17: Slut Ton Material | AF17: Slut Ton CO2e 2019 | AG17: Slut Ton CO2e 2025 | AH17: Slut Kg CO2e/m2 2019 | AI17: Slut Kg CO2e/m2 2025 | AJ17: Slut Ton CO2e/Mkr 2019 | AK17: Slut Ton CO2e/Mkr 2025 | AL17: Slut 20% HVO ton CO2e | AM17: Slut 100% HVO ton CO2e
B18: =F6 -> 46282 | C18: =D7 -> 0 | D18: =D8 -> 0 | E18: =D9 -> 0 | F18: =Försättsblad!$D$7 -> 0 | G18: =Försättsblad!$D$8 -> 0 | H18: =Försättsblad!$D$9 -> 0 | I18: =Försättsblad!$D$10 -> 0 | J18: =Försättsblad!$D$12 -> 0 | K18: =Försättsblad!$D$13 -> 0 | L18: =Försättsblad!$D$14 -> 0 | M18: =Försättsblad!$D$15 -> 0 | N18: =Försättsblad!$D$16 -> 0 | O18: =Försättsblad!$D$17 -> 0 | P18: =Försättsblad!$D$18 -> 0.25 | Q18: =Försättsblad!$D$19 -> 0 | R18: =Försättsblad!$D$20 -> 0 | S18: =Försättsblad!$D$21 -> 0 | T18: =Försättsblad!$D$22 -> 0 | U18: Start | V18: =(SUM(KalkylStart[[#All],[Materialvikt]]))/1000 -> 0 | W18: =(SUM(KalkylStart[[#All],[2019 kg CO2e]])/1000) -> 0 | X18: =(SUM(KalkylStart[[#All],[A1-3 kg CO2e]])/1000) -> 0 | Y18: =W18/N18*1000 -> #DIV/0! | Z18: =X18/N18*1000 -> #DIV/0! | AA18: =W18/(O18/1000000) -> #DIV/0! | AB18: =X18/(O18/1000000) -> #DIV/0! | AC18: =(SUM(KalkylStart[[#All],[20% HVO kg CO2e]])/1000) -> 0 | AD18: =(SUM(KalkylStart[[#All],[100% HVO kg CO2e]])/1000) -> 0 | AE18: =(SUM(KalkylSlut[[#All],[Materialvikt]])/1000) -> 0 | AF18: =(SUM(KalkylSlut[[#All],[2019 kg CO2e]])/1000) -> 0 | AG18: =(SUM(KalkylSlut[[#All],[A1-3 kg CO2e]])/1000) -> 0 | AH18: =AF18/N18*1000 -> #DIV/0! | AI18: =AG18/N18*1000 -> #DIV/0! | AJ18: =AF18/(O18/1000000) -> #DIV/0! | AK18: =AG18/(O18/1000000) -> #DIV/0! | AL18: =(SUM(KalkylSlut[[#All],[20% HVO kg CO2e]])/1000) -> 0 | AM18: =(SUM(KalkylSlut[[#All],[100% HVO kg CO2e]])/1000) -> 0

Sheet Tabeller
B1: Omräkningsfaktorer | C1: Skeden | D1: Projektskeden | E1: Materialtyper | F1: Teknikområden | G1: Asfalt | H1: Betong | I1: Metall | J1: Plast | K1: Anläggningssten | L1: Schakt | M1: Fyll | N1: Teknisk massa | O1: Övrigt
B2: kg | C2: Sanering | D2: Tidigt skede | E2: Anläggningssten | F2: Arkitektur | G2: {=_xlfn._xlws.FILTER(Materialtabell[Materialnamn],Tabeller!G$1=Materialtabell[Materialtyp])} -> Asfalt: Asfalt, generellt värde | H2: {=_xlfn._xlws.FILTER(Materialtabell[Materialnamn],Tabeller!H$1=Materialtabell[Materialtyp])} -> Betong: Cement (CEM I) | I2: {=_xlfn._xlws.FILTER(Materialtabell[Materialnamn],Tabeller!I$1=Materialtabell[Materialtyp])} -> Metall: Stål, varmförzinkat, generellt värde | J2: {=_xlfn._xlws.FILTER(Materialtabell[Materialnamn],Tabeller!J$1=Materialtabell[Materialtyp])} -> Plast: Cellplast, expanderad polystyren (lättfyllnadsmaterial) | K2: {=_xlfn._xlws.FILTER(Materialtabell[Materialnamn],Tabeller!K$1=Materialtabell[Materialtyp])} -> Anläggningssten: Anläggningssten, generellt värde | L2: {=_xlfn._xlws.FILTER(Materialtabell[Materialnamn],Tabeller!L$1=Materialtabell[Materialtyp])} -> Schakt: Jordschakt Fall A | M2: {=_xlfn._xlws.FILTER(Materialtabell[Materialnamn],Tabeller!M$1=Materialtabell[Materialtyp])} -> Fyll: Jord Fall A, fyll | N2: {=_xlfn._xlws.FILTER(Materialtabell[Materialnamn],Tabeller!N$1=Materialtabell[Materialtyp])} -> Teknisk massa: Krossmaterial, generellt värde | O2: {=_xlfn._xlws.FILTER(Materialtabell[Materialnamn],Tabeller!O$1=Materialtabell[Materialtyp])} -> Övrigt: Trä
B3: ton | C3: Groventreprenad | D3: Systemhandling | E3: Asfalt | F3: El | G3: Asfalt: Asfalt, halvvarm asfalt | H3: Betong: Cement (CEM II) | I3: Metall: Stolpe vägmärke 3m, 60mm | J3: Plast: Geotextil, PP textil | K3: Anläggningssten: Smågatsten | L3: Schakt: Jordschakt Fall B | M3: Fyll: Jord Fall B, fyll | N3: Teknisk massa: Bärlager, 80 mm | O3: Övrigt: Limträ
B4: m | C4: Finentreprenad | D4: Bygghandling | E4: Betong | F4: Energi & klimat | G4: Asfalt: Bitumen | H4: Betong: Prefabricerad armerat betongelement, övrigt | I4: Metall: Standardvägmärke, normalstorlek | J4: Plast: Ledning av plaströr, dränrör dim 200 | K4: Anläggningssten: Storgatsten | L4: Schakt: Bergschakt fall A | M4: Fyll: Berg Fall A, fyll | N4: Teknisk massa: Förstärkningslager | O4: Övrigt: Kalk
B5: m2 | D5: Produktion | E5: Metall | F5: Fukt | G5: Asfalt: Bitumenmatta | H5: Betong: Betongkantstöd | I5: Metall: Stål, konstruktionsstål, generellt värde, ej varmförzinkat | J5: Plast: Ledning av plaströr, dränrör dim 110 | K5: Anläggningssten: Naturstensplattor, 70 mm | L5: Schakt: Bergschakt fall B | M5: Fyll: Berg Fall B, fyll | N5: Teknisk massa: Lättklinker (lättfyllnadsmaterial) | O5: Övrigt: Glas, härdat
B6: m3 | D6: Relationshandling | E6: Plast | F6: Konstruktion | G6: Asfalt: Asfalt, ABb | H6: Betong: Stödmur, 2m längd (höjd 0,6) | I6: Metall: Stål, rostfritt, generellt värde | J6: Plast: Ledning av plaströr, dim 225 | K6: Anläggningssten: Granitkantstöd, generellt värde | N6: Teknisk massa: Makadam 16/32 | O6: Övrigt: Glasfiber för optokabel
B7: st | D7: Annat | E7: Schakt | F7: Mark, landskap | G7: Asfalt: Bindlager, ABb 11, 30-45 mm | H7: Betong: Stödmur, 2m längd (höjd 1) | I7: Metall: Aluminium | J7: Plast: Ledning av plaströr, dim 400 | K7: Anläggningssten: Granitkantstöd, generellt värde, tillverkad i Kina | N7: Teknisk massa: Sand/grus/singel m.m. | O7: Övrigt: Marktegel, 70mm
E8: Fyll | F8: Plan & MKB | G8: Asfalt: Bindlager, ABb 16, 40-60 mm | H8: Betong: Stödmur, 2m längd (höjd 1.4) | I8: Metall: Stål, armeringsstänger, slakarmering | J8: Plast: Polyamide, PA | K8: Anläggningssten: Granit, generellt värde
E9: Teknisk massa | F9: VA | G9: Asfalt: Bindlager, ABb 22, 55-80 mm | H9: Betong: Stödmur, 2m längd (höjd 1.8) | I9: Metall: Stål, armeringstråd, spännarmering | J9: Plast: Polyeten, HDPE | K9: Anläggningssten: Granit, generellt värde, tillverkad i Kina
E10: Övrigt | F10: VVS | G10: Asfalt: Asfalt, ABb PMB, 50 mm | H10: Betong: Betongfundament belysning, Cetong XXX/900 | I10: Metall: Stål, rosttrögt stål/cortenstål | J10: Plast: Polyeten, LDPE
F11: Annat | G11: Asfalt: Slitlager, ABS, 40 mm | H11: Betong: Betongfundament belysning, Cetong XXX/1300 | I11: Metall: Koppartråd | J11: Plast: Polypropylen, PP
G12: Asfalt: Asfalt, ABS PMB, 40 mm | H12: Betong: Betongfundament belysning, Cetong XXX/1500 (Linspänn) | J12: Plast: PVC
G13: Asfalt: Slitlager, ABT, 40 mm | H13: Betong: Betong, anläggning, generellt värde (C35/45), exponeringsklass XD3, XS3, XF4
G14: Asfalt: Asfalt, ABT PMB, 40 mm | H14: Betong: KC-pelare
G15: Asfalt: Asfalt, AG | H15: Betong: Fibercementskiva
G16: Asfalt: Bärlager, AG 16, 40-60 mm | H16: Betong: Markplattor, betong, 0-50 mm
G17: Asfalt: Bärlager, AG 22, 60-80 mm | H17: Betong: Markplattor, betong, 50-100 mm
G18: Asfalt: Bärlager, AG 32, 80-120 mm | H18: Betong: Betong anläggning (C30/37), exponeringsklass XC1
G19: Asfalt: Asfalt, AG PMB, 60 mm | H19: Betong: Betong, anläggning (C32/40) exponeringsklass XD2, XS2, XF2
H20: Betong: Betong, byggnad (C40/50) exponeringsklass XD3
B28: OBS! | C28: DENNA FLIK ANVÄNDS FÖR FORMLER, LOGIK OCH FUNKTIONER I FILEN. INGA ÄNDRINGAR BÖR BEHÖVAS GÖRAS PÅ DENNA FLIK.
B29: OBS! | C29: ÄNDRAS NÅGOT PÅ DENNA FLIK ÄR DET VIKTIGT ATT MAN SÄKERSTÄLLER ATT LOGIK OCH BERÄKNINGAR I VERKTYGET FORTSÄTTER FUNGERA SOM ÄMNAT.
B30: OBS! | C30: REKOMMENDATION ATT DENNA FLIK ÄR DOLD OCH LÅST FÖR ATT UNDVIKA EVENTUELLA MISSTAG.
