Workbook
Name Anläggningssten: Tabeller!$K$2:$K$26
Name Asfalt: Tabeller!$G$2:$G$26
Name Betong: Tabeller!$H$2:$H$26
Name Materialnamn: Materialtabell[Materialnamn]
Name Materialnamn: Materialtabell[Materialnamn]
Name Materialnamn: Materialtabell[Materialnamn]
Name Materialtyp: Tabeller!$E$2:$E$26
Name Metall: Tabeller!$I$2:$I$26
Name Omräkningsfaktor: Tabeller!$B$2:$B$26
Name Plast: Tabeller!$J$2:$J$26
Name Projektskede: Tabeller!$D$2:$D$26
Name Schaktmassa: Tabeller!$L$2:$L$26
Name Skeden: Tabeller!$C$2:$C$26
Name Teknikomr: Tabeller!$F$2:$F$26
Name Övrigt: Tabeller!$O$2:$O$26

Sheet Vägledning
C2: KEX - Klimatberäkningsverktyget
C5: Inledning Detta klimatberäkningsverktyg används för att göra övergripande uppskattning av materials klimatpåverkan för anläggningsprojekt åt Stockholms stad. Verktyget bygger på LCA (livscykelanalys) metodik med generiska klimatdata ifrån Trafikverkets klimatkalkyl och Boverkets klimatdatabas. För vissa produktspecifika material används specificerad miljövarudeklaration (EPD). Källreferenser för respektive klimatdata redovisas. Verktyget omfattar livscykelskeden A1-4.
C27: Instruktioner Vägledande genom verktyget är att vita celler än tänkta för ifyllande av användare medan färgade celler är nödvändiga för beräkningslogik och är låsta. Verktyget används genom att man på flik Försättsblad anger övergripande projektinformation. Klimatpåverkande material sammanställer men i början av projektet på flik Kalkyl start vilket blir som en baslinje. Under projektets gång arbetar man och optimerar för att minska klimatpåverkan och vid slut sammanställer man utfall på flik Kalkyl slut. I klimatkalkylerna anger man materialtyp och mängd som man matchar med klimatpåverkande material som inhämtas ifrån Materiallista. Tillgänglig enhet för respektive material behöver anges. Samtliga material kan anges i viktenhet kg/ton medan längd/area/volym, m, m2, m3, varierar beroende på material. För vissa material kan verktyget inte omvandla enheten ur AMA till kg, då behöver man själv räkna om till en möjlig enhet. För transparens bör detta omräkningsunderlag sparas på fliken Enhetsomräkning. Klimatpåverkan redovisas som koldioxidekvivalenter, CO2e för livscykelskeden A1-3 samt A4. För livscykelskede A4, transport, presenteras schabloniserade avstånd. Om faktiska transportavstånd är kända bör avståndet justeras. Önskar man inkludera något material men exkludera dess klimatpåverkan kan man välja Exkluderat material ur listan. Anger man exkluderat material bör man även kommentera varför. Resultat av klimatkalkylen presenteras på flik Sammanställning. Flik Materiallista innehåller den databas som länkar in i klimatkalkylen. Denna är låst för ändringar. Önskar man inkludera material man bedömer saknas kan man kontakta Stockholm stad, se sedan. Flik Anteckningar har ingen koppling till verktygets funktion och är helt olåst. Här kan exempelvis egna anteckningar, beräkningar, underlag m.m. infogas och bearbetas. Förtydliganden KEX redovisar koldioxidutsläpp utgående från 2025 års klimatdata. Massahantering bedöms ur LCA-metodik inte ha någon klimatpåverkan för livscykelskeden A1-3. Dessa skeden omfattar råvaruutvinning, transport och tillverkning av material vilket inte omfattar massor redan på byggplatsen. Klimatpåverkan för massahantering upparbetas vid bygg- och installationsprocesser i skede A5, vilket detta verktyg inte omfattar. Bakgrund Stockholms stads första ansats till att beräkna klimatpåverkan från den bebyggda miljön genomfördes i uppföljningen av Hammarby Sjöstad. Exploateringskontoret, i samarbete med KTH, utvecklade verktyget Miljöbelastningsprofilen, som inkluderade klimatpåverkan som en av flera utsläppskategorier. Analysen visade att inbyggda material stod för en stor del av klimatpåverkan. Erfarenheterna inspirerade utvecklingen av Norra Djurgårdstaden, där staden vidareutvecklade ett enklare klimatberäkningsverktyg och använda emissionsfaktorer från Trafikverkets klimatkalkyl.
C55: Om du vill tillföra eller ändra material i materiallistan, eller har frågor om verktyget, kontakta:
D56: Miljö : Exploateringskontoret Stockholms stad
C58: Länkar för mer information om livscykelanalys och klimatberäkningar:
D59: Boverket introduktion till livscykelanalys
D60: HS30 klimatberäkningar
C64: Versionshistorik
C65: v.1.0b | D65: 45987 | F65: Upprättande av klimatberäkningsverktyg med validerade material v. beta.
C66: v.1.0 | D66: 46002 | F66: Upprättande av klimatberäkningsverktyg med validerade material.
C67: v.1.1 | D67: 46008 | F67: Mindre justeringar och buggfix.
C68: v.1.2 | D68: 46071 | F68: Mindre justeringar och buggfix.
C69: v.1.3 | D69: 46184 | F69: Funktion A4 transporter introduceras. Omarbetning och anpassning för AMA-material samt ändrad logik för start- och slutkalkyl. Mindre justeringar och buggfix.
C70: v. | D70: 2026-xx-xx
C71: v. | D71: 202x-xx-xx

Sheet Försättsblad
C2: KEX - Projektinformation
C5: Projektinformation
C7: Projektnamn
C8: Projektnummer Stockholms stad
C9: Typ av entreprenad
C10: Projektskede
C11: Projektyta
C12: Yta gata – hårdgjorda ytor
C13: Yta park – gräs, grus
C14: Yta natur
C15: Yta övrigt
C16: Projektyta totalt | D16: =SUM(D12:D15) -> 0
C17: Projektkostnad
C18: Reduktionsmål | D18: 0.25
C19: Datum
C20: Skapad av
C21: Granskad av
C22: Noteringar

Sheet Kalkyl start
C2: KEX - Startkalkyl
C4: Instruktioner | J4: Klimatpåverkan från material (A1-3) | P4: Klimatpåverkan från transport (A4)
B5: # | C5: Teknikområde | D5: AMA-kod | E5: Material / produkt / AMA-beskrivning | F5: Mängd | G5: Enhet | H5: Klimatmaterial | I5: Materialtyp | J5: Omräknings-faktor | K5: Faktorenhet | L5: Materialvikt | M5: 2019 kg CO2e | N5: A1-3 kg CO2e | O5: Avstånd km | P5: 20% HVO kg CO2e | Q5: 100% HVO kg CO2e | R5: Kommentar
B6: 1 | I6: =IFERROR(VLOOKUP(KalkylStart[[#This Row],[Klimatmaterial]],Materialtabell[[#All],[Materialnamn]:[Materialtyp]],2,0),"") | J6: =IFERROR(IF(G6="kg",1,IF(G6="ton",1000,IF(G6=RIGHT(VLOOKUP(H6,Materialtabell[[#All],[Materialnamn]:[Enhet]],4,0),LEN(VLOOKUP(H6,Materialtabell[[#All],[Materialnamn]:[Enhet]],4,0))-3),VLOOKUP(H6,Materialtabell[[#All],[Materialnamn]:[Enhet]],3,0),"Enhetsfel"))),"") | K6: =IFERROR(IF(G6="kg","kg/kg",IF(G6="ton","kg/ton",IF(RIGHT(VLOOKUP(H6,Materialtabell[[#All],[Materialnamn]:[Enhet]],4,0),LEN(VLOOKUP(H6,Materialtabell[[#All],[Materialnamn]:[Enhet]],4,0))-3)=G6,VLOOKUP(H6,Materialtabell[[#All],[Materialnamn]:[Enhet]],4,0),"kg/ton/"&RIGHT(VLOOKUP(H6,Materialtabell[[#All],[Materialnamn]:[Enhet]],4,0),LEN(VLOOKUP(H6,Materialtabell[[#All],[Materialnamn]:[Enhet]],4,0))-3)))),"") | L6: =IFERROR(KalkylStart[[#This Row],[Mängd]]*KalkylStart[[#This Row],[Omräknings-faktor]],"") | M6: =IFERROR(F6*J6*VLOOKUP(H6,Materialtabell[[#All],[Materialnamn]:[Emissionsfaktor 2019 kg CO2e/kg]],5,0),"") | N6: =IFERROR(F6*J6*VLOOKUP(H6,Materialtabell[[#All],[Materialnamn]:[Emissionsfaktor 2025 kg CO2e/kg]],6,0),"") | O6: =IFERROR(VLOOKUP(H6,Materialtabell[[#All],[Materialnamn]:[Kommentar A4]],24,0),"") | P6: =IFERROR(($F6*$J6*$O6*VLOOKUP($H6,Materialtabell[[#All],[Materialnamn]:[Bränsle MJ/ton, km]],25,0)*Materiallista!$AF$5)/1000,"") | Q6: =IFERROR(($F6*$J6*$O6*VLOOKUP($H6,Materialtabell[[#All],[Materialnamn]:[Bränsle MJ/ton, km]],25,0)*Materiallista!$AF$6)/1000,"")
B7: 2 | I7: =IFERROR(VLOOKUP(KalkylStart[[#This Row],[Klimatmaterial]],Materialtabell[[#All],[Materialnamn]:[Materialtyp]],2,0),"") | J7: =IFERROR(IF(G7="kg",1,IF(G7="ton",1000,IF(G7=RIGHT(VLOOKUP(H7,Materialtabell[[#All],[Materialnamn]:[Enhet]],4,0),LEN(VLOOKUP(H7,Materialtabell[[#All],[Materialnamn]:[Enhet]],4,0))-3),VLOOKUP(H7,Materialtabell[[#All],[Materialnamn]:[Enhet]],3,0),"Enhetsfel"))),"") | K7: =IFERROR(IF(G7="kg","kg/kg",IF(G7="ton","kg/ton",IF(RIGHT(VLOOKUP(H7,Materialtabell[[#All],[Materialnamn]:[Enhet]],4,0),LEN(VLOOKUP(H7,Materialtabell[[#All],[Materialnamn]:[Enhet]],4,0))-3)=G7,VLOOKUP(H7,Materialtabell[[#All],[Materialnamn]:[Enhet]],4,0),"kg/ton/"&RIGHT(VLOOKUP(H7,Materialtabell[[#All],[Materialnamn]:[Enhet]],4,0),LEN(VLOOKUP(H7,Materialtabell[[#All],[Materialnamn]:[Enhet]],4,0))-3)))),"") | L7: =IFERROR(KalkylStart[[#This Row],[Mängd]]*KalkylStart[[#This Row],[Omräknings-faktor]],"") | M7: =IFERROR(F7*J7*VLOOKUP(H7,Materialtabell[[#All],[Materialnamn]:[Emissionsfaktor 2019 kg CO2e/kg]],5,0),"") | N7: =IFERROR(F7*J7*VLOOKUP(H7,Materialtabell[[#All],[Materialnamn]:[Emissionsfaktor 2025 kg CO2e/kg]],6,0),"") | O7: =IFERROR(VLOOKUP(H7,Materialtabell[[#All],[Materialnamn]:[Kommentar A4]],24,0),"") | P7: =IFERROR(($F7*$J7*$O7*VLOOKUP($H7,Materialtabell[[#All],[Materialnamn]:[Bränsle MJ/ton, km]],25,0)*Materiallista!$AF$5)/1000,"") | Q7: =IFERROR(($F7*$J7*$O7*VLOOKUP($H7,Materialtabell[[#All],[Materialnamn]:[Bränsle MJ/ton, km]],25,0)*Materiallista!$AF$6)/1000,"")
B8: 3 | I8: =IFERROR(VLOOKUP(KalkylStart[[#This Row],[Klimatmaterial]],Materialtabell[[#All],[Materialnamn]:[Materialtyp]],2,0),"") | J8: =IFERROR(IF(G8="kg",1,IF(G8="ton",1000,IF(G8=RIGHT(VLOOKUP(H8,Materialtabell[[#All],[Materialnamn]:[Enhet]],4,0),LEN(VLOOKUP(H8,Materialtabell[[#All],[Materialnamn]:[Enhet]],4,0))-3),VLOOKUP(H8,Materialtabell[[#All],[Materialnamn]:[Enhet]],3,0),"Enhetsfel"))),"") | K8: =IFERROR(IF(G8="kg","kg/kg",IF(G8="ton","kg/ton",IF(RIGHT(VLOOKUP(H8,Materialtabell[[#All],[Materialnamn]:[Enhet]],4,0),LEN(VLOOKUP(H8,Materialtabell[[#All],[Materialnamn]:[Enhet]],4,0))-3)=G8,VLOOKUP(H8,Materialtabell[[#All],[Materialnamn]:[Enhet]],4,0),"kg/ton/"&RIGHT(VLOOKUP(H8,Materialtabell[[#All],[Materialnamn]:[Enhet]],4,0),LEN(VLOOKUP(H8,Materialtabell[[#All],[Materialnamn]:[Enhet]],4,0))-3)))),"") | L8: =IFERROR(KalkylStart[[#This Row],[Mängd]]*KalkylStart[[#This Row],[Omräknings-faktor]],"") | M8: =IFERROR(F8*J8*VLOOKUP(H8,Materialtabell[[#All],[Materialnamn]:[Emissionsfaktor 2019 kg CO2e/kg]],5,0),"") | N8: =IFERROR(F8*J8*VLOOKUP(H8,Materialtabell[[#All],[Materialnamn]:[Emissionsfaktor 2025 kg CO2e/kg]],6,0),"") | O8: =IFERROR(VLOOKUP(H8,Materialtabell[[#All],[Materialnamn]:[Kommentar A4]],24,0),"") | P8: =IFERROR(($F8*$J8*$O8*VLOOKUP($H8,Materialtabell[[#All],[Materialnamn]:[Bränsle MJ/ton, km]],25,0)*Materiallista!$AF$5)/1000,"") | Q8: =IFERROR(($F8*$J8*$O8*VLOOKUP($H8,Materialtabell[[#All],[Materialnamn]:[Bränsle MJ/ton, km]],25,0)*Materiallista!$AF$6)/1000,"")
B9: 4 | I9: =IFERROR(VLOOKUP(KalkylStart[[#This Row],[Klimatmaterial]],Materialtabell[[#All],[Materialnamn]:[Materialtyp]],2,0),"") | J9: =IFERROR(IF(G9="kg",1,IF(G9="ton",1000,IF(G9=RIGHT(VLOOKUP(H9,Materialtabell[[#All],[Materialnamn]:[Enhet]],4,0),LEN(VLOOKUP(H9,Materialtabell[[#All],[Materialnamn]:[Enhet]],4,0))-3),VLOOKUP(H9,Materialtabell[[#All],[Materialnamn]:[Enhet]],3,0),"Enhetsfel"))),"") | K9: =IFERROR(IF(G9="kg","kg/kg",IF(G9="ton","kg/ton",IF(RIGHT(VLOOKUP(H9,Materialtabell[[#All],[Materialnamn]:[Enhet]],4,0),LEN(VLOOKUP(H9,Materialtabell[[#All],[Materialnamn]:[Enhet]],4,0))-3)=G9,VLOOKUP(H9,Materialtabell[[#All],[Materialnamn]:[Enhet]],4,0),"kg/ton/"&RIGHT(VLOOKUP(H9,Materialtabell[[#All],[Materialnamn]:[Enhet]],4,0),LEN(VLOOKUP(H9,Materialtabell[[#All],[Materialnamn]:[Enhet]],4,0))-3)))),"") | L9: =IFERROR(KalkylStart[[#This Row],[Mängd]]*KalkylStart[[#This Row],[Omräknings-faktor]],"") | M9: =IFERROR(F9*J9*VLOOKUP(H9,Materialtabell[[#All],[Materialnamn]:[Emissionsfaktor 2019 kg CO2e/kg]],5,0),"") | N9: =IFERROR(F9*J9*VLOOKUP(H9,Materialtabell[[#All],[Materialnamn]:[Emissionsfaktor 2025 kg CO2e/kg]],6,0),"") | O9: =IFERROR(VLOOKUP(H9,Materialtabell[[#All],[Materialnamn]:[Kommentar A4]],24,0),"") | P9: =IFERROR(($F9*$J9*$O9*VLOOKUP($H9,Materialtabell[[#All],[Materialnamn]:[Bränsle MJ/ton, km]],25,0)*Materiallista!$AF$5)/1000,"") | Q9: =IFERROR(($F9*$J9*$O9*VLOOKUP($H9,Materialtabell[[#All],[Materialnamn]:[Bränsle MJ/ton, km]],25,0)*Materiallista!$AF$6)/1000,"")
B10: 5 | I10: =IFERROR(VLOOKUP(KalkylStart[[#This Row],[Klimatmaterial]],Materialtabell[[#All],[Materialnamn]:[Materialtyp]],2,0),"") | J10: =IFERROR(IF(G10="kg",1,IF(G10="ton",1000,IF(G10=RIGHT(VLOOKUP(H10,Materialtabell[[#All],[Materialnamn]:[Enhet]],4,0),LEN(VLOOKUP(H10,Materialtabell[[#All],[Materialnamn]:[Enhet]],4,0))-3),VLOOKUP(H10,Materialtabell[[#All],[Materialnamn]:[Enhet]],3,0),"Enhetsfel"))),"") | K10: =IFERROR(IF(G10="kg","kg/kg",IF(G10="ton","kg/ton",IF(RIGHT(VLOOKUP(H10,Materialtabell[[#All],[Materialnamn]:[Enhet]],4,0),LEN(VLOOKUP(H10,Materialtabell[[#All],[Materialnamn]:[Enhet]],4,0))-3)=G10,VLOOKUP(H10,Materialtabell[[#All],[Materialnamn]:[Enhet]],4,0),"kg/ton/"&RIGHT(VLOOKUP(H10,Materialtabell[[#All],[Materialnamn]:[Enhet]],4,0),LEN(VLOOKUP(H10,Materialtabell[[#All],[Materialnamn]:[Enhet]],4,0))-3)))),"") | L10: =IFERROR(KalkylStart[[#This Row],[Mängd]]*KalkylStart[[#This Row],[Omräknings-faktor]],"") | M10: =IFERROR(F10*J10*VLOOKUP(H10,Materialtabell[[#All],[Materialnamn]:[Emissionsfaktor 2019 kg CO2e/kg]],5,0),"") | N10: =IFERROR(F10*J10*VLOOKUP(H10,Materialtabell[[#All],[Materialnamn]:[Emissionsfaktor 2025 kg CO2e/kg]],6,0),"") | O10: =IFERROR(VLOOKUP(H10,Materialtabell[[#All],[Materialnamn]:[Kommentar A4]],24,0),"") | P10: =IFERROR(($F10*$J10*$O10*VLOOKUP($H10,Materialtabell[[#All],[Materialnamn]:[Bränsle MJ/ton, km]],25,0)*Materiallista!$AF$5)/1000,"") | Q10: =IFERROR(($F10*$J10*$O10*VLOOKUP($H10,Materialtabell[[#All],[Materialnamn]:[Bränsle MJ/ton, km]],25,0)*Materiallista!$AF$6)/1000,"")
B11: 6 | I11: =IFERROR(VLOOKUP(KalkylStart[[#This Row],[Klimatmaterial]],Materialtabell[[#All],[Materialnamn]:[Materialtyp]],2,0),"") | J11: =IFERROR(IF(G11="kg",1,IF(G11="ton",1000,IF(G11=RIGHT(VLOOKUP(H11,Materialtabell[[#All],[Materialnamn]:[Enhet]],4,0),LEN(VLOOKUP(H11,Materialtabell[[#All],[Materialnamn]:[Enhet]],4,0))-3),VLOOKUP(H11,Materialtabell[[#All],[Materialnamn]:[Enhet]],3,0),"Enhetsfel"))),"") | K11: =IFERROR(IF(G11="kg","kg/kg",IF(G11="ton","kg/ton",IF(RIGHT(VLOOKUP(H11,Materialtabell[[#All],[Materialnamn]:[Enhet]],4,0),LEN(VLOOKUP(H11,Materialtabell[[#All],[Materialnamn]:[Enhet]],4,0))-3)=G11,VLOOKUP(H11,Materialtabell[[#All],[Materialnamn]:[Enhet]],4,0),"kg/ton/"&RIGHT(VLOOKUP(H11,Materialtabell[[#All],[Materialnamn]:[Enhet]],4,0),LEN(VLOOKUP(H11,Materialtabell[[#All],[Materialnamn]:[Enhet]],4,0))-3)))),"") | L11: =IFERROR(KalkylStart[[#This Row],[Mängd]]*KalkylStart[[#This Row],[Omräknings-faktor]],"") | M11: =IFERROR(F11*J11*VLOOKUP(H11,Materialtabell[[#All],[Materialnamn]:[Emissionsfaktor 2019 kg CO2e/kg]],5,0),"") | N11: =IFERROR(F11*J11*VLOOKUP(H11,Materialtabell[[#All],[Materialnamn]:[Emissionsfaktor 2025 kg CO2e/kg]],6,0),"") | O11: =IFERROR(VLOOKUP(H11,Materialtabell[[#All],[Materialnamn]:[Kommentar A4]],24,0),"") | P11: =IFERROR(($F11*$J11*$O11*VLOOKUP($H11,Materialtabell[[#All],[Materialnamn]:[Bränsle MJ/ton, km]],25,0)*Materiallista!$AF$5)/1000,"") | Q11: =IFERROR(($F11*$J11*$O11*VLOOKUP($H11,Materialtabell[[#All],[Materialnamn]:[Bränsle MJ/ton, km]],25,0)*Materiallista!$AF$6)/1000,"")
B12: 7 | I12: =IFERROR(VLOOKUP(KalkylStart[[#This Row],[Klimatmaterial]],Materialtabell[[#All],[Materialnamn]:[Materialtyp]],2,0),"") | J12: =IFERROR(IF(G12="kg",1,IF(G12="ton",1000,IF(G12=RIGHT(VLOOKUP(H12,Materialtabell[[#All],[Materialnamn]:[Enhet]],4,0),LEN(VLOOKUP(H12,Materialtabell[[#All],[Materialnamn]:[Enhet]],4,0))-3),VLOOKUP(H12,Materialtabell[[#All],[Materialnamn]:[Enhet]],3,0),"Enhetsfel"))),"") | K12: =IFERROR(IF(G12="kg","kg/kg",IF(G12="ton","kg/ton",IF(RIGHT(VLOOKUP(H12,Materialtabell[[#All],[Materialnamn]:[Enhet]],4,0),LEN(VLOOKUP(H12,Materialtabell[[#All],[Materialnamn]:[Enhet]],4,0))-3)=G12,VLOOKUP(H12,Materialtabell[[#All],[Materialnamn]:[Enhet]],4,0),"kg/ton/"&RIGHT(VLOOKUP(H12,Materialtabell[[#All],[Materialnamn]:[Enhet]],4,0),LEN(VLOOKUP(H12,Materialtabell[[#All],[Materialnamn]:[Enhet]],4,0))-3)))),"") | L12: =IFERROR(KalkylStart[[#This Row],[Mängd]]*KalkylStart[[#This Row],[Omräknings-faktor]],"") | M12: =IFERROR(F12*J12*VLOOKUP(H12,Materialtabell[[#All],[Materialnamn]:[Emissionsfaktor 2019 kg CO2e/kg]],5,0),"") | N12: =IFERROR(F12*J12*VLOOKUP(H12,Materialtabell[[#All],[Materialnamn]:[Emissionsfaktor 2025 kg CO2e/kg]],6,0),"") | O12: =IFERROR(VLOOKUP(H12,Materialtabell[[#All],[Materialnamn]:[Kommentar A4]],24,0),"") | P12: =IFERROR(($F12*$J12*$O12*VLOOKUP($H12,Materialtabell[[#All],[Materialnamn]:[Bränsle MJ/ton, km]],25,0)*Materiallista!$AF$5)/1000,"") | Q12: =IFERROR(($F12*$J12*$O12*VLOOKUP($H12,Materialtabell[[#All],[Materialnamn]:[Bränsle MJ/ton, km]],25,0)*Materiallista!$AF$6)/1000,"")
B13: 8 | I13: =IFERROR(VLOOKUP(KalkylStart[[#This Row],[Klimatmaterial]],Materialtabell[[#All],[Materialnamn]:[Materialtyp]],2,0),"") | J13: =IFERROR(IF(G13="kg",1,IF(G13="ton",1000,IF(G13=RIGHT(VLOOKUP(H13,Materialtabell[[#All],[Materialnamn]:[Enhet]],4,0),LEN(VLOOKUP(H13,Materialtabell[[#All],[Materialnamn]:[Enhet]],4,0))-3),VLOOKUP(H13,Materialtabell[[#All],[Materialnamn]:[Enhet]],3,0),"Enhetsfel"))),"") | K13: =IFERROR(IF(G13="kg","kg/kg",IF(G13="ton","kg/ton",IF(RIGHT(VLOOKUP(H13,Materialtabell[[#All],[Materialnamn]:[Enhet]],4,0),LEN(VLOOKUP(H13,Materialtabell[[#All],[Materialnamn]:[Enhet]],4,0))-3)=G13,VLOOKUP(H13,Materialtabell[[#All],[Materialnamn]:[Enhet]],4,0),"kg/ton/"&RIGHT(VLOOKUP(H13,Materialtabell[[#All],[Materialnamn]:[Enhet]],4,0),LEN(VLOOKUP(H13,Materialtabell[[#All],[Materialnamn]:[Enhet]],4,0))-3)))),"") | L13: =IFERROR(KalkylStart[[#This Row],[Mängd]]*KalkylStart[[#This Row],[Omräknings-faktor]],"") | M13: =IFERROR(F13*J13*VLOOKUP(H13,Materialtabell[[#All],[Materialnamn]:[Emissionsfaktor 2019 kg CO2e/kg]],5,0),"") | N13: =IFERROR(F13*J13*VLOOKUP(H13,Materialtabell[[#All],[Materialnamn]:[Emissionsfaktor 2025 kg CO2e/kg]],6,0),"") | O13: =IFERROR(VLOOKUP(H13,Materialtabell[[#All],[Materialnamn]:[Kommentar A4]],24,0),"") | P13: =IFERROR(($F13*$J13*$O13*VLOOKUP($H13,Materialtabell[[#All],[Materialnamn]:[Bränsle MJ/ton, km]],25,0)*Materiallista!$AF$5)/1000,"") | Q13: =IFERROR(($F13*$J13*$O13*VLOOKUP($H13,Materialtabell[[#All],[Materialnamn]:[Bränsle MJ/ton, km]],25,0)*Materiallista!$AF$6)/1000,"")
B14: 9 | I14: =IFERROR(VLOOKUP(KalkylStart[[#This Row],[Klimatmaterial]],Materialtabell[[#All],[Materialnamn]:[Materialtyp]],2,0),"") | J14: =IFERROR(IF(G14="kg",1,IF(G14="ton",1000,IF(G14=RIGHT(VLOOKUP(H14,Materialtabell[[#All],[Materialnamn]:[Enhet]],4,0),LEN(VLOOKUP(H14,Materialtabell[[#All],[Materialnamn]:[Enhet]],4,0))-3),VLOOKUP(H14,Materialtabell[[#All],[Materialnamn]:[Enhet]],3,0),"Enhetsfel"))),"") | K14: =IFERROR(IF(G14="kg","kg/kg",IF(G14="ton","kg/ton",IF(RIGHT(VLOOKUP(H14,Materialtabell[[#All],[Materialnamn]:[Enhet]],4,0),LEN(VLOOKUP(H14,Materialtabell[[#All],[Materialnamn]:[Enhet]],4,0))-3)=G14,VLOOKUP(H14,Materialtabell[[#All],[Materialnamn]:[Enhet]],4,0),"kg/ton/"&RIGHT(VLOOKUP(H14,Materialtabell[[#All],[Materialnamn]:[Enhet]],4,0),LEN(VLOOKUP(H14,Materialtabell[[#All],[Materialnamn]:[Enhet]],4,0))-3)))),"") | L14: =IFERROR(KalkylStart[[#This Row],[Mängd]]*KalkylStart[[#This Row],[Omräknings-faktor]],"") | M14: =IFERROR(F14*J14*VLOOKUP(H14,Materialtabell[[#All],[Materialnamn]:[Emissionsfaktor 2019 kg CO2e/kg]],5,0),"") | N14: =IFERROR(F14*J14*VLOOKUP(H14,Materialtabell[[#All],[Materialnamn]:[Emissionsfaktor 2025 kg CO2e/kg]],6,0),"") | O14: =IFERROR(VLOOKUP(H14,Materialtabell[[#All],[Materialnamn]:[Kommentar A4]],24,0),"") | P14: =IFERROR(($F14*$J14*$O14*VLOOKUP($H14,Materialtabell[[#All],[Materialnamn]:[Bränsle MJ/ton, km]],25,0)*Materiallista!$AF$5)/1000,"") | Q14: =IFERROR(($F14*$J14*$O14*VLOOKUP($H14,Materialtabell[[#All],[Materialnamn]:[Bränsle MJ/ton, km]],25,0)*Materiallista!$AF$6)/1000,"")
B15: 10 | I15: =IFERROR(VLOOKUP(KalkylStart[[#This Row],[Klimatmaterial]],Materialtabell[[#All],[Materialnamn]:[Materialtyp]],2,0),"") | J15: =IFERROR(IF(G15="kg",1,IF(G15="ton",1000,IF(G15=RIGHT(VLOOKUP(H15,Materialtabell[[#All],[Materialnamn]:[Enhet]],4,0),LEN(VLOOKUP(H15,Materialtabell[[#All],[Materialnamn]:[Enhet]],4,0))-3),VLOOKUP(H15,Materialtabell[[#All],[Materialnamn]:[Enhet]],3,0),"Enhetsfel"))),"") | K15: =IFERROR(IF(G15="kg","kg/kg",IF(G15="ton","kg/ton",IF(RIGHT(VLOOKUP(H15,Materialtabell[[#All],[Materialnamn]:[Enhet]],4,0),LEN(VLOOKUP(H15,Materialtabell[[#All],[Materialnamn]:[Enhet]],4,0))-3)=G15,VLOOKUP(H15,Materialtabell[[#All],[Materialnamn]:[Enhet]],4,0),"kg/ton/"&RIGHT(VLOOKUP(H15,Materialtabell[[#All],[Materialnamn]:[Enhet]],4,0),LEN(VLOOKUP(H15,Materialtabell[[#All],[Materialnamn]:[Enhet]],4,0))-3)))),"") | L15: =IFERROR(KalkylStart[[#This Row],[Mängd]]*KalkylStart[[#This Row],[Omräknings-faktor]],"") | M15: =IFERROR(F15*J15*VLOOKUP(H15,Materialtabell[[#All],[Materialnamn]:[Emissionsfaktor 2019 kg CO2e/kg]],5,0),"") | N15: =IFERROR(F15*J15*VLOOKUP(H15,Materialtabell[[#All],[Materialnamn]:[Emissionsfaktor 2025 kg CO2e/kg]],6,0),"") | O15: =IFERROR(VLOOKUP(H15,Materialtabell[[#All],[Materialnamn]:[Kommentar A4]],24,0),"") | P15: =IFERROR(($F15*$J15*$O15*VLOOKUP($H15,Materialtabell[[#All],[Materialnamn]:[Bränsle MJ/ton, km]],25,0)*Materiallista!$AF$5)/1000,"") | Q15: =IFERROR(($F15*$J15*$O15*VLOOKUP($H15,Materialtabell[[#All],[Materialnamn]:[Bränsle MJ/ton, km]],25,0)*Materiallista!$AF$6)/1000,"")
B16: 11 | I16: =IFERROR(VLOOKUP(KalkylStart[[#This Row],[Klimatmaterial]],Materialtabell[[#All],[Materialnamn]:[Materialtyp]],2,0),"") | J16: =IFERROR(IF(G16="kg",1,IF(G16="ton",1000,IF(G16=RIGHT(VLOOKUP(H16,Materialtabell[[#All],[Materialnamn]:[Enhet]],4,0),LEN(VLOOKUP(H16,Materialtabell[[#All],[Materialnamn]:[Enhet]],4,0))-3),VLOOKUP(H16,Materialtabell[[#All],[Materialnamn]:[Enhet]],3,0),"Enhetsfel"))),"") | K16: =IFERROR(IF(G16="kg","kg/kg",IF(G16="ton","kg/ton",IF(RIGHT(VLOOKUP(H16,Materialtabell[[#All],[Materialnamn]:[Enhet]],4,0),LEN(VLOOKUP(H16,Materialtabell[[#All],[Materialnamn]:[Enhet]],4,0))-3)=G16,VLOOKUP(H16,Materialtabell[[#All],[Materialnamn]:[Enhet]],4,0),"kg/ton/"&RIGHT(VLOOKUP(H16,Materialtabell[[#All],[Materialnamn]:[Enhet]],4,0),LEN(VLOOKUP(H16,Materialtabell[[#All],[Materialnamn]:[Enhet]],4,0))-3)))),"") | L16: =IFERROR(KalkylStart[[#This Row],[Mängd]]*KalkylStart[[#This Row],[Omräknings-faktor]],"") | M16: =IFERROR(F16*J16*VLOOKUP(H16,Materialtabell[[#All],[Materialnamn]:[Emissionsfaktor 2019 kg CO2e/kg]],5,0),"") | N16: =IFERROR(F16*J16*VLOOKUP(H16,Materialtabell[[#All],[Materialnamn]:[Emissionsfaktor 2025 kg CO2e/kg]],6,0),"") | O16: =IFERROR(VLOOKUP(H16,Materialtabell[[#All],[Materialnamn]:[Kommentar A4]],24,0),"") | P16: =IFERROR(($F16*$J16*$O16*VLOOKUP($H16,Materialtabell[[#All],[Materialnamn]:[Bränsle MJ/ton, km]],25,0)*Materiallista!$AF$5)/1000,"") | Q16: =IFERROR(($F16*$J16*$O16*VLOOKUP($H16,Materialtabell[[#All],[Materialnamn]:[Bränsle MJ/ton, km]],25,0)*Materiallista!$AF$6)/1000,"")
B17: 12 | I17: =IFERROR(VLOOKUP(KalkylStart[[#This Row],[Klimatmaterial]],Materialtabell[[#All],[Materialnamn]:[Materialtyp]],2,0),"") | J17: =IFERROR(IF(G17="kg",1,IF(G17="ton",1000,IF(G17=RIGHT(VLOOKUP(H17,Materialtabell[[#All],[Materialnamn]:[Enhet]],4,0),LEN(VLOOKUP(H17,Materialtabell[[#All],[Materialnamn]:[Enhet]],4,0))-3),VLOOKUP(H17,Materialtabell[[#All],[Materialnamn]:[Enhet]],3,0),"Enhetsfel"))),"") | K17: =IFERROR(IF(G17="kg","kg/kg",IF(G17="ton","kg/ton",IF(RIGHT(VLOOKUP(H17,Materialtabell[[#All],[Materialnamn]:[Enhet]],4,0),LEN(VLOOKUP(H17,Materialtabell[[#All],[Materialnamn]:[Enhet]],4,0))-3)=G17,VLOOKUP(H17,Materialtabell[[#All],[Materialnamn]:[Enhet]],4,0),"kg/ton/"&RIGHT(VLOOKUP(H17,Materialtabell[[#All],[Materialnamn]:[Enhet]],4,0),LEN(VLOOKUP(H17,Materialtabell[[#All],[Materialnamn]:[Enhet]],4,0))-3)))),"") | L17: =IFERROR(KalkylStart[[#This Row],[Mängd]]*KalkylStart[[#This Row],[Omräknings-faktor]],"") | M17: =IFERROR(F17*J17*VLOOKUP(H17,Materialtabell[[#All],[Materialnamn]:[Emissionsfaktor 2019 kg CO2e/kg]],5,0),"") | N17: =IFERROR(F17*J17*VLOOKUP(H17,Materialtabell[[#All],[Materialnamn]:[Emissionsfaktor 2025 kg CO2e/kg]],6,0),"") | O17: =IFERROR(VLOOKUP(H17,Materialtabell[[#All],[Materialnamn]:[Kommentar A4]],24,0),"") | P17: =IFERROR(($F17*$J17*$O17*VLOOKUP($H17,Materialtabell[[#All],[Materialnamn]:[Bränsle MJ/ton, km]],25,0)*Materiallista!$AF$5)/1000,"") | Q17: =IFERROR(($F17*$J17*$O17*VLOOKUP($H17,Materialtabell[[#All],[Materialnamn]:[Bränsle MJ/ton, km]],25,0)*Materiallista!$AF$6)/1000,"")
... B255: 250 | I255: =IFERROR(VLOOKUP(KalkylStart[[#This Row],[Klimatmaterial]],Materialtabell[[#All],[Materialnamn]:[Materialtyp]],2,0),"") | J255: =IFERROR(IF(G255="kg",1,IF(G255="ton",1000,IF(G255=RIGHT(VLOOKUP(H255,Materialtabell[[#All],[Materialnamn]:[Enhet]],4,0),LEN(VLOOKUP(H255,Materialtabell[[#All],[Materialnamn]:[Enhet]],4,0))-3),VLOOKUP(H255,Materialtabell[[#All],[Materialnamn]:[Enhet]],3,0),"Enhetsfel"))),"") | K255: =IFERROR(IF(G255="kg","kg/kg",IF(G255="ton","kg/ton",IF(RIGHT(VLOOKUP(H255,Materialtabell[[#All],[Materialnamn]:[Enhet]],4,0),LEN(VLOOKUP(H255,Materialtabell[[#All],[Materialnamn]:[Enhet]],4,0))-3)=G255,VLOOKUP(H255,Materialtabell[[#All],[Materialnamn]:[Enhet]],4,0),"kg/ton/"&RIGHT(VLOOKUP(H255,Materialtabell[[#All],[Materialnamn]:[Enhet]],4,0),LEN(VLOOKUP(H255,Materialtabell[[#All],[Materialnamn]:[Enhet]],4,0))-3)))),"") | L255: =IFERROR(KalkylStart[[#This Row],[Mängd]]*KalkylStart[[#This Row],[Omräknings-faktor]],"") | M255: =IFERROR(F255*J255*VLOOKUP(H255,Materialtabell[[#All],[Materialnamn]:[Emissionsfaktor 2019 kg CO2e/kg]],5,0),"") | N255: =IFERROR(F255*J255*VLOOKUP(H255,Materialtabell[[#All],[Materialnamn]:[Emissionsfaktor 2025 kg CO2e/kg]],6,0),"") | O255: =IFERROR(VLOOKUP(H255,Materialtabell[[#All],[Materialnamn]:[Kommentar A4]],24,0),"") | P255: =IFERROR(($F255*$J255*$O255*VLOOKUP($H255,Materialtabell[[#All],[Materialnamn]:[Bränsle MJ/ton, km]],25,0)*Materiallista!$AF$5)/1000,"") | Q255: =IFERROR(($F255*$J255*$O255*VLOOKUP($H255,Materialtabell[[#All],[Materialnamn]:[Bränsle MJ/ton, km]],25,0)*Materiallista!$AF$6)/1000,"")

Sheet Kalkyl slut
C2: KEX - Slutkalkyl
C4: Instruktioner | J4: Klimatpåverkan från material (A1-3) | P4: Klimatpåverkan från transport (A4)
B5: # | C5: Teknikområde | D5: AMA-kod | E5: Material / produkt / AMA-beskrivning | F5: Mängd | G5: Enhet | H5: Klimatmaterial | I5: Materialtyp | J5: Omräknings-faktor | K5: Faktorenhet | L5: Materialvikt | M5: 2019 kg CO2e | N5: A1-3 kg CO2e | O5: Avstånd km | P5: 20% HVO kg CO2e | Q5: 100% HVO kg CO2e | R5: Kommentar
B6: 1 | I6: =IFERROR(VLOOKUP(KalkylSlut[[#This Row],[Klimatmaterial]],Materialtabell[[#All],[Materialnamn]:[Materialtyp]],2,0),"") | J6: =IFERROR(IF(G6="kg",1,IF(G6="ton",1000,IF(G6=RIGHT(VLOOKUP(H6,Materialtabell[[#All],[Materialnamn]:[Enhet]],4,0),LEN(VLOOKUP(H6,Materialtabell[[#All],[Materialnamn]:[Enhet]],4,0))-3),VLOOKUP(H6,Materialtabell[[#All],[Materialnamn]:[Enhet]],3,0),"Enhetsfel"))),"") | K6: =IFERROR(IF(G6="kg","kg/kg",IF(G6="ton","kg/ton",IF(RIGHT(VLOOKUP(H6,Materialtabell[[#All],[Materialnamn]:[Enhet]],4,0),LEN(VLOOKUP(H6,Materialtabell[[#All],[Materialnamn]:[Enhet]],4,0))-3)=G6,VLOOKUP(H6,Materialtabell[[#All],[Materialnamn]:[Enhet]],4,0),"kg/ton/"&RIGHT(VLOOKUP(H6,Materialtabell[[#All],[Materialnamn]:[Enhet]],4,0),LEN(VLOOKUP(H6,Materialtabell[[#All],[Materialnamn]:[Enhet]],4,0))-3)))),"") | L6: =IFERROR(KalkylSlut[[#This Row],[Mängd]]*KalkylSlut[[#This Row],[Omräknings-faktor]],"") | M6: =IFERROR(F6*J6*VLOOKUP(H6,Materialtabell[[#All],[Materialnamn]:[Emissionsfaktor 2019 kg CO2e/kg]],5,0),"") | N6: =IFERROR(F6*J6*VLOOKUP(H6,Materialtabell[[#All],[Materialnamn]:[Emissionsfaktor 2025 kg CO2e/kg]],6,0),"") | O6: =IFERROR(VLOOKUP(H6,Materialtabell[[#All],[Materialnamn]:[Kommentar A4]],24,0),"") | P6: =IFERROR(($F6*$J6*$O6*VLOOKUP($H6,Materialtabell[[#All],[Materialnamn]:[Bränsle MJ/ton, km]],25,0)*Materiallista!$AF$5)/1000,"") | Q6: =IFERROR(($F6*$J6*$O6*VLOOKUP($H6,Materialtabell[[#All],[Materialnamn]:[Bränsle MJ/ton, km]],25,0)*Materiallista!$AF$6)/1000,"")
B7: 2 | I7: =IFERROR(VLOOKUP(KalkylSlut[[#This Row],[Klimatmaterial]],Materialtabell[[#All],[Materialnamn]:[Materialtyp]],2,0),"") | J7: =IFERROR(IF(G7="kg",1,IF(G7="ton",1000,IF(G7=RIGHT(VLOOKUP(H7,Materialtabell[[#All],[Materialnamn]:[Enhet]],4,0),LEN(VLOOKUP(H7,Materialtabell[[#All],[Materialnamn]:[Enhet]],4,0))-3),VLOOKUP(H7,Materialtabell[[#All],[Materialnamn]:[Enhet]],3,0),"Enhetsfel"))),"") | K7: =IFERROR(IF(G7="kg","kg/kg",IF(G7="ton","kg/ton",IF(RIGHT(VLOOKUP(H7,Materialtabell[[#All],[Materialnamn]:[Enhet]],4,0),LEN(VLOOKUP(H7,Materialtabell[[#All],[Materialnamn]:[Enhet]],4,0))-3)=G7,VLOOKUP(H7,Materialtabell[[#All],[Materialnamn]:[Enhet]],4,0),"kg/ton/"&RIGHT(VLOOKUP(H7,Materialtabell[[#All],[Materialnamn]:[Enhet]],4,0),LEN(VLOOKUP(H7,Materialtabell[[#All],[Materialnamn]:[Enhet]],4,0))-3)))),"") | L7: =IFERROR(KalkylSlut[[#This Row],[Mängd]]*KalkylSlut[[#This Row],[Omräknings-faktor]],"") | M7: =IFERROR(F7*J7*VLOOKUP(H7,Materialtabell[[#All],[Materialnamn]:[Emissionsfaktor 2019 kg CO2e/kg]],5,0),"") | N7: =IFERROR(F7*J7*VLOOKUP(H7,Materialtabell[[#All],[Materialnamn]:[Emissionsfaktor 2025 kg CO2e/kg]],6,0),"") | O7: =IFERROR(VLOOKUP(H7,Materialtabell[[#All],[Materialnamn]:[Kommentar A4]],24,0),"") | P7: =IFERROR(($F7*$J7*$O7*VLOOKUP($H7,Materialtabell[[#All],[Materialnamn]:[Bränsle MJ/ton, km]],25,0)*Materiallista!$AF$5)/1000,"") | Q7: =IFERROR(($F7*$J7*$O7*VLOOKUP($H7,Materialtabell[[#All],[Materialnamn]:[Bränsle MJ/ton, km]],25,0)*Materiallista!$AF$6)/1000,"")
B8: 3 | I8: =IFERROR(VLOOKUP(KalkylSlut[[#This Row],[Klimatmaterial]],Materialtabell[[#All],[Materialnamn]:[Materialtyp]],2,0),"") | J8: =IFERROR(IF(G8="kg",1,IF(G8="ton",1000,IF(G8=RIGHT(VLOOKUP(H8,Materialtabell[[#All],[Materialnamn]:[Enhet]],4,0),LEN(VLOOKUP(H8,Materialtabell[[#All],[Materialnamn]:[Enhet]],4,0))-3),VLOOKUP(H8,Materialtabell[[#All],[Materialnamn]:[Enhet]],3,0),"Enhetsfel"))),"") | K8: =IFERROR(IF(G8="kg","kg/kg",IF(G8="ton","kg/ton",IF(RIGHT(VLOOKUP(H8,Materialtabell[[#All],[Materialnamn]:[Enhet]],4,0),LEN(VLOOKUP(H8,Materialtabell[[#All],[Materialnamn]:[Enhet]],4,0))-3)=G8,VLOOKUP(H8,Materialtabell[[#All],[Materialnamn]:[Enhet]],4,0),"kg/ton/"&RIGHT(VLOOKUP(H8,Materialtabell[[#All],[Materialnamn]:[Enhet]],4,0),LEN(VLOOKUP(H8,Materialtabell[[#All],[Materialnamn]:[Enhet]],4,0))-3)))),"") | L8: =IFERROR(KalkylSlut[[#This Row],[Mängd]]*KalkylSlut[[#This Row],[Omräknings-faktor]],"") | M8: =IFERROR(F8*J8*VLOOKUP(H8,Materialtabell[[#All],[Materialnamn]:[Emissionsfaktor 2019 kg CO2e/kg]],5,0),"") | N8: =IFERROR(F8*J8*VLOOKUP(H8,Materialtabell[[#All],[Materialnamn]:[Emissionsfaktor 2025 kg CO2e/kg]],6,0),"") | O8: =IFERROR(VLOOKUP(H8,Materialtabell[[#All],[Materialnamn]:[Kommentar A4]],24,0),"") | P8: =IFERROR(($F8*$J8*$O8*VLOOKUP($H8,Materialtabell[[#All],[Materialnamn]:[Bränsle MJ/ton, km]],25,0)*Materiallista!$AF$5)/1000,"") | Q8: =IFERROR(($F8*$J8*$O8*VLOOKUP($H8,Materialtabell[[#All],[Materialnamn]:[Bränsle MJ/ton, km]],25,0)*Materiallista!$AF$6)/1000,"")
B9: 4 | I9: =IFERROR(VLOOKUP(KalkylSlut[[#This Row],[Klimatmaterial]],Materialtabell[[#All],[Materialnamn]:[Materialtyp]],2,0),"") | J9: =IFERROR(IF(G9="kg",1,IF(G9="ton",1000,IF(G9=RIGHT(VLOOKUP(H9,Materialtabell[[#All],[Materialnamn]:[Enhet]],4,0),LEN(VLOOKUP(H9,Materialtabell[[#All],[Materialnamn]:[Enhet]],4,0))-3),VLOOKUP(H9,Materialtabell[[#All],[Materialnamn]:[Enhet]],3,0),"Enhetsfel"))),"") | K9: =IFERROR(IF(G9="kg","kg/kg",IF(G9="ton","kg/ton",IF(RIGHT(VLOOKUP(H9,Materialtabell[[#All],[Materialnamn]:[Enhet]],4,0),LEN(VLOOKUP(H9,Materialtabell[[#All],[Materialnamn]:[Enhet]],4,0))-3)=G9,VLOOKUP(H9,Materialtabell[[#All],[Materialnamn]:[Enhet]],4,0),"kg/ton/"&RIGHT(VLOOKUP(H9,Materialtabell[[#All],[Materialnamn]:[Enhet]],4,0),LEN(VLOOKUP(H9,Materialtabell[[#All],[Materialnamn]:[Enhet]],4,0))-3)))),"") | L9: =IFERROR(KalkylSlut[[#This Row],[Mängd]]*KalkylSlut[[#This Row],[Omräknings-faktor]],"") | M9: =IFERROR(F9*J9*VLOOKUP(H9,Materialtabell[[#All],[Materialnamn]:[Emissionsfaktor 2019 kg CO2e/kg]],5,0),"") | N9: =IFERROR(F9*J9*VLOOKUP(H9,Materialtabell[[#All],[Materialnamn]:[Emissionsfaktor 2025 kg CO2e/kg]],6,0),"") | O9: =IFERROR(VLOOKUP(H9,Materialtabell[[#All],[Materialnamn]:[Kommentar A4]],24,0),"") | P9: =IFERROR(($F9*$J9*$O9*VLOOKUP($H9,Materialtabell[[#All],[Materialnamn]:[Bränsle MJ/ton, km]],25,0)*Materiallista!$AF$5)/1000,"") | Q9: =IFERROR(($F9*$J9*$O9*VLOOKUP($H9,Materialtabell[[#All],[Materialnamn]:[Bränsle MJ/ton, km]],25,0)*Materiallista!$AF$6)/1000,"")
B10: 5 | I10: =IFERROR(VLOOKUP(KalkylSlut[[#This Row],[Klimatmaterial]],Materialtabell[[#All],[Materialnamn]:[Materialtyp]],2,0),"") | J10: =IFERROR(IF(G10="kg",1,IF(G10="ton",1000,IF(G10=RIGHT(VLOOKUP(H10,Materialtabell[[#All],[Materialnamn]:[Enhet]],4,0),LEN(VLOOKUP(H10,Materialtabell[[#All],[Materialnamn]:[Enhet]],4,0))-3),VLOOKUP(H10,Materialtabell[[#All],[Materialnamn]:[Enhet]],3,0),"Enhetsfel"))),"") | K10: =IFERROR(IF(G10="kg","kg/kg",IF(G10="ton","kg/ton",IF(RIGHT(VLOOKUP(H10,Materialtabell[[#All],[Materialnamn]:[Enhet]],4,0),LEN(VLOOKUP(H10,Materialtabell[[#All],[Materialnamn]:[Enhet]],4,0))-3)=G10,VLOOKUP(H10,Materialtabell[[#All],[Materialnamn]:[Enhet]],4,0),"kg/ton/"&RIGHT(VLOOKUP(H10,Materialtabell[[#All],[Materialnamn]:[Enhet]],4,0),LEN(VLOOKUP(H10,Materialtabell[[#All],[Materialnamn]:[Enhet]],4,0))-3)))),"") | L10: =IFERROR(KalkylSlut[[#This Row],[Mängd]]*KalkylSlut[[#This Row],[Omräknings-faktor]],"") | M10: =IFERROR(F10*J10*VLOOKUP(H10,Materialtabell[[#All],[Materialnamn]:[Emissionsfaktor 2019 kg CO2e/kg]],5,0),"") | N10: =IFERROR(F10*J10*VLOOKUP(H10,Materialtabell[[#All],[Materialnamn]:[Emissionsfaktor 2025 kg CO2e/kg]],6,0),"") | O10: =IFERROR(VLOOKUP(H10,Materialtabell[[#All],[Materialnamn]:[Kommentar A4]],24,0),"") | P10: =IFERROR(($F10*$J10*$O10*VLOOKUP($H10,Materialtabell[[#All],[Materialnamn]:[Bränsle MJ/ton, km]],25,0)*Materiallista!$AF$5)/1000,"") | Q10: =IFERROR(($F10*$J10*$O10*VLOOKUP($H10,Materialtabell[[#All],[Materialnamn]:[Bränsle MJ/ton, km]],25,0)*Materiallista!$AF$6)/1000,"")
B11: 6 | I11: =IFERROR(VLOOKUP(KalkylSlut[[#This Row],[Klimatmaterial]],Materialtabell[[#All],[Materialnamn]:[Materialtyp]],2,0),"") | J11: =IFERROR(IF(G11="kg",1,IF(G11="ton",1000,IF(G11=RIGHT(VLOOKUP(H11,Materialtabell[[#All],[Materialnamn]:[Enhet]],4,0),LEN(VLOOKUP(H11,Materialtabell[[#All],[Materialnamn]:[Enhet]],4,0))-3),VLOOKUP(H11,Materialtabell[[#All],[Materialnamn]:[Enhet]],3,0),"Enhetsfel"))),"") | K11: =IFERROR(IF(G11="kg","kg/kg",IF(G11="ton","kg/ton",IF(RIGHT(VLOOKUP(H11,Materialtabell[[#All],[Materialnamn]:[Enhet]],4,0),LEN(VLOOKUP(H11,Materialtabell[[#All],[Materialnamn]:[Enhet]],4,0))-3)=G11,VLOOKUP(H11,Materialtabell[[#All],[Materialnamn]:[Enhet]],4,0),"kg/ton/"&RIGHT(VLOOKUP(H11,Materialtabell[[#All],[Materialnamn]:[Enhet]],4,0),LEN(VLOOKUP(H11,Materialtabell[[#All],[Materialnamn]:[Enhet]],4,0))-3)))),"") | L11: =IFERROR(KalkylSlut[[#This Row],[Mängd]]*KalkylSlut[[#This Row],[Omräknings-faktor]],"") | M11: =IFERROR(F11*J11*VLOOKUP(H11,Materialtabell[[#All],[Materialnamn]:[Emissionsfaktor 2019 kg CO2e/kg]],5,0),"") | N11: =IFERROR(F11*J11*VLOOKUP(H11,Materialtabell[[#All],[Materialnamn]:[Emissionsfaktor 2025 kg CO2e/kg]],6,0),"") | O11: =IFERROR(VLOOKUP(H11,Materialtabell[[#All],[Materialnamn]:[Kommentar A4]],24,0),"") | P11: =IFERROR(($F11*$J11*$O11*VLOOKUP($H11,Materialtabell[[#All],[Materialnamn]:[Bränsle MJ/ton, km]],25,0)*Materiallista!$AF$5)/1000,"") | Q11: =IFERROR(($F11*$J11*$O11*VLOOKUP($H11,Materialtabell[[#All],[Materialnamn]:[Bränsle MJ/ton, km]],25,0)*Materiallista!$AF$6)/1000,"")
B12: 7 | I12: =IFERROR(VLOOKUP(KalkylSlut[[#This Row],[Klimatmaterial]],Materialtabell[[#All],[Materialnamn]:[Materialtyp]],2,0),"") | J12: =IFERROR(IF(G12="kg",1,IF(G12="ton",1000,IF(G12=RIGHT(VLOOKUP(H12,Materialtabell[[#All],[Materialnamn]:[Enhet]],4,0),LEN(VLOOKUP(H12,Materialtabell[[#All],[Materialnamn]:[Enhet]],4,0))-3),VLOOKUP(H12,Materialtabell[[#All],[Materialnamn]:[Enhet]],3,0),"Enhetsfel"))),"") | K12: =IFERROR(IF(G12="kg","kg/kg",IF(G12="ton","kg/ton",IF(RIGHT(VLOOKUP(H12,Materialtabell[[#All],[Materialnamn]:[Enhet]],4,0),LEN(VLOOKUP(H12,Materialtabell[[#All],[Materialnamn]:[Enhet]],4,0))-3)=G12,VLOOKUP(H12,Materialtabell[[#All],[Materialnamn]:[Enhet]],4,0),"kg/ton/"&RIGHT(VLOOKUP(H12,Materialtabell[[#All],[Materialnamn]:[Enhet]],4,0),LEN(VLOOKUP(H12,Materialtabell[[#All],[Materialnamn]:[Enhet]],4,0))-3)))),"") | L12: =IFERROR(KalkylSlut[[#This Row],[Mängd]]*KalkylSlut[[#This Row],[Omräknings-faktor]],"") | M12: =IFERROR(F12*J12*VLOOKUP(H12,Materialtabell[[#All],[Materialnamn]:[Emissionsfaktor 2019 kg CO2e/kg]],5,0),"") | N12: =IFERROR(F12*J12*VLOOKUP(H12,Materialtabell[[#All],[Materialnamn]:[Emissionsfaktor 2025 kg CO2e/kg]],6,0),"") | O12: =IFERROR(VLOOKUP(H12,Materialtabell[[#All],[Materialnamn]:[Kommentar A4]],24,0),"") | P12: =IFERROR(($F12*$J12*$O12*VLOOKUP($H12,Materialtabell[[#All],[Materialnamn]:[Bränsle MJ/ton, km]],25,0)*Materiallista!$AF$5)/1000,"") | Q12: =IFERROR(($F12*$J12*$O12*VLOOKUP($H12,Materialtabell[[#All],[Materialnamn]:[Bränsle MJ/ton, km]],25,0)*Materiallista!$AF$6)/1000,"")
B13: 8 | I13: =IFERROR(VLOOKUP(KalkylSlut[[#This Row],[Klimatmaterial]],Materialtabell[[#All],[Materialnamn]:[Materialtyp]],2,0),"") | J13: =IFERROR(IF(G13="kg",1,IF(G13="ton",1000,IF(G13=RIGHT(VLOOKUP(H13,Materialtabell[[#All],[Materialnamn]:[Enhet]],4,0),LEN(VLOOKUP(H13,Materialtabell[[#All],[Materialnamn]:[Enhet]],4,0))-3),VLOOKUP(H13,Materialtabell[[#All],[Materialnamn]:[Enhet]],3,0),"Enhetsfel"))),"") | K13: =IFERROR(IF(G13="kg","kg/kg",IF(G13="ton","kg/ton",IF(RIGHT(VLOOKUP(H13,Materialtabell[[#All],[Materialnamn]:[Enhet]],4,0),LEN(VLOOKUP(H13,Materialtabell[[#All],[Materialnamn]:[Enhet]],4,0))-3)=G13,VLOOKUP(H13,Materialtabell[[#All],[Materialnamn]:[Enhet]],4,0),"kg/ton/"&RIGHT(VLOOKUP(H13,Materialtabell[[#All],[Materialnamn]:[Enhet]],4,0),LEN(VLOOKUP(H13,Materialtabell[[#All],[Materialnamn]:[Enhet]],4,0))-3)))),"") | L13: =IFERROR(KalkylSlut[[#This Row],[Mängd]]*KalkylSlut[[#This Row],[Omräknings-faktor]],"") | M13: =IFERROR(F13*J13*VLOOKUP(H13,Materialtabell[[#All],[Materialnamn]:[Emissionsfaktor 2019 kg CO2e/kg]],5,0),"") | N13: =IFERROR(F13*J13*VLOOKUP(H13,Materialtabell[[#All],[Materialnamn]:[Emissionsfaktor 2025 kg CO2e/kg]],6,0),"") | O13: =IFERROR(VLOOKUP(H13,Materialtabell[[#All],[Materialnamn]:[Kommentar A4]],24,0),"") | P13: =IFERROR(($F13*$J13*$O13*VLOOKUP($H13,Materialtabell[[#All],[Materialnamn]:[Bränsle MJ/ton, km]],25,0)*Materiallista!$AF$5)/1000,"") | Q13: =IFERROR(($F13*$J13*$O13*VLOOKUP($H13,Materialtabell[[#All],[Materialnamn]:[Bränsle MJ/ton, km]],25,0)*Materiallista!$AF$6)/1000,"")
B14: 9 | I14: =IFERROR(VLOOKUP(KalkylSlut[[#This Row],[Klimatmaterial]],Materialtabell[[#All],[Materialnamn]:[Materialtyp]],2,0),"") | J14: =IFERROR(IF(G14="kg",1,IF(G14="ton",1000,IF(G14=RIGHT(VLOOKUP(H14,Materialtabell[[#All],[Materialnamn]:[Enhet]],4,0),LEN(VLOOKUP(H14,Materialtabell[[#All],[Materialnamn]:[Enhet]],4,0))-3),VLOOKUP(H14,Materialtabell[[#All],[Materialnamn]:[Enhet]],3,0),"Enhetsfel"))),"") | K14: =IFERROR(IF(G14="kg","kg/kg",IF(G14="ton","kg/ton",IF(RIGHT(VLOOKUP(H14,Materialtabell[[#All],[Materialnamn]:[Enhet]],4,0),LEN(VLOOKUP(H14,Materialtabell[[#All],[Materialnamn]:[Enhet]],4,0))-3)=G14,VLOOKUP(H14,Materialtabell[[#All],[Materialnamn]:[Enhet]],4,0),"kg/ton/"&RIGHT(VLOOKUP(H14,Materialtabell[[#All],[Materialnamn]:[Enhet]],4,0),LEN(VLOOKUP(H14,Materialtabell[[#All],[Materialnamn]:[Enhet]],4,0))-3)))),"") | L14: =IFERROR(KalkylSlut[[#This Row],[Mängd]]*KalkylSlut[[#This Row],[Omräknings-faktor]],"") | M14: =IFERROR(F14*J14*VLOOKUP(H14,Materialtabell[[#All],[Materialnamn]:[Emissionsfaktor 2019 kg CO2e/kg]],5,0),"") | N14: =IFERROR(F14*J14*VLOOKUP(H14,Materialtabell[[#All],[Materialnamn]:[Emissionsfaktor 2025 kg CO2e/kg]],6,0),"") | O14: =IFERROR(VLOOKUP(H14,Materialtabell[[#All],[Materialnamn]:[Kommentar A4]],24,0),"") | P14: =IFERROR(($F14*$J14*$O14*VLOOKUP($H14,Materialtabell[[#All],[Materialnamn]:[Bränsle MJ/ton, km]],25,0)*Materiallista!$AF$5)/1000,"") | Q14: =IFERROR(($F14*$J14*$O14*VLOOKUP($H14,Materialtabell[[#All],[Materialnamn]:[Bränsle MJ/ton, km]],25,0)*Materiallista!$AF$6)/1000,"")
B15: 10 | I15: =IFERROR(VLOOKUP(KalkylSlut[[#This Row],[Klimatmaterial]],Materialtabell[[#All],[Materialnamn]:[Materialtyp]],2,0),"") | J15: =IFERROR(IF(G15="kg",1,IF(G15="ton",1000,IF(G15=RIGHT(VLOOKUP(H15,Materialtabell[[#All],[Materialnamn]:[Enhet]],4,0),LEN(VLOOKUP(H15,Materialtabell[[#All],[Materialnamn]:[Enhet]],4,0))-3),VLOOKUP(H15,Materialtabell[[#All],[Materialnamn]:[Enhet]],3,0),"Enhetsfel"))),"") | K15: =IFERROR(IF(G15="kg","kg/kg",IF(G15="ton","kg/ton",IF(RIGHT(VLOOKUP(H15,Materialtabell[[#All],[Materialnamn]:[Enhet]],4,0),LEN(VLOOKUP(H15,Materialtabell[[#All],[Materialnamn]:[Enhet]],4,0))-3)=G15,VLOOKUP(H15,Materialtabell[[#All],[Materialnamn]:[Enhet]],4,0),"kg/ton/"&RIGHT(VLOOKUP(H15,Materialtabell[[#All],[Materialnamn]:[Enhet]],4,0),LEN(VLOOKUP(H15,Materialtabell[[#All],[Materialnamn]:[Enhet]],4,0))-3)))),"") | L15: =IFERROR(KalkylSlut[[#This Row],[Mängd]]*KalkylSlut[[#This Row],[Omräknings-faktor]],"") | M15: =IFERROR(F15*J15*VLOOKUP(H15,Materialtabell[[#All],[Materialnamn]:[Emissionsfaktor 2019 kg CO2e/kg]],5,0),"") | N15: =IFERROR(F15*J15*VLOOKUP(H15,Materialtabell[[#All],[Materialnamn]:[Emissionsfaktor 2025 kg CO2e/kg]],6,0),"") | O15: =IFERROR(VLOOKUP(H15,Materialtabell[[#All],[Materialnamn]:[Kommentar A4]],24,0),"") | P15: =IFERROR(($F15*$J15*$O15*VLOOKUP($H15,Materialtabell[[#All],[Materialnamn]:[Bränsle MJ/ton, km]],25,0)*Materiallista!$AF$5)/1000,"") | Q15: =IFERROR(($F15*$J15*$O15*VLOOKUP($H15,Materialtabell[[#All],[Materialnamn]:[Bränsle MJ/ton, km]],25,0)*Materiallista!$AF$6)/1000,"")
B16: 11 | I16: =IFERROR(VLOOKUP(KalkylSlut[[#This Row],[Klimatmaterial]],Materialtabell[[#All],[Materialnamn]:[Materialtyp]],2,0),"") | J16: =IFERROR(IF(G16="kg",1,IF(G16="ton",1000,IF(G16=RIGHT(VLOOKUP(H16,Materialtabell[[#All],[Materialnamn]:[Enhet]],4,0),LEN(VLOOKUP(H16,Materialtabell[[#All],[Materialnamn]:[Enhet]],4,0))-3),VLOOKUP(H16,Materialtabell[[#All],[Materialnamn]:[Enhet]],3,0),"Enhetsfel"))),"") | K16: =IFERROR(IF(G16="kg","kg/kg",IF(G16="ton","kg/ton",IF(RIGHT(VLOOKUP(H16,Materialtabell[[#All],[Materialnamn]:[Enhet]],4,0),LEN(VLOOKUP(H16,Materialtabell[[#All],[Materialnamn]:[Enhet]],4,0))-3)=G16,VLOOKUP(H16,Materialtabell[[#All],[Materialnamn]:[Enhet]],4,0),"kg/ton/"&RIGHT(VLOOKUP(H16,Materialtabell[[#All],[Materialnamn]:[Enhet]],4,0),LEN(VLOOKUP(H16,Materialtabell[[#All],[Materialnamn]:[Enhet]],4,0))-3)))),"") | L16: =IFERROR(KalkylSlut[[#This Row],[Mängd]]*KalkylSlut[[#This Row],[Omräknings-faktor]],"") | M16: =IFERROR(F16*J16*VLOOKUP(H16,Materialtabell[[#All],[Materialnamn]:[Emissionsfaktor 2019 kg CO2e/kg]],5,0),"") | N16: =IFERROR(F16*J16*VLOOKUP(H16,Materialtabell[[#All],[Materialnamn]:[Emissionsfaktor 2025 kg CO2e/kg]],6,0),"") | O16: =IFERROR(VLOOKUP(H16,Materialtabell[[#All],[Materialnamn]:[Kommentar A4]],24,0),"") | P16: =IFERROR(($F16*$J16*$O16*VLOOKUP($H16,Materialtabell[[#All],[Materialnamn]:[Bränsle MJ/ton, km]],25,0)*Materiallista!$AF$5)/1000,"") | Q16: =IFERROR(($F16*$J16*$O16*VLOOKUP($H16,Materialtabell[[#All],[Materialnamn]:[Bränsle MJ/ton, km]],25,0)*Materiallista!$AF$6)/1000,"")
B17: 12 | I17: =IFERROR(VLOOKUP(KalkylSlut[[#This Row],[Klimatmaterial]],Materialtabell[[#All],[Materialnamn]:[Materialtyp]],2,0),"") | J17: =IFERROR(IF(G17="kg",1,IF(G17="ton",1000,IF(G17=RIGHT(VLOOKUP(H17,Materialtabell[[#All],[Materialnamn]:[Enhet]],4,0),LEN(VLOOKUP(H17,Materialtabell[[#All],[Materialnamn]:[Enhet]],4,0))-3),VLOOKUP(H17,Materialtabell[[#All],[Materialnamn]:[Enhet]],3,0),"Enhetsfel"))),"") | K17: =IFERROR(IF(G17="kg","kg/kg",IF(G17="ton","kg/ton",IF(RIGHT(VLOOKUP(H17,Materialtabell[[#All],[Materialnamn]:[Enhet]],4,0),LEN(VLOOKUP(H17,Materialtabell[[#All],[Materialnamn]:[Enhet]],4,0))-3)=G17,VLOOKUP(H17,Materialtabell[[#All],[Materialnamn]:[Enhet]],4,0),"kg/ton/"&RIGHT(VLOOKUP(H17,Materialtabell[[#All],[Materialnamn]:[Enhet]],4,0),LEN(VLOOKUP(H17,Materialtabell[[#All],[Materialnamn]:[Enhet]],4,0))-3)))),"") | L17: =IFERROR(KalkylSlut[[#This Row],[Mängd]]*KalkylSlut[[#This Row],[Omräknings-faktor]],"") | M17: =IFERROR(F17*J17*VLOOKUP(H17,Materialtabell[[#All],[Materialnamn]:[Emissionsfaktor 2019 kg CO2e/kg]],5,0),"") | N17: =IFERROR(F17*J17*VLOOKUP(H17,Materialtabell[[#All],[Materialnamn]:[Emissionsfaktor 2025 kg CO2e/kg]],6,0),"") | O17: =IFERROR(VLOOKUP(H17,Materialtabell[[#All],[Materialnamn]:[Kommentar A4]],24,0),"") | P17: =IFERROR(($F17*$J17*$O17*VLOOKUP($H17,Materialtabell[[#All],[Materialnamn]:[Bränsle MJ/ton, km]],25,0)*Materiallista!$AF$5)/1000,"") | Q17: =IFERROR(($F17*$J17*$O17*VLOOKUP($H17,Materialtabell[[#All],[Materialnamn]:[Bränsle MJ/ton, km]],25,0)*Materiallista!$AF$6)/1000,"")
... B255: 250 | I255: =IFERROR(VLOOKUP(KalkylSlut[[#This Row],[Klimatmaterial]],Materialtabell[[#All],[Materialnamn]:[Materialtyp]],2,0),"") | J255: =IFERROR(IF(G255="kg",1,IF(G255="ton",1000,IF(G255=RIGHT(VLOOKUP(H255,Materialtabell[[#All],[Materialnamn]:[Enhet]],4,0),LEN(VLOOKUP(H255,Materialtabell[[#All],[Materialnamn]:[Enhet]],4,0))-3),VLOOKUP(H255,Materialtabell[[#All],[Materialnamn]:[Enhet]],3,0),"Enhetsfel"))),"") | K255: =IFERROR(IF(G255="kg","kg/kg",IF(G255="ton","kg/ton",IF(RIGHT(VLOOKUP(H255,Materialtabell[[#All],[Materialnamn]:[Enhet]],4,0),LEN(VLOOKUP(H255,Materialtabell[[#All],[Materialnamn]:[Enhet]],4,0))-3)=G255,VLOOKUP(H255,Materialtabell[[#All],[Materialnamn]:[Enhet]],4,0),"kg/ton/"&RIGHT(VLOOKUP(H255,Materialtabell[[#All],[Materialnamn]:[Enhet]],4,0),LEN(VLOOKUP(H255,Materialtabell[[#All],[Materialnamn]:[Enhet]],4,0))-3)))),"") | L255: =IFERROR(KalkylSlut[[#This Row],[Mängd]]*KalkylSlut[[#This Row],[Omräknings-faktor]],"") | M255: =IFERROR(F255*J255*VLOOKUP(H255,Materialtabell[[#All],[Materialnamn]:[Emissionsfaktor 2019 kg CO2e/kg]],5,0),"") | N255: =IFERROR(F255*J255*VLOOKUP(H255,Materialtabell[[#All],[Materialnamn]:[Emissionsfaktor 2025 kg CO2e/kg]],6,0),"") | O255: =IFERROR(VLOOKUP(H255,Materialtabell[[#All],[Materialnamn]:[Kommentar A4]],24,0),"") | P255: =IFERROR(($F255*$J255*$O255*VLOOKUP($H255,Materialtabell[[#All],[Materialnamn]:[Bränsle MJ/ton, km]],25,0)*Materiallista!$AF$5)/1000,"") | Q255: =IFERROR(($F255*$J255*$O255*VLOOKUP($H255,Materialtabell[[#All],[Materialnamn]:[Bränsle MJ/ton, km]],25,0)*Materiallista!$AF$6)/1000,"")

Sheet Sammanställning
L1: Utskriven | M1: =TODAY() -> 46282
C2: KEX - Sammanställning
D4: Projekt: | E4: =IF(Försättsblad!$D$7=0,"",Försättsblad!$D$7) | J4: Projektyta: | L4: =IF(Försättsblad!$D$16=0,"",Försättsblad!$D$16) | M4: m2
D5: Skede: | E5: =IF(Försättsblad!$D$10=0,"",Försättsblad!$D$10) | J5: Projektkostnad: | L5: =IF(Försättsblad!$D$17=0,"",Försättsblad!$D$17) | M5: kr
F8: Material ton | H8: CO2e ton | J8: CO2e/m2 kg | L8: CO2e/Mkr ton
D9: Material A1-3 | F9: Start | G9: Slut | H9: Start | I9: Slut | J9: Start | K9: Slut | L9: Start | M9: Slut
D10: Asfalt | F10: =IF((SUMIF(KalkylStart[[#All],[Materialtyp]],D10,KalkylStart[[#All],[Materialvikt]]))/1000=0,"",(SUMIF(KalkylStart[[#All],[Materialtyp]],D10,KalkylStart[[#All],[Materialvikt]]))/1000) | G10: =IF((SUMIF(KalkylSlut[[#All],[Materialtyp]],D10,KalkylSlut[[#All],[Materialvikt]]))/1000=0,"",(SUMIF(KalkylSlut[[#All],[Materialtyp]],D10,KalkylSlut[[#All],[Materialvikt]]))/1000) | H10: =IF(SUMIF(KalkylStart[[#All],[Materialtyp]],D10,KalkylStart[[#All],[A1-3 kg CO2e]])/1000=0,"",SUMIF(KalkylStart[[#All],[Materialtyp]],D10,KalkylStart[[#All],[A1-3 kg CO2e]])/1000) | I10: =IF(SUMIF(KalkylSlut[[#All],[Materialtyp]],D10,KalkylSlut[[#All],[A1-3 kg CO2e]])/1000=0,"",SUMIF(KalkylSlut[[#All],[Materialtyp]],D10,KalkylSlut[[#All],[A1-3 kg CO2e]])/1000) | J10: =IFERROR(H10/$L$4*1000,"") | K10: =IFERROR(I10/$L$4*1000,"") | L10: =IFERROR(H10/($L$5/1000000),"") | M10: =IFERROR(I10/($L$5/1000000),"")
D11: Betong | F11: =IF((SUMIF(KalkylStart[[#All],[Materialtyp]],D11,KalkylStart[[#All],[Materialvikt]]))/1000=0,"",(SUMIF(KalkylStart[[#All],[Materialtyp]],D11,KalkylStart[[#All],[Materialvikt]]))/1000) | G11: =IF((SUMIF(KalkylSlut[[#All],[Materialtyp]],D11,KalkylSlut[[#All],[Materialvikt]]))/1000=0,"",(SUMIF(KalkylSlut[[#All],[Materialtyp]],D11,KalkylSlut[[#All],[Materialvikt]]))/1000) | H11: =IF(SUMIF(KalkylStart[[#All],[Materialtyp]],D11,KalkylStart[[#All],[A1-3 kg CO2e]])/1000=0,"",SUMIF(KalkylStart[[#All],[Materialtyp]],D11,KalkylStart[[#All],[A1-3 kg CO2e]])/1000) | I11: =IF(SUMIF(KalkylSlut[[#All],[Materialtyp]],D11,KalkylSlut[[#All],[A1-3 kg CO2e]])/1000=0,"",SUMIF(KalkylSlut[[#All],[Materialtyp]],D11,KalkylSlut[[#All],[A1-3 kg CO2e]])/1000) | J11: =IFERROR(H11/$L$4*1000,"") | K11: =IFERROR(I11/$L$4*1000,"") | L11: =IFERROR(H11/($L$5/1000000),"") | M11: =IFERROR(I11/($L$5/1000000),"")
D12: Metall | F12: =IF((SUMIF(KalkylStart[[#All],[Materialtyp]],D12,KalkylStart[[#All],[Materialvikt]]))/1000=0,"",(SUMIF(KalkylStart[[#All],[Materialtyp]],D12,KalkylStart[[#All],[Materialvikt]]))/1000) | G12: =IF((SUMIF(KalkylSlut[[#All],[Materialtyp]],D12,KalkylSlut[[#All],[Materialvikt]]))/1000=0,"",(SUMIF(KalkylSlut[[#All],[Materialtyp]],D12,KalkylSlut[[#All],[Materialvikt]]))/1000) | H12: =IF(SUMIF(KalkylStart[[#All],[Materialtyp]],D12,KalkylStart[[#All],[A1-3 kg CO2e]])/1000=0,"",SUMIF(KalkylStart[[#All],[Materialtyp]],D12,KalkylStart[[#All],[A1-3 kg CO2e]])/1000) | I12: =IF(SUMIF(KalkylSlut[[#All],[Materialtyp]],D12,KalkylSlut[[#All],[A1-3 kg CO2e]])/1000=0,"",SUMIF(KalkylSlut[[#All],[Materialtyp]],D12,KalkylSlut[[#All],[A1-3 kg CO2e]])/1000) | J12: =IFERROR(H12/$L$4*1000,"") | K12: =IFERROR(I12/$L$4*1000,"") | L12: =IFERROR(H12/($L$5/1000000),"") | M12: =IFERROR(I12/($L$5/1000000),"")
D13: Plast | F13: =IF((SUMIF(KalkylStart[[#All],[Materialtyp]],D13,KalkylStart[[#All],[Materialvikt]]))/1000=0,"",(SUMIF(KalkylStart[[#All],[Materialtyp]],D13,KalkylStart[[#All],[Materialvikt]]))/1000) | G13: =IF((SUMIF(KalkylSlut[[#All],[Materialtyp]],D13,KalkylSlut[[#All],[Materialvikt]]))/1000=0,"",(SUMIF(KalkylSlut[[#All],[Materialtyp]],D13,KalkylSlut[[#All],[Materialvikt]]))/1000) | H13: =IF(SUMIF(KalkylStart[[#All],[Materialtyp]],D13,KalkylStart[[#All],[A1-3 kg CO2e]])/1000=0,"",SUMIF(KalkylStart[[#All],[Materialtyp]],D13,KalkylStart[[#All],[A1-3 kg CO2e]])/1000) | I13: =IF(SUMIF(KalkylSlut[[#All],[Materialtyp]],D13,KalkylSlut[[#All],[A1-3 kg CO2e]])/1000=0,"",SUMIF(KalkylSlut[[#All],[Materialtyp]],D13,KalkylSlut[[#All],[A1-3 kg CO2e]])/1000) | J13: =IFERROR(H13/$L$4*1000,"") | K13: =IFERROR(I13/$L$4*1000,"") | L13: =IFERROR(H13/($L$5/1000000),"") | M13: =IFERROR(I13/($L$5/1000000),"")
D14: Anläggningssten | F14: =IF((SUMIF(KalkylStart[[#All],[Materialtyp]],D14,KalkylStart[[#All],[Materialvikt]]))/1000=0,"",(SUMIF(KalkylStart[[#All],[Materialtyp]],D14,KalkylStart[[#All],[Materialvikt]]))/1000) | G14: =IF((SUMIF(KalkylSlut[[#All],[Materialtyp]],D14,KalkylSlut[[#All],[Materialvikt]]))/1000=0,"",(SUMIF(KalkylSlut[[#All],[Materialtyp]],D14,KalkylSlut[[#All],[Materialvikt]]))/1000) | H14: =IF(SUMIF(KalkylStart[[#All],[Materialtyp]],D14,KalkylStart[[#All],[A1-3 kg CO2e]])/1000=0,"",SUMIF(KalkylStart[[#All],[Materialtyp]],D14,KalkylStart[[#All],[A1-3 kg CO2e]])/1000) | I14: =IF(SUMIF(KalkylSlut[[#All],[Materialtyp]],D14,KalkylSlut[[#All],[A1-3 kg CO2e]])/1000=0,"",SUMIF(KalkylSlut[[#All],[Materialtyp]],D14,KalkylSlut[[#All],[A1-3 kg CO2e]])/1000) | J14: =IFERROR(H14/$L$4*1000,"") | K14: =IFERROR(I14/$L$4*1000,"") | L14: =IFERROR(H14/($L$5/1000000),"") | M14: =IFERROR(I14/($L$5/1000000),"")
D15: Schakt | F15: =IF((SUMIF(KalkylStart[[#All],[Materialtyp]],D15,KalkylStart[[#All],[Materialvikt]]))/1000=0,"",(SUMIF(KalkylStart[[#All],[Materialtyp]],D15,KalkylStart[[#All],[Materialvikt]]))/1000) | G15: =IF((SUMIF(KalkylSlut[[#All],[Materialtyp]],D15,KalkylSlut[[#All],[Materialvikt]]))/1000=0,"",(SUMIF(KalkylSlut[[#All],[Materialtyp]],D15,KalkylSlut[[#All],[Materialvikt]]))/1000) | H15: =IF(SUMIF(KalkylStart[[#All],[Materialtyp]],D15,KalkylStart[[#All],[A1-3 kg CO2e]])/1000=0,"",SUMIF(KalkylStart[[#All],[Materialtyp]],D15,KalkylStart[[#All],[A1-3 kg CO2e]])/1000) | I15: =IF(SUMIF(KalkylSlut[[#All],[Materialtyp]],D15,KalkylSlut[[#All],[A1-3 kg CO2e]])/1000=0,"",SUMIF(KalkylSlut[[#All],[Materialtyp]],D15,KalkylSlut[[#All],[A1-3 kg CO2e]])/1000) | J15: =IFERROR(H15/$L$4*1000,"") | K15: =IFERROR(I15/$L$4*1000,"") | L15: =IFERROR(H15/($L$5/1000000),"") | M15: =IFERROR(I15/($L$5/1000000),"")
D16: Fyll | F16: =IF((SUMIF(KalkylStart[[#All],[Materialtyp]],D16,KalkylStart[[#All],[Materialvikt]]))/1000=0,"",(SUMIF(KalkylStart[[#All],[Materialtyp]],D16,KalkylStart[[#All],[Materialvikt]]))/1000) | G16: =IF((SUMIF(KalkylSlut[[#All],[Materialtyp]],D16,KalkylSlut[[#All],[Materialvikt]]))/1000=0,"",(SUMIF(KalkylSlut[[#All],[Materialtyp]],D16,KalkylSlut[[#All],[Materialvikt]]))/1000) | H16: =IF(SUMIF(KalkylStart[[#All],[Materialtyp]],D16,KalkylStart[[#All],[A1-3 kg CO2e]])/1000=0,"",SUMIF(KalkylStart[[#All],[Materialtyp]],D16,KalkylStart[[#All],[A1-3 kg CO2e]])/1000) | I16: =IF(SUMIF(KalkylSlut[[#All],[Materialtyp]],D16,KalkylSlut[[#All],[A1-3 kg CO2e]])/1000=0,"",SUMIF(KalkylSlut[[#All],[Materialtyp]],D16,KalkylSlut[[#All],[A1-3 kg CO2e]])/1000) | J16: =IFERROR(H16/$L$4*1000,"") | K16: =IFERROR(I16/$L$4*1000,"") | L16: =IFERROR(H16/($L$5/1000000),"") | M16: =IFERROR(I16/($L$5/1000000),"")
D17: Teknisk massa | F17: =IF((SUMIF(KalkylStart[[#All],[Materialtyp]],D17,KalkylStart[[#All],[Materialvikt]]))/1000=0,"",(SUMIF(KalkylStart[[#All],[Materialtyp]],D17,KalkylStart[[#All],[Materialvikt]]))/1000) | G17: =IF((SUMIF(KalkylSlut[[#All],[Materialtyp]],D17,KalkylSlut[[#All],[Materialvikt]]))/1000=0,"",(SUMIF(KalkylSlut[[#All],[Materialtyp]],D17,KalkylSlut[[#All],[Materialvikt]]))/1000) | H17: =IF(SUMIF(KalkylStart[[#All],[Materialtyp]],D17,KalkylStart[[#All],[A1-3 kg CO2e]])/1000=0,"",SUMIF(KalkylStart[[#All],[Materialtyp]],D17,KalkylStart[[#All],[A1-3 kg CO2e]])/1000) | I17: =IF(SUMIF(KalkylSlut[[#All],[Materialtyp]],D17,KalkylSlut[[#All],[A1-3 kg CO2e]])/1000=0,"",SUMIF(KalkylSlut[[#All],[Materialtyp]],D17,KalkylSlut[[#All],[A1-3 kg CO2e]])/1000) | J17: =IFERROR(H17/$L$4*1000,"") | K17: =IFERROR(I17/$L$4*1000,"") | L17: =IFERROR(H17/($L$5/1000000),"") | M17: =IFERROR(I17/($L$5/1000000),"")
D18: Övrigt | F18: =IF((SUMIF(KalkylStart[[#All],[Materialtyp]],D18,KalkylStart[[#All],[Materialvikt]]))/1000=0,"",(SUMIF(KalkylStart[[#All],[Materialtyp]],D18,KalkylStart[[#All],[Materialvikt]]))/1000) | G18: =IF((SUMIF(KalkylSlut[[#All],[Materialtyp]],D18,KalkylSlut[[#All],[Materialvikt]]))/1000=0,"",(SUMIF(KalkylSlut[[#All],[Materialtyp]],D18,KalkylSlut[[#All],[Materialvikt]]))/1000) | H18: =IF(SUMIF(KalkylStart[[#All],[Materialtyp]],D18,KalkylStart[[#All],[A1-3 kg CO2e]])/1000=0,"",SUMIF(KalkylStart[[#All],[Materialtyp]],D18,KalkylStart[[#All],[A1-3 kg CO2e]])/1000) | I18: =IF(SUMIF(KalkylSlut[[#All],[Materialtyp]],D18,KalkylSlut[[#All],[A1-3 kg CO2e]])/1000=0,"",SUMIF(KalkylSlut[[#All],[Materialtyp]],D18,KalkylSlut[[#All],[A1-3 kg CO2e]])/1000) | J18: =IFERROR(H18/$L$4*1000,"") | K18: =IFERROR(I18/$L$4*1000,"") | L18: =IFERROR(H18/($L$5/1000000),"") | M18: =IFERROR(I18/($L$5/1000000),"")
D19: Transport A4 | E19: 100% HVO | F19: - | G19: - | H19: =IF(SUM(KalkylStart[[#All],[100% HVO kg CO2e]])/1000=0,"",SUM(KalkylStart[[#All],[100% HVO kg CO2e]])/1000) | I19: =IF(SUM(KalkylSlut[[#All],[100% HVO kg CO2e]])/1000=0,"",SUM(KalkylSlut[[#All],[100% HVO kg CO2e]])/1000) | J19: =IFERROR(H19/$L$4*1000,"") | K19: =IFERROR(I19/$L$4*1000,"") | L19: =IFERROR(H19/($L$5/1000000),"") | M19: =IFERROR(I19/($L$5/1000000),"")
D20: Totalt | F20: =SUM(F10:F19) -> 0 | G20: =SUM(G10:G19) -> 0 | H20: =SUM(H10:H19) -> 0 | I20: =SUM(I10:I19) -> 0 | J20: =SUM(J10:J19) -> 0 | K20: =SUM(K10:K19) -> 0 | L20: =SUM(L10:L19) -> 0 | M20: =SUM(M10:M19) -> 0
D23: Mål | E23: =Försättsblad!$D$18 -> 0.25 | F23: reduktion slut vs. start
E24: =J20*(1-E23) -> 0 | F24: Mål kg CO2e/m2
E25: =K20-E24 -> 0 | F25: Gentemot mål, kg CO2e/m2 | K25: Startkalkyl | L25: Slutkalkyl
E26: =IFERROR((K20/E24)-1,0)*100 -> 0 | F26: Gentemot mål, % | J26: kg CO2e/m2 | K26: =J20 -> 0 | L26: =K20 -> 0
J27: Minskning | L27: =IF(K26-L26=K26,0,K26-L26) -> 0
D28: Slut vs. start | J28: Mål | K28: =L28 -> 0 | L28: =K26*(1-E23) -> 0
D29: Material | E29: =G20-F20 -> 0 | F29: ton
D30: Klimatpåverkan | E30: =I20-H20 -> 0 | F30: ton CO2e
D31: /m2 | E31: =K20-J20 -> 0 | F31: kg CO2e/m2
D32: /kr | E32: =M20-L20 -> 0 | F32: ton CO2e/Mkr
K73: 20% HVO | L73: 100% HVO
J74: Start | K74: =SUM(KalkylStart[[#All],[20% HVO kg CO2e]])/1000 -> 0 | L74: =SUM(KalkylStart[[#All],[100% HVO kg CO2e]])/1000 -> 0
J75: Slut | K75: =SUM(KalkylSlut[[#All],[20% HVO kg CO2e]])/1000 -> 0 | L75: =SUM(KalkylSlut[[#All],[100% HVO kg CO2e]])/1000 -> 0

Sheet Materiallista
C2: KEX - Materiallista
B4: # | C4: Materialnamn | D4: Materialtyp | E4: Omräknings-faktor | F4: Enhet | G4: Emissionsfaktor 2019 kg CO2e/kg | H4: Emissionsfaktor 2025 kg CO2e/kg | I4: Produktnamn/ID 2019 | J4: Källa 2019 | K4: Produktnamn/ID 2025 | L4: Källa 2025 | M4: Notering | N4: Transporttyp leg 1 | O4: Transporttyp leg 2 | P4: Transporttyp leg 3 | Q4: Transporttyp leg 4 | R4: Sträcka leg 1, km | S4: Sträcka leg 2, km | T4: Sträcka leg 3, km | U4: Sträcka leg 4, km | V4: Bränsle leg 1 MJ/tonkm | W4: Bränsle leg 2 MJ/tonkm | X4: Bränsle leg 3 MJ/tonkm | Y4: Bränsle leg 4 MJ/tonkm | Z4: Transport km | AA4: Bränsle MJ/ton, km | AB4: Källa A4 | AC4: Kommentar A4 | AF4: Emissionfaktorer bränsle A4 transporter
B5: 1 | C5: Asfalt: Asfalt, generellt värde | D5: Asfalt | E5: 2243 | F5: kg/m3 | G5: 0.049 | H5: 0.026 | I5: Asfalt, generellt värde | J5: Trafikverket Klimatkalkyl v.8 2015 | K5: Asfalt, ABT | L5: Miljökrav för entreprenadens genomförande (MEG) v. 1.0, dat. 2025-01-01 | N5: Lastbil, regiontransport | R5: 50 | S5: 0 | T5: 0 | U5: 0 | V5: 1.5 | W5: 0 | X5: 0 | Y5: 0 | Z5: =SUM(R5:U5) -> 50 | AA5: =IFERROR(((R5*V5)+(S5*W5)+(T5*X5)+(U5*Y5))/Materialtabell[[#This Row],[Transport km]],0) -> 1.5 | AB5: Trafikverket klimatkalkyl, 2025-12-09. | AC5: Räknar med samma värde för samtliga asfaltstyper då Trafikverket endast anger ett värde. | AE5: 2019: 20% HVO | AF5: 0.07928 | AG5: kg CO2e/MJ
B6: 2 | C6: Asfalt: Asfalt, halvvarm asfalt | D6: Asfalt | E6: 2243 | F6: kg/m3 | G6: 0.026 | H6: 0.022 | I6: Asfalt, halvvarm asfalt (MJAG & MJOG) | J6: Trafikverket Klimatkalkyl v.8 2015 | K6: Asfalt, halvvarm asfalt (MJAG & MJOG) | L6: Miljökrav för entreprenadens genomförande (MEG) v. 1.0, dat. 2025-01-01 | N6: Lastbil, regiontransport | R6: 50 | S6: 0 | T6: 0 | U6: 0 | V6: 1.5 | W6: 0 | X6: 0 | Y6: 0 | Z6: =SUM(R6:U6) -> 50 | AA6: =IFERROR(((R6*V6)+(S6*W6)+(T6*X6)+(U6*Y6))/Materialtabell[[#This Row],[Transport km]],0) -> 1.5 | AB6: Trafikverket klimatkalkyl, 2025-12-09. | AE6: 2025: 100% HVO | AF6: 0.016 | AG6: kg CO2e/MJ
B7: 3 | C7: Asfalt: Bitumen | D7: Asfalt | E7: ----- | F7: ----- | G7: 0.213 | H7: 0.213 | I7: Bitumen | J7: Trafikverket Klimatkalkyl v.8 2015 | K7: Bitumen | L7: Trafikverket Klimatkalkyl v. 8 2020 | N7: Lastbil, landsvägstransport | O7: Lastbil, närdistribution | R7: 500 | S7: 40 | T7: 0 | U7: 0 | V7: 1 | W7: 2.5 | X7: 0 | Y7: 0 | Z7: =SUM(R7:U7) -> 540 | AA7: =IFERROR(((R7*V7)+(S7*W7)+(T7*X7)+(U7*Y7))/Materialtabell[[#This Row],[Transport km]],0) -> 1.1111111 | AB7: Trafikverket klimatkalkyl, 2025-12-09. | AE7: Källa | AG7: Boverket, Version 02.07.000, 2026-01-21
B8: 4 | C8: Asfalt: Bitumenmatta | D8: Asfalt | E8: ----- | F8: ----- | G8: 0.742 | H8: 0.742 | I8: Bitumenmatta | J8: Trafikverket Klimatkalkyl v.8 2015 | K8: Bitumenmatta | L8: Trafikverket Klimatkalkyl v. 8 2020 | N8: Lastbil, landsvägstransport | O8: Lastbil, närdistribution | R8: 500 | S8: 40 | T8: 0 | U8: 0 | V8: 1 | W8: 2.5 | X8: 0 | Y8: 0 | Z8: =SUM(R8:U8) -> 540 | AA8: =IFERROR(((R8*V8)+(S8*W8)+(T8*X8)+(U8*Y8))/Materialtabell[[#This Row],[Transport km]],0) -> 1.1111111 | AB8: Trafikverket klimatkalkyl, 2025-12-09.
