Workbook

Sheet Input Sheet - Rates incl. SUT
N1: Effective 9/1/26
A2: Community Solar Rate Summary
C3: RESIDENTIAL SERVICE (SC1) | D3: RESIDENTIAL SERVICE - Voluntary TOD (SC1) | E3: DEMAND BILLED GENERAL SERVICE PRIMARY (SC2) | F3: DEMAND BILLED GENERAL SERVICE PRIMARY (CIEP) (SC2) | G3: DEMAND BILLED GENERAL SERVICE SECONDARY (SC2) | H3: DEMAND BILLED GENERAL SERVICE SECONDARY (CIEP) (SC2) | I3: NON-DEMAND BILLED GENERAL SERVICE SECONDARY (SC2) | J3: RESIDENTIAL TOD HEATING SERVICE (SC3) | K3: PUBLIC STREET LIGHTING (SC4) | L3: PRIVATE OVERHEAD LIGHTING SERVICE - DUSK to DAWN (SC6) | M3: PRIVATE OVERHEAD LIGHTING SERVICE - ENERGY ONLY (SC6) | N3: LARGE GENERAL PRIMARY - TOD SERVICE (SC7)
A4: Summer | B4: Delivery | C4: =+C16+C34+C35+C36+C37 -> 0.124557 | D4: =+D16+D34+D35+D36+D37 -> 0.149957 | E4: =+E16+E34+E35+E36+E37 -> 0.035187 | F4: =+F16+F34+F35+F36+F37 -> 0.035187 | G4: =+G16+G34+G35+G36+G37 -> 0.054847 | H4: =+H16+H34+H35+H36+H37 -> 0.054847 | I4: =+I16+I34+I35+I36+I37 -> 0.064857 | J4: =+J16+J34+J35+J36+J37 -> 0.098957 | ... N4: =+N16+N34+N35+N36+N37 -> 0.035207
B5: Supply | C5: =C39+C41 -> 0.112045 | D5: =D39+D41 -> 0.15149 | E5: =E39+E41 -> 0.07711 | F5: =F39+F41 -> -0.02 | G5: =G39+G41 -> 0.07711 | H5: =H39+H41 -> -0.02 | I5: =I39+I41 -> 0.10678 | J5: =J39+J41 -> 0.12742 | ... M5: =M39+M41 -> 0.0641 | N5: =N41+N42+N43 -> 0.0108419
B6: Total | C6: =SUM(C4:C5) -> 0.236602 | D6: =SUM(D4:D5) -> 0.301447 | E6: =SUM(E4:E5) -> 0.112297 | F6: =SUM(F4:F5) -> 0.015187 | G6: =SUM(G4:G5) -> 0.131957 | H6: =SUM(H4:H5) -> 0.034847 | I6: =SUM(I4:I5) -> 0.171637 | J6: =SUM(J4:J5) -> 0.226377 | ... N6: =SUM(N4:N5) -> 0.0460489
A7: Winter | B7: Delivery | C7: =+C25+C34+C35+C36+C37 -> 0.115627 | D7: =+D25+D34+D35+D36+D37 -> 0.131667 | E7: =+E25+E34+E35+E36+E37 -> 0.035187 | F7: =+F25+F34+F35+F36+F37 -> 0.035187 | G7: =+G25+G34+G35+G36+G37 -> 0.053757 | H7: =+H25+H34+H35+H36+H37 -> 0.053757 | I7: =+I25+I34+I35+I36+I37 -> 0.061117 | J7: =+J25+J34+J35+J36+J37 -> 0.086697 | ... M7: =+M25+M34+M35+M36+M37 -> 0.065332 | N7: =+N25+N34+N35+N36+N37+N39+N41 -> 0.015207
B8: Supply | C8: =C40+C41 -> 0.12435 | D8: =D40+D41 -> 0.18517 | E8: =E40+E41 -> 0.07086 | F8: =F40+F41 -> -0.02 | G8: =G40+G41 -> 0.07086 | H8: =H40+H41 -> -0.02 | I8: =I40+I41 -> 0.09305 | J8: =J40+J41 -> 0.12629 | ... M8: =M40+M41 -> 0.06599 | N8: =N41+N42+N44 -> 0.0098459
B9: Total | C9: =SUM(C7:C8) -> 0.239977 | D9: =SUM(D7:D8) -> 0.316837 | E9: =SUM(E7:E8) -> 0.106047 | F9: =SUM(F7:F8) -> 0.015187 | G9: =SUM(G7:G8) -> 0.124617 | H9: =SUM(H7:H8) -> 0.033757 | I9: =SUM(I7:I8) -> 0.154167 | J9: =SUM(J7:J8) -> 0.212987 | ... N9: =SUM(N7:N8) -> 0.0250529
A10: Code
A11: Sumer Delivery
A12: Winter Delivery
A13: Summer & Winter Delivery
A14: Rate Components
C15: =C3 -> RESIDENTIAL SERVICE (SC1) | D15: =D3 -> RESIDENTIAL SERVICE - Voluntary TOD (SC1) | E15: =E3 -> DEMAND BILLED GENERAL SERVICE PRIMARY (SC2) | F15: =F3 -> DEMAND BILLED GENERAL SERVICE PRIMARY (CIEP) (SC2) | G15: =G3 -> DEMAND BILLED GENERAL SERVICE SECONDARY (SC2) | H15: =H3 -> DEMAND BILLED GENERAL SERVICE SECONDARY (CIEP) (SC2) | I15: =I3 -> NON-DEMAND BILLED GENERAL SERVICE SECONDARY (SC2) | J15: =J3 -> RESIDENTIAL TOD HEATING SERVICE (SC3) | ... N15: =N3 -> LARGE GENERAL PRIMARY - TOD SERVICE (SC7)
A16: Summer Distribution ($/Kwh) (Average) | C16: =ROUND(AVERAGE(C17:C18),5) -> 0.07779 | D16: =ROUND(AVERAGE(D19:D20),5) -> 0.10319 | E16: =ROUND(AVERAGE(E17:E18),5) -> 0.01297 | F16: =ROUND(AVERAGE(F17:F18),5) -> 0.01297 | G16: =ROUND(AVERAGE(G17:G18),5) -> 0.02974 | H16: =ROUND(AVERAGE(H17:H18),5) -> 0.02974 | I16: =ROUND(AVERAGE(I17:I18),5) -> 0.03975 | J16: =ROUND(AVERAGE(J19:J20),5) -> 0.06484 | K16: 0 | L16: =ROUND(AVERAGE(L17:L18),5) -> 0 | M16: =ROUND(AVERAGE(M17:M18),5) -> 0.04959 | N16: =ROUND(AVERAGE(N21:N22),5) -> 0.01716
A17: First Block | C17: 0.06886 | D17: 0 | E17: =0.01297 -> 0.01297 | F17: =E17 -> 0.01297 | G17: 0.03094 | H17: =G17 -> 0.03094 | I17: =0.03975 -> 0.03975 | J17: 0 | K17: 0 | L17: 0 | M17: 0.04959 | N17: 0
A18: Second Block | C18: 0.08671 | D18: 0 | E18: =E17 -> 0.01297 | F18: =E18 -> 0.01297 | G18: 0.02853 | H18: =G18 -> 0.02853 | I18: =I17 -> 0.03975 | J18: 0 | K18: 0 | L18: 0 | M18: =M17 -> 0.04959 | N18: 0
A19: On-peak | C19: 0 | D19: 0.15853 | E19: 0 | F19: 0 | G19: 0 | H19: 0 | I19: 0 | J19: 0.09961 | K19: 0 | L19: 0 | M19: 0 | N19: 0
A20: Off-Peak | C20: 0 | D20: 0.04785 | E20: 0 | F20: 0 | G20: 0 | H20: 0 | I20: 0 | J20: 0.03006 | K20: 0 | L20: 0 | M20: 0 | N20: 0
A21: Period I | C21: 0 | D21: 0 | E21: 0 | F21: 0 | G21: 0 | H21: 0 | I21: 0 | J21: 0 | K21: 0 | L21: 0 | M21: 0 | N21: 0.01963
A22: Period II | C22: 0 | D22: 0 | E22: 0 | F22: 0 | G22: 0 | H22: 0 | I22: 0 | J22: 0 | K22: 0 | L22: 0 | M22: 0 | N22: 0.01469
A23: Period III | C23: 0 | D23: 0 | E23: 0 | F23: 0 | G23: 0 | H23: 0 | I23: 0 | J23: 0 | K23: 0 | L23: 0 | M23: 0 | N23: 0.01963
A24: Period IV | C24: 0 | D24: 0 | E24: 0 | F24: 0 | G24: 0 | H24: 0 | I24: 0 | J24: 0 | K24: 0 | L24: 0 | M24: 0 | N24: 0.01469
A25: Winter Distibution ($/Kwh) (Average) | C25: =ROUND(AVERAGE(C26:C27),5) -> 0.06886 | D25: =ROUND(AVERAGE(D28:D29),5) -> 0.0849 | E25: =ROUND(AVERAGE(E26:E27),5) -> 0.01297 | F25: =ROUND(AVERAGE(F26:F27),5) -> 0.01297 | G25: =ROUND(AVERAGE(G26:G27),5) -> 0.02865 | H25: =ROUND(AVERAGE(H26:H27),5) -> 0.02865 | I25: =ROUND(AVERAGE(I26:I27),5) -> 0.03601 | J25: =ROUND(AVERAGE(J28:J29),5) -> 0.05258 | K25: 0 | L25: =ROUND(AVERAGE(L26:L27),5) -> 0 | M25: =ROUND(AVERAGE(M26:M27),5) -> 0.04959 | N25: =ROUND(AVERAGE(N32:N33),5) -> 0.01716
A26: First Block | C26: =C17 -> 0.06886 | D26: 0 | E26: =E17 -> 0.01297 | F26: =E26 -> 0.01297 | G26: 0.0295 | H26: =G26 -> 0.0295 | I26: =0.03601 -> 0.03601 | J26: 0 | K26: 0 | L26: 0 | M26: =M17 -> 0.04959 | N26: 0
A27: Second Block | C27: =C26 -> 0.06886 | D27: 0 | E27: =E18 -> 0.01297 | F27: =E27 -> 0.01297 | G27: =0.0278 -> 0.0278 | H27: =G27 -> 0.0278 | I27: =I26 -> 0.03601 | J27: 0 | K27: 0 | L27: 0 | M27: =M26 -> 0.04959 | N27: 0
A28: On-Peak | C28: 0 | D28: 0.12195 | E28: 0 | F28: 0 | G28: 0 | H28: 0 | I28: 0 | J28: =0.05258 -> 0.05258 | K28: 0 | L28: 0 | M28: 0 | N28: 0
A29: Off-peak | C29: 0 | D29: =D20 -> 0.04785 | E29: 0 | F29: 0 | G29: 0 | H29: 0 | I29: 0 | J29: =J28 -> 0.05258 | K29: 0 | L29: 0 | M29: 0 | N29: 0
A30: Period I | C30: 0 | D30: 0 | E30: 0 | F30: 0 | G30: 0 | H30: 0 | I30: 0 | J30: 0 | K30: 0 | L30: 0 | M30: 0 | N30: =N21 -> 0.01963
A31: Period II | C31: 0 | D31: 0 | E31: 0 | F31: 0 | G31: 0 | H31: 0 | I31: 0 | J31: 0 | K31: 0 | L31: 0 | M31: 0 | N31: =N22 -> 0.01469
A32: Period III | C32: 0 | D32: 0 | E32: 0 | F32: 0 | G32: 0 | H32: 0 | I32: 0 | J32: 0 | K32: 0 | L32: 0 | M32: 0 | N32: =N23 -> 0.01963
A33: Period IV | C33: 0 | D33: 0 | E33: 0 | F33: 0 | G33: 0 | H33: 0 | I33: 0 | J33: 0 | K33: 0 | L33: 0 | M33: 0 | N33: =N24 -> 0.01469
A34: Transmission Charge ($/Kwh) | C34: =1.809/100 -> 0.01809 | D34: =1.809/100 -> 0.01809 | E34: 0.00553 | F34: 0.00553 | G34: =0.579/100 -> 0.00579 | H34: =0.579/100 -> 0.00579 | I34: =0.579/100 -> 0.00579 | J34: =1.809/100 -> 0.01809 | K34: 0.01223 | L34: 0.01223 | M34: 0.01223 | N34: =0.409/100 -> 0.00409
A35: Transmission Surcharge ($/Kwh) | C35: 0.02181 | D35: =C35 -> 0.02181 | E35: 0.00982 | F35: =E35 -> 0.00982 | G35: 0.01245 | H35: =G35 -> 0.01245 | I35: =G35 -> 0.01245 | J35: 0.00916 | K35: 0 | L35: 0 | M35: 0 | N35: 0.00709
A36: RGGI ($/Kwh) | C36: =0.6867/100 -> 0.006867 | D36: =C36 -> 0.006867 | E36: =C36 -> 0.006867 | F36: =C36 -> 0.006867 | G36: =C36 -> 0.006867 | H36: =C36 -> 0.006867 | I36: =C36 -> 0.006867 | J36: =C36 -> 0.006867 | K36: 0.003512 | L36: 0.003512 | M36: 0.003512 | N36: =C36 -> 0.006867
A37: Temporary Tax Credit ($/Kwh) | C37: 0 | D37: 0 | E37: =+C37 -> 0 | F37: =+D37 -> 0 | G37: =+E37 -> 0 | H37: =+F37 -> 0 | I37: =+G37 -> 0 | J37: =+E37 -> 0 | K37: =+J37 -> 0 | L37: =+K37 -> 0 | M37: 0 | N37: =+M37 -> 0
A38: CIP
A39: BGS Charge - Summer ($/Kwh) | C39: 0.132045 | D39: 0.17149 | E39: 0.09711 | G39: =E39 -> 0.09711 | I39: 0.12678 | J39: 0.14742 | K39: 0.08452 | L39: 0.0841 | M39: 0.0841 | N39: 0
A40: BGS Charge - Winter ($/Kwh) | C40: 0.14435 | D40: 0.20517 | E40: 0.09086 | G40: =E40 -> 0.09086 | I40: 0.11305 | J40: 0.14629 | K40: 0.08706 | L40: 0.08599 | M40: 0.08599 | N40: 0
A41: BGS Reconciliation ($/Kwh) | C41: =-2/100 -> -0.02 | D41: =C41 -> -0.02 | E41: =C41 -> -0.02 | F41: =-2/100 -> -0.02 | G41: =E41 -> -0.02 | H41: =F41 -> -0.02 | I41: =G41 -> -0.02 | J41: =C41 -> -0.02 | K41: =-2/100 -> -0.02 | L41: =K41 -> -0.02 | M41: =K41 -> -0.02 | N41: =F41 -> -0.02
A42: CIEP Standby Fee ($/Kwh) | C42: 0 | D42: 0 | E42: 0 | F42: 0.0001599 | G42: 0 | H42: 0.0001599 | J42: 0 | K42: 0 | L42: 0 | M42: 0 | N42: 0.0001599
A43: Summer Supply LBMP ($/Kwh) (Average) | C43: 0 | D43: 0 | E43: 0 | F43: 0.030682 | G43: 0 | H43: 0.030682 | I43: 0 | J43: 0 | K43: 0 | M43: 0 | N43: 0.030682
A44: Winter Supply LBMP ($/Kwh) (Average) | C44: 0 | D44: 0 | E44: 0 | F44: 0.029686 | G44: 0 | H44: 0.029686 | I44: 0 | J44: 0 | K44: 0 | M44: 0 | N44: 0.029686
A45: Note1 : All rates include SUT and are based upon the averages for given SC usage blocks.
A46: Note 2: SC7, SC2 CIEP supply rate is average of PJM day ahead pricing for the applicable calendar month

Sheet Input Sheet - Rates excl. SUT
N1: Effective 9/01/26
A2: Community Solar Rate Summary | O2: 1.06625
C3: RESIDENTIAL SERVICE (SC1) | D3: RESIDENTIAL SERVICE - Voluntary TOD (SC1) | E3: DEMAND BILLED GENERAL SERVICE PRIMARY (SC2) | F3: DEMAND BILLED GENERAL SERVICE PRIMARY (CIEP) (SC2) | G3: DEMAND BILLED GENERAL SERVICE SECONDARY (SC2) | H3: DEMAND BILLED GENERAL SERVICE SECONDARY (CIEP) (SC2) | I3: NON-DEMAND BILLED GENERAL SERVICE SECONDARY (SC2) | J3: RESIDENTIAL TOD HEATING SERVICE (SC3) | K3: PUBLIC STREET LIGHTING (SC4) | L3: PRIVATE OVERHEAD LIGHTING SERVICE - DUSK to DAWN (SC6) | M3: PRIVATE OVERHEAD LIGHTING SERVICE - ENERGY ONLY (SC6) | N3: LARGE GENERAL PRIMARY - TOD SERVICE (SC7)
A4: Summer | B4: Delivery | C4: =+C16+C34+C35+C36+C37+C38 -> 0.1226012 | D4: =+D16+D34+D35+D36+D37+D38 -> 0.1464312 | E4: =+E16+E34+E35+E36+E37+E38 -> 0.031976729 | F4: =+F16+F34+F35+F36+F37+F38 -> 0.031976729 | G4: =+G16+G34+G35+G36+G37+G38 -> 0.050047011 | H4: =+H16+H34+H35+H36+H37+H38 -> 0.050047011 | I4: =+I16+I34+I35+I36+I37+I38 -> 0.059437011 | J4: =+J16+J34+J35+J36+J37+J38 -> 0.098597186 | ... N4: =+N16+N34+N35+N36+N37+N38 -> 0.033015674
B5: Supply | C5: =C39+C41 -> 0.10508324 | D5: =D39+D41 -> 0.14207737 | E5: =E39+E41 -> 0.072318875 | F5: =F39+F41 -> -0.018757327 | G5: =G39+G41 -> 0.072318875 | H5: =H39+H41 -> -0.018757327 | I5: =I39+I41 -> 0.10014537 | J5: =J39+J41 -> 0.11950293 | ... M5: =M39+M41 -> 0.060117233 | N5: =N41+N42+N43 -> 0.012074638
B6: Total | C6: =SUM(C4:C5) -> 0.22768443 | D6: =SUM(D4:D5) -> 0.28850857 | E6: =SUM(E4:E5) -> 0.1042956 | F6: =SUM(F4:F5) -> 0.013219402 | G6: =SUM(G4:G5) -> 0.12236589 | H6: =SUM(H4:H5) -> 0.031289683 | I6: =SUM(I4:I5) -> 0.15958238 | J6: =SUM(J4:J5) -> 0.21810012 | ... N6: =SUM(N4:N5) -> 0.045090312
A7: Winter | B7: Delivery | C7: =+C25+C34+C35+C36+C37+C38 -> 0.1142312 | D7: =+D25+D34+D35+D36+D37+D38 -> 0.1292712 | E7: =+E25+E34+E35+E36+E37+E38 -> 0.031976729 | F7: =+F25+F34+F35+F36+F37+F38 -> 0.031976729 | G7: =+G25+G34+G35+G36+G37+G38 -> 0.049027011 | H7: =+H25+H34+H35+H36+H37+H38 -> 0.049027011 | I7: =+I25+I34+I35+I36+I37+I38 -> 0.055927011 | J7: =+J25+J34+J35+J36+J37+J38 -> 0.087097186 | ... N7: =+N25+N34+N35+N36+N37+N38 -> 0.033015674
B8: Supply | C8: =C40+C41 -> 0.11662368 | D8: =D40+D41 -> 0.17366471 | E8: =E40+E41 -> 0.06645721 | F8: =F40+F41 -> -0.018757327 | G8: =G40+G41 -> 0.06645721 | H8: =H40+H41 -> -0.018757327 | I8: =I40+I41 -> 0.087268464 | J8: =J40+J41 -> 0.11844314 | ... M8: =M40+M41 -> 0.061889801 | N8: =N41+N42+N44 -> 0.011078638
B9: Total | C9: =SUM(C7:C8) -> 0.23085488 | D9: =SUM(D7:D8) -> 0.30293591 | E9: =SUM(E7:E8) -> 0.098433939 | F9: =SUM(F7:F8) -> 0.013219402 | G9: =SUM(G7:G8) -> 0.11548422 | H9: =SUM(H7:H8) -> 0.030269683 | I9: =SUM(I7:I8) -> 0.14319547 | J9: =SUM(J7:J8) -> 0.20554033 | ... N9: =SUM(N7:N8) -> 0.044094312
A10: Code
A11: Sumer Delivery
A12: Winter Delivery
A13: Summer & Winter Delivery
A14: Rate Components
C15: =C3 -> RESIDENTIAL SERVICE (SC1) | D15: =D3 -> RESIDENTIAL SERVICE - Voluntary TOD (SC1) | E15: =E3 -> DEMAND BILLED GENERAL SERVICE PRIMARY (SC2) | F15: =F3 -> DEMAND BILLED GENERAL SERVICE PRIMARY (CIEP) (SC2) | G15: =G3 -> DEMAND BILLED GENERAL SERVICE SECONDARY (SC2) | H15: =H3 -> DEMAND BILLED GENERAL SERVICE SECONDARY (CIEP) (SC2) | I15: =I3 -> NON-DEMAND BILLED GENERAL SERVICE SECONDARY (SC2) | J15: =J3 -> RESIDENTIAL TOD HEATING SERVICE (SC3) | ... N15: =N3 -> LARGE GENERAL PRIMARY - TOD SERVICE (SC7)
A16: Summer Distribution ($/Kwh) (Average) | C16: =ROUND(AVERAGE(C17:C18),5) -> 0.07295 | D16: =ROUND(AVERAGE(D19:D20),5) -> 0.09678 | E16: =ROUND(AVERAGE(E17:E18),5) -> 0.01216 | F16: =ROUND(AVERAGE(F17:F18),5) -> 0.01216 | G16: =ROUND(AVERAGE(G17:G18),5) -> 0.02789 | H16: =ROUND(AVERAGE(H17:H18),5) -> 0.02789 | I16: =ROUND(AVERAGE(I17:I18),5) -> 0.03728 | J16: =ROUND(AVERAGE(J19:J20),5) -> 0.06081 | K16: 0 | L16: =ROUND(AVERAGE(L17:L18),5) -> 0 | M16: =ROUND(AVERAGE(M17:M18),5) -> 0.04651 | N16: =ROUND(AVERAGE(N21:N24),5) -> 0.01609
A17: First Block | C17: ='Input Sheet - Rates incl. SUT'!C17/$O$2 -> 0.064581477 | D17: 0 | E17: ='Input Sheet - Rates incl. SUT'!E17/$O$2 -> 0.012164127 | F17: ='Input Sheet - Rates incl. SUT'!F17/$O$2 -> 0.012164127 | G17: ='Input Sheet - Rates incl. SUT'!G17/$O$2 -> 0.029017585 | H17: ='Input Sheet - Rates incl. SUT'!H17/$O$2 -> 0.029017585 | I17: ='Input Sheet - Rates incl. SUT'!I17/$O$2 -> 0.037280188 | J17: ='Input Sheet - Rates incl. SUT'!J17/$O$2 -> 0 | K17: ='Input Sheet - Rates incl. SUT'!K17/$O$2 -> 0 | L17: ='Input Sheet - Rates incl. SUT'!L17/$O$2 -> 0 | ... N17: ='Input Sheet - Rates incl. SUT'!N17/$O$2 -> 0
A18: Second Block | C18: ='Input Sheet - Rates incl. SUT'!C18/$O$2 -> 0.081322392 | D18: 0 | E18: ='Input Sheet - Rates incl. SUT'!E18/$O$2 -> 0.012164127 | F18: ='Input Sheet - Rates incl. SUT'!F18/$O$2 -> 0.012164127 | G18: ='Input Sheet - Rates incl. SUT'!G18/$O$2 -> 0.026757327 | H18: ='Input Sheet - Rates incl. SUT'!H18/$O$2 -> 0.026757327 | I18: ='Input Sheet - Rates incl. SUT'!I18/$O$2 -> 0.037280188 | J18: ='Input Sheet - Rates incl. SUT'!J18/$O$2 -> 0 | K18: ='Input Sheet - Rates incl. SUT'!K18/$O$2 -> 0 | L18: ='Input Sheet - Rates incl. SUT'!L18/$O$2 -> 0 | ... N18: ='Input Sheet - Rates incl. SUT'!N18/$O$2 -> 0
A19: On-peak | D19: ='Input Sheet - Rates incl. SUT'!D19/$O$2 -> 0.14867995 | E19: 0 | F19: ='Input Sheet - Rates incl. SUT'!F19/$O$2 -> 0 | G19: ='Input Sheet - Rates incl. SUT'!G19/$O$2 -> 0 | H19: ='Input Sheet - Rates incl. SUT'!H19/$O$2 -> 0 | I19: ='Input Sheet - Rates incl. SUT'!I19/$O$2 -> 0 | J19: ='Input Sheet - Rates incl. SUT'!J19/$O$2 -> 0.093420868 | K19: ='Input Sheet - Rates incl. SUT'!K19/$O$2 -> 0 | L19: ='Input Sheet - Rates incl. SUT'!L19/$O$2 -> 0 | M19: ='Input Sheet - Rates incl. SUT'!M19/$O$2 -> 0 | N19: ='Input Sheet - Rates incl. SUT'!N19/$O$2 -> 0
A20: Off-Peak | D20: ='Input Sheet - Rates incl. SUT'!D20/$O$2 -> 0.044876905 | E20: 0 | F20: ='Input Sheet - Rates incl. SUT'!F20/$O$2 -> 0 | G20: ='Input Sheet - Rates incl. SUT'!G20/$O$2 -> 0 | H20: ='Input Sheet - Rates incl. SUT'!H20/$O$2 -> 0 | I20: ='Input Sheet - Rates incl. SUT'!I20/$O$2 -> 0 | J20: ='Input Sheet - Rates incl. SUT'!J20/$O$2 -> 0.028192263 | K20: ='Input Sheet - Rates incl. SUT'!K20/$O$2 -> 0 | L20: ='Input Sheet - Rates incl. SUT'!L20/$O$2 -> 0 | M20: ='Input Sheet - Rates incl. SUT'!M20/$O$2 -> 0 | N20: ='Input Sheet - Rates incl. SUT'!N20/$O$2 -> 0
A21: Period I | C21: 0 | D21: 0 | E21: 0 | F21: ='Input Sheet - Rates incl. SUT'!F21/$O$2 -> 0 | G21: ='Input Sheet - Rates incl. SUT'!G21/$O$2 -> 0 | H21: ='Input Sheet - Rates incl. SUT'!H21/$O$2 -> 0 | I21: ='Input Sheet - Rates incl. SUT'!I21/$O$2 -> 0 | J21: ='Input Sheet - Rates incl. SUT'!J21/$O$2 -> 0 | K21: ='Input Sheet - Rates incl. SUT'!K21/$O$2 -> 0 | L21: ='Input Sheet - Rates incl. SUT'!L21/$O$2 -> 0 | M21: ='Input Sheet - Rates incl. SUT'!M21/$O$2 -> 0 | N21: ='Input Sheet - Rates incl. SUT'!N21/$O$2 -> 0.018410317
A22: Period II | C22: 0 | D22: 0 | E22: 0 | F22: ='Input Sheet - Rates incl. SUT'!F22/$O$2 -> 0 | G22: ='Input Sheet - Rates incl. SUT'!G22/$O$2 -> 0 | H22: ='Input Sheet - Rates incl. SUT'!H22/$O$2 -> 0 | I22: ='Input Sheet - Rates incl. SUT'!I22/$O$2 -> 0 | J22: ='Input Sheet - Rates incl. SUT'!J22/$O$2 -> 0 | K22: ='Input Sheet - Rates incl. SUT'!K22/$O$2 -> 0 | L22: ='Input Sheet - Rates incl. SUT'!L22/$O$2 -> 0 | M22: ='Input Sheet - Rates incl. SUT'!M22/$O$2 -> 0 | N22: ='Input Sheet - Rates incl. SUT'!N22/$O$2 -> 0.013777257
A23: Period III | C23: 0 | D23: 0 | E23: 0 | F23: ='Input Sheet - Rates incl. SUT'!F23/$O$2 -> 0 | G23: ='Input Sheet - Rates incl. SUT'!G23/$O$2 -> 0 | H23: ='Input Sheet - Rates incl. SUT'!H23/$O$2 -> 0 | I23: ='Input Sheet - Rates incl. SUT'!I23/$O$2 -> 0 | J23: ='Input Sheet - Rates incl. SUT'!J23/$O$2 -> 0 | K23: ='Input Sheet - Rates incl. SUT'!K23/$O$2 -> 0 | L23: ='Input Sheet - Rates incl. SUT'!L23/$O$2 -> 0 | M23: ='Input Sheet - Rates incl. SUT'!M23/$O$2 -> 0 | N23: ='Input Sheet - Rates incl. SUT'!N23/$O$2 -> 0.018410317
A24: Period IV | C24: 0 | D24: 0 | E24: 0 | F24: ='Input Sheet - Rates incl. SUT'!F24/$O$2 -> 0 | G24: ='Input Sheet - Rates incl. SUT'!G24/$O$2 -> 0 | H24: ='Input Sheet - Rates incl. SUT'!H24/$O$2 -> 0 | I24: ='Input Sheet - Rates incl. SUT'!I24/$O$2 -> 0 | J24: ='Input Sheet - Rates incl. SUT'!J24/$O$2 -> 0 | K24: ='Input Sheet - Rates incl. SUT'!K24/$O$2 -> 0 | L24: ='Input Sheet - Rates incl. SUT'!L24/$O$2 -> 0 | M24: ='Input Sheet - Rates incl. SUT'!M24/$O$2 -> 0 | N24: ='Input Sheet - Rates incl. SUT'!N24/$O$2 -> 0.013777257
A25: Winter Distibution ($/Kwh) (Average) | C25: =ROUND(AVERAGE(C26:C27),5) -> 0.06458 | D25: =ROUND(AVERAGE(D28:D29),5) -> 0.07962 | E25: =ROUND(AVERAGE(E26:E27),5) -> 0.01216 | F25: =ROUND(AVERAGE(F26:F27),5) -> 0.01216 | G25: =ROUND(AVERAGE(G26:G27),5) -> 0.02687 | H25: =ROUND(AVERAGE(H26:H27),5) -> 0.02687 | I25: =ROUND(AVERAGE(I26:I27),5) -> 0.03377 | J25: =ROUND(AVERAGE(J28:J29),5) -> 0.04931 | K25: 0 | L25: =ROUND(AVERAGE(L26:L27),5) -> 0 | M25: =ROUND(AVERAGE(M26:M27),5) -> 0.04651 | N25: =ROUND(AVERAGE(N30:N33),5) -> 0.01609
A26: First Block | C26: ='Input Sheet - Rates incl. SUT'!C26/$O$2 -> 0.064581477 | D26: 0 | E26: ='Input Sheet - Rates incl. SUT'!E26/$O$2 -> 0.012164127 | F26: ='Input Sheet - Rates incl. SUT'!F26/$O$2 -> 0.012164127 | G26: ='Input Sheet - Rates incl. SUT'!G26/$O$2 -> 0.027667057 | H26: ='Input Sheet - Rates incl. SUT'!H26/$O$2 -> 0.027667057 | I26: ='Input Sheet - Rates incl. SUT'!I26/$O$2 -> 0.033772567 | J26: ='Input Sheet - Rates incl. SUT'!J26/$O$2 -> 0 | K26: ='Input Sheet - Rates incl. SUT'!K26/$O$2 -> 0 | L26: ='Input Sheet - Rates incl. SUT'!L26/$O$2 -> 0 | ... N26: ='Input Sheet - Rates incl. SUT'!N26/$O$2 -> 0
A27: Second Block | C27: ='Input Sheet - Rates incl. SUT'!C27/$O$2 -> 0.064581477 | D27: 0 | E27: ='Input Sheet - Rates incl. SUT'!E27/$O$2 -> 0.012164127 | F27: ='Input Sheet - Rates incl. SUT'!F27/$O$2 -> 0.012164127 | G27: ='Input Sheet - Rates incl. SUT'!G27/$O$2 -> 0.026072685 | H27: ='Input Sheet - Rates incl. SUT'!H27/$O$2 -> 0.026072685 | I27: ='Input Sheet - Rates incl. SUT'!I27/$O$2 -> 0.033772567 | J27: ='Input Sheet - Rates incl. SUT'!J27/$O$2 -> 0 | K27: ='Input Sheet - Rates incl. SUT'!K27/$O$2 -> 0 | L27: ='Input Sheet - Rates incl. SUT'!L27/$O$2 -> 0 | ... N27: ='Input Sheet - Rates incl. SUT'!N27/$O$2 -> 0
A28: On-Peak | C28: 0 | D28: ='Input Sheet - Rates incl. SUT'!D28/$O$2 -> 0.1143728 | E28: 0 | F28: ='Input Sheet - Rates incl. SUT'!F28/$O$2 -> 0 | G28: ='Input Sheet - Rates incl. SUT'!G28/$O$2 -> 0 | H28: ='Input Sheet - Rates incl. SUT'!H28/$O$2 -> 0 | I28: ='Input Sheet - Rates incl. SUT'!I28/$O$2 -> 0 | J28: ='Input Sheet - Rates incl. SUT'!J28/$O$2 -> 0.049313013 | K28: ='Input Sheet - Rates incl. SUT'!K28/$O$2 -> 0 | L28: ='Input Sheet - Rates incl. SUT'!L28/$O$2 -> 0 | M28: ='Input Sheet - Rates incl. SUT'!M28/$O$2 -> 0 | N28: ='Input Sheet - Rates incl. SUT'!N28/$O$2 -> 0
A29: Off-peak | C29: 0 | D29: ='Input Sheet - Rates incl. SUT'!D29/$O$2 -> 0.044876905 | E29: 0 | F29: ='Input Sheet - Rates incl. SUT'!F29/$O$2 -> 0 | G29: ='Input Sheet - Rates incl. SUT'!G29/$O$2 -> 0 | H29: ='Input Sheet - Rates incl. SUT'!H29/$O$2 -> 0 | I29: ='Input Sheet - Rates incl. SUT'!I29/$O$2 -> 0 | J29: ='Input Sheet - Rates incl. SUT'!J29/$O$2 -> 0.049313013 | K29: ='Input Sheet - Rates incl. SUT'!K29/$O$2 -> 0 | L29: ='Input Sheet - Rates incl. SUT'!L29/$O$2 -> 0 | M29: ='Input Sheet - Rates incl. SUT'!M29/$O$2 -> 0 | N29: ='Input Sheet - Rates incl. SUT'!N29/$O$2 -> 0
A30: Period I | C30: 0 | D30: 0 | E30: 0 | F30: ='Input Sheet - Rates incl. SUT'!F30/$O$2 -> 0 | G30: ='Input Sheet - Rates incl. SUT'!G30/$O$2 -> 0 | H30: ='Input Sheet - Rates incl. SUT'!H30/$O$2 -> 0 | I30: ='Input Sheet - Rates incl. SUT'!I30/$O$2 -> 0 | J30: ='Input Sheet - Rates incl. SUT'!J30/$O$2 -> 0 | K30: ='Input Sheet - Rates incl. SUT'!K30/$O$2 -> 0 | L30: ='Input Sheet - Rates incl. SUT'!L30/$O$2 -> 0 | M30: ='Input Sheet - Rates incl. SUT'!M30/$O$2 -> 0 | N30: ='Input Sheet - Rates incl. SUT'!N30/$O$2 -> 0.018410317
A31: Period II | C31: 0 | D31: 0 | E31: 0 | F31: ='Input Sheet - Rates incl. SUT'!F31/$O$2 -> 0 | G31: ='Input Sheet - Rates incl. SUT'!G31/$O$2 -> 0 | H31: ='Input Sheet - Rates incl. SUT'!H31/$O$2 -> 0 | I31: ='Input Sheet - Rates incl. SUT'!I31/$O$2 -> 0 | J31: ='Input Sheet - Rates incl. SUT'!J31/$O$2 -> 0 | K31: ='Input Sheet - Rates incl. SUT'!K31/$O$2 -> 0 | L31: ='Input Sheet - Rates incl. SUT'!L31/$O$2 -> 0 | M31: ='Input Sheet - Rates incl. SUT'!M31/$O$2 -> 0 | N31: ='Input Sheet - Rates incl. SUT'!N31/$O$2 -> 0.013777257
A32: Period III | C32: 0 | D32: 0 | E32: 0 | F32: ='Input Sheet - Rates incl. SUT'!F32/$O$2 -> 0 | G32: ='Input Sheet - Rates incl. SUT'!G32/$O$2 -> 0 | H32: ='Input Sheet - Rates incl. SUT'!H32/$O$2 -> 0 | I32: ='Input Sheet - Rates incl. SUT'!I32/$O$2 -> 0 | J32: ='Input Sheet - Rates incl. SUT'!J32/$O$2 -> 0 | K32: ='Input Sheet - Rates incl. SUT'!K32/$O$2 -> 0 | L32: ='Input Sheet - Rates incl. SUT'!L32/$O$2 -> 0 | M32: ='Input Sheet - Rates incl. SUT'!M32/$O$2 -> 0 | N32: ='Input Sheet - Rates incl. SUT'!N32/$O$2 -> 0.018410317
A33: Period IV | C33: 0 | D33: 0 | E33: 0 | F33: ='Input Sheet - Rates incl. SUT'!F33/$O$2 -> 0 | G33: ='Input Sheet - Rates incl. SUT'!G33/$O$2 -> 0 | H33: ='Input Sheet - Rates incl. SUT'!H33/$O$2 -> 0 | I33: ='Input Sheet - Rates incl. SUT'!I33/$O$2 -> 0 | J33: ='Input Sheet - Rates incl. SUT'!J33/$O$2 -> 0 | K33: ='Input Sheet - Rates incl. SUT'!K33/$O$2 -> 0 | L33: ='Input Sheet - Rates incl. SUT'!L33/$O$2 -> 0 | M33: ='Input Sheet - Rates incl. SUT'!M33/$O$2 -> 0 | N33: ='Input Sheet - Rates incl. SUT'!N33/$O$2 -> 0.013777257
A34: Transmission Charge ($/Kwh) | C34: ='Input Sheet - Rates incl. SUT'!C34/$O$2 -> 0.016966002 | D34: ='Input Sheet - Rates incl. SUT'!D34/$O$2 -> 0.016966002 | E34: ='Input Sheet - Rates incl. SUT'!E34/$O$2 -> 0.0051864009 | F34: ='Input Sheet - Rates incl. SUT'!F34/$O$2 -> 0.0051864009 | G34: ='Input Sheet - Rates incl. SUT'!G34/$O$2 -> 0.0054302462 | H34: ='Input Sheet - Rates incl. SUT'!H34/$O$2 -> 0.0054302462 | I34: ='Input Sheet - Rates incl. SUT'!I34/$O$2 -> 0.0054302462 | J34: ='Input Sheet - Rates incl. SUT'!J34/$O$2 -> 0.016966002 | ... N34: ='Input Sheet - Rates incl. SUT'!N34/$O$2 -> 0.0038358734
A35: Transmission Surcharge ($/Kwh) | C35: ='Input Sheet - Rates incl. SUT'!C35/$O$2 -> 0.020454865 | D35: ='Input Sheet - Rates incl. SUT'!D35/$O$2 -> 0.020454865 | E35: 0.00922 | F35: =E35 -> 0.00922 | G35: ='Input Sheet - Rates incl. SUT'!G35/$O$2 -> 0.011676436 | H35: ='Input Sheet - Rates incl. SUT'!H35/$O$2 -> 0.011676436 | I35: ='Input Sheet - Rates incl. SUT'!I35/$O$2 -> 0.011676436 | J35: ='Input Sheet - Rates incl. SUT'!J35/$O$2 -> 0.0085908558 | K35: ='Input Sheet - Rates incl. SUT'!K35/$O$2 -> 0 | L35: ='Input Sheet - Rates incl. SUT'!L35/$O$2 -> 0 | M35: ='Input Sheet - Rates incl. SUT'!M35/$O$2 -> 0 | N35: ='Input Sheet - Rates incl. SUT'!N35/$O$2 -> 0.0066494725
A36: RGGI ($/Kwh) | C36: ='Input Sheet - Rates incl. SUT'!C36/$O$2 -> 0.0064403283 | D36: ='Input Sheet - Rates incl. SUT'!D36/$O$2 -> 0.0064403283 | E36: ='Input Sheet - Rates incl. SUT'!E36/$O$2 -> 0.0064403283 | F36: ='Input Sheet - Rates incl. SUT'!F36/$O$2 -> 0.0064403283 | G36: ='Input Sheet - Rates incl. SUT'!G36/$O$2 -> 0.0064403283 | H36: ='Input Sheet - Rates incl. SUT'!H36/$O$2 -> 0.0064403283 | I36: ='Input Sheet - Rates incl. SUT'!I36/$O$2 -> 0.0064403283 | J36: ='Input Sheet - Rates incl. SUT'!J36/$O$2 -> 0.0064403283 | ... N36: ='Input Sheet - Rates incl. SUT'!N36/$O$2 -> 0.0064403283
A37: Temporary Tax Credit ($/Kwh) | C37: ='Input Sheet - Rates incl. SUT'!C37/$O$2 -> 0 | D37: ='Input Sheet - Rates incl. SUT'!D37/$O$2 -> 0 | E37: ='Input Sheet - Rates incl. SUT'!E37/$O$2 -> 0 | F37: ='Input Sheet - Rates incl. SUT'!F37/$O$2 -> 0 | G37: ='Input Sheet - Rates incl. SUT'!G37/$O$2 -> 0 | H37: ='Input Sheet - Rates incl. SUT'!H37/$O$2 -> 0 | I37: ='Input Sheet - Rates incl. SUT'!I37/$O$2 -> 0 | J37: ='Input Sheet - Rates incl. SUT'!J37/$O$2 -> 0 | ... N37: ='Input Sheet - Rates incl. SUT'!N37/$O$2 -> 0
A38: CIP | C38: =0.579/100 -> 0.00579 | D38: =C38 -> 0.00579 | E38: =-0.103/100 -> -0.00103 | F38: =E38 -> -0.00103 | G38: =-0.139/100 -> -0.00139 | H38: =G38 -> -0.00139 | I38: =G38 -> -0.00139 | J38: =C38 -> 0.00579
A39: BGS Charge - Summer ($/Kwh) | C39: ='Input Sheet - Rates incl. SUT'!C39/$O$2 -> 0.12384056 | D39: ='Input Sheet - Rates incl. SUT'!D39/$O$2 -> 0.1608347 | E39: ='Input Sheet - Rates incl. SUT'!E39/$O$2 -> 0.091076202 | F39: ='Input Sheet - Rates incl. SUT'!F39/$O$2 -> 0 | G39: ='Input Sheet - Rates incl. SUT'!G39/$O$2 -> 0.091076202 | H39: ='Input Sheet - Rates incl. SUT'!H39/$O$2 -> 0 | I39: ='Input Sheet - Rates incl. SUT'!I39/$O$2 -> 0.1189027 | J39: ='Input Sheet - Rates incl. SUT'!J39/$O$2 -> 0.13826026 | ... N39: ='Input Sheet - Rates incl. SUT'!N39/$O$2 -> 0
A40: BGS Charge - Winter ($/Kwh) | C40: ='Input Sheet - Rates incl. SUT'!C40/$O$2 -> 0.13538101 | D40: ='Input Sheet - Rates incl. SUT'!D40/$O$2 -> 0.19242204 | E40: ='Input Sheet - Rates incl. SUT'!E40/$O$2 -> 0.085214537 | F40: ='Input Sheet - Rates incl. SUT'!F40/$O$2 -> 0 | G40: ='Input Sheet - Rates incl. SUT'!G40/$O$2 -> 0.085214537 | H40: ='Input Sheet - Rates incl. SUT'!H40/$O$2 -> 0 | I40: ='Input Sheet - Rates incl. SUT'!I40/$O$2 -> 0.10602579 | J40: ='Input Sheet - Rates incl. SUT'!J40/$O$2 -> 0.13720047 | ... N40: ='Input Sheet - Rates incl. SUT'!N40/$O$2 -> 0
A41: BGS Reconciliation ($/Kwh) | C41: ='Input Sheet - Rates incl. SUT'!C41/$O$2 -> -0.018757327 | D41: ='Input Sheet - Rates incl. SUT'!D41/$O$2 -> -0.018757327 | E41: ='Input Sheet - Rates incl. SUT'!E41/$O$2 -> -0.018757327 | F41: ='Input Sheet - Rates incl. SUT'!F41/$O$2 -> -0.018757327 | G41: ='Input Sheet - Rates incl. SUT'!G41/$O$2 -> -0.018757327 | H41: ='Input Sheet - Rates incl. SUT'!H41/$O$2 -> -0.018757327 | I41: ='Input Sheet - Rates incl. SUT'!I41/$O$2 -> -0.018757327 | J41: ='Input Sheet - Rates incl. SUT'!J41/$O$2 -> -0.018757327 | ... N41: ='Input Sheet - Rates incl. SUT'!N41/$O$2 -> -0.018757327
A42: CIEP Standby Fee ($/Kwh) | C42: 0 | D42: 0 | E42: 0 | F42: =0.0001599/$O$2 -> 0.00014996483 | G42: 0 | H42: =0.0001599/$O$2 -> 0.00014996483 | J42: 0 | K42: 0 | L42: 0 | M42: 0 | N42: =0.0001599/$O$2 -> 0.00014996483
A43: Summer Supply LBMP ($/Kwh) (Average) | C43: 0 | D43: 0 | E43: 0 | F43: 0.030682 | G43: 0 | H43: 0.030682 | I43: 0 | J43: 0 | K43: 0 | M43: 0 | N43: 0.030682
A44: Winter Supply LBMP ($/Kwh) (Average) | C44: 0 | D44: 0 | E44: 0 | F44: 0.029686 | G44: 0 | H44: 0.029686 | I44: 0 | J44: 0 | K44: 0 | M44: 0 | N44: 0.029686
A45: Note1 : All rates exclude SUT and are based upon the averages for given SC usage blocks.
A46: Note 2: SC7, SC2 CIEP supply rate is average of PJM day ahead pricing for the applicable calendar month
