Workbook

Sheet Residential Bill Summer
A1: Details of your electric charges
A2: Your rate: Residential Service (RS)
A4: Meter # XXXXXXXX
A5: Actual Reading September 30, 2019 | E5: 1800
A6: less Actual Reading August 31, 2019 | E6: 1600
A7: Total kWh used in 30 days | E7: =E5-E6 -> 200
A9: Traditional section of the bill ****
A13: Total Electric Charges | E13: =E7*0.17 -> 34
A15: My Community Solar Status
C16: Community Solar | G16: Your Community Solar Each month you are billed for your monthly usage, and you receive a kWh allocation based on your subscription percentage and the solar facility's monthly generation. Your monthly allocation is limited to your monthly usage amount. Any credit in excess of your usage will be carried over to a future month's bill. Annually kWh not applied to prior bills will be credited at the avoided cost of power.
A17: Date | B17: kWh you used | C17: Carryover from previous months | D17: kWh credit received | E17: Applied to Bill
A18: 43617 | B18: 100 | C18: 0 | D18: 200 | E18: =IF(((D18+C18))<B18,(D18+C18),B18) -> 100
A19: 43647 | B19: 150 | C19: =D18+C18-E18 -> 100 | D19: 100 | E19: =IF(((D19+C19))<B19,(D19+C19),B19) -> 150
A20: 43678 | B20: 200 | C20: =D19+C19-E19 -> 50 | D20: 250 | E20: =IF(((D20+C20))<B20,(D20+C20),B20) -> 200
A21: 43709 | B21: 200 | C21: =D20+C20-E20 -> 100 | D21: 100 | E21: =IF(((D21+C21))<B21,(D21+C21),B21) -> 200
A23: This month's Community Solar Delivery Credit | C23: 200 kWh x $0.02 | E23: =-200*'Rate Summary'!C4 -> -16.08
A24: This month's Community Solar Supply Credit | C24: 200 kWh x $0.164971 | E24: =-200*'Rate Summary'!C6 -> -37.312141
A26: Total Community Solar Credit | E26: =E23+E24 -> -53.392141

Sheet Residential Bill Anniversary
A1: Details of your electric charges
A2: Your rate: Residential Service (RS)
A4: Meter # XXXXXXXX
A5: Actual Reading September 30, 2019 | E5: 1800
A6: less Actual Reading August 31, 2019 | E6: 1680
A7: Total kWh used in 30 days | E7: =E5-E6 -> 120
A9: Traditional section of the bill ****
A13: Total Electric Charges | E13: =E7*0.17 -> 20.4
A15: My Community Solar Status
C16: Community Solar | G16: Your Community Solar Each month you are billed for your monthly usage, and you receive a kWh allocation based on your subscription percentage and the solar facility's monthly generation. Your monthly allocation is limited to your monthly usage amount. Any credit in excess of your usage will be carried over to a future month's bill. Annually kWh not applied to prior bills will be credited at the avoided cost of power.
A17: Date | B17: kWh you used | C17: Carryover from previous months | D17: kWh credit received | E17: Applied to Bill
A18: 43617 | B18: 100 | C18: 0 | D18: 200 | E18: =IF(((D18+C18))<B18,(D18+C18),B18) -> 100
A19: 43647 | B19: 150 | C19: =D18+C18-E18 -> 100 | D19: 100 | E19: =IF(((D19+C19))<B19,(D19+C19),B19) -> 150
A20: 43678 | B20: 200 | C20: =D19+C19-E19 -> 50 | D20: 250 | E20: =IF(((D20+C20))<B20,(D20+C20),B20) -> 200
A21: 43709 | B21: 200 | C21: =D20+C20-E20 -> 100 | D21: 100 | E21: =IF(((D21+C21))<B21,(D21+C21),B21) -> 200
A22: 43739 | B22: 100 | C22: =D21+C21-E21 -> 0 | D22: 100 | E22: =IF(((D22+C22))<B22,(D22+C22),B22) -> 100
A23: 43770 | B23: 150 | C23: =D22+C22-E22 -> 0 | D23: 175 | E23: =IF(((D23+C23))<B23,(D23+C23),B23) -> 150
A24: 43800 | B24: 200 | C24: =D23+C23-E23 -> 25 | D24: 200 | E24: =IF(((D24+C24))<B24,(D24+C24),B24) -> 200
A25: 43831 | B25: 200 | C25: =D24+C24-E24 -> 25 | D25: 200 | E25: =IF(((D25+C25))<B25,(D25+C25),B25) -> 200
A26: 43862 | B26: 225 | C26: =D25+C25-E25 -> 25 | D26: 225 | E26: =IF(((D26+C26))<B26,(D26+C26),B26) -> 225
A27: 43891 | B27: 200 | C27: =D26+C26-E26 -> 25 | D27: 200 | E27: =IF(((D27+C27))<B27,(D27+C27),B27) -> 200
A28: 43922 | B28: 150 | C28: =D27+C27-E27 -> 25 | D28: 175 | E28: =IF(((D28+C28))<B28,(D28+C28),B28) -> 150
A29: 43952 | B29: 120 | C29: =D28+C28-E28 -> 50 | D29: 150 | E29: =IF(((D29+C29))<B29,(D29+C29),B29) -> 120
A31: This month's Community Solar Delivery Credit | C31: 200 kWh x $0.02 | E31: =-120*0.02 -> -2.4
A32: This month's Community Solar Supply Credit | C32: 200 kWh x $0.144971 | E32: =-120*0.144971 -> -17.39652
A33: Remaining kWh applied | C33: 80 kWh x $0.0445 | E33: =80*-0.0455 -> -3.64
A35: Total Community Solar Credit | E35: =E31+E32+E33 -> -23.43652

Sheet Redacted Residential
A1: Page 1 - This month's charges & credits would be $138.73 and Total amount due by Mar 7, 2018 would change to $138.73
A2: Page 2 - Add "Less" Community Solar Credits - see page 5 for details with amount ($115.57).
A3: Details of your electric charges
A4: Your rate: Residential Service (RS)
A6: Meter # XXXXXXXX
A7: Actual Reading February 19, 2019 30, 2019 | E7: 66505
A8: less Actual Reading January 19, 2018 | E8: 65434
A9: Total kWh used in 31 days | E9: =E7-E8 -> 1071
A11: Traditional section of the bill ****
A15: Total Electric Charges | E15: 192.36
A16: Page 5 - Add below section:
A18: My Community Solar Status
C19: Community Solar | G19: Your Community Solar Each month you are billed for your monthly usage, and you receive a kWh allocation based on your subscription percentage and the solar facility's monthly generation. Your monthly allocation is limited to your monthly usage amount. Any credit in excess of your usage will be carried over to a future month's bill. Annually kWh not applied to prior bills will be credited at the avoided cost of power.
A20: Date | B20: kWh you used | C20: Carryover from previous months | D20: kWh credit received | E20: Applied to Bill
A21: 43040 | B21: 850 | C21: 0 | D21: 550 | E21: =IF(((D21+C21))<B21,(D21+C21),B21) -> 550
A22: 43070 | B22: 900 | C22: =D21+C21-E21 -> 0 | D22: 650 | E22: =IF(((D22+C22))<B22,(D22+C22),B22) -> 650
A23: 43101 | B23: 971 | C23: 0 | D23: 750 | E23: =IF(((D23+C23))<B23,(D23+C23),B23) -> 750
A24: 43132 | B24: =E9 -> 1071 | C24: 0 | D24: 800 | E24: =IF(((D24+C24))<B24,(D24+C24),B24) -> 800
A26: Community Solar Delivery Credit | C26: 800 kWh x $0.030621 | E26: =-800*'Rate Summary'!C8 -> -36.859132
A27: Community Solar Supply Credit | C27: 800 kWh x $0.113846 | E27: =-800*'Rate Summary'!C10 -> -148.5024
A29: Total Community Solar Credit | E29: =E26+E27 -> -185.36153

Sheet Redacted Commercial
A1: Page 1 - Add "Community Solar Credits - see page 5 for details with amount ($5.19)
A3: Details of your electric charges
A4: Your rate: General Lighting & Power (GLP)
A6: Meter # XXXXXXXX
A7: Actual Reading February 25, 2019 30, 2019 | E7: 10491
A8: less Actual Reading January 23, 2018 | E8: 10386
A9: Total kWh used in 33 days | E9: =E7-E8 -> 105
A11: Traditional section of the bill ****
A15: Total Electric Charges | E15: 32.87
A16: Page 5 - Add below section:
A18: My Community Solar Status
C19: Community Solar | G19: Your Community Solar Each month you are billed for your monthly usage, and you receive a kWh allocation based on your subscription percentage and the solar facility's monthly generation. Your monthly allocation is limited to your monthly usage amount. Any credit in excess of your usage will be carried over to a future month's bill. Annually kWh not applied to prior bills will be credited at the avoided cost of power.
A20: Date | B20: kWh you used | C20: Carryover from previous months | D20: kWh credit received | E20: Applied to Bill
A21: 43040 | B21: 90 | C21: 0 | D21: 50 | E21: =IF(((D21+C21))<B21,(D21+C21),B21) -> 50
A22: 43070 | B22: 95 | C22: =D21+C21-E21 -> 0 | D22: 80 | E22: =IF(((D22+C22))<B22,(D22+C22),B22) -> 80
A23: 43101 | B23: 100 | C23: 0 | D23: 80 | E23: =IF(((D23+C23))<B23,(D23+C23),B23) -> 80
A24: 43132 | B24: =E9 -> 105 | C24: 0 | D24: 85 | E24: =IF(((D24+C24))<B24,(D24+C24),B24) -> 85
A26: Community Solar Delivery Credit | C26: 85 kWh x $0.008165 | E26: =-85*'Rate Summary'!I8 -> -0.78472
A27: Community Solar Supply Credit | C27: 85 kWh x $0.052839 | E27: =-85*'Rate Summary'!I10 -> -7.097245
A29: Total Community Solar Credit | E29: =E26+E27 -> -7.881965

Sheet Rate Summary
R1: 46296
A2: Community Solar Rate Summary
C3: RESIDENTIAL SERVICE (RS) | D3: RESIDENTIAL HEATING SERVICE (RHS) | E3: RESIDENTIAL LOAD MANAGEMENT SERVICE (RLM) | F3: RESIDENTIAL SERVICE TIME OF USE (RS-TOU 3P) | G3: WATER HEATING SERVICE (WH) | H3: WATER HEATING STORAGE SERVICE (WHS) | I3: GENERAL LIGHTING AND POWER SERVICE (GLP) | J3: LARGE POWER AND LIGHTING SERVICE - SECONDARY (LPL-S) BGS-RSCP Supply | K3: LARGE POWER AND LIGHTING SERVICE - SECONDARY (LPL-S) BGS-CIEP Supply | L3: LARGE POWER AND LIGHTING SERVICE - PRIMARY (LPL-P) | M3: HIGH TENSION SERVICE - SUBTRANSMISSION (HTS-S) | N3: HIGH TENSION SERVICE - HIGH VOLTAGE (HTS-HV) | O3: BUILDING HEATING SERVICE (HS) BGS-RSCP Supply | P3: BODY POLITIC LIGHTING SERVICE (BPL) | Q3: BODY POLITIC LIGHTING SERVICE FROM PUBLICLY OWNED FACILITIES (BPL-POF) | R3: PRIVATE STREET AND AREA LIGHTING SERVICE (PSAL)
A4: Summer | B4: Delivery | C4: 0.0804 | D4: 0.086479 | E4: 0.068911315 | F4: 0.067387732 | G4: 0.073585 | H4: 0.010075 | I4: 0.021645 | J4: 0.006523 | K4: 0.006673 | L4: 0.007258 | M4: 0.00731 | N4: 0.00774 | O4: 0.107888 | P4: 0.015882 | Q4: 0.016246 | R4: 0.016442
A5: Master-metered affordable housing inclusive of demand credit | I5: 0.094945 | J5: 0.050214 | K5: 0.050364
B6: Supply | C6: 0.18656071 | D6: 0.13555408 | E6: 0.20882751 | F6: 0.2072643 | G6: 0.07812 | H6: 0.072266 | I6: 0.083041 | J6: 0.081657733 | K6: 0.065772 | L6: 0.063091 | M6: 0.061887 | N6: 0.051572 | O6: 0.128237 | P6: 0.070354 | Q6: 0.070354 | R6: 0.070354
A7: Master-metered affordable housing inclusive of demand credit | I7: 0.164145 | J7: 0.13570873 | K7: 0.144732
A8: Winter | B8: Delivery | C8: 0.046073915 | D8: 0.033112694 | E8: 0.026942 | F8: 0.054989706 | G8: 0.073585 | H8: 0.010075 | I8: 0.009232 | J8: 0.006523 | K8: 0.006673 | L8: 0.007258 | M8: 0.00731 | N8: 0.00774 | O8: 0.060806 | P8: 0.015882 | Q8: 0.016246 | R8: 0.016442
A9: Master-metered affordable housing inclusive of demand credit | I9: 0.025598 | J9: 0.016277 | K9: 0.016427
B10: Supply | C10: 0.185628 | D10: 0.1381 | E10: 0.1938899 | F10: 0.17090221 | G10: 0.080731 | H10: 0.081161 | I10: 0.083497 | J10: 0.082600014 | K10: 0.082649 | L10: 0.079717 | M10: 0.07736 | N10: 0.071825 | O10: 0.13131 | P10: 0.079443 | Q10: 0.079443 | R10: 0.079443
A11: Master-metered affordable housing inclusive of demand credit | I11: 0.16767 | J11: 0.13895601 | K11: 0.165333
A12: Code
A13: Summer Delivery
A14: Winter Delivery
A15: Summer & Winter Delivery
