Workbook
Name As_of: #REF!
Name As_of: #REF!
Name As_of: #REF!
Name bpuapp_id_lookup: #REF!
Name bpuapp_id_lookup: #REF!
Name bpuapp_id_lookup: #REF!
Name County_Lookup: #REF!
Name County_Lookup: #REF!
Name County_Lookup: #REF!
Name Zip_Correction: #REF!
Name Zip_Correction: #REF!
Name Zip_Correction: #REF!

Sheet Annual Capacity
G1: New Jersey Solar Installations Report as of | M1: 46265 | N1: (Annual Capacity)
B2: SREC Registration Program (SRP), Transition Incentive Program (TI), Administratively Determined Incentive Program (ADI), and Competitive Solar Incentive Program (CSI) | AB2: Previously Reported through 07/31/2026 | AE2: Difference between 07/31/2026 and 08/31/2026
D4: Residential (kW) | G4: Non-Residential | I4: Non-Residential | K4: Non-Residential | M4: Non-Residential | P4: Remote Net Metering (kW) (ADI ONLY) | S4: Grid Supply (kW) | V4: Community Solar (kW) | Y4: Total of All Projects as of 08/31/2026 (kW)
G5: < = 100 (kW) | I5: > 100 to < 1000 (kW) | K5: > = 1000 (kW) | M5: Total (kW) | AB5: Total Qty | AC5: Total Capacity (kW) | AE5: Total Qty | AF5: Total Capacity (kW)
A6: 40909 | D6: Qty | E6: Capacity | G6: Qty | H6: Capacity | I6: Qty | J6: Capacity | K6: Qty | L6: Capacity | M6: Qty | N6: Capacity | P6: Qty | Q6: Capacity | S6: Qty | T6: Capacity | V6: Qty | W6: Capacity | Y6: Total Qty | Z6: Total Capacity
B8: Annual Totals in Aggregate
B9: SRP Program
B10: 2000-2009 | D10: =SUM(D11:D20) -> 3964 | E10: =SUM(E11:E20) -> 28763.445 | G10: =SUM(G11:G20) -> 760 | H10: =SUM(H11:H20) -> 16705.994 | I10: =SUM(I11:I20) -> 214 | J10: =SUM(J11:J20) -> 62221.445 | K10: =SUM(K11:K20) -> 13 | L10: =SUM(L11:L20) -> 21432.85 | M10: =SUM(G10+I10+K10) -> 987 | N10: =SUM(H10+J10+L10) -> 100360.29 | S10: =SUM(S11:S20) -> 5 | T10: =SUM(T11:T20) -> 3370.56 | Y10: =SUM(Y11:Y20) -> 4956 | Z10: =SUM(Z11:Z20) -> 132494.29 | AB10: =SUM(AB11:AB20) -> 4956 | AC10: =SUM(AC11:AC20) -> 132494.29 | AE10: =Y10-AB10 -> 0 | AF10: =Z10-AC10 -> 0
B11: 2000 | D11: 4 | E11: 11.85 | G11: 2 | H11: 11.04 | I11: 0 | J11: 0 | K11: 0 | L11: 0 | M11: =SUM(G11+I11+K11) -> 2 | N11: =SUM(H11+J11+L11) -> 11.04 | S11: 0 | T11: 0 | Y11: =SUM(D11+M11+S11+V11) -> 6 | Z11: =SUM(E11+N11+T11+W11) -> 22.89 | AB11: 6 | AC11: 22.89 | AE11: =Y11-AB11 -> 0 | AF11: =Z11-AC11 -> 0
B12: 2001 | D12: 2 | E12: 5.25 | G12: 0 | H12: 0 | I12: 0 | J12: 0 | K12: 0 | L12: 0 | M12: =SUM(G12+I12+K12) -> 0 | N12: =SUM(H12+J12+L12) -> 0 | S12: 0 | T12: 0 | Y12: =SUM(D12+M12+S12+V12) -> 2 | Z12: =SUM(E12+N12+T12+W12) -> 5.25 | AB12: 2 | AC12: 5.25 | AE12: =Y12-AB12 -> 0 | AF12: =Z12-AC12 -> 0
B13: 2002 | D13: 25 | E13: 72.82 | G13: 9 | H13: 324 | I13: 1 | J13: 262.14 | K13: 0 | L13: 0 | M13: =SUM(G13+I13+K13) -> 10 | N13: =SUM(H13+J13+L13) -> 586.14 | S13: 0 | T13: 0 | Y13: =SUM(D13+M13+S13+V13) -> 35 | Z13: =SUM(E13+N13+T13+W13) -> 658.96 | AB13: 35 | AC13: 658.96 | AE13: =Y13-AB13 -> 0 | AF13: =Z13-AC13 -> 0
B14: 2003 | D14: 65 | E14: 364.932 | G14: 17 | H14: 281.9 | I14: 1 | J14: 479.8 | K14: 0 | L14: 0 | M14: =SUM(G14+I14+K14) -> 18 | N14: =SUM(H14+J14+L14) -> 761.7 | S14: 0 | T14: 0 | Y14: =SUM(D14+M14+S14+V14) -> 83 | Z14: =SUM(E14+N14+T14+W14) -> 1126.632 | AB14: 83 | AC14: 1126.632 | AE14: =Y14-AB14 -> 0 | AF14: =Z14-AC14 -> 0
B15: 2004 | D15: 253 | E15: 1529.898 | G15: 42 | H15: 382.006 | I15: 2 | J15: 623.385 | K15: 0 | L15: 0 | M15: =SUM(G15+I15+K15) -> 44 | N15: =SUM(H15+J15+L15) -> 1005.391 | S15: 0 | T15: 0 | Y15: =SUM(D15+M15+S15+V15) -> 297 | Z15: =SUM(E15+N15+T15+W15) -> 2535.289 | AB15: 297 | AC15: 2535.289 | AE15: =Y15-AB15 -> 0 | AF15: =Z15-AC15 -> 0
B16: 2005 | D16: 625 | E16: 4621.869 | G16: 78 | H16: 1029.883 | I16: 16 | J16: 3923.08 | K16: 0 | L16: 0 | M16: =SUM(G16+I16+K16) -> 94 | N16: =SUM(H16+J16+L16) -> 4952.963 | S16: 0 | T16: 0 | Y16: =SUM(D16+M16+S16+V16) -> 719 | Z16: =SUM(E16+N16+T16+W16) -> 9574.832 | AB16: 719 | AC16: 9574.832 | AE16: =Y16-AB16 -> 0 | AF16: =Z16-AC16 -> 0
B17: 2006 | D17: 747 | E17: 5335.471 | G17: 105 | H17: 1881.529 | I17: 36 | J17: 11097.32 | K17: 0 | L17: 0 | M17: =SUM(G17+I17+K17) -> 141 | N17: =SUM(H17+J17+L17) -> 12978.849 | S17: 0 | T17: 0 | Y17: =SUM(D17+M17+S17+V17) -> 888 | Z17: =SUM(E17+N17+T17+W17) -> 18314.32 | AB17: 888 | AC17: 18314.32 | AE17: =Y17-AB17 -> 0 | AF17: =Z17-AC17 -> 0
B18: 2007 | D18: 527 | E18: 3821.751 | G18: 95 | H18: 2123.446 | I18: 26 | J18: 8352.908 | K18: 0 | L18: 0 | M18: =SUM(G18+I18+K18) -> 121 | N18: =SUM(H18+J18+L18) -> 10476.354 | S18: 0 | T18: 0 | Y18: =SUM(D18+M18+S18+V18) -> 648 | Z18: =SUM(E18+N18+T18+W18) -> 14298.105 | AB18: 648 | AC18: 14298.105 | AE18: =Y18-AB18 -> 0 | AF18: =Z18-AC18 -> 0
B19: 2008 | D19: 656 | E19: 4962.365 | G19: 170 | H19: 3874.197 | I19: 44 | J19: 13247.054 | K19: 4 | L19: 6134.26 | M19: =SUM(G19+I19+K19) -> 218 | N19: =SUM(H19+J19+L19) -> 23255.511 | S19: 0 | T19: 0 | Y19: =SUM(D19+M19+S19+V19) -> 874 | Z19: =SUM(E19+N19+T19+W19) -> 28217.876 | AB19: 874 | AC19: 28217.876 | AE19: =Y19-AB19 -> 0 | AF19: =Z19-AC19 -> 0
B20: 2009 | D20: 1060 | E20: 8037.239 | G20: 242 | H20: 6797.993 | I20: 88 | J20: 24235.758 | K20: 9 | L20: 15298.59 | M20: =SUM(G20+I20+K20) -> 339 | N20: =SUM(H20+J20+L20) -> 46332.341 | S20: 5 | T20: 3370.56 | Y20: =SUM(D20+M20+S20+V20) -> 1404 | Z20: =SUM(E20+N20+T20+W20) -> 57740.14 | AB20: 1404 | AC20: 57740.14 | AE20: =Y20-AB20 -> 0 | AF20: =Z20-AC20 -> 0
B21: 2010-2019 | D21: =SUM(D22:D31) -> 111708 | E21: =SUM(E22:E31) -> 935185.15 | G21: =SUM(G22:G31) -> 3511 | H21: =SUM(H22:H31) -> 120027.46 | I21: =SUM(I22:I31) -> 2157 | J21: =SUM(J22:J31) -> 700866.53 | K21: =SUM(K22:K31) -> 258 | L21: =SUM(L22:L31) -> 640240.14 | M21: =SUM(G21+I21+K21) -> 5926 | N21: =SUM(H21+J21+L21) -> 1461134.1 | S21: =SUM(S22:S31) -> 168 | T21: =SUM(T22:T31) -> 665806.67 | Y21: =SUM(Y22:Y31) -> 117802 | Z21: =SUM(Z22:Z31) -> 3062125.9 | AB21: =SUM(AB22:AB31) -> 117802 | AC21: =SUM(AC22:AC31) -> 3062125.9 | AE21: =Y21-AB21 -> 0 | AF21: =Z21-AC21 -> 0.0049999999
B22: 2010 | D22: 2137 | E22: 16481.924 | G22: 380 | H22: 12768.402 | I22: 154 | J22: 45624.907 | K22: 12 | L22: 20986.6 | M22: =SUM(G22+I22+K22) -> 546 | N22: =SUM(H22+J22+L22) -> 79379.909 | S22: 19 | T22: 25187.34 | Y22: =SUM(D22+M22+S22+V22) -> 2702 | Z22: =SUM(E22+N22+T22+W22) -> 121049.17 | AB22: 2702 | AC22: 121049.17 | AE22: =Y22-AB22 -> 0 | AF22: =Z22-AC22 -> 0
B23: 2011 | D23: 5099 | E23: 40543.47 | G23: 829 | H23: 26655.921 | I23: 443 | J23: 135676.65 | K23: 50 | L23: 106495.59 | M23: =SUM(G23+I23+K23) -> 1322 | N23: =SUM(H23+J23+L23) -> 268828.16 | S23: 51 | T23: 137618.95 | Y23: =SUM(D23+M23+S23+V23) -> 6472 | Z23: =SUM(E23+N23+T23+W23) -> 446990.58 | AB23: 6472 | AC23: 446990.58 | AE23: =Y23-AB23 -> 0 | AF23: =Z23-AC23 -> 0
A24: 41640 | B24: 2012 | D24: 5290 | E24: 42090.541 | G24: 639 | H24: 22885.777 | I24: 425 | J24: 123615.47 | K24: 47 | L24: 87882.441 | M24: =SUM(G24+I24+K24) -> 1111 | N24: =SUM(H24+J24+L24) -> 234383.69 | S24: 23 | T24: 56793.804 | Y24: =SUM(D24+M24+S24+V24) -> 6424 | Z24: =SUM(E24+N24+T24+W24) -> 333268.04 | AB24: 6424 | AC24: 333268.04 | AE24: =Y24-AB24 -> 0 | AF24: =Z24-AC24 -> 0
B25: 2013 | D25: 5949 | E25: 46570.656 | G25: 281 | H25: 11453.664 | I25: 233 | J25: 74992.531 | K25: 26 | L25: 64412.16 | M25: =SUM(G25+I25+K25) -> 540 | N25: =SUM(H25+J25+L25) -> 150858.36 | S25: 18 | T25: 23162.1 | Y25: =SUM(D25+M25+S25+V25) -> 6507 | Z25: =SUM(E25+N25+T25+W25) -> 220591.11 | AB25: 6507 | AC25: 220591.11 | AE25: =Y25-AB25 -> 0 | AF25: =Z25-AC25 -> 0
B26: 2014 | D26: 6828 | E26: 54749.969 | G26: 117 | H26: 4343.174 | I26: 104 | J26: 36123.718 | K26: 10 | L26: 45163.02 | M26: =SUM(G26+I26+K26) -> 231 | N26: =SUM(H26+J26+L26) -> 85629.912 | S26: 8 | T26: 63370.64 | Y26: =SUM(D26+M26+S26+V26) -> 7067 | Z26: =SUM(E26+N26+T26+W26) -> 203750.52 | AB26: 7067 | AC26: 203750.52 | AE26: =Y26-AB26 -> 0 | AF26: =Z26-AC26 -> 0.005
A27: 42005 | B27: 2015 | D27: 12887 | E27: 101923.3 | G27: 110 | H27: 3689.21 | I27: 86 | J27: 27254.1 | K27: 7 | L27: 21629.63 | M27: =SUM(G27+I27+K27) -> 203 | N27: =SUM(H27+J27+L27) -> 52572.94 | S27: 8 | T27: 41683.64 | Y27: =SUM(D27+M27+S27+V27) -> 13098 | Z27: =SUM(E27+N27+T27+W27) -> 196179.88 | AB27: 13098 | AC27: 196179.88 | AE27: =Y27-AB27 -> 0 | AF27: =Z27-AC27 -> 0
A28: 42370 | B28: 2016 | D28: 21914 | E28: 180291.02 | G28: 212 | H28: 6528.23 | I28: 123 | J28: 42752.5 | K28: 18 | L28: 42479.69 | M28: =SUM(G28+I28+K28) -> 353 | N28: =SUM(H28+J28+L28) -> 91760.42 | S28: 22 | T28: 136223.31 | Y28: =SUM(D28+M28+S28+V28) -> 22289 | Z28: =SUM(E28+N28+T28+W28) -> 408274.75 | AB28: 22289 | AC28: 408274.75 | AE28: =Y28-AB28 -> 0 | AF28: =Z28-AC28 -> 0
A29: 42736 | B29: 2017 | D29: 18558 | E29: 158905.11 | G29: 282 | H29: 9749.65 | I29: 174 | J29: 65123.59 | K29: 22 | L29: 57718.49 | M29: =SUM(G29+I29+K29) -> 478 | N29: =SUM(H29+J29+L29) -> 132591.73 | S29: 8 | T29: 60129.63 | Y29: =SUM(D29+M29+S29+V29) -> 19044 | Z29: =SUM(E29+N29+T29+W29) -> 351626.47 | AB29: 19044 | AC29: 351626.47 | AE29: =Y29-AB29 -> 0 | AF29: =Z29-AC29 -> 0
A30: 42736 | B30: 2018 | D30: 17183 | E30: 149469.46 | G30: 329 | H30: 10830.27 | I30: 203 | J30: 70258.75 | K30: 26 | L30: 56308.67 | M30: =SUM(G30+I30+K30) -> 558 | N30: =SUM(H30+J30+L30) -> 137397.69 | S30: 4 | T30: 43687.12 | Y30: =SUM(D30+M30+S30+V30) -> 17745 | Z30: =SUM(E30+N30+T30+W30) -> 330554.27 | AB30: 17745 | AC30: 330554.27 | AE30: =Y30-AB30 -> 0 | AF30: =Z30-AC30 -> 0
A31: 42736 | B31: 2019 | D31: 15863 | E31: 144159.69 | G31: 332 | H31: 11123.16 | I31: 212 | J31: 79444.31 | K31: 40 | L31: 137163.85 | M31: =SUM(G31+I31+K31) -> 584 | N31: =SUM(H31+J31+L31) -> 227731.32 | S31: 7 | T31: 77950.13 | Y31: =SUM(D31+M31+S31+V31) -> 16454 | Z31: =SUM(E31+N31+T31+W31) -> 449841.14 | AB31: 16454 | AC31: 449841.14 | AE31: =Y31-AB31 -> 0 | AF31: =Z31-AC31 -> 0
A32: 42736 | B32: 2020 | D32: 6482 | E32: 59364.28 | G32: 126 | H32: 3950.07 | I32: 57 | J32: 17747.1 | K32: 5 | L32: 13813.63 | M32: =SUM(G32+I32+K32) -> 188 | N32: =SUM(H32+J32+L32) -> 35510.8 | S32: 6 | T32: 45568.26 | Y32: =SUM(D32+M32+S32+V32) -> 6676 | Z32: =SUM(E32+N32+T32+W32) -> 140443.34 | AB32: 6676 | AC32: 140443.34 | AE32: =Y32-AB32 -> 0 | AF32: =Z32-AC32 -> 0
A33: 42736 | B33: 2021 | D33: 15 | E33: 101.19 | G33: 0 | H33: 0 | I33: 1 | J33: 192.76 | K33: 0 | L33: 0 | M33: =SUM(G33+I33+K33) -> 1 | N33: =SUM(H33+J33+L33) -> 192.76 | S33: 0 | T33: 0 | Y33: =SUM(D33+M33+S33+V33) -> 16 | Z33: =SUM(E33+N33+T33+W33) -> 293.95 | AB33: 16 | AC33: 293.95 | AE33: =Y33-AB33 -> 0 | AF33: =Z33-AC33 -> 0
A34: 42736 | B34: 2022 | D34: 1 | E34: 5.19 | G34: 0 | H34: 0 | I34: 0 | J34: 0 | K34: 0 | L34: 0 | M34: =SUM(G34+I34+K34) -> 0 | N34: =SUM(H34+J34+L34) -> 0 | S34: 0 | T34: 0 | Y34: =SUM(D34+M34+S34+V34) -> 1 | Z34: =SUM(E34+N34+T34+W34) -> 5.19 | AB34: 1 | AC34: 5.19 | AE34: =Y34-AB34 -> 0 | AF34: =Z34-AC34 -> 0
A35: 42736 | B35: 2023 | D35: 0 | E35: 0 | G35: 0 | H35: 0 | I35: 0 | J35: 0 | K35: 0 | L35: 0 | M35: =SUM(G35+I35+K35) -> 0 | N35: =SUM(H35+J35+L35) -> 0 | S35: 0 | T35: 0 | Y35: =SUM(D35+M35+S35+V35) -> 0 | Z35: =SUM(E35+N35+T35+W35) -> 0 | AB35: 0 | AC35: 0 | AE35: =Y35-AB35 -> 0 | AF35: =Z35-AC35 -> 0
A36: 42736 | B36: 2024 | D36: 0 | E36: 0 | G36: 0 | H36: 0 | I36: 0 | J36: 0 | K36: 0 | L36: 0 | M36: =SUM(G36+I36+K36) -> 0 | N36: =SUM(H36+J36+L36) -> 0 | S36: 0 | T36: 0 | Y36: =SUM(D36+M36+S36+V36) -> 0 | Z36: =SUM(E36+N36+T36+W36) -> 0 | AB36: 0 | AC36: 0 | AE36: =Y36-AB36 -> 0 | AF36: =Z36-AC36 -> 0
A37: 42736 | B37: 2025 | D37: 0 | E37: 0 | G37: 0 | H37: 0 | I37: 0 | J37: 0 | K37: 0 | L37: 0 | M37: =SUM(G37+I37+K37) -> 0 | N37: =SUM(H37+J37+L37) -> 0 | S37: 0 | T37: 0 | Y37: =SUM(D37+M37+S37+V37) -> 0 | Z37: =SUM(E37+N37+T37+W37) -> 0 | AB37: 0 | AC37: 0 | AE37: =Y37-AB37 -> 0 | AF37: =Z37-AC37 -> 0
A38: 42736 | B38: 2026 | D38: 0 | E38: 0 | G38: 0 | H38: 0 | I38: 0 | J38: 0 | K38: 0 | L38: 0 | M38: =SUM(G38+I38+K38) -> 0 | N38: =SUM(H38+J38+L38) -> 0 | S38: 0 | T38: 0 | Y38: =SUM(D38+M38+S38+V38) -> 0 | Z38: =SUM(E38+N38+T38+W38) -> 0 | AB38: 0 | AC38: 0 | AE38: =Y38-AB38 -> 0 | AF38: =Z38-AC38 -> 0
B40: SRP Total | D40: =SUM(D10+D21, D32:D38) -> 122170 | E40: =SUM(E10+E21, E32:E38) -> 1023419.2 | G40: =SUM(G10+G21, G32:G38) -> 4397 | H40: =SUM(H10+H21, H32:H38) -> 140683.52 | I40: =SUM(I10+I21, I32:I38) -> 2429 | J40: =SUM(J10+J21, J32:J38) -> 781027.83 | K40: =SUM(K10+K21, K32:K38) -> 276 | L40: =SUM(L10+L21, L32:L38) -> 675486.62 | M40: =SUM(M10+M21, M32:M38) -> 7102 | N40: =SUM(N10+N21, N32:N38) -> 1597198 | S40: =SUM(S10+S21, S32:S38) -> 179 | T40: =SUM(T10+T21, T32:T38) -> 714745.49 | Y40: =SUM(Y10+Y21, Y32:Y38) -> 129451 | Z40: =SUM(Z10+Z21, Z32:Z38) -> 3335362.7 | AB40: =SUM(AB10+AB21, AB32:AB38) -> 129451 | AC40: =SUM(AC10+AC21, AC32:AC38) -> 3335362.7 | AE40: =SUM(AE11:AE38) -> 0 | AF40: =SUM(AF11:AF38) -> 0.0099999999
D42: Note: The SRP Installation Data includes the decertified status - these projects were previously in the installation data as Complete, but now have been deactivated.
D43: project capacity on the decertified tab
B45: TI Program
...

Sheet Annual Capacity - Graph

Sheet Class I REC Generators
A1: Class I REC Generators that were issued PTO's between 1/1/2000 - 5/31/2003
A2: The Solar Installation Report includes 61 projects totaling 1,260.67 kW that have been classified as Class I REC Generators
A3: Note 1: PJM-GATs system is showing a total of 28 projects totaling 787.96 kW.
A4: Note 2: The difference between the 61 projects in the solar installation report and the 28 projects in the GATs system is 33 projects. PJM-GATs does not have a record of these 33 generators registered in their system.
A6: Registration Number | B6: SRP Project Number | C6: Program | D6: Premise Last Name | E6: Premise Company | F6: Premise Installation Address (Commercial Only) | G6: Premise City | H6: Premise Zip | I6: County Code | J6: PTO Date (Interconnection Date) | K6: Calculated Total System Size | L6: Customer Type | M6: Third Party Ownership | N6: Grid / BTM | O6: Subsection | P6: Energy Year | Q6: EDC Program | R6: Contractor Company | S6: Electric Utility Name | T6: Status | U6: Acceptance Date | V6: Completion Date
B7: UTIL-16 | C7: CORE Solar | D7: BROOKE | G7: LAMBERTVILLE | H7: 8530 | I7: 4 | J7: 37242 | K7: 1.49 | L7: Residential | N7: Behind the Meter | S7: JCP&L | T7: Registration Complete | U7: 37077 | V7: 37242
B8: UTIL-17 | C8: CORE Solar | D8: KNOWLTON | G8: FAIR HAVEN | H8: 7704 | I8: 17 | J8: 37257 | K8: 2.26 | L8: Residential | N8: Behind the Meter | S8: JCP&L | T8: Registration Complete | U8: 37081 | V8: 37242
B9: UTIL-15 | C9: CORE Solar | D9: BURNS | G9: GREAT MEADOWS | H9: 7838 | I9: 2 | J9: 37242 | K9: 3.76 | L9: Residential | N9: Behind the Meter | S9: JCP&L | T9: Registration Complete | U9: 37067 | V9: 37242
B10: UTIL-18 | C10: CORE Solar | D10: GUINDON | G10: OCEAN VIEW | H10: 8230 | I10: 21 | J10: 37267 | K10: 0.26 | L10: Residential | N10: Behind the Meter | S10: AC Electric | T10: Registration Complete | U10: 37216 | V10: 37267
B11: UTIL-20 | C11: CORE Solar | D11: SUKOVICH | G11: RINGOES | H11: 8551 | I11: 4 | J11: 37288 | K11: 3.72 | L11: Residential | N11: Behind the Meter | S11: JCP&L | T11: Registration Complete | U11: 37083 | V11: 37320
B12: UTIL-21 | C12: CORE Solar | D12: STOCKS | G12: LIVINGSTON | H12: 7039 | I12: 9 | J12: 37314 | K12: 2.26 | L12: Residential | N12: Behind the Meter | S12: PSE&G | T12: Registration Complete | U12: 37085 | V12: 37329
B13: UTIL-22 | C13: CORE Solar | D13: DERBY | G13: MOUNT HOLLY | H13: 8060 | I13: 13 | J13: 37336 | K13: 1.9 | L13: Residential | N13: Behind the Meter | S13: PSE&G | T13: Registration Complete | U13: 37109 | V13: 37336
B14: UTIL-24 | C14: CORE Solar | D14: PLEVA | G14: ALLENTOWN | H14: 8501 | I14: 17 | J14: 37280 | K14: 2.69 | L14: Residential | N14: Behind the Meter | S14: PSE&G | T14: Registration Complete | U14: 37162 | V14: 37357
B15: UTIL-71 | C15: CORE Solar | E15: RAMAPO COLLEGE | G15: MAHWAH | H15: 7430 | I15: 7 | J15: 37361 | K15: 2 | L15: University Public | N15: Behind the Meter | S15: Orange & Rockland Elec | T15: Registration Complete | U15: 37280 | V15: 37361
B16: UTIL-25 | C16: CORE Solar | D16: MCFADDEN | G16: DEMAREST | H16: 7627 | I16: 7 | J16: 37361 | K16: 2.26 | L16: Residential | N16: Behind the Meter | S16: Orange & Rockland Elec | T16: Registration Complete | U16: 37152 | V16: 37361
B17: UTIL-72 | C17: CORE Solar | E17: MONTCLAIR UNIVERSITY | G17: MONTCLAIR | H17: 7043 | I17: 9 | J17: 37382 | K17: 2 | L17: University Public | N17: Behind the Meter | S17: PSE&G | T17: Registration Complete | U17: 37379 | V17: 37382
B18: UTIL-27 | C18: CORE Solar | D18: CAFIERO | G18: SHIP BOTTOM | H18: 8008 | I18: 18 | J18: 37377 | K18: 2.71 | L18: Residential | N18: Behind the Meter | S18: AC Electric | T18: Registration Complete | U18: 37298 | V18: 37420
B19: UTIL-28 | C19: CORE Solar | D19: GOLDEN | G19: VILLAS | H19: 8251 | I19: 21 | J19: 37424 | K19: 0.89 | L19: Residential | N19: Behind the Meter | S19: AC Electric | T19: Registration Complete | U19: 37090 | V19: 37424
B20: UTIL-06 | C20: CORE Solar | E20: BJ'S WHOLESALE CLUB | F20: 1910 DEPTFORD CENTER RD | G20: DEPTFORD | H20: 8096 | I20: 15 | J20: 37434 | K20: 62.23 | L20: Commercial | N20: Behind the Meter | S20: PSE&G | T20: Registration Complete | U20: 37060 | V20: 37434
B21: UTIL-30 | C21: CORE Solar | D21: JONES | G21: HIGHLANDS | H21: 7732 | I21: 17 | J21: 37377 | K21: 2.69 | L21: Residential | N21: Behind the Meter | S21: JCP&L | T21: Registration Complete | U21: 37330 | V21: 37439
B22: UTIL-29 | C22: CORE Solar | D22: LOUGHLIN | G22: FLEMINGTON | H22: 8822 | I22: 4 | J22: 37408 | K22: 3.46 | L22: Residential | N22: Behind the Meter | S22: JCP&L | T22: Registration Complete | U22: 37146 | V22: 37439
B23: UTIL-07 | C23: CORE Solar | E23: CORDIS | F23: 33 TECHNOLOGY DR | G23: WARREN | H23: 7059 | I23: 5 | J23: 37440 | K23: 68.4 | L23: Commercial | N23: Behind the Meter | S23: JCP&L | T23: Registration Complete | U23: 37063 | V23: 37440
B24: UTIL-31 | C24: CORE Solar | D24: ONE | G24: COLTS NECK | H24: 7722 | I24: 17 | J24: 37460 | K24: 8.37 | L24: Residential | N24: Behind the Meter | S24: JCP&L | T24: Registration Complete | U24: 37139 | V24: 37460
B25: UTIL-33 | C25: CORE Solar | D25: KLEIN | G25: JACKSON | H25: 8527 | I25: 18 | J25: 37469 | K25: 1.5 | L25: Residential | N25: Behind the Meter | S25: JCP&L | T25: Registration Complete | U25: 37203 | V25: 37469
B26: UTIL-34 | C26: CORE Solar | D26: CELEBRE | G26: RINGOES | H26: 8551 | I26: 4 | J26: 37470 | K26: 2.71 | L26: Residential | N26: Behind the Meter | S26: JCP&L | T26: Registration Complete | U26: 37330 | V26: 37489
B27: UTIL-36 | C27: CORE Solar | D27: BARBLOCK | G27: WAYNE | H27: 7470 | I27: 6 | J27: 36739 | K27: 2.5 | L27: Residential | N27: Behind the Meter | S27: JCP&L | T27: Registration Complete | U27: 37379 | V27: 37522
B28: UTIL-37 | C28: CORE Solar | D28: MULVANEY | G28: FLEMINGTON | H28: 8822 | I28: 4 | J28: 37523 | K28: 3.01 | L28: Residential | N28: Behind the Meter | S28: JCP&L | T28: Registration Complete | U28: 37309 | V28: 37523
B29: UTIL-38 | C29: CORE Solar | D29: MIDKIFF | G29: BLAIRSTOWN | H29: 7825 | I29: 2 | J29: 37469 | K29: 1.84 | L29: Residential | N29: Behind the Meter | S29: JCP&L | T29: Registration Complete | U29: 37391 | V29: 37545
B30: UTIL-40 | C30: CORE Solar | D30: KINNEY | G30: MEDFORD | H30: 8055 | I30: 13 | J30: 37530 | K30: 7.5 | L30: Residential | N30: Behind the Meter | S30: PSE&G | T30: Registration Complete | U30: 37274 | V30: 37582
B31: UTIL-08 | C31: CORE Solar | E31: IBEW LOCAL #269 BLDG 1 | F31: 670 WHITEHEAD RD | G31: LAWRENCE TOWNSHIP | H31: 8648 | I31: 12 | J31: 37600 | K31: 25.54 | L31: Commercial | N31: Behind the Meter | S31: PSE&G | T31: Registration Complete | U31: 37389 | V31: 37600
B32: UTIL-09 | C32: CORE Solar | E32: IBEW LOCAL #269 BLDG 3 | F32: 670 WHITEHEAD RD | G32: LAWRENCE TOWNSHIP | H32: 8648 | I32: 12 | J32: 37600 | K32: 31.58 | L32: Commercial | N32: Behind the Meter | S32: PSE&G | T32: Registration Complete | U32: 37371 | V32: 37600
B33: UTIL-10 | C33: CORE Solar | E33: WYETH (AMERICAN HOME PRODUCTS) | F33: 5 GIRALDA FARMS | G33: MADISON | H33: 7940 | I33: 3 | J33: 37600 | K33: 60.67 | L33: Commercial | N33: Behind the Meter | S33: PSE&G | T33: Registration Complete | U33: 37301 | V33: 37600
B34: UTIL-41 | C34: CORE Solar | D34: JOHNSON | G34: SHIP BOTTOM | H34: 8008 | I34: 18 | J34: 37601 | K34: 2.8 | L34: Residential | N34: Behind the Meter | S34: AC Electric | T34: Registration Complete | U34: 37496 | V34: 37601
B35: UTIL-42 | C35: CORE Solar | D35: KLINE | G35: BARNEGAT LIGHT | H35: 8006 | I35: 18 | J35: 37572 | K35: 2.8 | L35: Residential | N35: Behind the Meter | S35: AC Electric | T35: Registration Complete | U35: 37539 | V35: 37601
B36: UTIL-43 | C36: CORE Solar | D36: BROOKE | G36: LAMBERTVILLE | H36: 8530 | I36: 4 | J36: 37606 | K36: 2.92 | L36: Residential | N36: Behind the Meter | S36: JCP&L | T36: Registration Complete | U36: 37292 | V36: 37606
B37: UTIL-44 | C37: CORE Solar | D37: PHIFER | G37: THOROFARE | H37: 8086 | I37: 15 | J37: 37602 | K37: 3.7 | L37: Residential | N37: Behind the Meter | S37: PSE&G | T37: Registration Complete | U37: 37551 | V37: 37614
B38: UTIL-11 | C38: CORE Solar | E38: BP (PAULSBORO TERMINAL) | F38: 303 MANTUA AVE | G38: PAULSBORO | H38: 8066 | I38: 15 | J38: 37621 | K38: 262.14 | L38: Commercial | N38: Behind the Meter | S38: AC Electric | T38: Registration Complete | U38: 37267 | V38: 37621
B39: UTIL-46 | C39: CORE Solar | D39: RAFTER | G39: WILLIAMSTOWN | H39: 8094 | I39: 15 | J39: 37591 | K39: 3.74 | L39: Residential | N39: Behind the Meter | S39: AC Electric | T39: Registration Complete | U39: 37454 | V39: 37627
B40: UTIL-47 | C40: CORE Solar | D40: LISTHAUS | G40: LIVINGSTON | H40: 7039 | I40: 9 | J40: 37622 | K40: 10.26 | L40: Residential | N40: Behind the Meter | S40: JCP&L | T40: Registration Complete | U40: 37390 | V40: 37636
B41: UTIL-48 | C41: CORE Solar | D41: ROBBINS | G41: MOUNT HOLLY | H41: 8060 | I41: 13 | J41: 37601 | K41: 2.27 | L41: Residential | N41: Behind the Meter | S41: PSE&G | T41: Registration Complete | U41: 37540 | V41: 37644
...

Sheet Annual Graph

Sheet Monthly Capacity
A1: ='Annual Capacity'!G1 -> New Jersey Solar Installations Report as of | G1: ='Annual Capacity'!M1 -> 46265 | H1: (Monthly Capacity)
B3: Residential (kW) | E3: Non-Residential | G3: Non-Residential | I3: Non-Residential | K3: Non-Residential | N3: Remote Net Metering (kW) (ADI ONLY) | R3: Grid Supply (kW) | U3: Community Solar (kW) | X3: ='Annual Capacity'!Y4 -> Total of All Projects as of 08/31/2026 (kW) | AA3: ='Annual Capacity'!AB2 -> Previously Reported through 07/31/2026 | AD3: ='Annual Capacity'!AE2 -> Difference between 07/31/2026 and 08/31/2026
E4: < = 100 (kW) | G4: > 100 to < 1000 (kW) | I4: > = 1000 (kW) | K4: Total (kW)
B5: Qty | C5: Capacity | E5: Qty | F5: Capacity | G5: Qty | H5: Capacity | I5: Qty | J5: Capacity | K5: Qty | L5: Capacity | N5: Qty | O5: Capacity | R5: Qty | S5: Capacity | U5: Qty | V5: Capacity | X5: Total Qty | Y5: Total Capacity | AA5: Total Qty | AB5: Total Capacity (kW) | AD5: Total Qty | AE5: Total Capacity (kW)
A7: Annual Totals in Aggregate
A8: SRP Program
A9: 2000-2009 | B9: ='Annual Capacity'!D10 -> 3964 | C9: ='Annual Capacity'!E10 -> 28763.445 | E9: ='Annual Capacity'!G10 -> 760 | F9: ='Annual Capacity'!H10 -> 16705.994 | G9: ='Annual Capacity'!I10 -> 214 | H9: ='Annual Capacity'!J10 -> 62221.445 | I9: ='Annual Capacity'!K10 -> 13 | J9: ='Annual Capacity'!L10 -> 21432.85 | K9: ='Annual Capacity'!M10 -> 987 | L9: ='Annual Capacity'!N10 -> 100360.29 | R9: ='Annual Capacity'!S10 -> 5 | S9: ='Annual Capacity'!T10 -> 3370.56 | X9: ='Annual Capacity'!Y10 -> 4956 | Y9: ='Annual Capacity'!Z10 -> 132494.29 | AA9: ='Annual Capacity'!AB10 -> 4956 | AB9: ='Annual Capacity'!AC10 -> 132494.29 | AD9: =SUM(X9-AA9) -> 0 | AE9: =SUM(Y9-AB9) -> 0
A10: 2010-2019 | B10: ='Annual Capacity'!D21 -> 111708 | C10: ='Annual Capacity'!E21 -> 935185.15 | E10: ='Annual Capacity'!G21 -> 3511 | F10: ='Annual Capacity'!H21 -> 120027.46 | G10: ='Annual Capacity'!I21 -> 2157 | H10: ='Annual Capacity'!J21 -> 700866.53 | I10: ='Annual Capacity'!K21 -> 258 | J10: ='Annual Capacity'!L21 -> 640240.14 | K10: ='Annual Capacity'!M21 -> 5926 | L10: ='Annual Capacity'!N21 -> 1461134.1 | R10: ='Annual Capacity'!S21 -> 168 | S10: ='Annual Capacity'!T21 -> 665806.67 | X10: ='Annual Capacity'!Y21 -> 117802 | Y10: ='Annual Capacity'!Z21 -> 3062125.9 | AA10: ='Annual Capacity'!AB21 -> 117802 | AB10: ='Annual Capacity'!AC21 -> 3062125.9 | AD10: =SUM(X10-AA10) -> 0 | AE10: =SUM(Y10-AB10) -> 0.0049999999
A11: 2020 | B11: ='Annual Capacity'!D32 -> 6482 | C11: ='Annual Capacity'!E32 -> 59364.28 | E11: ='Annual Capacity'!G32 -> 126 | F11: ='Annual Capacity'!H32 -> 3950.07 | G11: ='Annual Capacity'!I32 -> 57 | H11: ='Annual Capacity'!J32 -> 17747.1 | I11: ='Annual Capacity'!K32 -> 5 | J11: ='Annual Capacity'!L32 -> 13813.63 | K11: =SUM(E11+G11+I11) -> 188 | L11: =SUM(F11+H11+J11) -> 35510.8 | R11: ='Annual Capacity'!S32 -> 6 | S11: ='Annual Capacity'!T32 -> 45568.26 | X11: =SUM(B11+K11+R11+U11) -> 6676 | Y11: =SUM(C11+L11+S11+V11) -> 140443.34 | AA11: 6676 | AB11: 140443.34 | AD11: =SUM(X11-AA11) -> 0 | AE11: =SUM(Y11-AB11) -> 0
A12: 2021 | B12: ='Annual Capacity'!D33 -> 15 | C12: ='Annual Capacity'!E33 -> 101.19 | E12: ='Annual Capacity'!G33 -> 0 | F12: ='Annual Capacity'!H33 -> 0 | G12: ='Annual Capacity'!I33 -> 1 | H12: ='Annual Capacity'!J33 -> 192.76 | I12: ='Annual Capacity'!K33 -> 0 | J12: ='Annual Capacity'!L33 -> 0 | K12: =SUM(E12+G12+I12) -> 1 | L12: =SUM(F12+H12+J12) -> 192.76 | R12: ='Annual Capacity'!S33 -> 0 | S12: ='Annual Capacity'!T33 -> 0 | X12: =SUM(B12+K12+R12+U12) -> 16 | Y12: =SUM(C12+L12+S12+V12) -> 293.95 | AA12: 16 | AB12: 293.95 | AD12: =SUM(X12-AA12) -> 0 | AE12: =SUM(Y12-AB12) -> 0
A13: 2022 | B13: ='Annual Capacity'!D34 -> 1 | C13: ='Annual Capacity'!E34 -> 5.19 | E13: ='Annual Capacity'!G34 -> 0 | F13: ='Annual Capacity'!H34 -> 0 | G13: ='Annual Capacity'!I34 -> 0 | H13: ='Annual Capacity'!J34 -> 0 | I13: ='Annual Capacity'!K34 -> 0 | J13: ='Annual Capacity'!L34 -> 0 | K13: =SUM(E13+G13+I13) -> 0 | L13: =SUM(F13+H13+J13) -> 0 | R13: ='Annual Capacity'!S34 -> 0 | S13: ='Annual Capacity'!T34 -> 0 | X13: =SUM(B13+K13+R13+U13) -> 1 | Y13: =SUM(C13+L13+S13+V13) -> 5.19 | AA13: 1 | AB13: 5.19 | AD13: =SUM(X13-AA13) -> 0 | AE13: =SUM(Y13-AB13) -> 0
A14: 2023 | B14: ='Annual Capacity'!D35 -> 0 | C14: ='Annual Capacity'!E35 -> 0 | E14: ='Annual Capacity'!G35 -> 0 | F14: ='Annual Capacity'!H35 -> 0 | G14: ='Annual Capacity'!I35 -> 0 | H14: ='Annual Capacity'!J35 -> 0 | I14: ='Annual Capacity'!K35 -> 0 | J14: ='Annual Capacity'!L35 -> 0 | K14: =SUM(E14+G14+I14) -> 0 | L14: =SUM(F14+H14+J14) -> 0 | R14: ='Annual Capacity'!S35 -> 0 | S14: ='Annual Capacity'!T35 -> 0 | X14: =SUM(B14+K14+R14+U14) -> 0 | Y14: =SUM(C14+L14+S14+V14) -> 0 | AA14: 0 | AB14: 0 | AD14: =SUM(X14-AA14) -> 0 | AE14: =SUM(Y14-AB14) -> 0
A15: 2023 | B15: ='Annual Capacity'!D36 -> 0 | C15: ='Annual Capacity'!E36 -> 0 | E15: ='Annual Capacity'!G36 -> 0 | F15: ='Annual Capacity'!H36 -> 0 | G15: ='Annual Capacity'!I36 -> 0 | H15: ='Annual Capacity'!J36 -> 0 | I15: ='Annual Capacity'!K36 -> 0 | J15: ='Annual Capacity'!L36 -> 0 | K15: =SUM(E15+G15+I15) -> 0 | L15: =SUM(F15+H15+J15) -> 0 | R15: ='Annual Capacity'!S36 -> 0 | S15: ='Annual Capacity'!T36 -> 0 | X15: =SUM(B15+K15+R15+U15) -> 0 | Y15: =SUM(C15+L15+S15+V15) -> 0 | AA15: 0 | AB15: 0 | AD15: =SUM(X15-AA15) -> 0 | AE15: =SUM(Y15-AB15) -> 0
A16: 2024 | B16: ='Annual Capacity'!D37 -> 0 | C16: ='Annual Capacity'!E37 -> 0 | E16: ='Annual Capacity'!G37 -> 0 | F16: ='Annual Capacity'!H37 -> 0 | G16: ='Annual Capacity'!I37 -> 0 | H16: ='Annual Capacity'!J37 -> 0 | I16: ='Annual Capacity'!K37 -> 0 | J16: ='Annual Capacity'!L37 -> 0 | K16: =SUM(E16+G16+I16) -> 0 | L16: =SUM(F16+H16+J16) -> 0 | R16: ='Annual Capacity'!S37 -> 0 | S16: ='Annual Capacity'!T37 -> 0 | X16: =SUM(B16+K16+R16+U16) -> 0 | Y16: =SUM(C16+L16+S16+V16) -> 0 | AA16: 0 | AB16: 0 | AD16: =SUM(X16-AA16) -> 0 | AE16: =SUM(Y16-AB16) -> 0
A17: 2025 | B17: ='Annual Capacity'!D38 -> 0 | C17: ='Annual Capacity'!E38 -> 0 | E17: ='Annual Capacity'!G38 -> 0 | F17: ='Annual Capacity'!H38 -> 0 | G17: ='Annual Capacity'!I38 -> 0 | H17: ='Annual Capacity'!J38 -> 0 | I17: ='Annual Capacity'!K38 -> 0 | J17: ='Annual Capacity'!L38 -> 0 | K17: =SUM(E17+G17+I17) -> 0 | L17: =SUM(F17+H17+J17) -> 0 | R17: ='Annual Capacity'!S38 -> 0 | S17: ='Annual Capacity'!T38 -> 0 | X17: =SUM(B17+K17+R17+U17) -> 0 | Y17: =SUM(C17+L17+S17+V17) -> 0 | AA17: 0 | AB17: 0 | AD17: =SUM(X17-AA17) -> 0 | AE17: =SUM(Y17-AB17) -> 0
A19: SRP 2000-2025 Total | B19: =SUM(B9:B17) -> 122170 | C19: =SUM(C9:C17) -> 1023419.2 | E19: =SUM(E9:E17) -> 4397 | F19: =SUM(F9:F17) -> 140683.52 | G19: =SUM(G9:G17) -> 2429 | H19: =SUM(H9:H17) -> 781027.83 | I19: =SUM(I9:I17) -> 276 | J19: =SUM(J9:J17) -> 675486.62 | K19: =SUM(K9:K17) -> 7102 | L19: =SUM(L9:L17) -> 1597198 | R19: =SUM(R9:R17) -> 179 | S19: =SUM(S9:S17) -> 714745.49 | X19: =SUM(X9:X17) -> 129451 | Y19: =SUM(Y9:Y17) -> 3335362.7 | AA19: =SUM(AA9:AA17) -> 129451 | AB19: =SUM(AB9:AB17) -> 3335362.7 | AD19: =SUM(AD9:AD17) -> 0 | AE19: =SUM(AE9:AE17) -> 0.0049999999
A21: 46023 | B21: 0 | C21: 0 | E21: 0 | F21: 0 | G21: 0 | H21: 0 | I21: 0 | J21: 0 | K21: =SUM(E21+G21+I21) -> 0 | L21: =SUM(F21+H21+J21) -> 0 | R21: 0 | S21: 0 | X21: =SUM(B21+K21+R21+U21) -> 0 | Y21: =SUM(C21+L21+S21+V21) -> 0 | AA21: 0 | AB21: 0 | AD21: =SUM(X21-AA21) -> 0 | AE21: =SUM(Y21-AB21) -> 0
A22: 46054 | B22: 0 | C22: 0 | E22: 0 | F22: 0 | G22: 0 | H22: 0 | I22: 0 | J22: 0 | K22: =SUM(E22+G22+I22) -> 0 | L22: =SUM(F22+H22+J22) -> 0 | R22: 0 | S22: 0 | X22: =SUM(B22+K22+R22+U22) -> 0 | Y22: =SUM(C22+L22+S22+V22) -> 0 | AA22: 0 | AB22: 0 | AD22: =SUM(X22-AA22) -> 0 | AE22: =SUM(Y22-AB22) -> 0
A23: 46082 | B23: 0 | C23: 0 | E23: 0 | F23: 0 | G23: 0 | H23: 0 | I23: 0 | J23: 0 | K23: =SUM(E23+G23+I23) -> 0 | L23: =SUM(F23+H23+J23) -> 0 | R23: 0 | S23: 0 | X23: =SUM(B23+K23+R23+U23) -> 0 | Y23: =SUM(C23+L23+S23+V23) -> 0 | AA23: 0 | AB23: 0 | AD23: =SUM(X23-AA23) -> 0 | AE23: =SUM(Y23-AB23) -> 0
A24: 46113 | B24: 0 | C24: 0 | E24: 0 | F24: 0 | G24: 0 | H24: 0 | I24: 0 | J24: 0 | K24: =SUM(E24+G24+I24) -> 0 | L24: =SUM(F24+H24+J24) -> 0 | R24: 0 | S24: 0 | X24: =SUM(B24+K24+R24+U24) -> 0 | Y24: =SUM(C24+L24+S24+V24) -> 0 | AA24: 0 | AB24: 0 | AD24: =SUM(X24-AA24) -> 0 | AE24: =SUM(Y24-AB24) -> 0
A25: 46143 | B25: 0 | C25: 0 | E25: 0 | F25: 0 | G25: 0 | H25: 0 | I25: 0 | J25: 0 | K25: =SUM(E25+G25+I25) -> 0 | L25: =SUM(F25+H25+J25) -> 0 | R25: 0 | S25: 0 | X25: =SUM(B25+K25+R25+U25) -> 0 | Y25: =SUM(C25+L25+S25+V25) -> 0 | AA25: 0 | AB25: 0 | AD25: =SUM(X25-AA25) -> 0 | AE25: =SUM(Y25-AB25) -> 0
A26: 46174 | B26: 0 | C26: 0 | E26: 0 | F26: 0 | G26: 0 | H26: 0 | I26: 0 | J26: 0 | K26: =SUM(E26+G26+I26) -> 0 | L26: =SUM(F26+H26+J26) -> 0 | R26: 0 | S26: 0 | X26: =SUM(B26+K26+R26+U26) -> 0 | Y26: =SUM(C26+L26+S26+V26) -> 0 | AA26: 0 | AB26: 0 | AD26: =SUM(X26-AA26) -> 0 | AE26: =SUM(Y26-AB26) -> 0
A27: 46204 | B27: 0 | C27: 0 | E27: 0 | F27: 0 | G27: 0 | H27: 0 | I27: 0 | J27: 0 | K27: =SUM(E27+G27+I27) -> 0 | L27: =SUM(F27+H27+J27) -> 0 | R27: 0 | S27: 0 | X27: =SUM(B27+K27+R27+U27) -> 0 | Y27: =SUM(C27+L27+S27+V27) -> 0 | AA27: 0 | AB27: 0 | AD27: =SUM(X27-AA27) -> 0 | AE27: =SUM(Y27-AB27) -> 0
A28: 46235 | B28: 0 | C28: 0 | E28: 0 | F28: 0 | G28: 0 | H28: 0 | I28: 0 | J28: 0 | K28: =SUM(E28+G28+I28) -> 0 | L28: =SUM(F28+H28+J28) -> 0 | R28: 0 | S28: 0 | X28: =SUM(B28+K28+R28+U28) -> 0 | Y28: =SUM(C28+L28+S28+V28) -> 0 | AA28: 0 | AB28: 0 | AD28: =SUM(X28-AA28) -> 0 | AE28: =SUM(Y28-AB28) -> 0
A29: 46266 | B29: 0 | C29: 0 | E29: 0 | F29: 0 | G29: 0 | H29: 0 | I29: 0 | J29: 0 | K29: =SUM(E29+G29+I29) -> 0 | L29: =SUM(F29+H29+J29) -> 0 | R29: 0 | S29: 0 | X29: =SUM(B29+K29+R29+U29) -> 0 | Y29: =SUM(C29+L29+S29+V29) -> 0 | AA29: 0 | AB29: 0 | AD29: =SUM(X29-AA29) -> 0 | AE29: =SUM(Y29-AB29) -> 0
A30: 46296 | B30: 0 | C30: 0 | E30: 0 | F30: 0 | G30: 0 | H30: 0 | I30: 0 | J30: 0 | K30: =SUM(E30+G30+I30) -> 0 | L30: =SUM(F30+H30+J30) -> 0 | R30: 0 | S30: 0 | X30: =SUM(B30+K30+R30+U30) -> 0 | Y30: =SUM(C30+L30+S30+V30) -> 0 | AA30: 0 | AB30: 0 | AD30: =SUM(X30-AA30) -> 0 | AE30: =SUM(Y30-AB30) -> 0
A31: 46327 | B31: 0 | C31: 0 | E31: 0 | F31: 0 | G31: 0 | H31: 0 | I31: 0 | J31: 0 | K31: =SUM(E31+G31+I31) -> 0 | L31: =SUM(F31+H31+J31) -> 0 | R31: 0 | S31: 0 | X31: =SUM(B31+K31+R31+U31) -> 0 | Y31: =SUM(C31+L31+S31+V31) -> 0 | AA31: 0 | AB31: 0 | AD31: =SUM(X31-AA31) -> 0 | AE31: =SUM(Y31-AB31) -> 0
A32: 46357 | B32: 0 | C32: 0 | E32: 0 | F32: 0 | G32: 0 | H32: 0 | I32: 0 | J32: 0 | K32: =SUM(E32+G32+I32) -> 0 | L32: =SUM(F32+H32+J32) -> 0 | R32: 0 | S32: 0 | X32: =SUM(B32+K32+R32+U32) -> 0 | Y32: =SUM(C32+L32+S32+V32) -> 0 | AA32: 0 | AB32: 0 | AD32: =SUM(X32-AA32) -> 0 | AE32: =SUM(Y32-AB32) -> 0
A34: SRP 2026 Total | B34: =SUM(B21:B32) -> 0 | C34: =SUM(C21:C32) -> 0 | E34: =SUM(E21:E32) -> 0 | F34: =SUM(F21:F32) -> 0 | G34: =SUM(G21:G32) -> 0 | H34: =SUM(H21:H32) -> 0 | I34: =SUM(I21:I32) -> 0 | J34: =SUM(J21:J32) -> 0 | K34: =SUM(K21:K32) -> 0 | L34: =SUM(L21:L32) -> 0 | R34: =SUM(R21:R32) -> 0 | S34: =SUM(S21:S32) -> 0 | X34: =SUM(X21:X32) -> 0 | Y34: =SUM(Y21:Y32) -> 0 | AA34: =SUM(AA21:AA32) -> 0 | AB34: =SUM(AB21:AB32) -> 0 | AD34: =SUM(AD21:AD32) -> 0 | AE34: =SUM(AE21:AE32) -> 0
A36: SRP Total | B36: =SUM(B19+B34) -> 122170 | C36: =SUM(C19+C34) -> 1023419.2 | E36: =SUM(E19+E34) -> 4397 | F36: =SUM(F19+F34) -> 140683.52 | G36: =SUM(G19+G34) -> 2429 | H36: =SUM(H19+H34) -> 781027.83 | I36: =SUM(I19+I34) -> 276 | J36: =SUM(J19+J34) -> 675486.62 | K36: =SUM(K19+K34) -> 7102 | L36: =SUM(L19+L34) -> 1597198 | R36: =SUM(R19+R34) -> 179 | S36: =SUM(S19+S34) -> 714745.49 | X36: =SUM(X19+X34) -> 129451 | Y36: =SUM(Y19+Y34) -> 3335362.7 | AA36: =SUM(AA19+AA34) -> 129451 | AB36: =SUM(AB19+AB34) -> 3335362.7 | AD36: =SUM(AD19+AD34) -> 0 | AE36: =SUM(AE19+AE34) -> 0.0049999999
A38: TI Program
A39: 2015-2019 | B39: ='Annual Capacity'!D46 -> 118 | C39: ='Annual Capacity'!E46 -> 1356.2 | E39: ='Annual Capacity'!G46 -> 2 | F39: ='Annual Capacity'!H46 -> 119.34 | G39: ='Annual Capacity'!I46 -> 7 | H39: ='Annual Capacity'!J46 -> 2918.39 | I39: ='Annual Capacity'!K46 -> 0 | J39: ='Annual Capacity'!L46 -> 0 | K39: ='Annual Capacity'!M46 -> 9 | L39: ='Annual Capacity'!N46 -> 3037.73 | R39: ='Annual Capacity'!S46 -> 1 | S39: ='Annual Capacity'!T46 -> 232.56 | X39: ='Annual Capacity'!Y46 -> 128 | Y39: ='Annual Capacity'!Z46 -> 4626.49 | AA39: ='Annual Capacity'!AB46 -> 128 | AB39: 4626.49 | AD39: =SUM(X39-AA39) -> 0 | AE39: =SUM(Y39-AB39) -> 0
A40: 2020 | B40: ='Annual Capacity'!D52 -> 7508 | C40: ='Annual Capacity'!E52 -> 64909.32 | E40: ='Annual Capacity'!G52 -> 158 | F40: ='Annual Capacity'!H52 -> 5244.3 | G40: ='Annual Capacity'!I52 -> 130 | H40: ='Annual Capacity'!J52 -> 49278.86 | I40: ='Annual Capacity'!K52 -> 17 | J40: ='Annual Capacity'!L52 -> 43007.12 | K40: =SUM(E40+G40+I40) -> 305 | L40: =SUM(F40+H40+J40) -> 97530.28 | R40: ='Annual Capacity'!S52 -> 4 | S40: ='Annual Capacity'!T52 -> 21016.08 | U40: ='Annual Capacity'!V52 -> 0 | V40: ='Annual Capacity'!W52 -> 0 | X40: =SUM(B40+K40+R40+U40) -> 7817 | Y40: =SUM(C40+L40+S40+V40) -> 183455.68 | AA40: 7817 | AB40: 183455.68 | AD40: =SUM(X40-AA40) -> 0 | AE40: =SUM(Y40-AB40) -> 0
A41: 2021 | B41: ='Annual Capacity'!D53 -> 13938 | C41: ='Annual Capacity'!E53 -> 126867.26 | E41: ='Annual Capacity'!G53 -> 259 | F41: ='Annual Capacity'!H53 -> 11265.2 | G41: ='Annual Capacity'!I53 -> 217 | H41: ='Annual Capacity'!J53 -> 69354.41 | I41: ='Annual Capacity'!K53 -> 23 | J41: ='Annual Capacity'!L53 -> 58031.1 | K41: =SUM(E41+G41+I41) -> 499 | L41: =SUM(F41+H41+J41) -> 138650.71 | R41: ='Annual Capacity'!S53 -> 3 | S41: ='Annual Capacity'!T53 -> 33581.07 | U41: ='Annual Capacity'!V53 -> 14 | V41: ='Annual Capacity'!W53 -> 31540.98 | X41: =SUM(B41+K41+R41+U41) -> 14454 | Y41: =SUM(C41+L41+S41+V41) -> 330640.02 | AA41: 14454 | AB41: 330640.02 | AD41: =SUM(X41-AA41) -> 0 | AE41: =SUM(Y41-AB41) -> 0
A42: 2022 | B42: ='Annual Capacity'!D54 -> 1712 | C42: ='Annual Capacity'!E54 -> 16152.24 | E42: ='Annual Capacity'!G54 -> 304 | F42: ='Annual Capacity'!H54 -> 13001.17 | G42: ='Annual Capacity'!I54 -> 373 | H42: ='Annual Capacity'!J54 -> 131877.48 | I42: ='Annual Capacity'!K54 -> 49 | J42: ='Annual Capacity'!L54 -> 106576.34 | K42: =SUM(E42+G42+I42) -> 726 | L42: =SUM(F42+H42+J42) -> 251454.99 | R42: ='Annual Capacity'!S54 -> 3 | S42: ='Annual Capacity'!T54 -> 19826.06 | U42: ='Annual Capacity'!V54 -> 7 | V42: ='Annual Capacity'!W54 -> 13082.14 | X42: =SUM(B42+K42+R42+U42) -> 2448 | Y42: =SUM(C42+L42+S42+V42) -> 300515.43 | AA42: 2448 | AB42: 300515.43 | AD42: =SUM(X42-AA42) -> 0 | AE42: =SUM(Y42-AB42) -> 0
A43: 2023 | B43: ='Annual Capacity'!D55 -> 0 | C43: ='Annual Capacity'!E55 -> 0 | E43: ='Annual Capacity'!G55 -> 7 | F43: ='Annual Capacity'!H55 -> 414.84 | G43: ='Annual Capacity'!I55 -> 61 | H43: ='Annual Capacity'!J55 -> 24437.29 | I43: ='Annual Capacity'!K55 -> 10 | J43: ='Annual Capacity'!L55 -> 16275.46 | K43: =SUM(E43+G43+I43) -> 78 | L43: =SUM(F43+H43+J43) -> 41127.59 | R43: ='Annual Capacity'!S55 -> 1 | S43: ='Annual Capacity'!T55 -> 25612.2 | U43: ='Annual Capacity'!V55 -> 66 | V43: ='Annual Capacity'!W55 -> 82862.61 | X43: =SUM(B43+K43+R43+U43) -> 145 | Y43: =SUM(C43+L43+S43+V43) -> 149602.4 | AA43: 145 | AB43: 149602.4 | AD43: =SUM(X43-AA43) -> 0 | AE43: =SUM(Y43-AB43) -> 0
A44: 2024 | B44: ='Annual Capacity'!D56 -> 0 | C44: ='Annual Capacity'!E56 -> 0 | E44: ='Annual Capacity'!G56 -> 0 | F44: ='Annual Capacity'!H56 -> 0 | G44: ='Annual Capacity'!I56 -> 0 | H44: ='Annual Capacity'!J56 -> 0 | I44: ='Annual Capacity'!K56 -> 1 | J44: ='Annual Capacity'!L56 -> 1968 | K44: =SUM(E44+G44+I44) -> 1 | L44: =SUM(F44+H44+J44) -> 1968 | R44: ='Annual Capacity'!S56 -> 0 | S44: ='Annual Capacity'!T56 -> 0 | U44: ='Annual Capacity'!V56 -> 3 | V44: ='Annual Capacity'!W56 -> 10912.83 | X44: =SUM(B44+K44+R44+U44) -> 4 | Y44: =SUM(C44+L44+S44+V44) -> 12880.83 | AA44: 4 | AB44: 12880.83 | AD44: =SUM(X44-AA44) -> 0 | AE44: =SUM(Y44-AB44) -> 0
A45: 2025 | B45: ='Annual Capacity'!D57 -> 0 | C45: ='Annual Capacity'!E57 -> 0 | E45: ='Annual Capacity'!G57 -> 0 | F45: ='Annual Capacity'!H57 -> 0 | G45: ='Annual Capacity'!I57 -> 0 | H45: ='Annual Capacity'!J57 -> 0 | I45: ='Annual Capacity'!K57 -> 0 | J45: ='Annual Capacity'!L57 -> 0 | K45: =SUM(E45+G45+I45) -> 0 | L45: =SUM(F45+H45+J45) -> 0 | R45: ='Annual Capacity'!S57 -> 3 | S45: ='Annual Capacity'!T57 -> 39025.46 | U45: ='Annual Capacity'!V57 -> 0 | V45: ='Annual Capacity'!W57 -> 0 | X45: =SUM(B45+K45+R45+U45) -> 3 | Y45: =SUM(C45+L45+S45+V45) -> 39025.46 | AA45: 3 | AB45: 39025.46 | AD45: =SUM(X45-AA45) -> 0 | AE45: =SUM(Y45-AB45) -> 0
A47: TI 2015-2025 Total | B47: =SUM(B39:B45) -> 23276 | C47: =SUM(C39:C45) -> 209285.02 | E47: =SUM(E39:E45) -> 730 | F47: =SUM(F39:F45) -> 30044.85 | G47: =SUM(G39:G45) -> 788 | H47: =SUM(H39:H45) -> 277866.43 | I47: =SUM(I39:I45) -> 100 | J47: =SUM(J39:J45) -> 225858.02 | K47: =SUM(K39:K45) -> 1618 | L47: =SUM(L39:L45) -> 533769.3 | R47: =SUM(R39:R45) -> 15 | S47: =SUM(S39:S45) -> 139293.43 | U47: =SUM(U39:U45) -> 90 | V47: =SUM(V39:V45) -> 138398.56 | X47: =SUM(X39:X45) -> 24999 | Y47: =SUM(Y39:Y45) -> 1020746.3 | AA47: =SUM(AA39:AA45) -> 24999 | AB47: =SUM(AB39:AB45) -> 1020746.3 | AD47: =SUM(AD39:AD45) -> 0 | AE47: =SUM(AE39:AE45) -> 0
A49: 46023 | B49: 0 | C49: 0 | E49: 0 | F49: 0 | G49: 0 | H49: 0 | I49: 0 | J49: 0 | K49: =SUM(E49+G49+I49) -> 0 | L49: =SUM(F49+H49+J49) -> 0 | R49: 0 | S49: 0 | U49: 0 | V49: 0 | X49: =SUM(B49+K49+R49+U49) -> 0 | Y49: =SUM(C49+L49+S49+V49) -> 0 | AA49: 0 | AB49: 0 | AD49: =SUM(X49-AA49) -> 0 | AE49: =SUM(Y49-AB49) -> 0
...

Sheet Decertified Capacity
B1: SRP Decertified Projects (2000-2020) as of | I1: ='Annual Capacity'!M1 -> 46265
D3: Residential (kW) | G3: Non-Residential | J3: Grid Supply (kW) | M3: ='Annual Capacity'!Y4 -> Total of All Projects as of 08/31/2026 (kW) | P3: ='Annual Capacity'!AB2 -> Previously Reported through 07/31/2026 | S3: ='Annual Capacity'!AE2 -> Difference between 07/31/2026 and 08/31/2026
G4: Total (kW)
D5: Qty | E5: Capacity | G5: Qty | H5: Capacity | J5: Qty | K5: Capacity | M5: Total Qty | N5: Total Capacity | P5: Total Qty | Q5: Total Capacity (kW) | S5: Total Qty | T5: Total Capacity (kW)
B7: PTO Year (SRP)
B8: 2000 | D8: 0 | E8: 0 | G8: 0 | H8: 0 | J8: 0 | K8: 0 | M8: =SUM(D8+G8+J8) -> 0 | N8: =SUM(E8+H8+K8) -> 0 | P8: 0 | Q8: 0 | S8: =SUM(M8-P8) -> 0 | T8: =SUM(N8-Q8) -> 0
B9: 2001 | D9: 0 | E9: 0 | G9: 0 | H9: 0 | J9: 0 | K9: 0 | M9: =SUM(D9+G9+J9) -> 0 | N9: =SUM(E9+H9+K9) -> 0 | P9: 0 | Q9: 0 | S9: =SUM(M9-P9) -> 0 | T9: =SUM(N9-Q9) -> 0
B10: 2002 | D10: 1 | E10: 1.92 | G10: 0 | H10: 0 | J10: 0 | K10: 0 | M10: =SUM(D10+G10+J10) -> 1 | N10: =SUM(E10+H10+K10) -> 1.92 | P10: 1 | Q10: 1.92 | S10: =SUM(M10-P10) -> 0 | T10: =SUM(N10-Q10) -> 0
B11: 2003 | D11: 4 | E11: 22.7 | G11: 2 | H11: 95.6 | J11: 0 | K11: 0 | M11: =SUM(D11+G11+J11) -> 6 | N11: =SUM(E11+H11+K11) -> 118.3 | P11: 6 | Q11: 118.3 | S11: =SUM(M11-P11) -> 0 | T11: =SUM(N11-Q11) -> 0
B12: 2004 | D12: 16 | E12: 100.869 | G12: 0 | H12: 0 | J12: 0 | K12: 0 | M12: =SUM(D12+G12+J12) -> 16 | N12: =SUM(E12+H12+K12) -> 100.869 | P12: 16 | Q12: 100.869 | S12: =SUM(M12-P12) -> 0 | T12: =SUM(N12-Q12) -> 0
B13: 2005 | D13: 25 | E13: 178.436 | G13: 3 | H13: 27.328 | J13: 0 | K13: 0 | M13: =SUM(D13+G13+J13) -> 28 | N13: =SUM(E13+H13+K13) -> 205.764 | P13: 28 | Q13: 205.764 | S13: =SUM(M13-P13) -> 0 | T13: =SUM(N13-Q13) -> 0
B14: 2006 | D14: 30 | E14: 226.031 | G14: 5 | H14: 296.072 | J14: 0 | K14: 0 | M14: =SUM(D14+G14+J14) -> 35 | N14: =SUM(E14+H14+K14) -> 522.103 | P14: 35 | Q14: 522.103 | S14: =SUM(M14-P14) -> 0 | T14: =SUM(N14-Q14) -> 0
D16: Note (1): | E16: Projects that have requested decertification prior to reaching the end of their SREC qualification life.
B18: 2007 | D18: 23 | E18: 187.472 | G18: 4 | H18: 1065.22 | J18: 0 | K18: 0 | M18: =SUM(D18+G18+J18) -> 27 | N18: =SUM(E18+H18+K18) -> 1252.692 | P18: 26 | Q18: 1243.892 | S18: =SUM(M18-P18) -> 1 | T18: =SUM(N18-Q18) -> 8.8
B19: 2008 | D19: 23 | E19: 171.516 | G19: 5 | H19: 198.51 | J19: 0 | K19: 0 | M19: =SUM(D19+G19+J19) -> 28 | N19: =SUM(E19+H19+K19) -> 370.026 | P19: 28 | Q19: 370.026 | S19: =SUM(M19-P19) -> 0 | T19: =SUM(N19-Q19) -> 0
B20: 2009 | D20: 30 | E20: 226.26 | G20: 6 | H20: 3504.515 | J20: 0 | K20: 0 | M20: =SUM(D20+G20+J20) -> 36 | N20: =SUM(E20+H20+K20) -> 3730.775 | P20: 36 | Q20: 3730.775 | S20: =SUM(M20-P20) -> 0 | T20: =SUM(N20-Q20) -> 0
B21: 2010 | D21: 45 | E21: 310.734 | G21: 10 | H21: 817.986 | J21: 0 | K21: 0 | M21: =SUM(D21+G21+J21) -> 55 | N21: =SUM(E21+H21+K21) -> 1128.72 | P21: 55 | Q21: 1128.72 | S21: =SUM(M21-P21) -> 0 | T21: =SUM(N21-Q21) -> 0
B22: 2011 | D22: 43 | E22: 327.165 | G22: 26 | H22: 3399.788 | J22: 0 | K22: 0 | M22: =SUM(D22+G22+J22) -> 69 | N22: =SUM(E22+H22+K22) -> 3726.953 | P22: 65 | Q22: 3687.843 | S22: =SUM(M22-P22) -> 4 | T22: =SUM(N22-Q22) -> 39.11
B23: 2012 | D23: 24 | E23: 161.507 | G23: 5 | H23: 1499.29 | J23: 0 | K23: 0 | M23: =SUM(D23+G23+J23) -> 29 | N23: =SUM(E23+H23+K23) -> 1660.797 | P23: 28 | Q23: 1161.117 | S23: =SUM(M23-P23) -> 1 | T23: =SUM(N23-Q23) -> 499.68
B24: 2013 | D24: 21 | E24: 125.689 | G24: 7 | H24: 2487.27 | J24: 0 | K24: 0 | M24: =SUM(D24+G24+J24) -> 28 | N24: =SUM(E24+H24+K24) -> 2612.959 | P24: 28 | Q24: 2612.959 | S24: =SUM(M24-P24) -> 0 | T24: =SUM(N24-Q24) -> 0
B25: 2014 | D25: 19 | E25: 139.475 | G25: 0 | H25: 0 | J25: 0 | K25: 0 | M25: =SUM(D25+G25+J25) -> 19 | N25: =SUM(E25+H25+K25) -> 139.475 | P25: 19 | Q25: 139.475 | S25: =SUM(M25-P25) -> 0 | T25: =SUM(N25-Q25) -> 0
B26: 2015 | D26: 17 | E26: 109.97 | G26: 0 | H26: 0 | J26: 0 | K26: 0 | M26: =SUM(D26+G26+J26) -> 17 | N26: =SUM(E26+H26+K26) -> 109.97 | P26: 16 | Q26: 104.51 | S26: =SUM(M26-P26) -> 1 | T26: =SUM(N26-Q26) -> 5.46
B27: 2016 | D27: 26 | E27: 208.37 | G27: 1 | H27: 8.96 | J27: 0 | K27: 0 | M27: =SUM(D27+G27+J27) -> 27 | N27: =SUM(E27+H27+K27) -> 217.33 | P27: 26 | Q27: 211.39 | S27: =SUM(M27-P27) -> 1 | T27: =SUM(N27-Q27) -> 5.94
B28: 2017 | D28: 11 | E28: 117.53 | G28: 0 | H28: 0 | J28: 0 | K28: 0 | M28: =SUM(D28+G28+J28) -> 11 | N28: =SUM(E28+H28+K28) -> 117.53 | P28: 11 | Q28: 117.53 | S28: =SUM(M28-P28) -> 0 | T28: =SUM(N28-Q28) -> 0
B29: 2018 | D29: 10 | E29: 80.5 | G29: 0 | H29: 0 | J29: 0 | K29: 0 | M29: =SUM(D29+G29+J29) -> 10 | N29: =SUM(E29+H29+K29) -> 80.5 | P29: 10 | Q29: 80.5 | S29: =SUM(M29-P29) -> 0 | T29: =SUM(N29-Q29) -> 0
... B31: 2020 | D31: 5 | E31: 46.65 | G31: 0 | H31: 0 | J31: 0 | K31: 0 | M31: =SUM(D31+G31+J31) -> 5 | N31: =SUM(E31+H31+K31) -> 46.65 | P31: 5 | Q31: 46.65 | S31: =SUM(M31-P31) -> 0 | T31: =SUM(N31-Q31) -> 0
D33: Note (2): | E33: Projects that have requested decertification by the customer or PJM Gats that have not yet reached the end of their SREC qualification life.
B35: SRP Decertified Total | D35: =SUM(D8:D31) -> 380 | E35: =SUM(E8:E31) -> 2816.554 | G35: =SUM(G8:G31) -> 74 | H35: =SUM(H8:H31) -> 13400.539 | J35: =SUM(J8:J31) -> 0 | K35: =SUM(K8:K31) -> 0 | M35: =SUM(M8:M31) -> 454 | N35: =SUM(N8:N31) -> 16217.093 | P35: =SUM(P8:P31) -> 446 | Q35: =SUM(Q8:Q31) -> 15658.103 | S35: =SUM(M35-P35) -> 8 | T35: =SUM(N35-Q35) -> 558.99
B38: TI Decertified Projects (2020 - 2022) as of | I38: =I1 -> 46265
B40: 2020 | D40: 1 | E40: 9.92 | G40: 0 | H40: 0 | J40: 0 | K40: 0 | M40: =SUM(D40+G40+J40) -> 1 | N40: =SUM(E40+H40+K40) -> 9.92 | P40: 1 | Q40: 9.92 | S40: =SUM(M40-P40) -> 0 | T40: =SUM(N40-Q40) -> 0
B41: 2021 | D41: 2 | E41: 24.51 | G41: 0 | H41: 0 | J41: 0 | K41: 0 | M41: =SUM(D41+G41+J41) -> 2 | N41: =SUM(E41+H41+K41) -> 24.51 | P41: 2 | Q41: 24.51 | S41: =SUM(M41-P41) -> 0 | T41: =SUM(N41-Q41) -> 0
B42: 2022 | D42: 1 | E42: 10.05 | G42: 0 | H42: 0 | J42: 0 | K42: 0 | M42: =SUM(D42+G42+J42) -> 1 | N42: =SUM(E42+H42+K42) -> 10.05 | P42: 1 | Q42: 10.05 | S42: =SUM(M42-P42) -> 0 | T42: =SUM(N42-Q42) -> 0
D44: Note (3): | E44: Projects that have requested decertification prior to reaching the end of their TREC qualification life.
B46: TI Decertified Total | D46: =SUM(D40:D42) -> 4 | E46: =SUM(E40:E42) -> 44.48 | G46: =SUM(G40:G42) -> 0 | H46: =SUM(H40:H42) -> 0 | J46: =SUM(J40:J42) -> 0 | K46: =SUM(K40:K42) -> 0 | M46: =SUM(M40:M42) -> 4 | N46: =SUM(N40:N42) -> 44.48 | P46: =SUM(P40:P42) -> 4 | Q46: =SUM(Q40:Q42) -> 44.48 | S46: =SUM(M46-P46) -> 0 | T46: =SUM(N46-Q46) -> 0
B48: ADI Decertified Projects (2023) as of | I48: =I1 -> 46265
B50: 2022 | D50: 1 | E50: 3.9 | G50: 0 | H50: 0 | J50: 0 | K50: 0 | M50: =SUM(D50+G50+J50) -> 1 | N50: =SUM(E50+H50+K50) -> 3.9 | P50: 1 | Q50: 3.9 | S50: =SUM(M50-P50) -> 0 | T50: =SUM(N50-Q50) -> 0
B51: 2023 | D51: 3 | E51: 21.02 | G51: 0 | H51: 0 | J51: 0 | K51: 0 | M51: =SUM(D51+G51+J51) -> 3 | N51: =SUM(E51+H51+K51) -> 21.02 | P51: 3 | Q51: 21.02 | S51: =SUM(M51-P51) -> 0 | T51: =SUM(N51-Q51) -> 0
B53: ADI Decertified Total | D53: =SUM(D50:D51) -> 4 | E53: =SUM(E50:E51) -> 24.92 | G53: =SUM(G50:G51) -> 0 | H53: =SUM(H50:H51) -> 0 | J53: =SUM(J50:J51) -> 0 | K53: =SUM(K50:K51) -> 0 | M53: =SUM(M50:M51) -> 4 | N53: =SUM(N50:N51) -> 24.92 | P53: =SUM(P50:P51) -> 4 | Q53: =SUM(Q50:Q51) -> 24.92 | S53: =SUM(M53-P53) -> 0 | T53: =SUM(N53-Q53) -> 0
B55: SRP, TI & ADI Decertified Program Totals | D55: =SUM(D35+D46+D53) -> 388 | E55: =SUM(E35+E46+E53) -> 2885.954 | G55: =SUM(G35+G46+G53) -> 74 | H55: =SUM(H35+H46+H53) -> 13400.539 | J55: =SUM(J35+J46+J53) -> 0 | K55: =SUM(K35+K46+K53) -> 0 | M55: =SUM(M35+M46+M53) -> 462 | N55: =SUM(N35+N46+N53) -> 16286.493 | P55: =SUM(P35+P46+P53) -> 454 | Q55: =SUM(Q35+Q46+Q53) -> 15727.503 | S55: =SUM(S35+S46+S53) -> 8 | T55: =SUM(T35+T46+T53) -> 558.99

Sheet Interconnection & Customer Type
A1: New Jersey Solar Installations as of | C1: ='Annual Capacity'!M1 -> 46265
A2: by Interconnection Type
A4: Interconnection Type | B4: # Projects | C4: Installed Capacity (kW) | D4: % of Installed Capacity
A5: Behind the Meter | B5: =SUM('Annual Capacity'!D112+'Annual Capacity'!M112) -> 245485 | C5: =SUM('Annual Capacity'!E112+'Annual Capacity'!N112) -> 4514657.5 | D5: =C5/$C$9 -> 0.7888328
A6: Remote Net Metering | B6: ='Annual Capacity'!P112 -> 2 | C6: ='Annual Capacity'!Q112 -> 1111.55 | D6: =C6/$C$9 -> 0.00019421785
A7: Grid Supply | B7: ='Annual Capacity'!S112 -> 198 | C7: ='Annual Capacity'!T112 -> 891399.36 | D7: =C7/$C$9 -> 0.15575158
A8: Community Solar | B8: ='Annual Capacity'!V112 -> 235 | C8: ='Annual Capacity'!W112 -> 316043.82 | D8: =C8/$C$9 -> 0.055221405
A9: Total | B9: =SUM(B5:B8) -> 245920 | C9: =SUM(C5:C8) -> 5723212.2 | D9: =SUM(D5:D8) -> 1
A11: BEHIND THE METER Project Installations
B13: SRP Program | F13: TI Program | J13: ADI Program | M13: SRP, TI & ADI Program
A14: Customer Type | B14: # Projects | C14: Installed Capacity (kW) | D14: % of Installed Capacity | F14: # Projects | G14: Installed Capacity (kW) | H14: % of Installed Capacity | J14: # Projects | K14: Installed Capacity (kW) | L14: % of Installed Capacity | M14: # Projects | N14: Installed Capacity (kW) | O14: % of Installed Capacity
A15: Commercial | B15: 4968 | C15: 1203969.1 | D15: =C15/$C$27 -> 0.45942195 | F15: 1199 | G15: 361692.14 | H15: =G15/$G$27 -> 0.47713766 | J15: 1086 | K15: 228772.98 | L15: =K15/$K$27 -> 0.20138562 | M15: =SUM(B15+F15+J15) -> 7253 | N15: =SUM(C15+G15+K15) -> 1794434.2 | O15: =N15/$N$27 -> 0.39746851
A16: Farm | B16: 187 | C16: 9919.031 | D16: =C16/$C$27 -> 0.003784998 | F16: 13 | G16: 988.69 | H16: =G16/$G$27 -> 0.0013042618 | J16: 29 | K16: 1374.01 | L16: =K16/$K$27 -> 0.0012095216 | M16: =SUM(B16+F16+J16) -> 229 | N16: =SUM(C16+G16+K16) -> 12281.731 | O16: =N16/$N$27 -> 0.0027204126
A17: Government | B17: 100 | C17: 29250.197 | D17: =C17/$C$27 -> 0.011161568 | F17: 48 | G17: 47196.89 | H17: =G17/$G$27 -> 0.062261275 | J17: 11 | K17: 6128.77 | L17: =K17/$K$27 -> 0.0053950696 | M17: =SUM(B17+F17+J17) -> 159 | N17: =SUM(C17+G17+K17) -> 82575.857 | O17: =N17/$N$27 -> 0.018290614
A18: Municipality | B18: 274 | C18: 56241.113 | D18: =C18/$C$27 -> 0.021461018 | F18: 17 | G18: 21858.81 | H18: =G18/$G$27 -> 0.028835743 | J18: 44 | K18: 11623.78 | L18: =K18/$K$27 -> 0.010232249 | M18: =SUM(B18+F18+J18) -> 335 | N18: =SUM(C18+G18+K18) -> 89723.703 | O18: =N18/$N$27 -> 0.019873867
A19: Non Profit | B19: 703 | C19: 54027.419 | D19: =C19/$C$27 -> 0.020616295 | F19: 99 | G19: 8786.74 | H19: =G19/$G$27 -> 0.011591307 | J19: 99 | K19: 11187.395 | L19: =K19/$K$27 -> 0.0098481057 | M19: =SUM(B19+F19+J19) -> 901 | N19: =SUM(C19+G19+K19) -> 74001.554 | O19: =N19/$N$27 -> 0.016391399
A20: Private University | B20: 13 | C20: 1229.587 | D20: =C20/$C$27 -> 0.00046919748 | F20: 7 | G20: 14748.65 | H20: =G20/$G$27 -> 0.01945615 | L20: =K20/$K$27 -> 0 | M20: =SUM(B20+F20+J20) -> 20 | N20: =SUM(C20+G20+K20) -> 15978.237 | O20: =N20/$N$27 -> 0.0035391914
A21: Public University | B21: 52 | C21: 28850.493 | D21: =C21/$C$27 -> 0.011009045 | F21: 19 | G21: 20006 | H21: =G21/$G$27 -> 0.02639155 | J21: 6 | K21: 2912.81 | L21: =K21/$K$27 -> 0.0025641055 | M21: =SUM(B21+F21+J21) -> 77 | N21: =SUM(C21+G21+K21) -> 51769.303 | O21: =N21/$N$27 -> 0.011466939
A22: Residential | B22: 122170 | C22: 1023419.2 | D22: =C22/$C$27 -> 0.39052603 | F22: 23276 | G22: 209285.02 | H22: =G22/$G$27 -> 0.27608498 | J22: 89905 | K22: 828926.34 | L22: =K22/$K$27 -> 0.72969214 | M22: =SUM(B22+F22+J22) -> 235351 | N22: =SUM(C22+G22+K22) -> 2061630.6 | O22: =N22/$N$27 -> 0.45665272
A23: School Charter | B23: 1 | C23: 209.3 | D23: =C23/$C$27 -> 7.9866681e-05 | F23: 1 | G23: 139.84 | H23: =G23/$G$27 -> 0.00018447437 | J23: 3 | K23: 772.65 | L23: =K23/$K$27 -> 0.00068015288 | M23: =SUM(B23+F23+J23) -> 5 | N23: =SUM(C23+G23+K23) -> 1121.79 | O23: =N23/$N$27 -> 0.00024847732
A24: School Other | B24: 116 | C24: 37475.487 | D24: =C24/$C$27 -> 0.014300252 | F24: 23 | G24: 8322.16 | H24: =G24/$G$27 -> 0.010978441 | J24: 20 | K24: 9016.855 | L24: =K24/$K$27 -> 0.00793741 | M24: =SUM(B24+F24+J24) -> 159 | N24: =SUM(C24+G24+K24) -> 54814.502 | O24: =N24/$N$27 -> 0.012141453
A25: School Public K-12 | B25: 629 | C25: 174502.91 | D25: =C25/$C$27 -> 0.066588477 | F25: 193 | G25: 65020.73 | H25: =G25/$G$27 -> 0.085774159 | J25: 115 | K25: 35279.02 | L25: =K25/$K$27 -> 0.031055623 | M25: =SUM(B25+F25+J25) -> 937 | N25: =SUM(C25+G25+K25) -> 274802.66 | O25: =N25/$N$27 -> 0.060868994
A26: Sunlit | B26: 59 | C26: 1523.361 | D26: =C26/$C$27 -> 0.00058129855 | F26: 0 | G26: 0 | H26: =G26/$G$27 -> 0 | J26: 0 | K26: 0 | L26: =K26/$K$27 -> 0 | M26: =SUM(B26+F26+J26) -> 59 | N26: =SUM(C26+G26+K26) -> 1523.361 | O26: =N26/$N$27 -> 0.0003374256
A27: Total | B27: =SUM(B15:B26) -> 129272 | C27: =SUM(C15:C26) -> 2620617.2 | D27: =SUM(D15:D26) -> 1 | F27: =SUM(F15:F26) -> 24895 | G27: =SUM(G15:G26) -> 758045.67 | H27: =SUM(H15:H26) -> 1 | J27: =SUM(J15:J26) -> 91318 | K27: =SUM(K15:K26) -> 1135994.6 | L27: =SUM(L15:L26) -> 1 | M27: =SUM(M15:M26) -> 245485 | N27: =SUM(N15:N26) -> 4514657.5 | O27: =SUM(O15:O26) -> 1
A29: COMMUNITY SOLAR Installations by Customer Type
B31: TI Program (Community Solar) | F31: ADI Program (CSEP) | J31: TI (CS) & ADI (CSEP) Programs
A32: Customer Type | B32: # Projects | C32: Installed Capacity (kW) | D32: % of Installed Capacity | F32: # Projects | G32: Installed Capacity (kW) | H32: % of Installed Capacity | J32: # Projects | K32: Installed Capacity (kW) | L32: % of Installed Capacity
A33: Commercial | B33: ='Annual Capacity'!V60 -> 92 | C33: ='Annual Capacity'!W60 -> 144082.56 | D33: =C33/$C$34 -> 1 | F33: ='Annual Capacity'!V76 -> 143 | G33: ='Annual Capacity'!W76 -> 171961.26 | H33: =G33/$G$34 -> 1 | J33: =SUM(B33+F33) -> 235 | K33: =SUM(C33+G33) -> 316043.82 | L33: =K33/$K$34 -> 1
A34: Total | B34: =SUM(B33:B33) -> 92 | C34: =SUM(C33:C33) -> 144082.56 | D34: =SUM(D33:D33) -> 1 | F34: =SUM(F33:F33) -> 143 | G34: =SUM(G33:G33) -> 171961.26 | H34: =SUM(H33:H33) -> 1 | J34: =SUM(J33:J33) -> 235 | K34: =SUM(K33:K33) -> 316043.82 | L34: =SUM(L33:L33) -> 1
A36: REMOTE NET METERING Installations by Customer Type
B38: ADI Program (RNM)
A39: Customer Type | B39: # Projects | C39: Installed Capacity (kW) | D39: % of Installed Capacity
A40: Municipality | B40: ='Annual Capacity'!P76 -> 2 | C40: ='Annual Capacity'!Q76 -> 1111.55 | D40: =C40/$C$41 -> 1
A41: Total | B41: =B40 -> 2 | C41: =C40 -> 1111.55 | D41: =SUM(D40:D40) -> 1
A43: GRID SUPPLY Project Installations | F43: ='Annual Capacity'!AB2 -> Previously Reported through 07/31/2026 | H43: ='Annual Capacity'!AE2 -> Difference between 07/31/2026 and 08/31/2026
A45: SRP Program
A46: Description (by Subsection) | B46: Project Qty | C46: Installed Capacity (kW) | D46: % of Installed Capacity | F46: Total Qty | G46: Total Capacity (kW) | H46: Total Qty | J46: Total Capacity (kW)
A47: EDC | B47: 80 | C47: 80859.649 | D47: =C47/$C$53 -> 0.11313069 | F47: 80 | G47: 80859.649 | H47: =B47-F47 -> 0 | J47: =C47-G47 -> 0
A48: Subsection q | B48: 31 | C48: 194412.08 | D48: =C48/$C$53 -> 0.27200183 | F48: 31 | G48: 194412.08 | H48: =B48-F48 -> 0 | J48: =C48-G48 -> 0
A49: Subsection r | B49: 2 | C49: 42956.33 | D49: =C49/$C$53 -> 0.060100177 | F49: 2 | G49: 42956.33 | H49: =B49-F49 -> 0 | J49: =C49-G49 -> 0
...

Sheet TPO Summary
A1: New Jersey Solar Installations as of | G1: ='Annual Capacity'!M1 -> 46265
A2: BEHIND THE METER Project Installations
A3: Summary of Third Party Ownership (TPO)
E5: SRP Program | I5: TI Program | M5: ADI Program | Q5: SRP, TI & ADI Programs
E6: ALL Customer Types | I6: ALL Customer Types | M6: ALL Customer Types | Q6: ALL Customer Types
A7: TPO Code | B7: Description | E7: Project Qty | F7: Total Capacity (kW) | G7: Percent of Capacity | I7: Project Qty | J7: Total Capacity (kW) | K7: Percent of Capacity | M7: Project Qty | N7: Total Capacity (kW) | O7: Percent of Capacity | Q7: Project Qty | R7: Total Capacity (kW) | S7: Percent of Capacity
A9: No | B9: Did Not use TPO | E9: 36434 | F9: 986596.13 | G9: =F9/$F$11 -> 0.37647472 | I9: 24801 | J9: 748406.57 | K9: =J9/$J$11 -> 0.98728428 | M9: 33555 | N9: 476420.33 | O9: =N9/N11 -> 0.41938608 | Q9: =SUM(E9+I9+M9) -> 94790 | R9: =SUM(F9+J9+N9) -> 2211423 | S9: =R9/$R$11 -> 0.48983185
A10: Yes | B10: Used TPO | E10: 92838 | F10: 1634021.1 | G10: =F10/$F$11 -> 0.62352528 | I10: 94 | J10: 9639.1 | K10: =J10/$J$11 -> 0.012715725 | M10: 57763 | N10: 659574.28 | O10: =N10/N11 -> 0.58061392 | Q10: =SUM(E10+I10+M10) -> 150695 | R10: =SUM(F10+J10+N10) -> 2303234.5 | S10: =R10/$R$11 -> 0.51016815
A11: Totals | E11: =SUM(E9:E10) -> 129272 | F11: =SUM(F9:F10) -> 2620617.2 | G11: =SUM(G9:G10) -> 1 | I11: =SUM(I9:I10) -> 24895 | J11: =SUM(J9:J10) -> 758045.67 | K11: =SUM(K9:K10) -> 1 | M11: =SUM(M9:M10) -> 91318 | N11: =SUM(N9:N10) -> 1135994.6 | O11: =SUM(O9:O10) -> 1 | Q11: =SUM(Q9:Q10) -> 245485 | R11: =SUM(R9:R10) -> 4514657.5 | S11: =SUM(S9:S10) -> 1
E14: RESIDENTIAL Only | I14: RESIDENTIAL Only | M14: RESIDENTIAL Only | Q14: RESIDENTIAL Only
A15: TPO Code | B15: Description | E15: Project Qty | F15: Total Capacity (kW) | G15: Percent of Capacity | I15: Project Qty | J15: Total Capacity (kW) | K15: Percent of Capacity | M15: Project Qty | N15: Total Capacity (kW) | O15: Percent of Capacity | Q15: Project Qty | R15: Total Capacity (kW) | S15: Percent of Capacity
A16: No | B16: Did Not use TPO | E16: 31976 | F16: 287683.51 | G16: =F16/F18 -> 0.28110035 | I16: 23207 | J16: 208589.46 | K16: =J16/$J$18 -> 0.99667649 | M16: 32551 | N16: 330135.09 | O16: =N16/N18 -> 0.3982683 | Q16: =SUM(E16+I16+M16) -> 87734 | R16: =SUM(F16+J16+N16) -> 826408.06 | S16: =R16/$R$18 -> 0.40085166
A17: Yes | B17: Used TPO | E17: 90194 | F17: 735735.74 | G17: =F17/F18 -> 0.71889965 | I17: 69 | J17: 695.56 | K17: =J17/$J$18 -> 0.0033235059 | M17: 57354 | N17: 498791.25 | O17: =N17/N18 -> 0.6017317 | Q17: =SUM(E17+I17+M17) -> 147617 | R17: =SUM(F17+J17+N17) -> 1235222.6 | S17: =R17/$R$18 -> 0.59914834
A18: Totals | E18: =SUM(E16:E17) -> 122170 | F18: =SUM(F16:F17) -> 1023419.2 | G18: =SUM(G16:G17) -> 1 | I18: =SUM(I16:I17) -> 23276 | J18: =SUM(J16:J17) -> 209285.02 | K18: =SUM(K16:K17) -> 1 | M18: =SUM(M16:M17) -> 89905 | N18: =SUM(N16:N17) -> 828926.34 | O18: =SUM(O16:O17) -> 1 | Q18: =SUM(Q16:Q17) -> 235351 | R18: =SUM(R16:R17) -> 2061630.6 | S18: =SUM(S16:S17) -> 1
A21: Note: The above tables provide a summary of responses regarding the use of Third Party Ownership (TPO) as reported by the registrant for all behind the meter installations.

Sheet Project Type & Market Segment
A1: TI Solar Installations by Project Type as of | C1: ='Annual Capacity'!M1 -> 46265
A3: Project Type | C3: Factor | D3: # Projects | E3: Installed Capacity (kW) | F3: % of Installed Capacity
A4: Community Solar | C4: 0.85 | D4: 92 | E4: 144082.56 | F4: =E4/$E$13 -> 0.13640671
A5: Floating Solar | C5: 0.6 | D5: 2 | E5: 12220 | F5: =E5/$E$13 -> 0.011568992
A6: Grid supply (subsection (r)) ground mount | C6: 0.6 | D6: 0 | E6: 0 | F6: =E6/$E$13 -> 0
A7: Grid supply (subsection (r)) rooftop | C7: 1 | D7: 1 | E7: 4779 | F7: =E7/$E$13 -> 0.0045244036
A8: Net-metered non-residential ground mount | C8: 0.6 | D8: 37 | E8: 32464.2 | F8: =E8/$E$13 -> 0.030734702
A9: Net-metered non-residential rooftop and canopy | C9: 1 | D9: 1587 | E9: 489312.16 | F9: =E9/$E$13 -> 0.46324455
A10: Net-metered residential ground mount | C10: 0.6 | D10: 268 | E10: 4090.15 | F10: =E10/$E$13 -> 0.0038722514
A11: Net-metered residential rooftop and canopy | C11: 0.6 | D11: 23000 | E11: 204967.81 | F11: =E11/$E$13 -> 0.19404836 | J11: =SUM(A11+C11) -> #VALUE!
A12: Subsection (t): landfill, brownfield, areas of historic fill | C12: 1 | D12: 16 | E12: 164355.94 | F12: =E12/$E$13 -> 0.15560004
D13: =SUM(D4:D12) -> 25003 | E13: =SUM(E4:E12) -> 1056271.8 | F13: =SUM(F4:F12) -> 1
A16: ADI Project Installations by Market Segment
B18: ADI Program
