Workbook
Name As_of: #REF!
Name As_of: #REF!
Name As_of: #REF!
Name bpuapp_id_lookup: #REF!
Name bpuapp_id_lookup: #REF!
Name bpuapp_id_lookup: #REF!
Name County_Lookup: #REF!
Name County_Lookup: #REF!
Name County_Lookup: #REF!
Name Zip_Correction: #REF!
Name Zip_Correction: #REF!
Name Zip_Correction: #REF!

Sheet Annual Capacity
G1: New Jersey Solar Installations Report as of | M1: 46265 | N1: (Annual Capacity)
B2: SREC Registration Program (SRP), Transition Incentive Program (TI), Administratively Determined Incentive Program (ADI), and Competitive Solar Incentive Program (CSI) | AB2: Previously Reported through 07/31/2026 | AE2: Difference between 07/31/2026 and 08/31/2026
D4: Residential (kW) | G4: Non-Residential | I4: Non-Residential | K4: Non-Residential | M4: Non-Residential | P4: Remote Net Metering (kW) (ADI ONLY) | S4: Grid Supply (kW) | V4: Community Solar (kW) | Y4: Total of All Projects as of 08/31/2026 (kW)
G5: < = 100 (kW) | I5: > 100 to < 1000 (kW) | K5: > = 1000 (kW) | M5: Total (kW) | AB5: Total Qty | AC5: Total Capacity (kW) | AE5: Total Qty | AF5: Total Capacity (kW)
A6: 40909 | D6: Qty | E6: Capacity | G6: Qty | H6: Capacity | I6: Qty | J6: Capacity | K6: Qty | L6: Capacity | M6: Qty | N6: Capacity | P6: Qty | Q6: Capacity | S6: Qty | T6: Capacity | V6: Qty | W6: Capacity | Y6: Total Qty | Z6: Total Capacity
B8: Annual Totals in Aggregate
B9: SRP Program
B10: 2000-2009 | D10: =SUM(D11:D20) -> 3964 | E10: =SUM(E11:E20) -> 28763.445 | G10: =SUM(G11:G20) -> 760 | H10: =SUM(H11:H20) -> 16705.994 | I10: =SUM(I11:I20) -> 214 | J10: =SUM(J11:J20) -> 62221.445 | K10: =SUM(K11:K20) -> 13 | L10: =SUM(L11:L20) -> 21432.85 | M10: =SUM(G10+I10+K10) -> 987 | N10: =SUM(H10+J10+L10) -> 100360.29 | S10: =SUM(S11:S20) -> 5 | T10: =SUM(T11:T20) -> 3370.56 | Y10: =SUM(Y11:Y20) -> 4956 | Z10: =SUM(Z11:Z20) -> 132494.29 | AB10: =SUM(AB11:AB20) -> 4956 | AC10: =SUM(AC11:AC20) -> 132494.29 | AE10: =Y10-AB10 -> 0 | AF10: =Z10-AC10 -> 0
B11: 2000 | D11: 4 | E11: 11.85 | G11: 2 | H11: 11.04 | I11: 0 | J11: 0 | K11: 0 | L11: 0 | M11: =SUM(G11+I11+K11) -> 2 | N11: =SUM(H11+J11+L11) -> 11.04 | S11: 0 | T11: 0 | Y11: =SUM(D11+M11+S11+V11) -> 6 | Z11: =SUM(E11+N11+T11+W11) -> 22.89 | AB11: 6 | AC11: 22.89 | AE11: =Y11-AB11 -> 0 | AF11: =Z11-AC11 -> 0
B12: 2001 | D12: 2 | E12: 5.25 | G12: 0 | H12: 0 | I12: 0 | J12: 0 | K12: 0 | L12: 0 | M12: =SUM(G12+I12+K12) -> 0 | N12: =SUM(H12+J12+L12) -> 0 | S12: 0 | T12: 0 | Y12: =SUM(D12+M12+S12+V12) -> 2 | Z12: =SUM(E12+N12+T12+W12) -> 5.25 | AB12: 2 | AC12: 5.25 | AE12: =Y12-AB12 -> 0 | AF12: =Z12-AC12 -> 0
B13: 2002 | D13: 25 | E13: 72.82 | G13: 9 | H13: 324 | I13: 1 | J13: 262.14 | K13: 0 | L13: 0 | M13: =SUM(G13+I13+K13) -> 10 | N13: =SUM(H13+J13+L13) -> 586.14 | S13: 0 | T13: 0 | Y13: =SUM(D13+M13+S13+V13) -> 35 | Z13: =SUM(E13+N13+T13+W13) -> 658.96 | AB13: 35 | AC13: 658.96 | AE13: =Y13-AB13 -> 0 | AF13: =Z13-AC13 -> 0
B14: 2003 | D14: 65 | E14: 364.932 | G14: 17 | H14: 281.9 | I14: 1 | J14: 479.8 | K14: 0 | L14: 0 | M14: =SUM(G14+I14+K14) -> 18 | N14: =SUM(H14+J14+L14) -> 761.7 | S14: 0 | T14: 0 | Y14: =SUM(D14+M14+S14+V14) -> 83 | Z14: =SUM(E14+N14+T14+W14) -> 1126.632 | AB14: 83 | AC14: 1126.632 | AE14: =Y14-AB14 -> 0 | AF14: =Z14-AC14 -> 0
B15: 2004 | D15: 253 | E15: 1529.898 | G15: 42 | H15: 382.006 | I15: 2 | J15: 623.385 | K15: 0 | L15: 0 | M15: =SUM(G15+I15+K15) -> 44 | N15: =SUM(H15+J15+L15) -> 1005.391 | S15: 0 | T15: 0 | Y15: =SUM(D15+M15+S15+V15) -> 297 | Z15: =SUM(E15+N15+T15+W15) -> 2535.289 | AB15: 297 | AC15: 2535.289 | AE15: =Y15-AB15 -> 0 | AF15: =Z15-AC15 -> 0
B16: 2005 | D16: 625 | E16: 4621.869 | G16: 78 | H16: 1029.883 | I16: 16 | J16: 3923.08 | K16: 0 | L16: 0 | M16: =SUM(G16+I16+K16) -> 94 | N16: =SUM(H16+J16+L16) -> 4952.963 | S16: 0 | T16: 0 | Y16: =SUM(D16+M16+S16+V16) -> 719 | Z16: =SUM(E16+N16+T16+W16) -> 9574.832 | AB16: 719 | AC16: 9574.832 | AE16: =Y16-AB16 -> 0 | AF16: =Z16-AC16 -> 0
B17: 2006 | D17: 747 | E17: 5335.471 | G17: 105 | H17: 1881.529 | I17: 36 | J17: 11097.32 | K17: 0 | L17: 0 | M17: =SUM(G17+I17+K17) -> 141 | N17: =SUM(H17+J17+L17) -> 12978.849 | S17: 0 | T17: 0 | Y17: =SUM(D17+M17+S17+V17) -> 888 | Z17: =SUM(E17+N17+T17+W17) -> 18314.32 | AB17: 888 | AC17: 18314.32 | AE17: =Y17-AB17 -> 0 | AF17: =Z17-AC17 -> 0
B18: 2007 | D18: 527 | E18: 3821.751 | G18: 95 | H18: 2123.446 | I18: 26 | J18: 8352.908 | K18: 0 | L18: 0 | M18: =SUM(G18+I18+K18) -> 121 | N18: =SUM(H18+J18+L18) -> 10476.354 | S18: 0 | T18: 0 | Y18: =SUM(D18+M18+S18+V18) -> 648 | Z18: =SUM(E18+N18+T18+W18) -> 14298.105 | AB18: 648 | AC18: 14298.105 | AE18: =Y18-AB18 -> 0 | AF18: =Z18-AC18 -> 0
B19: 2008 | D19: 656 | E19: 4962.365 | G19: 170 | H19: 3874.197 | I19: 44 | J19: 13247.054 | K19: 4 | L19: 6134.26 | M19: =SUM(G19+I19+K19) -> 218 | N19: =SUM(H19+J19+L19) -> 23255.511 | S19: 0 | T19: 0 | Y19: =SUM(D19+M19+S19+V19) -> 874 | Z19: =SUM(E19+N19+T19+W19) -> 28217.876 | AB19: 874 | AC19: 28217.876 | AE19: =Y19-AB19 -> 0 | AF19: =Z19-AC19 -> 0
B20: 2009 | D20: 1060 | E20: 8037.239 | G20: 242 | H20: 6797.993 | I20: 88 | J20: 24235.758 | K20: 9 | L20: 15298.59 | M20: =SUM(G20+I20+K20) -> 339 | N20: =SUM(H20+J20+L20) -> 46332.341 | S20: 5 | T20: 3370.56 | Y20: =SUM(D20+M20+S20+V20) -> 1404 | Z20: =SUM(E20+N20+T20+W20) -> 57740.14 | AB20: 1404 | AC20: 57740.14 | AE20: =Y20-AB20 -> 0 | AF20: =Z20-AC20 -> 0
B21: 2010-2019 | D21: =SUM(D22:D31) -> 111708 | E21: =SUM(E22:E31) -> 935185.15 | G21: =SUM(G22:G31) -> 3511 | H21: =SUM(H22:H31) -> 120027.46 | I21: =SUM(I22:I31) -> 2157 | J21: =SUM(J22:J31) -> 700866.53 | K21: =SUM(K22:K31) -> 258 | L21: =SUM(L22:L31) -> 640240.14 | M21: =SUM(G21+I21+K21) -> 5926 | N21: =SUM(H21+J21+L21) -> 1461134.1 | S21: =SUM(S22:S31) -> 168 | T21: =SUM(T22:T31) -> 665806.67 | Y21: =SUM(Y22:Y31) -> 117802 | Z21: =SUM(Z22:Z31) -> 3062125.9 | AB21: =SUM(AB22:AB31) -> 117802 | AC21: =SUM(AC22:AC31) -> 3062125.9 | AE21: =Y21-AB21 -> 0 | AF21: =Z21-AC21 -> 0.0049999999
B22: 2010 | D22: 2137 | E22: 16481.924 | G22: 380 | H22: 12768.402 | I22: 154 | J22: 45624.907 | K22: 12 | L22: 20986.6 | M22: =SUM(G22+I22+K22) -> 546 | N22: =SUM(H22+J22+L22) -> 79379.909 | S22: 19 | T22: 25187.34 | Y22: =SUM(D22+M22+S22+V22) -> 2702 | Z22: =SUM(E22+N22+T22+W22) -> 121049.17 | AB22: 2702 | AC22: 121049.17 | AE22: =Y22-AB22 -> 0 | AF22: =Z22-AC22 -> 0
B23: 2011 | D23: 5099 | E23: 40543.47 | G23: 829 | H23: 26655.921 | I23: 443 | J23: 135676.65 | K23: 50 | L23: 106495.59 | M23: =SUM(G23+I23+K23) -> 1322 | N23: =SUM(H23+J23+L23) -> 268828.16 | S23: 51 | T23: 137618.95 | Y23: =SUM(D23+M23+S23+V23) -> 6472 | Z23: =SUM(E23+N23+T23+W23) -> 446990.58 | AB23: 6472 | AC23: 446990.58 | AE23: =Y23-AB23 -> 0 | AF23: =Z23-AC23 -> 0
A24: 41640 | B24: 2012 | D24: 5290 | E24: 42090.541 | G24: 639 | H24: 22885.777 | I24: 425 | J24: 123615.47 | K24: 47 | L24: 87882.441 | M24: =SUM(G24+I24+K24) -> 1111 | N24: =SUM(H24+J24+L24) -> 234383.69 | S24: 23 | T24: 56793.804 | Y24: =SUM(D24+M24+S24+V24) -> 6424 | Z24: =SUM(E24+N24+T24+W24) -> 333268.04 | AB24: 6424 | AC24: 333268.04 | AE24: =Y24-AB24 -> 0 | AF24: =Z24-AC24 -> 0
B25: 2013 | D25: 5949 | E25: 46570.656 | G25: 281 | H25: 11453.664 | I25: 233 | J25: 74992.531 | K25: 26 | L25: 64412.16 | M25: =SUM(G25+I25+K25) -> 540 | N25: =SUM(H25+J25+L25) -> 150858.36 | S25: 18 | T25: 23162.1 | Y25: =SUM(D25+M25+S25+V25) -> 6507 | Z25: =SUM(E25+N25+T25+W25) -> 220591.11 | AB25: 6507 | AC25: 220591.11 | AE25: =Y25-AB25 -> 0 | AF25: =Z25-AC25 -> 0
B26: 2014 | D26: 6828 | E26: 54749.969 | G26: 117 | H26: 4343.174 | I26: 104 | J26: 36123.718 | K26: 10 | L26: 45163.02 | M26: =SUM(G26+I26+K26) -> 231 | N26: =SUM(H26+J26+L26) -> 85629.912 | S26: 8 | T26: 63370.64 | Y26: =SUM(D26+M26+S26+V26) -> 7067 | Z26: =SUM(E26+N26+T26+W26) -> 203750.52 | AB26: 7067 | AC26: 203750.52 | AE26: =Y26-AB26 -> 0 | AF26: =Z26-AC26 -> 0.005
A27: 42005 | B27: 2015 | D27: 12887 | E27: 101923.3 | G27: 110 | H27: 3689.21 | I27: 86 | J27: 27254.1 | K27: 7 | L27: 21629.63 | M27: =SUM(G27+I27+K27) -> 203 | N27: =SUM(H27+J27+L27) -> 52572.94 | S27: 8 | T27: 41683.64 | Y27: =SUM(D27+M27+S27+V27) -> 13098 | Z27: =SUM(E27+N27+T27+W27) -> 196179.88 | AB27: 13098 | AC27: 196179.88 | AE27: =Y27-AB27 -> 0 | AF27: =Z27-AC27 -> 0
A28: 42370 | B28: 2016 | D28: 21914 | E28: 180291.02 | G28: 212 | H28: 6528.23 | I28: 123 | J28: 42752.5 | K28: 18 | L28: 42479.69 | M28: =SUM(G28+I28+K28) -> 353 | N28: =SUM(H28+J28+L28) -> 91760.42 | S28: 22 | T28: 136223.31 | Y28: =SUM(D28+M28+S28+V28) -> 22289 | Z28: =SUM(E28+N28+T28+W28) -> 408274.75 | AB28: 22289 | AC28: 408274.75 | AE28: =Y28-AB28 -> 0 | AF28: =Z28-AC28 -> 0
A29: 42736 | B29: 2017 | D29: 18558 | E29: 158905.11 | G29: 282 | H29: 9749.65 | I29: 174 | J29: 65123.59 | K29: 22 | L29: 57718.49 | M29: =SUM(G29+I29+K29) -> 478 | N29: =SUM(H29+J29+L29) -> 132591.73 | S29: 8 | T29: 60129.63 | Y29: =SUM(D29+M29+S29+V29) -> 19044 | Z29: =SUM(E29+N29+T29+W29) -> 351626.47 | AB29: 19044 | AC29: 351626.47 | AE29: =Y29-AB29 -> 0 | AF29: =Z29-AC29 -> 0
A30: 42736 | B30: 2018 | D30: 17183 | E30: 149469.46 | G30: 329 | H30: 10830.27 | I30: 203 | J30: 70258.75 | K30: 26 | L30: 56308.67 | M30: =SUM(G30+I30+K30) -> 558 | N30: =SUM(H30+J30+L30) -> 137397.69 | S30: 4 | T30: 43687.12 | Y30: =SUM(D30+M30+S30+V30) -> 17745 | Z30: =SUM(E30+N30+T30+W30) -> 330554.27 | AB30: 17745 | AC30: 330554.27 | AE30: =Y30-AB30 -> 0 | AF30: =Z30-AC30 -> 0
A31: 42736 | B31: 2019 | D31: 15863 | E31: 144159.69 | G31: 332 | H31: 11123.16 | I31: 212 | J31: 79444.31 | K31: 40 | L31: 137163.85 | M31: =SUM(G31+I31+K31) -> 584 | N31: =SUM(H31+J31+L31) -> 227731.32 | S31: 7 | T31: 77950.13 | Y31: =SUM(D31+M31+S31+V31) -> 16454 | Z31: =SUM(E31+N31+T31+W31) -> 449841.14 | AB31: 16454 | AC31: 449841.14 | AE31: =Y31-AB31 -> 0 | AF31: =Z31-AC31 -> 0
A32: 42736 | B32: 2020 | D32: 6482 | E32: 59364.28 | G32: 126 | H32: 3950.07 | I32: 57 | J32: 17747.1 | K32: 5 | L32: 13813.63 | M32: =SUM(G32+I32+K32) -> 188 | N32: =SUM(H32+J32+L32) -> 35510.8 | S32: 6 | T32: 45568.26 | Y32: =SUM(D32+M32+S32+V32) -> 6676 | Z32: =SUM(E32+N32+T32+W32) -> 140443.34 | AB32: 6676 | AC32: 140443.34 | AE32: =Y32-AB32 -> 0 | AF32: =Z32-AC32 -> 0
A33: 42736 | B33: 2021 | D33: 15 | E33: 101.19 | G33: 0 | H33: 0 | I33: 1 | J33: 192.76 | K33: 0 | L33: 0 | M33: =SUM(G33+I33+K33) -> 1 | N33: =SUM(H33+J33+L33) -> 192.76 | S33: 0 | T33: 0 | Y33: =SUM(D33+M33+S33+V33) -> 16 | Z33: =SUM(E33+N33+T33+W33) -> 293.95 | AB33: 16 | AC33: 293.95 | AE33: =Y33-AB33 -> 0 | AF33: =Z33-AC33 -> 0
A34: 42736 | B34: 2022 | D34: 1 | E34: 5.19 | G34: 0 | H34: 0 | I34: 0 | J34: 0 | K34: 0 | L34: 0 | M34: =SUM(G34+I34+K34) -> 0 | N34: =SUM(H34+J34+L34) -> 0 | S34: 0 | T34: 0 | Y34: =SUM(D34+M34+S34+V34) -> 1 | Z34: =SUM(E34+N34+T34+W34) -> 5.19 | AB34: 1 | AC34: 5.19 | AE34: =Y34-AB34 -> 0 | AF34: =Z34-AC34 -> 0
A35: 42736 | B35: 2023 | D35: 0 | E35: 0 | G35: 0 | H35: 0 | I35: 0 | J35: 0 | K35: 0 | L35: 0 | M35: =SUM(G35+I35+K35) -> 0 | N35: =SUM(H35+J35+L35) -> 0 | S35: 0 | T35: 0 | Y35: =SUM(D35+M35+S35+V35) -> 0 | Z35: =SUM(E35+N35+T35+W35) -> 0 | AB35: 0 | AC35: 0 | AE35: =Y35-AB35 -> 0 | AF35: =Z35-AC35 -> 0
A36: 42736 | B36: 2024 | D36: 0 | E36: 0 | G36: 0 | H36: 0 | I36: 0 | J36: 0 | K36: 0 | L36: 0 | M36: =SUM(G36+I36+K36) -> 0 | N36: =SUM(H36+J36+L36) -> 0 | S36: 0 | T36: 0 | Y36: =SUM(D36+M36+S36+V36) -> 0 | Z36: =SUM(E36+N36+T36+W36) -> 0 | AB36: 0 | AC36: 0 | AE36: =Y36-AB36 -> 0 | AF36: =Z36-AC36 -> 0
A37: 42736 | B37: 2025 | D37: 0 | E37: 0 | G37: 0 | H37: 0 | I37: 0 | J37: 0 | K37: 0 | L37: 0 | M37: =SUM(G37+I37+K37) -> 0 | N37: =SUM(H37+J37+L37) -> 0 | S37: 0 | T37: 0 | Y37: =SUM(D37+M37+S37+V37) -> 0 | Z37: =SUM(E37+N37+T37+W37) -> 0 | AB37: 0 | AC37: 0 | AE37: =Y37-AB37 -> 0 | AF37: =Z37-AC37 -> 0
A38: 42736 | B38: 2026 | D38: 0 | E38: 0 | G38: 0 | H38: 0 | I38: 0 | J38: 0 | K38: 0 | L38: 0 | M38: =SUM(G38+I38+K38) -> 0 | N38: =SUM(H38+J38+L38) -> 0 | S38: 0 | T38: 0 | Y38: =SUM(D38+M38+S38+V38) -> 0 | Z38: =SUM(E38+N38+T38+W38) -> 0 | AB38: 0 | AC38: 0 | AE38: =Y38-AB38 -> 0 | AF38: =Z38-AC38 -> 0
B40: SRP Total | D40: =SUM(D10+D21, D32:D38) -> 122170 | E40: =SUM(E10+E21, E32:E38) -> 1023419.2 | G40: =SUM(G10+G21, G32:G38) -> 4397 | H40: =SUM(H10+H21, H32:H38) -> 140683.52 | I40: =SUM(I10+I21, I32:I38) -> 2429 | J40: =SUM(J10+J21, J32:J38) -> 781027.83 | K40: =SUM(K10+K21, K32:K38) -> 276 | L40: =SUM(L10+L21, L32:L38) -> 675486.62 | M40: =SUM(M10+M21, M32:M38) -> 7102 | N40: =SUM(N10+N21, N32:N38) -> 1597198 | S40: =SUM(S10+S21, S32:S38) -> 179 | T40: =SUM(T10+T21, T32:T38) -> 714745.49 | Y40: =SUM(Y10+Y21, Y32:Y38) -> 129451 | Z40: =SUM(Z10+Z21, Z32:Z38) -> 3335362.7 | AB40: =SUM(AB10+AB21, AB32:AB38) -> 129451 | AC40: =SUM(AC10+AC21, AC32:AC38) -> 3335362.7 | AE40: =SUM(AE11:AE38) -> 0 | AF40: =SUM(AF11:AF38) -> 0.0099999999
D42: Note: The SRP Installation Data includes the decertified status - these projects were previously in the installation data as Complete, but now have been deactivated.
D43: project capacity on the decertified tab
B45: TI Program
B46: 2015-2019 | D46: =SUM(D47:D51) -> 118 | E46: =SUM(E47:E51) -> 1356.2 | G46: =SUM(G47:G51) -> 2 | H46: =SUM(H47:H51) -> 119.34 | I46: =SUM(I47:I51) -> 7 | J46: =SUM(J47:J51) -> 2918.39 | K46: =SUM(K47:K51) -> 0 | L46: =SUM(L47:L51) -> 0 | M46: =SUM(G46+I46+K46) -> 9 | N46: =SUM(H46+J46+L46) -> 3037.73 | S46: =SUM(S47:S51) -> 1 | T46: =SUM(T47:T51) -> 232.56 | Y46: =SUM(Y47:Y51) -> 128 | Z46: =SUM(Z47:Z51) -> 4626.49 | AB46: 128 | AC46: 4626.49 | AE46: =Y46-AB46 -> 0 | AF46: =Z46-AC46 -> 0
B47: 2015 | D47: 0 | E47: 0 | F47: 0 | G47: 0 | H47: 0 | I47: 0 | J47: 0 | K47: 0 | L47: 0 | M47: =SUM(G47+I47+K47) -> 0 | N47: =SUM(H47+J47+L47) -> 0 | S47: 0 | T47: 0 | V47: 0 | W47: 0 | Y47: =SUM(D47+M47+S47+V47) -> 0 | Z47: =SUM(E47+N47+T47+W47) -> 0 | AB47: 0 | AC47: 0 | AE47: =Y47-AB47 -> 0 | AF47: =Z47-AC47 -> 0
B48: 2016 | D48: 6 | E48: 45.16 | F48: 0 | G48: 0 | H48: 0 | I48: 0 | J48: 0 | K48: 0 | L48: 0 | M48: =SUM(G48+I48+K48) -> 0 | N48: =SUM(H48+J48+L48) -> 0 | S48: 0 | T48: 0 | V48: 0 | W48: 0 | Y48: =SUM(D48+M48+S48+V48) -> 6 | Z48: =SUM(E48+N48+T48+W48) -> 45.16 | AB48: 6 | AC48: 45.16 | AE48: =Y48-AB48 -> 0 | AF48: =Z48-AC48 -> 0
B49: 2017 | C49: 5 | D49: 5 | E49: 67.99 | F49: 0 | G49: 0 | H49: 0 | I49: 0 | J49: 0 | K49: 0 | L49: 0 | M49: =SUM(G49+I49+K49) -> 0 | N49: =SUM(H49+J49+L49) -> 0 | S49: 0 | T49: 0 | V49: 0 | W49: 0 | Y49: =SUM(D49+M49+S49+V49) -> 5 | Z49: =SUM(E49+N49+T49+W49) -> 67.99 | AB49: 5 | AC49: 67.99 | AE49: =Y49-AB49 -> 0 | AF49: =Z49-AC49 -> 0
B50: 2018 | D50: 72 | E50: 919.84 | F50: 0 | G50: 0 | H50: 0 | I50: 0 | J50: 0 | K50: 0 | L50: 0 | M50: =SUM(G50+I50+K50) -> 0 | N50: =SUM(H50+J50+L50) -> 0 | S50: 1 | T50: 232.56 | V50: 0 | W50: 0 | Y50: =SUM(D50+M50+S50+V50) -> 73 | Z50: =SUM(E50+N50+T50+W50) -> 1152.4 | AB50: 73 | AC50: 1152.4 | AE50: =Y50-AB50 -> 0 | AF50: =Z50-AC50 -> 0
B51: 2019 | D51: 35 | E51: 323.21 | F51: 0 | G51: 2 | H51: 119.34 | I51: 7 | J51: 2918.39 | K51: 0 | L51: 0 | M51: =SUM(G51+I51+K51) -> 9 | N51: =SUM(H51+J51+L51) -> 3037.73 | S51: 0 | T51: 0 | V51: 0 | W51: 0 | Y51: =SUM(D51+M51+S51+V51) -> 44 | Z51: =SUM(E51+N51+T51+W51) -> 3360.94 | AB51: 44 | AC51: 3360.94 | AE51: =Y51-AB51 -> 0 | AF51: =Z51-AC51 -> 0
B52: 2020 | D52: 7508 | E52: 64909.32 | G52: 158 | H52: 5244.3 | I52: 130 | J52: 49278.86 | K52: 17 | L52: 43007.12 | M52: =SUM(G52+I52+K52) -> 305 | N52: =SUM(H52+J52+L52) -> 97530.28 | S52: 4 | T52: 21016.08 | V52: 0 | W52: 0 | Y52: =SUM(D52+M52+S52+V52) -> 7817 | Z52: =SUM(E52+N52+T52+W52) -> 183455.68 | AB52: 7817 | AC52: 183455.68 | AE52: =Y52-AB52 -> 0 | AF52: =Z52-AC52 -> 0
A53: 42736 | B53: 2021 | D53: 13938 | E53: 126867.26 | G53: 259 | H53: 11265.2 | I53: 217 | J53: 69354.41 | K53: 23 | L53: 58031.1 | M53: =SUM(G53+I53+K53) -> 499 | N53: =SUM(H53+J53+L53) -> 138650.71 | S53: 3 | T53: 33581.07 | V53: 14 | W53: 31540.98 | Y53: =SUM(D53+M53+S53+V53) -> 14454 | Z53: =SUM(E53+N53+T53+W53) -> 330640.02 | AB53: 14454 | AC53: 330640.02 | AE53: =Y53-AB53 -> 0 | AF53: =Z53-AC53 -> 0
A54: 42736 | B54: 2022 | D54: 1712 | E54: 16152.24 | G54: 304 | H54: 13001.17 | I54: 373 | J54: 131877.48 | K54: 49 | L54: 106576.34 | M54: =SUM(G54+I54+K54) -> 726 | N54: =SUM(H54+J54+L54) -> 251454.99 | S54: 3 | T54: 19826.06 | V54: 7 | W54: 13082.14 | Y54: =SUM(D54+M54+S54+V54) -> 2448 | Z54: =SUM(E54+N54+T54+W54) -> 300515.43 | AB54: 2448 | AC54: 300515.43 | AE54: =Y54-AB54 -> 0 | AF54: =Z54-AC54 -> 0
A55: 42736 | B55: 2023 | D55: 0 | E55: 0 | G55: 7 | H55: 414.84 | I55: 61 | J55: 24437.29 | K55: 10 | L55: 16275.46 | M55: =SUM(G55+I55+K55) -> 78 | N55: =SUM(H55+J55+L55) -> 41127.59 | S55: 1 | T55: 25612.2 | V55: 66 | W55: 82862.61 | Y55: =SUM(D55+M55+S55+V55) -> 145 | Z55: =SUM(E55+N55+T55+W55) -> 149602.4 | AB55: 145 | AC55: 149602.4 | AE55: =Y55-AB55 -> 0 | AF55: =Z55-AC55 -> 0
A56: 42736 | B56: 2024 | D56: 0 | E56: 0 | G56: 0 | H56: 0 | I56: 0 | J56: 0 | K56: 1 | L56: 1968 | M56: =SUM(G56+I56+K56) -> 1 | N56: =SUM(H56+J56+L56) -> 1968 | S56: 0 | T56: 0 | V56: 3 | W56: 10912.83 | Y56: =SUM(D56+M56+S56+V56) -> 4 | Z56: =SUM(E56+N56+T56+W56) -> 12880.83 | AB56: 4 | AC56: 12880.83 | AE56: =Y56-AB56 -> 0 | AF56: =Z56-AC56 -> 0
A57: 42736 | B57: 2025 | D57: 0 | E57: 0 | G57: 0 | H57: 0 | I57: 0 | J57: 0 | K57: 0 | L57: 0 | M57: =SUM(G57+I57+K57) -> 0 | N57: =SUM(H57+J57+L57) -> 0 | S57: 3 | T57: 39025.46 | V57: 0 | W57: 0 | Y57: =SUM(D57+M57+S57+V57) -> 3 | Z57: =SUM(E57+N57+T57+W57) -> 39025.46 | AB57: 3 | AC57: 39025.46 | AE57: =Y57-AB57 -> 0 | AF57: =Z57-AC57 -> 0
A58: 42736 | B58: 2026 | D58: 0 | E58: 0 | G58: 0 | H58: 0 | I58: 0 | J58: 0 | K58: 1 | L58: 14991.35 | M58: =SUM(G58+I58+K58) -> 1 | N58: =SUM(H58+J58+L58) -> 14991.35 | S58: 1 | T58: 14850.16 | V58: 2 | W58: 5684 | Y58: =SUM(D58+M58+S58+V58) -> 4 | Z58: =SUM(E58+N58+T58+W58) -> 35525.51 | AB58: 4 | AC58: 35525.51 | AE58: =Y58-AB58 -> 0 | AF58: =Z58-AC58 -> 0
B60: TI Total | D60: =SUM(D46, D52:D58) -> 23276 | E60: =SUM(E46, E52:E58) -> 209285.02 | G60: =SUM(G46, G52:G58) -> 730 | H60: =SUM(H46, H52:H58) -> 30044.85 | I60: =SUM(I46, I52:I58) -> 788 | J60: =SUM(J46, J52:J58) -> 277866.43 | K60: =SUM(K46, K52:K58) -> 101 | L60: =SUM(L46, L52:L58) -> 240849.37 | M60: =SUM(M46, M52:M58) -> 1619 | N60: =SUM(N46, N52:N58) -> 548760.65 | S60: =SUM(S46, S52:S58) -> 16 | T60: =SUM(T46, T52:T58) -> 154143.59 | V60: =SUM(V46, V52:V58) -> 92 | W60: =SUM(W46, W52:W58) -> 144082.56 | Y60: =SUM(Y46, Y52:Y58) -> 25003 | Z60: =SUM(Z46, Z52:Z58) -> 1056271.8 | AB60: =SUM(AB46, AB52:AB58) -> 25003 | AC60: =SUM(AC46, AC52:AC58) -> 1056271.8 | AE60: =SUM(AE46, AE52:AE58) -> 0 | AF60: =SUM(AF46, AF52:AF58) -> 0
B62: ADI Program | V62: Community Solar (CSEP)
B63: 2016-2019 | D63: =SUM(D64:D67) -> 4 | E63: =SUM(E64:E67) -> 32.67 | G63: =SUM(G64:G67) -> 0 | H63: =SUM(H64:H67) -> 0 | I63: =SUM(I64:I67) -> 0 | J63: =SUM(J64:J67) -> 0 | K63: =SUM(K64:K67) -> 0 | L63: =SUM(L64:L67) -> 0 | M63: =SUM(G63+I63+K63) -> 0 | N63: =SUM(H63+J63+L63) -> 0 | V63: =SUM(V64:V67) -> 0 | W63: =SUM(W64:W67) -> 0 | Y63: =SUM(Y64:Y67) -> 4 | Z63: =SUM(Z64:Z67) -> 32.67 | AB63: 4 | AC63: 32.67 | AE63: =Y63-AB63 -> 0 | AF63: =Z63-AC63 -> 0
A64: 42736 | B64: 2016 | D64: 1 | E64: 2.56 | G64: 0 | H64: 0 | I64: 0 | J64: 0 | K64: 0 | L64: 0 | M64: =SUM(G64+I64+K64) -> 0 | N64: =SUM(H64+J64+L64) -> 0 | P64: 0 | Q64: 0 | V64: 0 | W64: 0 | Y64: =SUM(D64+M64+S64+V64) -> 1 | Z64: =SUM(E64+N64+T64+W64) -> 2.56 | AB64: 1 | AC64: 2.56 | AE64: =Y64-AB64 -> 0 | AF64: =Z64-AC64 -> 0
A65: 42736 | B65: 2017 | D65: 0 | E65: 0 | G65: 0 | H65: 0 | I65: 0 | J65: 0 | K65: 0 | L65: 0 | M65: =SUM(G65+I65+K65) -> 0 | N65: =SUM(H65+J65+L65) -> 0 | P65: 0 | Q65: 0 | V65: 0 | W65: 0 | Y65: =SUM(D65+M65+S65+V65) -> 0 | Z65: =SUM(E65+N65+T65+W65) -> 0 | AB65: 0 | AC65: 0 | AE65: =Y65-AB65 -> 0 | AF65: =Z65-AC65 -> 0
A66: 42736 | B66: 2018 | D66: 1 | E66: 15 | G66: 0 | H66: 0 | I66: 0 | J66: 0 | K66: 0 | L66: 0 | M66: =SUM(G66+I66+K66) -> 0 | N66: =SUM(H66+J66+L66) -> 0 | P66: 0 | Q66: 0 | V66: 0 | W66: 0 | Y66: =SUM(D66+M66+S66+V66) -> 1 | Z66: =SUM(E66+N66+T66+W66) -> 15 | AB66: 1 | AC66: 15 | AE66: =Y66-AB66 -> 0 | AF66: =Z66-AC66 -> 0
A67: 42736 | B67: 2019 | D67: 2 | E67: 15.11 | G67: 0 | H67: 0 | I67: 0 | J67: 0 | K67: 0 | L67: 0 | M67: =SUM(G67+I67+K67) -> 0 | N67: =SUM(H67+J67+L67) -> 0 | P67: 0 | Q67: 0 | V67: 0 | W67: 0 | Y67: =SUM(D67+M67+S67+V67) -> 2 | Z67: =SUM(E67+N67+T67+W67) -> 15.11 | AB67: 2 | AC67: 15.11 | AE67: =Y67-AB67 -> 0 | AF67: =Z67-AC67 -> 0
A68: 42736 | B68: 2020 | D68: 24 | E68: 188.43 | G68: 0 | H68: 0 | I68: 0 | J68: 0 | K68: 0 | L68: 0 | M68: =SUM(G68+I68+K68) -> 0 | N68: =SUM(H68+J68+L68) -> 0 | P68: 0 | Q68: 0 | V68: 0 | W68: 0 | Y68: =SUM(D68+M68+S68+V68) -> 24 | Z68: =SUM(E68+N68+T68+W68) -> 188.43 | AB68: 24 | AC68: 188.43 | AE68: =Y68-AB68 -> 0 | AF68: =Z68-AC68 -> 0
A69: 42736 | B69: 2021 | D69: 784 | E69: 7287.795 | G69: 6 | H69: 266.43 | I69: 3 | J69: 440.95 | K69: 0 | L69: 0 | M69: =SUM(G69+I69+K69) -> 9 | N69: =SUM(H69+J69+L69) -> 707.38 | P69: 0 | Q69: 0 | V69: 0 | W69: 0 | Y69: =SUM(D69+M69+S69+V69) -> 793 | Z69: =SUM(E69+N69+T69+W69) -> 7995.175 | AB69: 793 | AC69: 7995.175 | AE69: =Y69-AB69 -> 0 | AF69: =Z69-AC69 -> 0
A70: 42736 | B70: 2022 | D70: 16245 | E70: 145611.37 | G70: 94 | H70: 3070.42 | I70: 49 | J70: 14995.34 | K70: 8 | L70: 11639.81 | M70: =SUM(G70+I70+K70) -> 151 | N70: =SUM(H70+J70+L70) -> 29705.57 | P70: 0 | Q70: 0 | V70: 0 | W70: 0 | Y70: =SUM(D70+M70+S70+V70) -> 16396 | Z70: =SUM(E70+N70+T70+W70) -> 175316.94 | AB70: 16393 | AC70: 175292.36 | AE70: =Y70-AB70 -> 3 | AF70: =Z70-AC70 -> 24.585
A71: 42736 | B71: 2023 | D71: 22409 | E71: 198257.54 | G71: 274 | H71: 9147.14 | I71: 139 | J71: 48005.505 | K71: 20 | L71: 34542.86 | M71: =SUM(G71+I71+K71) -> 433 | N71: =SUM(H71+J71+L71) -> 91695.505 | P71: 0 | Q71: 0 | V71: 16 | W71: 15981.4 | Y71: =SUM(D71+M71+S71+V71) -> 22858 | Z71: =SUM(E71+N71+T71+W71) -> 305934.45 | AB71: 22855 | AC71: 304930.95 | AE71: =Y71-AB71 -> 3 | AF71: =Z71-AC71 -> 1003.5
A72: 42736 | B72: 2024 | D72: 17979 | E72: 155245.07 | G72: 198 | H72: 7512.105 | I72: 150 | J72: 44452.29 | K72: 23 | L72: 41534.05 | M72: =SUM(G72+I72+K72) -> 371 | N72: =SUM(H72+J72+L72) -> 93498.445 | P72: 0 | Q72: 0 | V72: 9 | W72: 24048.35 | Y72: =SUM(D72+M72+S72+V72) -> 18359 | Z72: =SUM(E72+N72+T72+W72) -> 272791.86 | AB72: 18355 | AC72: 272760.31 | AE72: =Y72-AB72 -> 4 | AF72: =Z72-AC72 -> 31.55
A73: 42736 | B73: 2025 | D73: 19828 | E73: 192204.27 | G73: 166 | H73: 6088.3 | I73: 115 | J73: 39246.815 | K73: 8 | L73: 15117.19 | M73: =SUM(G73+I73+K73) -> 289 | N73: =SUM(H73+J73+L73) -> 60452.305 | P73: 2 | Q73: 1111.55 | V73: 65 | W73: 73145.02 | Y73: =SUM(D73+M73+P73+S73+V73) -> 20184 | Z73: =SUM(E73+N73+Q73+T73+W73) -> 326913.15 | AB73: 20072 | AC73: 326002.98 | AE73: =Y73-AB73 -> 112 | AF73: =Z73-AC73 -> 910.17
A74: 42736 | B74: 2026 | D74: 12632 | E74: 130099.19 | G74: 86 | H74: 3732.526 | I74: 71 | J74: 22140.585 | K74: 3 | L74: 5135.95 | M74: =SUM(G74+I74+K74) -> 160 | N74: =SUM(H74+J74+L74) -> 31009.061 | P74: 0 | Q74: 0 | V74: 53 | W74: 58786.49 | Y74: =SUM(D74+M74+P74+S74+V74) -> 12845 | Z74: =SUM(E74+N74+Q74+T74+W74) -> 219894.74 | AB74: 11438 | AC74: 184010.89 | AE74: =Y74-AB74 -> 1407 | AF74: =Z74-AC74 -> 35883.856
B76: Total of All ADI Projects | D76: =SUM(D63, D68:D74) -> 89905 | E76: =SUM(E63, E68:E74) -> 828926.34 | G76: =SUM(G63, G68:G74) -> 824 | H76: =SUM(H63, H68:H74) -> 29816.921 | I76: =SUM(I63, I68:I74) -> 527 | J76: =SUM(J63, J68:J74) -> 169281.48 | K76: =SUM(K63, K68:K74) -> 62 | L76: =SUM(L63, L68:L74) -> 107969.86 | M76: =SUM(M63, M68:M74) -> 1413 | N76: =SUM(N63, N68:N74) -> 307068.27 | P76: =SUM(P63, P68:P74) -> 2 | Q76: =SUM(Q63, Q68:Q74) -> 1111.55 | V76: =SUM(V63, V68:V74) -> 143 | W76: =SUM(W63, W68:W74) -> 171961.26 | Y76: =D76+M76+P76+V76 -> 91463 | Z76: =E76+N76+Q76+W76 -> 1309067.4 | AB76: =SUM(AB63, AB68:AB74) -> 89934 | AC76: =SUM(AC63, AC68:AC74) -> 1271213.8 | AE76: =SUM(AE63, AE68:AE74) -> 1529 | AF76: =SUM(AF63, AF68:AF74) -> 37853.661
S78: Residential and Non-Residential ADI Total | Y78: =D76+M76 -> 91318 | Z78: =E76+N76 -> 1135994.6 | AB78: 89805 | AC78: 1115367.4 | AE78: =Y78-AB78 -> 1513 | AF78: =Z78-AC78 -> 20627.251
S80: Remote Net Metering Total | Y80: =P76 -> 2 | Z80: =Q76 -> 1111.55 | AB80: 2 | AC80: 1111.55 | AE80: =Y80-AB80 -> 0 | AF80: =Z80-AC80 -> 0
S82: Community Solar Total | Y82: =V76 -> 143 | Z82: =W76 -> 171961.26 | AB82: 127 | AC82: 154734.85 | AE82: =Y82-AB82 -> 16 | AF82: =Z82-AC82 -> 17226.41
B83: CSI Program
A84: 42736 | B84: 2023 | G84: 0 | H84: 0 | I84: 0 | J84: 0 | K84: 0 | L84: 0 | M84: =SUM(G84+I84+K84) -> 0 | N84: =SUM(H84+J84+L84) -> 0 | S84: 1 | T84: 2772.77 | Y84: =SUM(D84+M84+S84+V84) -> 1 | Z84: =SUM(E84+N84+T84+W84) -> 2772.77 | AB84: 1 | AC84: 2772.77 | AE84: =Y84-AB84 -> 0 | AF84: =Z84-AC84 -> 0
A85: 42736 | B85: 2024 | G85: 0 | H85: 0 | I85: 0 | J85: 0 | K85: 0 | L85: 0 | M85: =SUM(G85+I85+K85) -> 0 | N85: =SUM(H85+J85+L85) -> 0 | S85: 0 | T85: 0 | Y85: =SUM(D85+M85+S85+V85) -> 0 | Z85: =SUM(E85+N85+T85+W85) -> 0 | AB85: 0 | AC85: 0 | AE85: =Y85-AB85 -> 0 | AF85: =Z85-AC85 -> 0
A86: 42736 | B86: 2025 | G86: 0 | H86: 0 | I86: 0 | J86: 0 | K86: 0 | L86: 0 | M86: =SUM(G86+I86+K86) -> 0 | N86: =SUM(H86+J86+L86) -> 0 | S86: 1 | T86: 12326.6 | Y86: =SUM(D86+M86+S86+V86) -> 1 | Z86: =SUM(E86+N86+T86+W86) -> 12326.6 | AB86: 1 | AC86: 12326.6 | AE86: =Y86-AB86 -> 0 | AF86: =Z86-AC86 -> 0
A87: 42736 | B87: 2026 | G87: 0 | H87: 0 | I87: 0 | J87: 0 | K87: 0 | L87: 0 | M87: =SUM(G87+I87+K87) -> 0 | N87: =SUM(H87+J87+L87) -> 0 | S87: 1 | T87: 7410.91 | Y87: =SUM(D87+M87+S87+V87) -> 1 | Z87: =SUM(E87+N87+T87+W87) -> 7410.91 | AB87: 1 | AC87: 7410.91 | AE87: =Y87-AB87 -> 0 | AF87: =Z87-AC87 -> 0
B89: CSI Total | D89: =SUM(D84:D87) -> 0 | E89: =SUM(E84:E87) -> 0 | G89: =SUM(G84:G87) -> 0 | H89: =SUM(H84:H87) -> 0 | I89: =SUM(I84:I87) -> 0 | J89: =SUM(J84:J87) -> 0 | K89: =SUM(K84:K87) -> 0 | L89: =SUM(L84:L87) -> 0 | M89: =SUM(M84:M87) -> 0 | N89: =SUM(N84:N87) -> 0 | S89: =SUM(S84:S87) -> 3 | T89: =SUM(T84:T87) -> 22510.28 | Y89: =SUM(Y84:Y87) -> 3 | Z89: =SUM(Z84:Z87) -> 22510.28 | AB89: =SUM(AB84:AB87) -> 3 | AC89: =SUM(AC84:AC87) -> 22510.28 | AE89: =SUM(AE84:AE87) -> 0 | AF89: =SUM(AF84:AF87) -> 0
B91: SRP, TI, ADI & CSI Programs
B92: 2000-2009 | D92: =D10 -> 3964 | E92: =E10 -> 28763.445 | G92: =G10 -> 760 | H92: =H10 -> 16705.994 | I92: =I10 -> 214 | J92: =J10 -> 62221.445 | K92: =K10 -> 13 | L92: =L10 -> 21432.85 | M92: =SUM(G92+I92+K92) -> 987 | N92: =SUM(H92+J92+L92) -> 100360.29 | S92: =S10 -> 5 | T92: =T10 -> 3370.56 | Y92: =Y10 -> 4956 | Z92: =Z10 -> 132494.29 | AB92: 4956 | AC92: 132494.29 | AE92: =Y92-AB92 -> 0 | AF92: =Z92-AC92 -> 0
B93: 2000 | D93: 4 | E93: 11.85 | G93: 2 | H93: 11.04 | I93: 0 | J93: 0 | K93: 0 | L93: 0 | M93: =SUM(G93+I93+K93) -> 2 | N93: =SUM(H93+J93+L93) -> 11.04 | S93: 0 | T93: 0 | Y93: =SUM(D93+M93+S93+V93) -> 6 | Z93: =SUM(E93+N93+T93+W93) -> 22.89 | AB93: 6 | AC93: 22.89 | AE93: =Y93-AB93 -> 0 | AF93: =Z93-AC93 -> 0
B94: 2001 | D94: 2 | E94: 5.25 | G94: 0 | H94: 0 | I94: 0 | J94: 0 | K94: 0 | L94: 0 | M94: =SUM(G94+I94+K94) -> 0 | N94: =SUM(H94+J94+L94) -> 0 | S94: 0 | T94: 0 | Y94: =SUM(D94+M94+S94+V94) -> 2 | Z94: =SUM(E94+N94+T94+W94) -> 5.25 | AB94: 2 | AC94: 5.25 | AE94: =Y94-AB94 -> 0 | AF94: =Z94-AC94 -> 0
B95: 2002 | D95: 25 | E95: 72.82 | G95: 9 | H95: 324 | I95: 1 | J95: 262.14 | K95: 0 | L95: 0 | M95: =SUM(G95+I95+K95) -> 10 | N95: =SUM(H95+J95+L95) -> 586.14 | S95: 0 | T95: 0 | Y95: =SUM(D95+M95+S95+V95) -> 35 | Z95: =SUM(E95+N95+T95+W95) -> 658.96 | AB95: 35 | AC95: 658.96 | AE95: =Y95-AB95 -> 0 | AF95: =Z95-AC95 -> 0
B96: 2003 | D96: 65 | E96: 364.932 | G96: 17 | H96: 281.9 | I96: 1 | J96: 479.8 | K96: 0 | L96: 0 | M96: =SUM(G96+I96+K96) -> 18 | N96: =SUM(H96+J96+L96) -> 761.7 | S96: 0 | T96: 0 | Y96: =SUM(D96+M96+S96+V96) -> 83 | Z96: =SUM(E96+N96+T96+W96) -> 1126.632 | AB96: 83 | AC96: 1126.632 | AE96: =Y96-AB96 -> 0 | AF96: =Z96-AC96 -> 0
B97: 2004 | D97: 253 | E97: 1529.898 | G97: 42 | H97: 382.006 | I97: 2 | J97: 623.385 | K97: 0 | L97: 0 | M97: =SUM(G97+I97+K97) -> 44 | N97: =SUM(H97+J97+L97) -> 1005.391 | S97: 0 | T97: 0 | Y97: =SUM(D97+M97+S97+V97) -> 297 | Z97: =SUM(E97+N97+T97+W97) -> 2535.289 | AB97: 297 | AC97: 2535.289 | AE97: =Y97-AB97 -> 0 | AF97: =Z97-AC97 -> 0
B98: 2005 | D98: 625 | E98: 4621.869 | G98: 78 | H98: 1029.883 | I98: 16 | J98: 3923.08 | K98: 0 | L98: 0 | M98: =SUM(G98+I98+K98) -> 94 | N98: =SUM(H98+J98+L98) -> 4952.963 | S98: 0 | T98: 0 | Y98: =SUM(D98+M98+S98+V98) -> 719 | Z98: =SUM(E98+N98+T98+W98) -> 9574.832 | AB98: 719 | AC98: 9574.832 | AE98: =Y98-AB98 -> 0 | AF98: =Z98-AC98 -> 0
B99: 2006 | D99: 747 | E99: 5335.471 | G99: 105 | H99: 1881.529 | I99: 36 | J99: 11097.32 | K99: 0 | L99: 0 | M99: =SUM(G99+I99+K99) -> 141 | N99: =SUM(H99+J99+L99) -> 12978.849 | S99: 0 | T99: 0 | Y99: =SUM(D99+M99+S99+V99) -> 888 | Z99: =SUM(E99+N99+T99+W99) -> 18314.32 | AB99: 888 | AC99: 18314.32 | AE99: =Y99-AB99 -> 0 | AF99: =Z99-AC99 -> 0
B100: 2007 | D100: 527 | E100: 3821.751 | G100: 95 | H100: 2123.446 | I100: 26 | J100: 8352.908 | K100: 0 | L100: 0 | M100: =SUM(G100+I100+K100) -> 121 | N100: =SUM(H100+J100+L100) -> 10476.354 | S100: 0 | T100: 0 | Y100: =SUM(D100+M100+S100+V100) -> 648 | Z100: =SUM(E100+N100+T100+W100) -> 14298.105 | AB100: 648 | AC100: 14298.105 | AE100: =Y100-AB100 -> 0 | AF100: =Z100-AC100 -> 0
B101: 2008 | D101: 656 | E101: 4962.365 | G101: 170 | H101: 3874.197 | I101: 44 | J101: 13247.054 | K101: 4 | L101: 6134.26 | M101: =SUM(G101+I101+K101) -> 218 | N101: =SUM(H101+J101+L101) -> 23255.511 | S101: 0 | T101: 0 | Y101: =SUM(D101+M101+S101+V101) -> 874 | Z101: =SUM(E101+N101+T101+W101) -> 28217.876 | AB101: 874 | AC101: 28217.876 | AE101: =Y101-AB101 -> 0 | AF101: =Z101-AC101 -> 0
B102: 2009 | D102: 1060 | E102: 8037.239 | G102: 242 | H102: 6797.993 | I102: 88 | J102: 24235.758 | K102: 9 | L102: 15298.59 | M102: =SUM(G102+I102+K102) -> 339 | N102: =SUM(H102+J102+L102) -> 46332.341 | S102: 5 | T102: 3370.56 | Y102: =SUM(D102+M102+S102+V102) -> 1404 | Z102: =SUM(E102+N102+T102+W102) -> 57740.14 | AB102: 1404 | AC102: 57740.14 | AE102: =Y102-AB102 -> 0 | AF102: =Z102-AC102 -> 0
B103: 2010-2019 | D103: =SUM(D21+D46+D63) -> 111830 | E103: =SUM(E21+E46+E63) -> 936574.02 | G103: =SUM(G21+G46+G63) -> 3513 | H103: =SUM(H21+H46+H63) -> 120146.8 | I103: =SUM(I21+I46+I63) -> 2164 | J103: =SUM(J21+J46+J63) -> 703784.92 | K103: =SUM(K21+K46+K63) -> 258 | L103: =SUM(L21+L46+L63) -> 640240.14 | M103: =SUM(G103+I103+K103) -> 5935 | N103: =SUM(H103+J103+L103) -> 1464171.9 | S103: =SUM(S21+S46+S63) -> 169 | T103: =SUM(T21+T46+T63) -> 666039.23 | Y103: =SUM(Y21+Y46+Y63) -> 117934 | Z103: =SUM(Z21+Z46+Z63) -> 3066785.1 | AB103: 117934 | AC103: 3066785.1 | AE103: =Y103-AB103 -> 0 | AF103: =Z103-AC103 -> 0
A104: 42736 | B104: 2020 | D104: =SUM(D32+D52+D68) -> 14014 | E104: =SUM(E32+E52+E68) -> 124462.03 | G104: =SUM(G32+G52+G68) -> 284 | H104: =SUM(H32+H52+H68) -> 9194.37 | I104: =SUM(I32+I52+I68) -> 187 | J104: =SUM(J32+J52+J68) -> 67025.96 | K104: =SUM(K32+K52+K68) -> 22 | L104: =SUM(L32+L52+L68) -> 56820.75 | M104: =SUM(G104+I104+K104) -> 493 | N104: =SUM(H104+J104+L104) -> 133041.08 | P104: 0 | Q104: 0 | S104: =SUM(S32+S52+S68) -> 10 | T104: =SUM(T32+T52+T68) -> 66584.34 | V104: 0 | W104: 0 | Y104: =SUM(D104+M104+P104+S104+V104) -> 14517 | Z104: =SUM(E104+N104+Q104+T104+W104) -> 324087.45 | AB104: 14517 | AC104: 324087.45 | AE104: =Y104-AB104 -> 0 | AF104: =Z104-AC104 -> 0
A105: 42736 | B105: 2021 | D105: =SUM(D33+D53+D69) -> 14737 | E105: =SUM(E33+E53+E69) -> 134256.24 | G105: =SUM(G33+G53+G69) -> 265 | H105: =SUM(H33+H53+H69) -> 11531.63 | I105: =SUM(I33+I53+I69) -> 221 | J105: =SUM(J33+J53+J69) -> 69988.12 | K105: =SUM(K33+K53+K69) -> 23 | L105: =SUM(L33+L53+L69) -> 58031.1 | M105: =SUM(G105+I105+K105) -> 509 | N105: =SUM(H105+J105+L105) -> 139550.85 | P105: 0 | Q105: 0 | S105: =SUM(S33+S53+S69) -> 3 | T105: =SUM(T33+T53+T69) -> 33581.07 | V105: =SUM(V33+V53+V69) -> 14 | W105: =SUM(W33+W53+W69) -> 31540.98 | Y105: =SUM(D105+M105+P105+S105+V105) -> 15263 | Z105: =SUM(E105+N105+Q105+T105+W105) -> 338929.14 | AB105: 15263 | AC105: 338929.14 | AE105: =Y105-AB105 -> 0 | AF105: =Z105-AC105 -> 0
A106: 42736 | B106: 2022 | D106: =SUM(D34+D54+D70) -> 17958 | E106: =SUM(E34+E54+E70) -> 161768.8 | G106: =SUM(G34+G54+G70) -> 398 | H106: =SUM(H34+H54+H70) -> 16071.59 | I106: =SUM(I34+I54+I70) -> 422 | J106: =SUM(J34+J54+J70) -> 146872.82 | K106: =SUM(K34+K54+K70) -> 57 | L106: =SUM(L34+L54+L70) -> 118216.15 | M106: =SUM(G106+I106+K106) -> 877 | N106: =SUM(H106+J106+L106) -> 281160.56 | P106: 0 | Q106: 0 | S106: =SUM(S34+S54+S70) -> 3 | T106: =SUM(T34+T54+T70) -> 19826.06 | V106: =SUM(V34+V54+V70) -> 7 | W106: =SUM(W34+W54+W70) -> 13082.14 | Y106: =SUM(D106+M106+P106+S106+V106) -> 18845 | Z106: =SUM(E106+N106+Q106+T106+W106) -> 475837.56 | AB106: 18842 | AC106: 475812.98 | AE106: =Y106-AB106 -> 3 | AF106: =Z106-AC106 -> 24.585
A107: 42736 | B107: 2023 | D107: =SUM(D35+D55+D71+D84) -> 22409 | E107: =SUM(E35+E55+E71+E84) -> 198257.54 | G107: =SUM(G35+G55+G71+G84) -> 281 | H107: =SUM(H35+H55+H71+H84) -> 9561.98 | I107: =SUM(I35+I55+I71+I84) -> 200 | J107: =SUM(J35+J55+J71+J84) -> 72442.795 | K107: =SUM(K35+K55+K71+K84) -> 30 | L107: =SUM(L35+L55+L71+L84) -> 50818.32 | M107: =SUM(M35+M55+M71+M84) -> 511 | N107: =SUM(N35+N55+N71+N84) -> 132823.1 | P107: =SUM(P35+P55+P71+P84) -> 0 | Q107: =SUM(Q35+Q55+Q71+Q84) -> 0 | S107: =SUM(S35+S55+S71+S84) -> 2 | T107: =SUM(T35+T55+T71+T84) -> 28384.97 | V107: =SUM(V35+V55+V71+V84) -> 82 | W107: =SUM(W35+W55+W71+W84) -> 98844.01 | Y107: =SUM(D107+M107+P107+S107+V107) -> 23004 | Z107: =SUM(E107+N107+Q107+T107+W107) -> 458309.62 | AB107: 23001 | AC107: 457306.12 | AE107: =Y107-AB107 -> 3 | AF107: =Z107-AC107 -> 1003.5
A108: 42736 | B108: 2024 | D108: =SUM(D36+D56+D72+D85) -> 17979 | E108: =SUM(E36+E56+E72+E85) -> 155245.07 | G108: =SUM(G36+G56+G72+G85) -> 198 | H108: =SUM(H36+H56+H72+H85) -> 7512.105 | I108: =SUM(I36+I56+I72+I85) -> 150 | J108: =SUM(J36+J56+J72+J85) -> 44452.29 | K108: =SUM(K36+K56+K72+K85) -> 24 | L108: =SUM(L36+L56+L72+L85) -> 43502.05 | M108: =SUM(M36+M56+M72+M85) -> 372 | N108: =SUM(N36+N56+N72+N85) -> 95466.445 | P108: =SUM(P36+P56+P72+P85) -> 0 | Q108: =SUM(Q36+Q56+Q72+Q85) -> 0 | S108: =SUM(S36+S56+S72+S85) -> 0 | T108: =SUM(T36+T56+T72+T85) -> 0 | V108: =SUM(V36+V56+V72+V85) -> 12 | W108: =SUM(W36+W56+W72+W85) -> 34961.18 | Y108: =SUM(D108+M108+P108+S108+V108) -> 18363 | Z108: =SUM(E108+N108+Q108+T108+W108) -> 285672.69 | AB108: 18359 | AC108: 285641.14 | AE108: =Y108-AB108 -> 4 | AF108: =Z108-AC108 -> 31.55
A109: 42736 | B109: 2025 | D109: =SUM(D37+D57+D73+D86) -> 19828 | E109: =SUM(E37+E57+E73+E86) -> 192204.27 | G109: =SUM(G37+G57+G73+G86) -> 166 | H109: =SUM(H37+H57+H73+H86) -> 6088.3 | I109: =SUM(I37+I57+I73+I86) -> 115 | J109: =SUM(J37+J57+J73+J86) -> 39246.815 | K109: =SUM(K37+K57+K73+K86) -> 8 | L109: =SUM(L37+L57+L73+L86) -> 15117.19 | M109: =SUM(M37+M57+M73+M86) -> 289 | N109: =SUM(N37+N57+N73+N86) -> 60452.305 | P109: =SUM(P37+P57+P73+P86) -> 2 | Q109: =SUM(Q37+Q57+Q73+Q86) -> 1111.55 | S109: =SUM(S37+S57+S73+S86) -> 4 | T109: =SUM(T37+T57+T73+T86) -> 51352.06 | V109: =SUM(V37+V57+V73+V86) -> 65 | W109: =SUM(W37+W57+W73+W86) -> 73145.02 | Y109: =SUM(D109+M109+P109+S109+V109) -> 20188 | Z109: =SUM(E109+N109+Q109+T109+W109) -> 378265.21 | AB109: 20076 | AC109: 377355.04 | AE109: =Y109-AB109 -> 112 | AF109: =Z109-AC109 -> 910.17
A110: 42736 | B110: 2026 | D110: =SUM(D38+D58+D74+D87) -> 12632 | E110: =SUM(E38+E58+E74+E87) -> 130099.19 | G110: =SUM(G38+G58+G74+G87) -> 86 | H110: =SUM(H38+H58+H74+H87) -> 3732.526 | I110: =SUM(I38+I58+I74+I87) -> 71 | J110: =SUM(J38+J58+J74+J87) -> 22140.585 | K110: =SUM(K38+K58+K74+K87) -> 4 | L110: =SUM(L38+L58+L74+L87) -> 20127.3 | M110: =SUM(M38+M58+M74+M87) -> 161 | N110: =SUM(N38+N58+N74+N87) -> 46000.411 | P110: =SUM(P38+P58+P74+P87) -> 0 | Q110: =SUM(Q38+Q58+Q74+Q87) -> 0 | S110: =SUM(S38+S58+S74+S87) -> 2 | T110: =SUM(T38+T58+T74+T87) -> 22261.07 | V110: =SUM(V38+V58+V74+V87) -> 55 | W110: =SUM(W38+W58+W74+W87) -> 64470.49 | Y110: =SUM(D110+M110+P110+S110+V110) -> 12850 | Z110: =SUM(E110+N110+Q110+T110+W110) -> 262831.16 | AB110: 11443 | AC110: 226947.3 | AE110: =Y110-AB110 -> 1407 | AF110: =Z110-AC110 -> 35883.856
B112: SRP, TI, ADI & CSI Program Totals | D112: =SUM(D92, D103, D104:D110) -> 235351 | E112: =SUM(E92, E103, E104:E110) -> 2061630.6 | G112: =SUM(G92, G103, G104:G110) -> 5951 | H112: =SUM(H92, H103, H104:H110) -> 200545.29 | I112: =SUM(I92, I103, I104:I110) -> 3744 | J112: =SUM(J92, J103, J104:J110) -> 1228175.7 | K112: =SUM(K92, K103, K104:K110) -> 439 | L112: =SUM(L92, L103, L104:L110) -> 1024305.9 | M112: =SUM(M92, M103, M104:M110) -> 10134 | N112: =SUM(N92, N103, N104:N110) -> 2453026.9 | P112: =SUM(P92, P103, P104:P110) -> 2 | Q112: =SUM(Q92, Q103, Q104:Q110) -> 1111.55 | S112: =SUM(S92, S103, S104:S110) -> 198 | T112: =SUM(T92, T103, T104:T110) -> 891399.36 | V112: =SUM(V92, V103, V104:V110) -> 235 | W112: =SUM(W92, W103, W104:W110) -> 316043.82 | Y112: =SUM(Y92, Y103, Y104:Y110) -> 245920 | Z112: =SUM(Z92, Z103, Z104:Z110) -> 5723212.2 | AB112: =SUM(AB92, AB103, AB104:AB110) -> 244391 | AC112: =SUM(AC92, AC103, AC104:AC110) -> 5685358.6 | AE112: =SUM(AE92, AE103, AE104:AE110) -> 1529 | AF112: =SUM(AF92, AF103, AF104:AF110) -> 37853.661

Sheet Annual Capacity - Graph

Sheet Class I REC Generators
A1: Class I REC Generators that were issued PTO's between 1/1/2000 - 5/31/2003
A2: The Solar Installation Report includes 61 projects totaling 1,260.67 kW that have been classified as Class I REC Generators
A3: Note 1: PJM-GATs system is showing a total of 28 projects totaling 787.96 kW.
A4: Note 2: The difference between the 61 projects in the solar installation report and the 28 projects in the GATs system is 33 projects. PJM-GATs does not have a record of these 33 generators registered in their system.
A6: Registration Number | B6: SRP Project Number | C6: Program | D6: Premise Last Name | E6: Premise Company | F6: Premise Installation Address (Commercial Only) | G6: Premise City | H6: Premise Zip | I6: County Code | J6: PTO Date (Interconnection Date) | K6: Calculated Total System Size | L6: Customer Type | M6: Third Party Ownership | N6: Grid / BTM | O6: Subsection | P6: Energy Year | Q6: EDC Program | R6: Contractor Company | S6: Electric Utility Name | T6: Status | U6: Acceptance Date | V6: Completion Date
B7: UTIL-16 | C7: CORE Solar | D7: BROOKE | G7: LAMBERTVILLE | H7: 8530 | I7: 4 | J7: 37242 | K7: 1.49 | L7: Residential | N7: Behind the Meter | S7: JCP&L | T7: Registration Complete | U7: 37077 | V7: 37242
B8: UTIL-17 | C8: CORE Solar | D8: KNOWLTON | G8: FAIR HAVEN | H8: 7704 | I8: 17 | J8: 37257 | K8: 2.26 | L8: Residential | N8: Behind the Meter | S8: JCP&L | T8: Registration Complete | U8: 37081 | V8: 37242
B9: UTIL-15 | C9: CORE Solar | D9: BURNS | G9: GREAT MEADOWS | H9: 7838 | I9: 2 | J9: 37242 | K9: 3.76 | L9: Residential | N9: Behind the Meter | S9: JCP&L | T9: Registration Complete | U9: 37067 | V9: 37242
B10: UTIL-18 | C10: CORE Solar | D10: GUINDON | G10: OCEAN VIEW | H10: 8230 | I10: 21 | J10: 37267 | K10: 0.26 | L10: Residential | N10: Behind the Meter | S10: AC Electric | T10: Registration Complete | U10: 37216 | V10: 37267
B11: UTIL-20 | C11: CORE Solar | D11: SUKOVICH | G11: RINGOES | H11: 8551 | I11: 4 | J11: 37288 | K11: 3.72 | L11: Residential | N11: Behind the Meter | S11: JCP&L | T11: Registration Complete | U11: 37083 | V11: 37320
B12: UTIL-21 | C12: CORE Solar | D12: STOCKS | G12: LIVINGSTON | H12: 7039 | I12: 9 | J12: 37314 | K12: 2.26 | L12: Residential | N12: Behind the Meter | S12: PSE&G | T12: Registration Complete | U12: 37085 | V12: 37329
B13: UTIL-22 | C13: CORE Solar | D13: DERBY | G13: MOUNT HOLLY | H13: 8060 | I13: 13 | J13: 37336 | K13: 1.9 | L13: Residential | N13: Behind the Meter | S13: PSE&G | T13: Registration Complete | U13: 37109 | V13: 37336
B14: UTIL-24 | C14: CORE Solar | D14: PLEVA | G14: ALLENTOWN | H14: 8501 | I14: 17 | J14: 37280 | K14: 2.69 | L14: Residential | N14: Behind the Meter | S14: PSE&G | T14: Registration Complete | U14: 37162 | V14: 37357
B15: UTIL-71 | C15: CORE Solar | E15: RAMAPO COLLEGE | G15: MAHWAH | H15: 7430 | I15: 7 | J15: 37361 | K15: 2 | L15: University Public | N15: Behind the Meter | S15: Orange & Rockland Elec | T15: Registration Complete | U15: 37280 | V15: 37361
B16: UTIL-25 | C16: CORE Solar | D16: MCFADDEN | G16: DEMAREST | H16: 7627 | I16: 7 | J16: 37361 | K16: 2.26 | L16: Residential | N16: Behind the Meter | S16: Orange & Rockland Elec | T16: Registration Complete | U16: 37152 | V16: 37361
B17: UTIL-72 | C17: CORE Solar | E17: MONTCLAIR UNIVERSITY | G17: MONTCLAIR | H17: 7043 | I17: 9 | J17: 37382 | K17: 2 | L17: University Public | N17: Behind the Meter | S17: PSE&G | T17: Registration Complete | U17: 37379 | V17: 37382
B18: UTIL-27 | C18: CORE Solar | D18: CAFIERO | G18: SHIP BOTTOM | H18: 8008 | I18: 18 | J18: 37377 | K18: 2.71 | L18: Residential | N18: Behind the Meter | S18: AC Electric | T18: Registration Complete | U18: 37298 | V18: 37420
B19: UTIL-28 | C19: CORE Solar | D19: GOLDEN | G19: VILLAS | H19: 8251 | I19: 21 | J19: 37424 | K19: 0.89 | L19: Residential | N19: Behind the Meter | S19: AC Electric | T19: Registration Complete | U19: 37090 | V19: 37424
B20: UTIL-06 | C20: CORE Solar | E20: BJ'S WHOLESALE CLUB | F20: 1910 DEPTFORD CENTER RD | G20: DEPTFORD | H20: 8096 | I20: 15 | J20: 37434 | K20: 62.23 | L20: Commercial | N20: Behind the Meter | S20: PSE&G | T20: Registration Complete | U20: 37060 | V20: 37434
B21: UTIL-30 | C21: CORE Solar | D21: JONES | G21: HIGHLANDS | H21: 7732 | I21: 17 | J21: 37377 | K21: 2.69 | L21: Residential | N21: Behind the Meter | S21: JCP&L | T21: Registration Complete | U21: 37330 | V21: 37439
B22: UTIL-29 | C22: CORE Solar | D22: LOUGHLIN | G22: FLEMINGTON | H22: 8822 | I22: 4 | J22: 37408 | K22: 3.46 | L22: Residential | N22: Behind the Meter | S22: JCP&L | T22: Registration Complete | U22: 37146 | V22: 37439
B23: UTIL-07 | C23: CORE Solar | E23: CORDIS | F23: 33 TECHNOLOGY DR | G23: WARREN | H23: 7059 | I23: 5 | J23: 37440 | K23: 68.4 | L23: Commercial | N23: Behind the Meter | S23: JCP&L | T23: Registration Complete | U23: 37063 | V23: 37440
B24: UTIL-31 | C24: CORE Solar | D24: ONE | G24: COLTS NECK | H24: 7722 | I24: 17 | J24: 37460 | K24: 8.37 | L24: Residential | N24: Behind the Meter | S24: JCP&L | T24: Registration Complete | U24: 37139 | V24: 37460
B25: UTIL-33 | C25: CORE Solar | D25: KLEIN | G25: JACKSON | H25: 8527 | I25: 18 | J25: 37469 | K25: 1.5 | L25: Residential | N25: Behind the Meter | S25: JCP&L | T25: Registration Complete | U25: 37203 | V25: 37469
B26: UTIL-34 | C26: CORE Solar | D26: CELEBRE | G26: RINGOES | H26: 8551 | I26: 4 | J26: 37470 | K26: 2.71 | L26: Residential | N26: Behind the Meter | S26: JCP&L | T26: Registration Complete | U26: 37330 | V26: 37489
B27: UTIL-36 | C27: CORE Solar | D27: BARBLOCK | G27: WAYNE | H27: 7470 | I27: 6 | J27: 36739 | K27: 2.5 | L27: Residential | N27: Behind the Meter | S27: JCP&L | T27: Registration Complete | U27: 37379 | V27: 37522
B28: UTIL-37 | C28: CORE Solar | D28: MULVANEY | G28: FLEMINGTON | H28: 8822 | I28: 4 | J28: 37523 | K28: 3.01 | L28: Residential | N28: Behind the Meter | S28: JCP&L | T28: Registration Complete | U28: 37309 | V28: 37523
B29: UTIL-38 | C29: CORE Solar | D29: MIDKIFF | G29: BLAIRSTOWN | H29: 7825 | I29: 2 | J29: 37469 | K29: 1.84 | L29: Residential | N29: Behind the Meter | S29: JCP&L | T29: Registration Complete | U29: 37391 | V29: 37545
B30: UTIL-40 | C30: CORE Solar | D30: KINNEY | G30: MEDFORD | H30: 8055 | I30: 13 | J30: 37530 | K30: 7.5 | L30: Residential | N30: Behind the Meter | S30: PSE&G | T30: Registration Complete | U30: 37274 | V30: 37582
B31: UTIL-08 | C31: CORE Solar | E31: IBEW LOCAL #269 BLDG 1 | F31: 670 WHITEHEAD RD | G31: LAWRENCE TOWNSHIP | H31: 8648 | I31: 12 | J31: 37600 | K31: 25.54 | L31: Commercial | N31: Behind the Meter | S31: PSE&G | T31: Registration Complete | U31: 37389 | V31: 37600
B32: UTIL-09 | C32: CORE Solar | E32: IBEW LOCAL #269 BLDG 3 | F32: 670 WHITEHEAD RD | G32: LAWRENCE TOWNSHIP | H32: 8648 | I32: 12 | J32: 37600 | K32: 31.58 | L32: Commercial | N32: Behind the Meter | S32: PSE&G | T32: Registration Complete | U32: 37371 | V32: 37600
B33: UTIL-10 | C33: CORE Solar | E33: WYETH (AMERICAN HOME PRODUCTS) | F33: 5 GIRALDA FARMS | G33: MADISON | H33: 7940 | I33: 3 | J33: 37600 | K33: 60.67 | L33: Commercial | N33: Behind the Meter | S33: PSE&G | T33: Registration Complete | U33: 37301 | V33: 37600
B34: UTIL-41 | C34: CORE Solar | D34: JOHNSON | G34: SHIP BOTTOM | H34: 8008 | I34: 18 | J34: 37601 | K34: 2.8 | L34: Residential | N34: Behind the Meter | S34: AC Electric | T34: Registration Complete | U34: 37496 | V34: 37601
B35: UTIL-42 | C35: CORE Solar | D35: KLINE | G35: BARNEGAT LIGHT | H35: 8006 | I35: 18 | J35: 37572 | K35: 2.8 | L35: Residential | N35: Behind the Meter | S35: AC Electric | T35: Registration Complete | U35: 37539 | V35: 37601
B36: UTIL-43 | C36: CORE Solar | D36: BROOKE | G36: LAMBERTVILLE | H36: 8530 | I36: 4 | J36: 37606 | K36: 2.92 | L36: Residential | N36: Behind the Meter | S36: JCP&L | T36: Registration Complete | U36: 37292 | V36: 37606
B37: UTIL-44 | C37: CORE Solar | D37: PHIFER | G37: THOROFARE | H37: 8086 | I37: 15 | J37: 37602 | K37: 3.7 | L37: Residential | N37: Behind the Meter | S37: PSE&G | T37: Registration Complete | U37: 37551 | V37: 37614
B38: UTIL-11 | C38: CORE Solar | E38: BP (PAULSBORO TERMINAL) | F38: 303 MANTUA AVE | G38: PAULSBORO | H38: 8066 | I38: 15 | J38: 37621 | K38: 262.14 | L38: Commercial | N38: Behind the Meter | S38: AC Electric | T38: Registration Complete | U38: 37267 | V38: 37621
B39: UTIL-46 | C39: CORE Solar | D39: RAFTER | G39: WILLIAMSTOWN | H39: 8094 | I39: 15 | J39: 37591 | K39: 3.74 | L39: Residential | N39: Behind the Meter | S39: AC Electric | T39: Registration Complete | U39: 37454 | V39: 37627
B40: UTIL-47 | C40: CORE Solar | D40: LISTHAUS | G40: LIVINGSTON | H40: 7039 | I40: 9 | J40: 37622 | K40: 10.26 | L40: Residential | N40: Behind the Meter | S40: JCP&L | T40: Registration Complete | U40: 37390 | V40: 37636
B41: UTIL-48 | C41: CORE Solar | D41: ROBBINS | G41: MOUNT HOLLY | H41: 8060 | I41: 13 | J41: 37601 | K41: 2.27 | L41: Residential | N41: Behind the Meter | S41: PSE&G | T41: Registration Complete | U41: 37540 | V41: 37644
B42: UTIL-49 | C42: CORE Solar | D42: KLIMES | G42: SOMERSET | H42: 8873 | I42: 5 | J42: 37644 | K42: 4.53 | L42: Residential | N42: Behind the Meter | S42: PSE&G | T42: Registration Complete | U42: 37546 | V42: 37644
B43: UTIL-50 | C43: CORE Solar | D43: WOOD | G43: CAMDEN | H43: 8110 | I43: 14 | J43: 37658 | K43: 4.96 | L43: Residential | N43: Behind the Meter | S43: PSE&G | T43: Registration Complete | U43: 37515 | V43: 37658
B44: UTIL-51 | C44: CORE Solar | D44: WILLIAMS | G44: SHIP BOTTOM | H44: 8008 | I44: 18 | J44: 37663 | K44: 2.48 | L44: Residential | N44: Behind the Meter | S44: AC Electric | T44: Registration Complete | U44: 37567 | V44: 37663
B45: UTIL-52 | C45: CORE Solar | D45: MEZIK | G45: BRIDGETON | H45: 8302 | I45: 20 | J45: 37677 | K45: 9.94 | L45: Residential | N45: Behind the Meter | S45: AC Electric | T45: Registration Complete | U45: 37529 | V45: 37694
B46: UTIL-53 | C46: CORE Solar | D46: SAWHNEY | G46: WEST ORANGE | H46: 7052 | I46: 9 | J46: 37705 | K46: 4.61 | L46: Residential | N46: Behind the Meter | S46: PSE&G | T46: Registration Complete | U46: 37596 | V46: 37705
B47: UTIL-54 | C47: CORE Solar | D47: EFFRON | G47: BARNEGAT | H47: 8005 | I47: 18 | J47: 37712 | K47: 2.82 | L47: Residential | N47: Behind the Meter | S47: JCP&L | T47: Registration Complete | U47: 37645 | V47: 37727
B48: UTIL-55 | C48: CORE Solar | D48: ZEBROWSKI | G48: BERLIN | H48: 8009 | I48: 14 | J48: 37739 | K48: 4.52 | L48: Residential | N48: Behind the Meter | S48: AC Electric | T48: Registration Complete | U48: 37574 | V48: 37739
B49: UTIL-56 | C49: CORE Solar | D49: MCCOY | G49: MAPLEWOOD | H49: 7040 | I49: 9 | J49: 37712 | K49: 2.78 | L49: Residential | N49: Behind the Meter | S49: PSE&G | T49: Registration Complete | U49: 37573 | V49: 37749
B50: UTIL-57 | C50: CORE Solar | D50: MCCOLLOUGH | G50: HOPEWELL | H50: 8525 | I50: 12 | J50: 37706 | K50: 4.79 | L50: Residential | N50: Behind the Meter | S50: PSE&G | T50: Registration Complete | U50: 37583 | V50: 37749
B51: UTIL-12 | C51: CORE Solar | E51: MARVIN NAFTAL | F51: 2 DEGROAT RD | G51: SANDYSTON | H51: 7827 | I51: 1 | J51: 37752 | K51: 4.19 | L51: Commercial | N51: Behind the Meter | S51: JCP&L | T51: Registration Complete | U51: 37462 | V51: 37752
B52: UTIL-59 | C52: CORE Solar | D52: NAFTAL | G52: SANDYSTON | H52: 7827 | I52: 1 | J52: 37750 | K52: 8.38 | L52: Residential | N52: Behind the Meter | S52: JCP&L | T52: Registration Complete | U52: 37582 | V52: 37752
B53: UTIL-13 | C53: CORE Solar | E53: MARVIN NAFTAL | F53: 2 DEGROAT RD | G53: SANDYSTON | H53: 7827 | I53: 1 | J53: 37752 | K53: 9.77 | L53: Commercial | N53: Behind the Meter | S53: JCP&L | T53: Registration Complete | U53: 37462 | V53: 37752
B54: UTIL-14 | C54: CORE Solar | E54: JANSSEN PHARMACEUTICA | F54: 1125 TRENTON HARBOURTON RD | G54: TITUSVILLE | H54: 8560 | I54: 12 | J54: 37764 | K54: 479.8 | L54: Commercial | N54: Behind the Meter | S54: PSE&G | T54: Registration Complete | U54: 37477 | V54: 37764
B55: UTIL-62 | C55: CORE Solar | D55: BURGHARDT | G55: HOPEWELL | H55: 8525 | I55: 12 | J55: 37750 | K55: 2.8 | L55: Residential | N55: Behind the Meter | S55: PSE&G | T55: Registration Complete | U55: 37708 | V55: 37784
B56: UTIL-61 | C56: CORE Solar | D56: KRAMER | G56: MONTCLAIR | H56: 7042 | I56: 9 | J56: 37742 | K56: 4.61 | L56: Residential | N56: Behind the Meter | S56: PSE&G | T56: Registration Complete | U56: 37683 | V56: 37784
B57: UTIL-66 | C57: CORE Solar | D57: CINCOTTA | G57: OAK RIDGE | H57: 7438 | I57: 6 | J57: 37770 | K57: 2.88 | L57: Residential | N57: Behind the Meter | S57: JCP&L | T57: Registration Complete | U57: 37683 | V57: 37813
B58: BPU-0049 | C58: CORE Solar | D58: O'KANE | G58: PORT MURRAY | H58: 7865 | I58: 2 | J58: 36739 | K58: 4.4 | L58: Residential | N58: Behind the Meter | R58: SUN FARM NETWORK | S58: JCP&L | T58: Registration Complete | U58: 37783 | V58: 37923
B59: BPU-0105 | C59: CORE Solar | D59: SCRANTON | G59: HEWITT | H59: 7421 | I59: 6 | J59: 36739 | K59: 2.64 | L59: Residential | N59: Behind the Meter | R59: SUN FARM NETWORK | S59: Orange & Rockland Elec | T59: Registration Complete | U59: 37852 | V59: 37935
B60: BPU-0120 | C60: CORE Solar | D60: MURRAY | G60: BLAIRSTOWN | H60: 7825 | I60: 2 | J60: 36800 | K60: 2.31 | L60: Residential | N60: Behind the Meter | R60: SUN FARM NETWORK | S60: JCP&L | T60: Registration Complete | U60: 37869 | V60: 37958
B61: BPU-0073 | C61: CORE Solar | D61: MACGILLIS | E61: GENESIS FARMS INC | G61: BLAIRSTOWN | H61: 7825 | I61: 2 | J61: 36831 | K61: 9.2 | L61: Farm | N61: Behind the Meter | R61: SUN FARM NETWORK | S61: JCP&L | T61: Registration Complete | U61: 37815 | V61: 37984
B62: BPU-0385 | C62: CORE Solar | D62: MEZIK | G62: BRIDGETON | H62: 8302 | I62: 20 | J62: 37677 | K62: 9.45 | L62: Residential | N62: Behind the Meter | R62: SELF INSTALL | S62: Conectiv | T62: Registration Complete | U62: 38134 | V62: 38328
B63: BPU-0558 | C63: CORE Solar | D63: CAFIERO | G63: HIGH BAR HARBOR | H63: 8008 | I63: 18 | J63: 37377 | K63: 2.64 | L63: Residential | N63: Behind the Meter | R63: SELF INSTALL | S63: Conectiv | T63: Registration Complete | U63: 38209 | V63: 38335
B64: BPU-0796 | C64: CORE Solar | D64: MAC GILLIS | E64: GENESIS FARMS-OFFICE COMPLEX | G64: BLAIRSTOWN | H64: 7825 | I64: 2 | J64: 36831 | K64: 1.84 | L64: Farm | N64: Behind the Meter | R64: SUN FARM NETWORK | S64: JCP&L | T64: Registration Complete | U64: 38330 | V64: 38385
B65: BPU-0181 | C65: CORE Solar | D65: MARCIANTE | E65: IBEW | F65: 658 WHITE HEAD ROAD | G65: TRENTON | H65: 8648 | I65: 12 | J65: 37559 | K65: 8.88 | L65: Commercial | N65: Behind the Meter | R65: ADVANCED SOLAR PRODUCTS, INC. | S65: PSE&G | T65: Registration Complete | U65: 37939 | V65: 38460
B66: BPU-1755 | C66: CORE Solar | D66: STANSLEY | G66: HOPEWELL | H66: 8525 | I66: 12 | J66: 37257 | K66: 1.92 | L66: Residential | N66: Behind the Meter | R66: NJ SOLAR SOLUTIONS | S66: JCP&L | T66: Registration Complete | U66: 38643 | V66: 38996
B67: SPP323 | C67: SREC Solar | D67: LAVIN | E67: NEWPORT OFFCE CENTER III CO, LLC | F67: 1384 POMPTON AVENUE | G67: JERSEY CITY | H67: 7310 | I67: 8 | J67: 37377 | K67: 62.7 | L67: Commercial | N67: Behind the Meter | R67: RESOURCE ENERGY SYSTEMS, INC | S67: PSE&G | T67: Registration Complete | U67: 39722 | V67: 39872

Sheet Annual Graph

Sheet Monthly Capacity
A1: ='Annual Capacity'!G1 -> New Jersey Solar Installations Report as of | G1: ='Annual Capacity'!M1 -> 46265 | H1: (Monthly Capacity)
B3: Residential (kW) | E3: Non-Residential | G3: Non-Residential | I3: Non-Residential | K3: Non-Residential | N3: Remote Net Metering (kW) (ADI ONLY) | R3: Grid Supply (kW) | U3: Community Solar (kW) | X3: ='Annual Capacity'!Y4 -> Total of All Projects as of 08/31/2026 (kW) | AA3: ='Annual Capacity'!AB2 -> Previously Reported through 07/31/2026 | AD3: ='Annual Capacity'!AE2 -> Difference between 07/31/2026 and 08/31/2026
E4: < = 100 (kW) | G4: > 100 to < 1000 (kW) | I4: > = 1000 (kW) | K4: Total (kW)
B5: Qty | C5: Capacity | E5: Qty | F5: Capacity | G5: Qty | H5: Capacity | I5: Qty | J5: Capacity | K5: Qty | L5: Capacity | N5: Qty | O5: Capacity | R5: Qty | S5: Capacity | U5: Qty | V5: Capacity | X5: Total Qty | Y5: Total Capacity | AA5: Total Qty | AB5: Total Capacity (kW) | AD5: Total Qty | AE5: Total Capacity (kW)
A7: Annual Totals in Aggregate
A8: SRP Program
A9: 2000-2009 | B9: ='Annual Capacity'!D10 -> 3964 | C9: ='Annual Capacity'!E10 -> 28763.445 | E9: ='Annual Capacity'!G10 -> 760 | F9: ='Annual Capacity'!H10 -> 16705.994 | G9: ='Annual Capacity'!I10 -> 214 | H9: ='Annual Capacity'!J10 -> 62221.445 | I9: ='Annual Capacity'!K10 -> 13 | J9: ='Annual Capacity'!L10 -> 21432.85 | K9: ='Annual Capacity'!M10 -> 987 | L9: ='Annual Capacity'!N10 -> 100360.29 | R9: ='Annual Capacity'!S10 -> 5 | S9: ='Annual Capacity'!T10 -> 3370.56 | X9: ='Annual Capacity'!Y10 -> 4956 | Y9: ='Annual Capacity'!Z10 -> 132494.29 | AA9: ='Annual Capacity'!AB10 -> 4956 | AB9: ='Annual Capacity'!AC10 -> 132494.29 | AD9: =SUM(X9-AA9) -> 0 | AE9: =SUM(Y9-AB9) -> 0
A10: 2010-2019 | B10: ='Annual Capacity'!D21 -> 111708 | C10: ='Annual Capacity'!E21 -> 935185.15 | E10: ='Annual Capacity'!G21 -> 3511 | F10: ='Annual Capacity'!H21 -> 120027.46 | G10: ='Annual Capacity'!I21 -> 2157 | H10: ='Annual Capacity'!J21 -> 700866.53 | I10: ='Annual Capacity'!K21 -> 258 | J10: ='Annual Capacity'!L21 -> 640240.14 | K10: ='Annual Capacity'!M21 -> 5926 | L10: ='Annual Capacity'!N21 -> 1461134.1 | R10: ='Annual Capacity'!S21 -> 168 | S10: ='Annual Capacity'!T21 -> 665806.67 | X10: ='Annual Capacity'!Y21 -> 117802 | Y10: ='Annual Capacity'!Z21 -> 3062125.9 | AA10: ='Annual Capacity'!AB21 -> 117802 | AB10: ='Annual Capacity'!AC21 -> 3062125.9 | AD10: =SUM(X10-AA10) -> 0 | AE10: =SUM(Y10-AB10) -> 0.0049999999
A11: 2020 | B11: ='Annual Capacity'!D32 -> 6482 | C11: ='Annual Capacity'!E32 -> 59364.28 | E11: ='Annual Capacity'!G32 -> 126 | F11: ='Annual Capacity'!H32 -> 3950.07 | G11: ='Annual Capacity'!I32 -> 57 | H11: ='Annual Capacity'!J32 -> 17747.1 | I11: ='Annual Capacity'!K32 -> 5 | J11: ='Annual Capacity'!L32 -> 13813.63 | K11: =SUM(E11+G11+I11) -> 188 | L11: =SUM(F11+H11+J11) -> 35510.8 | R11: ='Annual Capacity'!S32 -> 6 | S11: ='Annual Capacity'!T32 -> 45568.26 | X11: =SUM(B11+K11+R11+U11) -> 6676 | Y11: =SUM(C11+L11+S11+V11) -> 140443.34 | AA11: 6676 | AB11: 140443.34 | AD11: =SUM(X11-AA11) -> 0 | AE11: =SUM(Y11-AB11) -> 0
A12: 2021 | B12: ='Annual Capacity'!D33 -> 15 | C12: ='Annual Capacity'!E33 -> 101.19 | E12: ='Annual Capacity'!G33 -> 0 | F12: ='Annual Capacity'!H33 -> 0 | G12: ='Annual Capacity'!I33 -> 1 | H12: ='Annual Capacity'!J33 -> 192.76 | I12: ='Annual Capacity'!K33 -> 0 | J12: ='Annual Capacity'!L33 -> 0 | K12: =SUM(E12+G12+I12) -> 1 | L12: =SUM(F12+H12+J12) -> 192.76 | R12: ='Annual Capacity'!S33 -> 0 | S12: ='Annual Capacity'!T33 -> 0 | X12: =SUM(B12+K12+R12+U12) -> 16 | Y12: =SUM(C12+L12+S12+V12) -> 293.95 | AA12: 16 | AB12: 293.95 | AD12: =SUM(X12-AA12) -> 0 | AE12: =SUM(Y12-AB12) -> 0
A13: 2022 | B13: ='Annual Capacity'!D34 -> 1 | C13: ='Annual Capacity'!E34 -> 5.19 | E13: ='Annual Capacity'!G34 -> 0 | F13: ='Annual Capacity'!H34 -> 0 | G13: ='Annual Capacity'!I34 -> 0 | H13: ='Annual Capacity'!J34 -> 0 | I13: ='Annual Capacity'!K34 -> 0 | J13: ='Annual Capacity'!L34 -> 0 | K13: =SUM(E13+G13+I13) -> 0 | L13: =SUM(F13+H13+J13) -> 0 | R13: ='Annual Capacity'!S34 -> 0 | S13: ='Annual Capacity'!T34 -> 0 | X13: =SUM(B13+K13+R13+U13) -> 1 | Y13: =SUM(C13+L13+S13+V13) -> 5.19 | AA13: 1 | AB13: 5.19 | AD13: =SUM(X13-AA13) -> 0 | AE13: =SUM(Y13-AB13) -> 0
A14: 2023 | B14: ='Annual Capacity'!D35 -> 0 | C14: ='Annual Capacity'!E35 -> 0 | E14: ='Annual Capacity'!G35 -> 0 | F14: ='Annual Capacity'!H35 -> 0 | G14: ='Annual Capacity'!I35 -> 0 | H14: ='Annual Capacity'!J35 -> 0 | I14: ='Annual Capacity'!K35 -> 0 | J14: ='Annual Capacity'!L35 -> 0 | K14: =SUM(E14+G14+I14) -> 0 | L14: =SUM(F14+H14+J14) -> 0 | R14: ='Annual Capacity'!S35 -> 0 | S14: ='Annual Capacity'!T35 -> 0 | X14: =SUM(B14+K14+R14+U14) -> 0 | Y14: =SUM(C14+L14+S14+V14) -> 0 | AA14: 0 | AB14: 0 | AD14: =SUM(X14-AA14) -> 0 | AE14: =SUM(Y14-AB14) -> 0
A15: 2023 | B15: ='Annual Capacity'!D36 -> 0 | C15: ='Annual Capacity'!E36 -> 0 | E15: ='Annual Capacity'!G36 -> 0 | F15: ='Annual Capacity'!H36 -> 0 | G15: ='Annual Capacity'!I36 -> 0 | H15: ='Annual Capacity'!J36 -> 0 | I15: ='Annual Capacity'!K36 -> 0 | J15: ='Annual Capacity'!L36 -> 0 | K15: =SUM(E15+G15+I15) -> 0 | L15: =SUM(F15+H15+J15) -> 0 | R15: ='Annual Capacity'!S36 -> 0 | S15: ='Annual Capacity'!T36 -> 0 | X15: =SUM(B15+K15+R15+U15) -> 0 | Y15: =SUM(C15+L15+S15+V15) -> 0 | AA15: 0 | AB15: 0 | AD15: =SUM(X15-AA15) -> 0 | AE15: =SUM(Y15-AB15) -> 0
A16: 2024 | B16: ='Annual Capacity'!D37 -> 0 | C16: ='Annual Capacity'!E37 -> 0 | E16: ='Annual Capacity'!G37 -> 0 | F16: ='Annual Capacity'!H37 -> 0 | G16: ='Annual Capacity'!I37 -> 0 | H16: ='Annual Capacity'!J37 -> 0 | I16: ='Annual Capacity'!K37 -> 0 | J16: ='Annual Capacity'!L37 -> 0 | K16: =SUM(E16+G16+I16) -> 0 | L16: =SUM(F16+H16+J16) -> 0 | R16: ='Annual Capacity'!S37 -> 0 | S16: ='Annual Capacity'!T37 -> 0 | X16: =SUM(B16+K16+R16+U16) -> 0 | Y16: =SUM(C16+L16+S16+V16) -> 0 | AA16: 0 | AB16: 0 | AD16: =SUM(X16-AA16) -> 0 | AE16: =SUM(Y16-AB16) -> 0
A17: 2025 | B17: ='Annual Capacity'!D38 -> 0 | C17: ='Annual Capacity'!E38 -> 0 | E17: ='Annual Capacity'!G38 -> 0 | F17: ='Annual Capacity'!H38 -> 0 | G17: ='Annual Capacity'!I38 -> 0 | H17: ='Annual Capacity'!J38 -> 0 | I17: ='Annual Capacity'!K38 -> 0 | J17: ='Annual Capacity'!L38 -> 0 | K17: =SUM(E17+G17+I17) -> 0 | L17: =SUM(F17+H17+J17) -> 0 | R17: ='Annual Capacity'!S38 -> 0 | S17: ='Annual Capacity'!T38 -> 0 | X17: =SUM(B17+K17+R17+U17) -> 0 | Y17: =SUM(C17+L17+S17+V17) -> 0 | AA17: 0 | AB17: 0 | AD17: =SUM(X17-AA17) -> 0 | AE17: =SUM(Y17-AB17) -> 0
A19: SRP 2000-2025 Total | B19: =SUM(B9:B17) -> 122170 | C19: =SUM(C9:C17) -> 1023419.2 | E19: =SUM(E9:E17) -> 4397 | F19: =SUM(F9:F17) -> 140683.52 | G19: =SUM(G9:G17) -> 2429 | H19: =SUM(H9:H17) -> 781027.83 | I19: =SUM(I9:I17) -> 276 | J19: =SUM(J9:J17) -> 675486.62 | K19: =SUM(K9:K17) -> 7102 | L19: =SUM(L9:L17) -> 1597198 | R19: =SUM(R9:R17) -> 179 | S19: =SUM(S9:S17) -> 714745.49 | X19: =SUM(X9:X17) -> 129451 | Y19: =SUM(Y9:Y17) -> 3335362.7 | AA19: =SUM(AA9:AA17) -> 129451 | AB19: =SUM(AB9:AB17) -> 3335362.7 | AD19: =SUM(AD9:AD17) -> 0 | AE19: =SUM(AE9:AE17) -> 0.0049999999
A21: 46023 | B21: 0 | C21: 0 | E21: 0 | F21: 0 | G21: 0 | H21: 0 | I21: 0 | J21: 0 | K21: =SUM(E21+G21+I21) -> 0 | L21: =SUM(F21+H21+J21) -> 0 | R21: 0 | S21: 0 | X21: =SUM(B21+K21+R21+U21) -> 0 | Y21: =SUM(C21+L21+S21+V21) -> 0 | AA21: 0 | AB21: 0 | AD21: =SUM(X21-AA21) -> 0 | AE21: =SUM(Y21-AB21) -> 0
A22: 46054 | B22: 0 | C22: 0 | E22: 0 | F22: 0 | G22: 0 | H22: 0 | I22: 0 | J22: 0 | K22: =SUM(E22+G22+I22) -> 0 | L22: =SUM(F22+H22+J22) -> 0 | R22: 0 | S22: 0 | X22: =SUM(B22+K22+R22+U22) -> 0 | Y22: =SUM(C22+L22+S22+V22) -> 0 | AA22: 0 | AB22: 0 | AD22: =SUM(X22-AA22) -> 0 | AE22: =SUM(Y22-AB22) -> 0
A23: 46082 | B23: 0 | C23: 0 | E23: 0 | F23: 0 | G23: 0 | H23: 0 | I23: 0 | J23: 0 | K23: =SUM(E23+G23+I23) -> 0 | L23: =SUM(F23+H23+J23) -> 0 | R23: 0 | S23: 0 | X23: =SUM(B23+K23+R23+U23) -> 0 | Y23: =SUM(C23+L23+S23+V23) -> 0 | AA23: 0 | AB23: 0 | AD23: =SUM(X23-AA23) -> 0 | AE23: =SUM(Y23-AB23) -> 0
A24: 46113 | B24: 0 | C24: 0 | E24: 0 | F24: 0 | G24: 0 | H24: 0 | I24: 0 | J24: 0 | K24: =SUM(E24+G24+I24) -> 0 | L24: =SUM(F24+H24+J24) -> 0 | R24: 0 | S24: 0 | X24: =SUM(B24+K24+R24+U24) -> 0 | Y24: =SUM(C24+L24+S24+V24) -> 0 | AA24: 0 | AB24: 0 | AD24: =SUM(X24-AA24) -> 0 | AE24: =SUM(Y24-AB24) -> 0
A25: 46143 | B25: 0 | C25: 0 | E25: 0 | F25: 0 | G25: 0 | H25: 0 | I25: 0 | J25: 0 | K25: =SUM(E25+G25+I25) -> 0 | L25: =SUM(F25+H25+J25) -> 0 | R25: 0 | S25: 0 | X25: =SUM(B25+K25+R25+U25) -> 0 | Y25: =SUM(C25+L25+S25+V25) -> 0 | AA25: 0 | AB25: 0 | AD25: =SUM(X25-AA25) -> 0 | AE25: =SUM(Y25-AB25) -> 0
A26: 46174 | B26: 0 | C26: 0 | E26: 0 | F26: 0 | G26: 0 | H26: 0 | I26: 0 | J26: 0 | K26: =SUM(E26+G26+I26) -> 0 | L26: =SUM(F26+H26+J26) -> 0 | R26: 0 | S26: 0 | X26: =SUM(B26+K26+R26+U26) -> 0 | Y26: =SUM(C26+L26+S26+V26) -> 0 | AA26: 0 | AB26: 0 | AD26: =SUM(X26-AA26) -> 0 | AE26: =SUM(Y26-AB26) -> 0
A27: 46204 | B27: 0 | C27: 0 | E27: 0 | F27: 0 | G27: 0 | H27: 0 | I27: 0 | J27: 0 | K27: =SUM(E27+G27+I27) -> 0 | L27: =SUM(F27+H27+J27) -> 0 | R27: 0 | S27: 0 | X27: =SUM(B27+K27+R27+U27) -> 0 | Y27: =SUM(C27+L27+S27+V27) -> 0 | AA27: 0 | AB27: 0 | AD27: =SUM(X27-AA27) -> 0 | AE27: =SUM(Y27-AB27) -> 0
A28: 46235 | B28: 0 | C28: 0 | E28: 0 | F28: 0 | G28: 0 | H28: 0 | I28: 0 | J28: 0 | K28: =SUM(E28+G28+I28) -> 0 | L28: =SUM(F28+H28+J28) -> 0 | R28: 0 | S28: 0 | X28: =SUM(B28+K28+R28+U28) -> 0 | Y28: =SUM(C28+L28+S28+V28) -> 0 | AA28: 0 | AB28: 0 | AD28: =SUM(X28-AA28) -> 0 | AE28: =SUM(Y28-AB28) -> 0
A29: 46266 | B29: 0 | C29: 0 | E29: 0 | F29: 0 | G29: 0 | H29: 0 | I29: 0 | J29: 0 | K29: =SUM(E29+G29+I29) -> 0 | L29: =SUM(F29+H29+J29) -> 0 | R29: 0 | S29: 0 | X29: =SUM(B29+K29+R29+U29) -> 0 | Y29: =SUM(C29+L29+S29+V29) -> 0 | AA29: 0 | AB29: 0 | AD29: =SUM(X29-AA29) -> 0 | AE29: =SUM(Y29-AB29) -> 0
A30: 46296 | B30: 0 | C30: 0 | E30: 0 | F30: 0 | G30: 0 | H30: 0 | I30: 0 | J30: 0 | K30: =SUM(E30+G30+I30) -> 0 | L30: =SUM(F30+H30+J30) -> 0 | R30: 0 | S30: 0 | X30: =SUM(B30+K30+R30+U30) -> 0 | Y30: =SUM(C30+L30+S30+V30) -> 0 | AA30: 0 | AB30: 0 | AD30: =SUM(X30-AA30) -> 0 | AE30: =SUM(Y30-AB30) -> 0
A31: 46327 | B31: 0 | C31: 0 | E31: 0 | F31: 0 | G31: 0 | H31: 0 | I31: 0 | J31: 0 | K31: =SUM(E31+G31+I31) -> 0 | L31: =SUM(F31+H31+J31) -> 0 | R31: 0 | S31: 0 | X31: =SUM(B31+K31+R31+U31) -> 0 | Y31: =SUM(C31+L31+S31+V31) -> 0 | AA31: 0 | AB31: 0 | AD31: =SUM(X31-AA31) -> 0 | AE31: =SUM(Y31-AB31) -> 0
A32: 46357 | B32: 0 | C32: 0 | E32: 0 | F32: 0 | G32: 0 | H32: 0 | I32: 0 | J32: 0 | K32: =SUM(E32+G32+I32) -> 0 | L32: =SUM(F32+H32+J32) -> 0 | R32: 0 | S32: 0 | X32: =SUM(B32+K32+R32+U32) -> 0 | Y32: =SUM(C32+L32+S32+V32) -> 0 | AA32: 0 | AB32: 0 | AD32: =SUM(X32-AA32) -> 0 | AE32: =SUM(Y32-AB32) -> 0
A34: SRP 2026 Total | B34: =SUM(B21:B32) -> 0 | C34: =SUM(C21:C32) -> 0 | E34: =SUM(E21:E32) -> 0 | F34: =SUM(F21:F32) -> 0 | G34: =SUM(G21:G32) -> 0 | H34: =SUM(H21:H32) -> 0 | I34: =SUM(I21:I32) -> 0 | J34: =SUM(J21:J32) -> 0 | K34: =SUM(K21:K32) -> 0 | L34: =SUM(L21:L32) -> 0 | R34: =SUM(R21:R32) -> 0 | S34: =SUM(S21:S32) -> 0 | X34: =SUM(X21:X32) -> 0 | Y34: =SUM(Y21:Y32) -> 0 | AA34: =SUM(AA21:AA32) -> 0 | AB34: =SUM(AB21:AB32) -> 0 | AD34: =SUM(AD21:AD32) -> 0 | AE34: =SUM(AE21:AE32) -> 0
A36: SRP Total | B36: =SUM(B19+B34) -> 122170 | C36: =SUM(C19+C34) -> 1023419.2 | E36: =SUM(E19+E34) -> 4397 | F36: =SUM(F19+F34) -> 140683.52 | G36: =SUM(G19+G34) -> 2429 | H36: =SUM(H19+H34) -> 781027.83 | I36: =SUM(I19+I34) -> 276 | J36: =SUM(J19+J34) -> 675486.62 | K36: =SUM(K19+K34) -> 7102 | L36: =SUM(L19+L34) -> 1597198 | R36: =SUM(R19+R34) -> 179 | S36: =SUM(S19+S34) -> 714745.49 | X36: =SUM(X19+X34) -> 129451 | Y36: =SUM(Y19+Y34) -> 3335362.7 | AA36: =SUM(AA19+AA34) -> 129451 | AB36: =SUM(AB19+AB34) -> 3335362.7 | AD36: =SUM(AD19+AD34) -> 0 | AE36: =SUM(AE19+AE34) -> 0.0049999999
A38: TI Program
A39: 2015-2019 | B39: ='Annual Capacity'!D46 -> 118 | C39: ='Annual Capacity'!E46 -> 1356.2 | E39: ='Annual Capacity'!G46 -> 2 | F39: ='Annual Capacity'!H46 -> 119.34 | G39: ='Annual Capacity'!I46 -> 7 | H39: ='Annual Capacity'!J46 -> 2918.39 | I39: ='Annual Capacity'!K46 -> 0 | J39: ='Annual Capacity'!L46 -> 0 | K39: ='Annual Capacity'!M46 -> 9 | L39: ='Annual Capacity'!N46 -> 3037.73 | R39: ='Annual Capacity'!S46 -> 1 | S39: ='Annual Capacity'!T46 -> 232.56 | X39: ='Annual Capacity'!Y46 -> 128 | Y39: ='Annual Capacity'!Z46 -> 4626.49 | AA39: ='Annual Capacity'!AB46 -> 128 | AB39: 4626.49 | AD39: =SUM(X39-AA39) -> 0 | AE39: =SUM(Y39-AB39) -> 0
A40: 2020 | B40: ='Annual Capacity'!D52 -> 7508 | C40: ='Annual Capacity'!E52 -> 64909.32 | E40: ='Annual Capacity'!G52 -> 158 | F40: ='Annual Capacity'!H52 -> 5244.3 | G40: ='Annual Capacity'!I52 -> 130 | H40: ='Annual Capacity'!J52 -> 49278.86 | I40: ='Annual Capacity'!K52 -> 17 | J40: ='Annual Capacity'!L52 -> 43007.12 | K40: =SUM(E40+G40+I40) -> 305 | L40: =SUM(F40+H40+J40) -> 97530.28 | R40: ='Annual Capacity'!S52 -> 4 | S40: ='Annual Capacity'!T52 -> 21016.08 | U40: ='Annual Capacity'!V52 -> 0 | V40: ='Annual Capacity'!W52 -> 0 | X40: =SUM(B40+K40+R40+U40) -> 7817 | Y40: =SUM(C40+L40+S40+V40) -> 183455.68 | AA40: 7817 | AB40: 183455.68 | AD40: =SUM(X40-AA40) -> 0 | AE40: =SUM(Y40-AB40) -> 0
A41: 2021 | B41: ='Annual Capacity'!D53 -> 13938 | C41: ='Annual Capacity'!E53 -> 126867.26 | E41: ='Annual Capacity'!G53 -> 259 | F41: ='Annual Capacity'!H53 -> 11265.2 | G41: ='Annual Capacity'!I53 -> 217 | H41: ='Annual Capacity'!J53 -> 69354.41 | I41: ='Annual Capacity'!K53 -> 23 | J41: ='Annual Capacity'!L53 -> 58031.1 | K41: =SUM(E41+G41+I41) -> 499 | L41: =SUM(F41+H41+J41) -> 138650.71 | R41: ='Annual Capacity'!S53 -> 3 | S41: ='Annual Capacity'!T53 -> 33581.07 | U41: ='Annual Capacity'!V53 -> 14 | V41: ='Annual Capacity'!W53 -> 31540.98 | X41: =SUM(B41+K41+R41+U41) -> 14454 | Y41: =SUM(C41+L41+S41+V41) -> 330640.02 | AA41: 14454 | AB41: 330640.02 | AD41: =SUM(X41-AA41) -> 0 | AE41: =SUM(Y41-AB41) -> 0
A42: 2022 | B42: ='Annual Capacity'!D54 -> 1712 | C42: ='Annual Capacity'!E54 -> 16152.24 | E42: ='Annual Capacity'!G54 -> 304 | F42: ='Annual Capacity'!H54 -> 13001.17 | G42: ='Annual Capacity'!I54 -> 373 | H42: ='Annual Capacity'!J54 -> 131877.48 | I42: ='Annual Capacity'!K54 -> 49 | J42: ='Annual Capacity'!L54 -> 106576.34 | K42: =SUM(E42+G42+I42) -> 726 | L42: =SUM(F42+H42+J42) -> 251454.99 | R42: ='Annual Capacity'!S54 -> 3 | S42: ='Annual Capacity'!T54 -> 19826.06 | U42: ='Annual Capacity'!V54 -> 7 | V42: ='Annual Capacity'!W54 -> 13082.14 | X42: =SUM(B42+K42+R42+U42) -> 2448 | Y42: =SUM(C42+L42+S42+V42) -> 300515.43 | AA42: 2448 | AB42: 300515.43 | AD42: =SUM(X42-AA42) -> 0 | AE42: =SUM(Y42-AB42) -> 0
A43: 2023 | B43: ='Annual Capacity'!D55 -> 0 | C43: ='Annual Capacity'!E55 -> 0 | E43: ='Annual Capacity'!G55 -> 7 | F43: ='Annual Capacity'!H55 -> 414.84 | G43: ='Annual Capacity'!I55 -> 61 | H43: ='Annual Capacity'!J55 -> 24437.29 | I43: ='Annual Capacity'!K55 -> 10 | J43: ='Annual Capacity'!L55 -> 16275.46 | K43: =SUM(E43+G43+I43) -> 78 | L43: =SUM(F43+H43+J43) -> 41127.59 | R43: ='Annual Capacity'!S55 -> 1 | S43: ='Annual Capacity'!T55 -> 25612.2 | U43: ='Annual Capacity'!V55 -> 66 | V43: ='Annual Capacity'!W55 -> 82862.61 | X43: =SUM(B43+K43+R43+U43) -> 145 | Y43: =SUM(C43+L43+S43+V43) -> 149602.4 | AA43: 145 | AB43: 149602.4 | AD43: =SUM(X43-AA43) -> 0 | AE43: =SUM(Y43-AB43) -> 0
A44: 2024 | B44: ='Annual Capacity'!D56 -> 0 | C44: ='Annual Capacity'!E56 -> 0 | E44: ='Annual Capacity'!G56 -> 0 | F44: ='Annual Capacity'!H56 -> 0 | G44: ='Annual Capacity'!I56 -> 0 | H44: ='Annual Capacity'!J56 -> 0 | I44: ='Annual Capacity'!K56 -> 1 | J44: ='Annual Capacity'!L56 -> 1968 | K44: =SUM(E44+G44+I44) -> 1 | L44: =SUM(F44+H44+J44) -> 1968 | R44: ='Annual Capacity'!S56 -> 0 | S44: ='Annual Capacity'!T56 -> 0 | U44: ='Annual Capacity'!V56 -> 3 | V44: ='Annual Capacity'!W56 -> 10912.83 | X44: =SUM(B44+K44+R44+U44) -> 4 | Y44: =SUM(C44+L44+S44+V44) -> 12880.83 | AA44: 4 | AB44: 12880.83 | AD44: =SUM(X44-AA44) -> 0 | AE44: =SUM(Y44-AB44) -> 0
A45: 2025 | B45: ='Annual Capacity'!D57 -> 0 | C45: ='Annual Capacity'!E57 -> 0 | E45: ='Annual Capacity'!G57 -> 0 | F45: ='Annual Capacity'!H57 -> 0 | G45: ='Annual Capacity'!I57 -> 0 | H45: ='Annual Capacity'!J57 -> 0 | I45: ='Annual Capacity'!K57 -> 0 | J45: ='Annual Capacity'!L57 -> 0 | K45: =SUM(E45+G45+I45) -> 0 | L45: =SUM(F45+H45+J45) -> 0 | R45: ='Annual Capacity'!S57 -> 3 | S45: ='Annual Capacity'!T57 -> 39025.46 | U45: ='Annual Capacity'!V57 -> 0 | V45: ='Annual Capacity'!W57 -> 0 | X45: =SUM(B45+K45+R45+U45) -> 3 | Y45: =SUM(C45+L45+S45+V45) -> 39025.46 | AA45: 3 | AB45: 39025.46 | AD45: =SUM(X45-AA45) -> 0 | AE45: =SUM(Y45-AB45) -> 0
A47: TI 2015-2025 Total | B47: =SUM(B39:B45) -> 23276 | C47: =SUM(C39:C45) -> 209285.02 | E47: =SUM(E39:E45) -> 730 | F47: =SUM(F39:F45) -> 30044.85 | G47: =SUM(G39:G45) -> 788 | H47: =SUM(H39:H45) -> 277866.43 | I47: =SUM(I39:I45) -> 100 | J47: =SUM(J39:J45) -> 225858.02 | K47: =SUM(K39:K45) -> 1618 | L47: =SUM(L39:L45) -> 533769.3 | R47: =SUM(R39:R45) -> 15 | S47: =SUM(S39:S45) -> 139293.43 | U47: =SUM(U39:U45) -> 90 | V47: =SUM(V39:V45) -> 138398.56 | X47: =SUM(X39:X45) -> 24999 | Y47: =SUM(Y39:Y45) -> 1020746.3 | AA47: =SUM(AA39:AA45) -> 24999 | AB47: =SUM(AB39:AB45) -> 1020746.3 | AD47: =SUM(AD39:AD45) -> 0 | AE47: =SUM(AE39:AE45) -> 0
A49: 46023 | B49: 0 | C49: 0 | E49: 0 | F49: 0 | G49: 0 | H49: 0 | I49: 0 | J49: 0 | K49: =SUM(E49+G49+I49) -> 0 | L49: =SUM(F49+H49+J49) -> 0 | R49: 0 | S49: 0 | U49: 0 | V49: 0 | X49: =SUM(B49+K49+R49+U49) -> 0 | Y49: =SUM(C49+L49+S49+V49) -> 0 | AA49: 0 | AB49: 0 | AD49: =SUM(X49-AA49) -> 0 | AE49: =SUM(Y49-AB49) -> 0
A50: 46054 | B50: 0 | C50: 0 | E50: 0 | F50: 0 | G50: 0 | H50: 0 | I50: 0 | J50: 0 | K50: =SUM(E50+G50+I50) -> 0 | L50: =SUM(F50+H50+J50) -> 0 | R50: 0 | S50: 0 | U50: 0 | V50: 0 | X50: =SUM(B50+K50+R50+U50) -> 0 | Y50: =SUM(C50+L50+S50+V50) -> 0 | AA50: 0 | AB50: 0 | AD50: =SUM(X50-AA50) -> 0 | AE50: =SUM(Y50-AB50) -> 0
A51: 46082 | B51: 0 | C51: 0 | E51: 0 | F51: 0 | G51: 0 | H51: 0 | I51: 0 | J51: 0 | K51: =SUM(E51+G51+I51) -> 0 | L51: =SUM(F51+H51+J51) -> 0 | R51: 0 | S51: 0 | U51: 2 | V51: 5684 | X51: =SUM(B51+K51+R51+U51) -> 2 | Y51: =SUM(C51+L51+S51+V51) -> 5684 | AA51: 2 | AB51: 5684 | AD51: =SUM(X51-AA51) -> 0 | AE51: =SUM(Y51-AB51) -> 0
A52: 46113 | B52: 0 | C52: 0 | E52: 0 | F52: 0 | G52: 0 | H52: 0 | I52: 1 | J52: 14991.35 | K52: =SUM(E52+G52+I52) -> 1 | L52: =SUM(F52+H52+J52) -> 14991.35 | R52: 0 | S52: 0 | U52: 0 | V52: 0 | X52: =SUM(B52+K52+R52+U52) -> 1 | Y52: =SUM(C52+L52+S52+V52) -> 14991.35 | AA52: 1 | AB52: 14991.35 | AD52: =SUM(X52-AA52) -> 0 | AE52: =SUM(Y52-AB52) -> 0
A53: 46143 | B53: 0 | C53: 0 | E53: 0 | F53: 0 | G53: 0 | H53: 0 | I53: 0 | J53: 0 | K53: =SUM(E53+G53+I53) -> 0 | L53: =SUM(F53+H53+J53) -> 0 | R53: 0 | S53: 0 | U53: 0 | V53: 0 | X53: =SUM(B53+K53+R53+U53) -> 0 | Y53: =SUM(C53+L53+S53+V53) -> 0 | AA53: 0 | AB53: 0 | AD53: =SUM(X53-AA53) -> 0 | AE53: =SUM(Y53-AB53) -> 0
A54: 46174 | B54: 0 | C54: 0 | E54: 0 | F54: 0 | G54: 0 | H54: 0 | I54: 0 | J54: 0 | K54: =SUM(E54+G54+I54) -> 0 | L54: =SUM(F54+H54+J54) -> 0 | R54: 1 | S54: 14850.16 | U54: 0 | V54: 0 | X54: =SUM(B54+K54+R54+U54) -> 1 | Y54: =SUM(C54+L54+S54+V54) -> 14850.16 | AA54: 1 | AB54: 14850.16 | AD54: =SUM(X54-AA54) -> 0 | AE54: =SUM(Y54-AB54) -> 0
A55: 46204 | B55: 0 | C55: 0 | E55: 0 | F55: 0 | G55: 0 | H55: 0 | I55: 0 | J55: 0 | K55: =SUM(E55+G55+I55) -> 0 | L55: =SUM(F55+H55+J55) -> 0 | R55: 0 | S55: 0 | U55: 0 | V55: 0 | X55: =SUM(B55+K55+R55+U55) -> 0 | Y55: =SUM(C55+L55+S55+V55) -> 0 | AA55: 0 | AB55: 0 | AD55: =SUM(X55-AA55) -> 0 | AE55: =SUM(Y55-AB55) -> 0
A56: 46235 | B56: 0 | C56: 0 | E56: 0 | F56: 0 | G56: 0 | H56: 0 | I56: 0 | J56: 0 | K56: =SUM(E56+G56+I56) -> 0 | L56: =SUM(F56+H56+J56) -> 0 | R56: 0 | S56: 0 | U56: 0 | V56: 0 | X56: =SUM(B56+K56+R56+U56) -> 0 | Y56: =SUM(C56+L56+S56+V56) -> 0 | AA56: 0 | AB56: 0 | AD56: =SUM(X56-AA56) -> 0 | AE56: =SUM(Y56-AB56) -> 0
A57: 46266 | B57: 0 | C57: 0 | E57: 0 | F57: 0 | G57: 0 | H57: 0 | I57: 0 | J57: 0 | K57: =SUM(E57+G57+I57) -> 0 | L57: =SUM(F57+H57+J57) -> 0 | R57: 0 | S57: 0 | U57: 0 | V57: 0 | X57: =SUM(B57+K57+R57+U57) -> 0 | Y57: =SUM(C57+L57+S57+V57) -> 0 | AA57: 0 | AB57: 0 | AD57: =SUM(X57-AA57) -> 0 | AE57: =SUM(Y57-AB57) -> 0
A58: 46296 | B58: 0 | C58: 0 | E58: 0 | F58: 0 | G58: 0 | H58: 0 | I58: 0 | J58: 0 | K58: =SUM(E58+G58+I58) -> 0 | L58: =SUM(F58+H58+J58) -> 0 | R58: 0 | S58: 0 | U58: 0 | V58: 0 | X58: =SUM(B58+K58+R58+U58) -> 0 | Y58: =SUM(C58+L58+S58+V58) -> 0 | AA58: 0 | AB58: 0 | AD58: =SUM(X58-AA58) -> 0 | AE58: =SUM(Y58-AB58) -> 0
A59: 46327 | B59: 0 | C59: 0 | E59: 0 | F59: 0 | G59: 0 | H59: 0 | I59: 0 | J59: 0 | K59: =SUM(E59+G59+I59) -> 0 | L59: =SUM(F59+H59+J59) -> 0 | R59: 0 | S59: 0 | U59: 0 | V59: 0 | X59: =SUM(B59+K59+R59+U59) -> 0 | Y59: =SUM(C59+L59+S59+V59) -> 0 | AA59: 0 | AB59: 0 | AD59: =SUM(X59-AA59) -> 0 | AE59: =SUM(Y59-AB59) -> 0
A60: 46357 | B60: 0 | C60: 0 | E60: 0 | F60: 0 | G60: 0 | H60: 0 | I60: 0 | J60: 0 | K60: =SUM(E60+G60+I60) -> 0 | L60: =SUM(F60+H60+J60) -> 0 | N60: 0 | O60: 0 | R60: 0 | S60: 0 | U60: 0 | V60: 0 | X60: =SUM(B60+K60+R60+U60) -> 0 | Y60: =SUM(C60+L60+S60+V60) -> 0 | AA60: 0 | AB60: 0 | AD60: =SUM(X60-AA60) -> 0 | AE60: =SUM(Y60-AB60) -> 0
A62: TI 2026 Total | B62: =SUM(B49:B60) -> 0 | C62: =SUM(C49:C60) -> 0 | E62: =SUM(E49:E60) -> 0 | F62: =SUM(F49:F60) -> 0 | G62: =SUM(G49:G60) -> 0 | H62: =SUM(H49:H60) -> 0 | I62: =SUM(I49:I60) -> 1 | J62: =SUM(J49:J60) -> 14991.35 | K62: =SUM(K49:K60) -> 1 | L62: =SUM(L49:L60) -> 14991.35 | R62: =SUM(R49:R60) -> 1 | S62: =SUM(S49:S60) -> 14850.16 | U62: =SUM(U49:U60) -> 2 | V62: =SUM(V49:V60) -> 5684 | X62: =SUM(X49:X60) -> 4 | Y62: =SUM(Y49:Y60) -> 35525.51 | AA62: =SUM(AA49:AA60) -> 4 | AB62: =SUM(AB49:AB60) -> 35525.51 | AD62: =SUM(AD49:AD60) -> 0 | AE62: =SUM(AE49:AE60) -> 0
A64: TI Total | B64: =SUM(B47+B62) -> 23276 | C64: =SUM(C47+C62) -> 209285.02 | E64: =SUM(E47+E62) -> 730 | F64: =SUM(F47+F62) -> 30044.85 | G64: =SUM(G47+G62) -> 788 | H64: =SUM(H47+H62) -> 277866.43 | I64: =SUM(I47+I62) -> 101 | J64: =SUM(J47+J62) -> 240849.37 | K64: =SUM(K47+K62) -> 1619 | L64: =SUM(L47+L62) -> 548760.65 | R64: =SUM(R47+R62) -> 16 | S64: =SUM(S47+S62) -> 154143.59 | U64: =SUM(U47+U62) -> 92 | V64: =SUM(V47+V62) -> 144082.56 | X64: =SUM(X47+X62) -> 25003 | Y64: =SUM(Y47+Y62) -> 1056271.8 | AA64: =SUM(AA47+AA62) -> 25003 | AB64: =SUM(AB47+AB62) -> 1056271.8 | AD64: =SUM(AD47+AD62) -> 0 | AE64: =SUM(AE47+AE62) -> 0
A66: ADI Program | U66: Community Solar (CSEP)
A67: 2016-2019 | B67: ='Annual Capacity'!D63 -> 4 | C67: ='Annual Capacity'!E63 -> 32.67 | E67: ='Annual Capacity'!G63 -> 0 | F67: ='Annual Capacity'!H63 -> 0 | G67: ='Annual Capacity'!I63 -> 0 | H67: ='Annual Capacity'!J63 -> 0 | I67: ='Annual Capacity'!K63 -> 0 | J67: ='Annual Capacity'!L63 -> 0 | K67: ='Annual Capacity'!M63 -> 0 | L67: ='Annual Capacity'!N63 -> 0 | R67: ='Annual Capacity'!S63 -> 0 | S67: ='Annual Capacity'!T63 -> 0 | U67: ='Annual Capacity'!V63 -> 0 | V67: ='Annual Capacity'!W63 -> 0 | X67: ='Annual Capacity'!Y63 -> 4 | Y67: ='Annual Capacity'!Z63 -> 32.67 | AA67: 4 | AB67: 32.67 | AD67: =SUM(X67-AA67) -> 0 | AE67: =SUM(Y67-AB67) -> 0
A68: 2020 | B68: ='Annual Capacity'!D68 -> 24 | C68: ='Annual Capacity'!E68 -> 188.43 | E68: ='Annual Capacity'!G68 -> 0 | F68: ='Annual Capacity'!H68 -> 0 | G68: ='Annual Capacity'!I68 -> 0 | H68: ='Annual Capacity'!J68 -> 0 | I68: ='Annual Capacity'!K68 -> 0 | J68: ='Annual Capacity'!L68 -> 0 | K68: =SUM(E68+G68+I68) -> 0 | L68: =SUM(F68+H68+J68) -> 0 | N68: ='Annual Capacity'!P68 -> 0 | O68: ='Annual Capacity'!Q68 -> 0 | R68: ='Annual Capacity'!S68 -> 0 | S68: ='Annual Capacity'!T68 -> 0 | U68: ='Annual Capacity'!V68 -> 0 | V68: ='Annual Capacity'!W68 -> 0 | X68: =SUM(B68+K68+R68+U68+N68) -> 24 | Y68: =SUM(C68+L68+S68+V68+O68) -> 188.43 | AA68: 24 | AB68: 188.43 | AD68: =SUM(X68-AA68) -> 0 | AE68: =SUM(Y68-AB68) -> 0
A69: 2021 | B69: ='Annual Capacity'!D69 -> 784 | C69: ='Annual Capacity'!E69 -> 7287.795 | E69: ='Annual Capacity'!G69 -> 6 | F69: ='Annual Capacity'!H69 -> 266.43 | G69: ='Annual Capacity'!I69 -> 3 | H69: ='Annual Capacity'!J69 -> 440.95 | I69: ='Annual Capacity'!K69 -> 0 | J69: ='Annual Capacity'!L69 -> 0 | K69: =SUM(E69+G69+I69) -> 9 | L69: =SUM(F69+H69+J69) -> 707.38 | N69: ='Annual Capacity'!P69 -> 0 | O69: ='Annual Capacity'!Q69 -> 0 | R69: ='Annual Capacity'!S69 -> 0 | S69: ='Annual Capacity'!T69 -> 0 | U69: ='Annual Capacity'!V69 -> 0 | V69: ='Annual Capacity'!W69 -> 0 | X69: =SUM(B69+K69+R69+U69+N69) -> 793 | Y69: =SUM(C69+L69+S69+V69+O69) -> 7995.175 | AA69: 793 | AB69: 7995.175 | AD69: =SUM(X69-AA69) -> 0 | AE69: =SUM(Y69-AB69) -> 0
A70: 2022 | B70: ='Annual Capacity'!D70 -> 16245 | C70: ='Annual Capacity'!E70 -> 145611.37 | E70: ='Annual Capacity'!G70 -> 94 | F70: ='Annual Capacity'!H70 -> 3070.42 | G70: ='Annual Capacity'!I70 -> 49 | H70: ='Annual Capacity'!J70 -> 14995.34 | I70: ='Annual Capacity'!K70 -> 8 | J70: ='Annual Capacity'!L70 -> 11639.81 | K70: =SUM(E70+G70+I70) -> 151 | L70: =SUM(F70+H70+J70) -> 29705.57 | N70: ='Annual Capacity'!P70 -> 0 | O70: ='Annual Capacity'!Q70 -> 0 | R70: ='Annual Capacity'!S70 -> 0 | S70: ='Annual Capacity'!T70 -> 0 | U70: ='Annual Capacity'!V70 -> 0 | V70: ='Annual Capacity'!W70 -> 0 | X70: =SUM(B70+K70+R70+U70+N70) -> 16396 | Y70: =SUM(C70+L70+S70+V70+O70) -> 175316.94 | AA70: 16393 | AB70: 175292.36 | AD70: =SUM(X70-AA70) -> 3 | AE70: =SUM(Y70-AB70) -> 24.585
A71: 2023 | B71: ='Annual Capacity'!D71 -> 22409 | C71: ='Annual Capacity'!E71 -> 198257.54 | E71: ='Annual Capacity'!G71 -> 274 | F71: ='Annual Capacity'!H71 -> 9147.14 | G71: ='Annual Capacity'!I71 -> 139 | H71: ='Annual Capacity'!J71 -> 48005.505 | I71: ='Annual Capacity'!K71 -> 20 | J71: ='Annual Capacity'!L71 -> 34542.86 | K71: =SUM(E71+G71+I71) -> 433 | L71: =SUM(F71+H71+J71) -> 91695.505 | N71: ='Annual Capacity'!P71 -> 0 | O71: ='Annual Capacity'!Q71 -> 0 | R71: ='Annual Capacity'!S71 -> 0 | S71: ='Annual Capacity'!T71 -> 0 | U71: ='Annual Capacity'!V71 -> 16 | V71: ='Annual Capacity'!W71 -> 15981.4 | X71: =SUM(B71+K71+R71+U71+N71) -> 22858 | Y71: =SUM(C71+L71+S71+V71+O71) -> 305934.45 | AA71: 22855 | AB71: 304930.95 | AD71: =SUM(X71-AA71) -> 3 | AE71: =SUM(Y71-AB71) -> 1003.5
A72: 2024 | B72: ='Annual Capacity'!D72 -> 17979 | C72: ='Annual Capacity'!E72 -> 155245.07 | E72: ='Annual Capacity'!G72 -> 198 | F72: ='Annual Capacity'!H72 -> 7512.105 | G72: ='Annual Capacity'!I72 -> 150 | H72: ='Annual Capacity'!J72 -> 44452.29 | I72: ='Annual Capacity'!K72 -> 23 | J72: ='Annual Capacity'!L72 -> 41534.05 | K72: =SUM(E72+G72+I72) -> 371 | L72: =SUM(F72+H72+J72) -> 93498.445 | N72: ='Annual Capacity'!P72 -> 0 | O72: ='Annual Capacity'!Q72 -> 0 | R72: ='Annual Capacity'!S72 -> 0 | S72: ='Annual Capacity'!T72 -> 0 | U72: ='Annual Capacity'!V72 -> 9 | V72: ='Annual Capacity'!W72 -> 24048.35 | X72: =SUM(B72+K72+R72+U72+N72) -> 18359 | Y72: =SUM(C72+L72+S72+V72+O72) -> 272791.86 | AA72: 18355 | AB72: 272760.31 | AD72: =SUM(X72-AA72) -> 4 | AE72: =SUM(Y72-AB72) -> 31.55
A73: 2025 | B73: ='Annual Capacity'!D73 -> 19828 | C73: ='Annual Capacity'!E73 -> 192204.27 | E73: ='Annual Capacity'!G73 -> 166 | F73: ='Annual Capacity'!H73 -> 6088.3 | G73: ='Annual Capacity'!I73 -> 115 | H73: ='Annual Capacity'!J73 -> 39246.815 | I73: ='Annual Capacity'!K73 -> 8 | J73: ='Annual Capacity'!L73 -> 15117.19 | K73: =SUM(E73+G73+I73) -> 289 | L73: =SUM(F73+H73+J73) -> 60452.305 | N73: ='Annual Capacity'!P73 -> 2 | O73: ='Annual Capacity'!Q73 -> 1111.55 | R73: ='Annual Capacity'!S73 -> 0 | S73: ='Annual Capacity'!T73 -> 0 | U73: ='Annual Capacity'!V73 -> 65 | V73: ='Annual Capacity'!W73 -> 73145.02 | X73: =SUM(B73+K73+R73+U73+N73) -> 20184 | Y73: =SUM(C73+L73+S73+V73+O73) -> 326913.15 | AA73: 20072 | AB73: 326002.98 | AD73: =SUM(X73-AA73) -> 112 | AE73: =SUM(Y73-AB73) -> 910.17
A75: ADI 2019-2025 Total | B75: =SUM(B67:B73) -> 77273 | C75: =SUM(C67:C73) -> 698827.15 | E75: =SUM(E67:E73) -> 738 | F75: =SUM(F67:F73) -> 26084.395 | G75: =SUM(G67:G73) -> 456 | H75: =SUM(H67:H73) -> 147140.9 | I75: =SUM(I67:I73) -> 59 | J75: =SUM(J67:J73) -> 102833.91 | K75: =SUM(K67:K73) -> 1253 | L75: =SUM(L67:L73) -> 276059.21 | N75: =SUM(N67:N73) -> 2 | O75: =SUM(O67:O73) -> 1111.55 | R75: =SUM(R67:R73) -> 0 | S75: =SUM(S67:S73) -> 0 | U75: =SUM(U67:U73) -> 90 | V75: =SUM(V67:V73) -> 113174.77 | X75: =SUM(X67:X73) -> 78618 | Y75: =SUM(Y67:Y73) -> 1089172.7 | AA75: =SUM(AA67:AA73) -> 78496 | AB75: =SUM(AB67:AB73) -> 1087202.9 | AD75: =SUM(AD67:AD73) -> 122 | AE75: =SUM(AE67:AE73) -> 1969.805
A77: 46023 | B77: 1849 | C77: 19236.613 | E77: 11 | F77: 635.64 | G77: 22 | H77: 5241.595 | I77: 0 | J77: 0 | K77: =SUM(E77+G77+I77) -> 33 | L77: =SUM(F77+H77+J77) -> 5877.235 | N77: 0 | O77: 0 | R77: 0 | S77: 0 | U77: 6 | V77: 5235.06 | X77: =SUM(B77+K77+N77+R77+U77) -> 1888 | Y77: =SUM(C77+L77+O77+S77+V77) -> 30348.908 | AA77: 1842 | AB77: 29879.498 | AD77: =SUM(X77-AA77) -> 46 | AE77: =SUM(Y77-AB77) -> 469.41
A78: 46054 | B78: 1637 | C78: 17470.337 | E78: 13 | F78: 723.975 | G78: 12 | H78: 3710.845 | I78: 0 | J78: 0 | K78: =SUM(E78+G78+I78) -> 25 | L78: =SUM(F78+H78+J78) -> 4434.82 | N78: 0 | O78: 0 | R78: 0 | S78: 0 | U78: 5 | V78: 2815.93 | X78: =SUM(B78+K78+N78+R78+U78) -> 1667 | Y78: =SUM(C78+L78+O78+S78+V78) -> 24721.087 | AA78: 1640 | AB78: 24394.537 | AD78: =SUM(X78-AA78) -> 27 | AE78: =SUM(Y78-AB78) -> 326.55
A79: 46082 | B79: 1878 | C79: 19208.383 | E79: 11 | F79: 391.925 | G79: 7 | H79: 1927.815 | I79: 0 | J79: 0 | K79: =SUM(E79+G79+I79) -> 18 | L79: =SUM(F79+H79+J79) -> 2319.74 | N79: 0 | O79: 0 | R79: 0 | S79: 0 | U79: 11 | V79: 16622.52 | X79: =SUM(B79+K79+N79+R79+U79) -> 1907 | Y79: =SUM(C79+L79+O79+S79+V79) -> 38150.643 | AA79: 1883 | AB79: 37317.03 | AD79: =SUM(X79-AA79) -> 24 | AE79: =SUM(Y79-AB79) -> 833.613
A80: 46113 | B80: 1823 | C80: 18787.745 | E80: 12 | F80: 623.59 | G80: 4 | H80: 2359.505 | I80: 0 | J80: 0 | K80: =SUM(E80+G80+I80) -> 16 | L80: =SUM(F80+H80+J80) -> 2983.095 | N80: 0 | O80: 0 | R80: 0 | S80: 0 | U80: 5 | V80: 7625.81 | X80: =SUM(B80+K80+N80+R80+U80) -> 1844 | Y80: =SUM(C80+L80+O80+S80+V80) -> 29396.65 | AA80: 1820 | AB80: 29080.895 | AD80: =SUM(X80-AA80) -> 24 | AE80: =SUM(Y80-AB80) -> 315.755
A81: 46143 | B81: 1593 | C81: 16381.411 | E81: 10 | F81: 326.965 | G81: 10 | H81: 3040.365 | I81: 2 | J81: 3386.35 | K81: =SUM(E81+G81+I81) -> 22 | L81: =SUM(F81+H81+J81) -> 6753.68 | N81: 0 | O81: 0 | R81: 0 | S81: 0 | U81: 3 | V81: 3063.36 | X81: =SUM(B81+K81+N81+R81+U81) -> 1618 | Y81: =SUM(C81+L81+O81+S81+V81) -> 26198.451 | AA81: 1592 | AB81: 25696.041 | AD81: =SUM(X81-AA81) -> 26 | AE81: =SUM(Y81-AB81) -> 502.41
A82: 46174 | B82: 1560 | C82: 16166.385 | E82: 13 | F82: 422.58 | G82: 6 | H82: 2990.05 | I82: 0 | J82: 0 | K82: =SUM(E82+G82+I82) -> 19 | L82: =SUM(F82+H82+J82) -> 3412.63 | N82: 0 | O82: 0 | R82: 0 | S82: 0 | U82: 12 | V82: 10130.09 | X82: =SUM(B82+K82+N82+R82+U82) -> 1591 | Y82: =SUM(C82+L82+O82+S82+V82) -> 29709.105 | AA82: 1510 | AB82: 24803.385 | AD82: =SUM(X82-AA82) -> 81 | AE82: =SUM(Y82-AB82) -> 4905.72
A83: 46204 | B83: 1357 | C83: 13754.585 | E83: 9 | F83: 390.37 | G83: 5 | H83: 1564.84 | I83: 0 | J83: 0 | K83: =SUM(E83+G83+I83) -> 14 | L83: =SUM(F83+H83+J83) -> 1955.21 | N83: 0 | O83: 0 | R83: 0 | S83: 0 | U83: 8 | V83: 11832.03 | X83: =SUM(B83+K83+N83+R83+U83) -> 1379 | Y83: =SUM(C83+L83+O83+S83+V83) -> 27541.825 | AA83: 1151 | AB83: 12839.499 | AD83: =SUM(X83-AA83) -> 228 | AE83: =SUM(Y83-AB83) -> 14702.326
A84: 46235 | B84: 935 | C84: 9093.731 | E84: 7 | F84: 217.481 | G84: 5 | H84: 1305.57 | I84: 1 | J84: 1749.6 | K84: =SUM(E84+G84+I84) -> 13 | L84: =SUM(F84+H84+J84) -> 3272.651 | N84: 0 | O84: 0 | R84: 0 | S84: 0 | U84: 3 | V84: 1461.69 | X84: =SUM(B84+K84+N84+R84+U84) -> 951 | Y84: =SUM(C84+L84+O84+S84+V84) -> 13828.072 | AA84: 0 | AB84: 0 | AD84: =SUM(X84-AA84) -> 951 | AE84: =SUM(Y84-AB84) -> 13828.072
A85: 46266 | B85: 0 | C85: 0 | E85: 0 | F85: 0 | G85: 0 | H85: 0 | I85: 0 | J85: 0 | K85: =SUM(E85+G85+I85) -> 0 | L85: =SUM(F85+H85+J85) -> 0 | N85: 0 | O85: 0 | R85: 0 | S85: 0 | U85: 0 | V85: 0 | X85: =SUM(B85+K85+N85+R85+U85) -> 0 | Y85: =SUM(C85+L85+O85+S85+V85) -> 0 | AA85: 0 | AB85: 0 | AD85: =SUM(X85-AA85) -> 0 | AE85: =SUM(Y85-AB85) -> 0
A86: 46296 | B86: 0 | C86: 0 | E86: 0 | F86: 0 | G86: 0 | H86: 0 | I86: 0 | J86: 0 | K86: =SUM(E86+G86+I86) -> 0 | L86: =SUM(F86+H86+J86) -> 0 | N86: 0 | O86: 0 | R86: 0 | S86: 0 | U86: 0 | V86: 0 | X86: =SUM(B86+K86+N86+R86+U86) -> 0 | Y86: =SUM(C86+L86+O86+S86+V86) -> 0 | AA86: 0 | AB86: 0 | AD86: =SUM(X86-AA86) -> 0 | AE86: =SUM(Y86-AB86) -> 0
A87: 46327 | B87: 0 | C87: 0 | E87: 0 | F87: 0 | G87: 0 | H87: 0 | I87: 0 | J87: 0 | K87: =SUM(E87+G87+I87) -> 0 | L87: =SUM(F87+H87+J87) -> 0 | N87: 0 | O87: 0 | R87: 0 | S87: 0 | U87: 0 | V87: 0 | X87: =SUM(B87+K87+R87+U87) -> 0 | Y87: =SUM(C87+L87+S87+V87) -> 0 | AA87: 0 | AB87: 0 | AD87: =SUM(X87-AA87) -> 0 | AE87: =SUM(Y87-AB87) -> 0
A88: 46357 | B88: 0 | C88: 0 | E88: 0 | F88: 0 | G88: 0 | H88: 0 | I88: 0 | J88: 0 | K88: =SUM(E88+G88+I88) -> 0 | L88: =SUM(F88+H88+J88) -> 0 | N88: 0 | O88: 0 | R88: 0 | S88: 0 | U88: 0 | V88: 0 | X88: =SUM(B88+K88+R88+U88) -> 0 | Y88: =SUM(C88+L88+S88+V88) -> 0 | AA88: 0 | AB88: 0 | AD88: =SUM(X88-AA88) -> 0 | AE88: =SUM(Y88-AB88) -> 0
A90: ADI 2026 Total | B90: =SUM(B77:B88) -> 12632 | C90: =SUM(C77:C88) -> 130099.19 | E90: =SUM(E77:E88) -> 86 | F90: =SUM(F77:F88) -> 3732.526 | G90: =SUM(G77:G88) -> 71 | H90: =SUM(H77:H88) -> 22140.585 | I90: =SUM(I77:I88) -> 3 | J90: =SUM(J77:J88) -> 5135.95 | K90: =SUM(K77:K88) -> 160 | L90: =SUM(L77:L88) -> 31009.061 | N90: =SUM(N77:N88) -> 0 | O90: =SUM(O77:O88) -> 0 | R90: =SUM(R77:R88) -> 0 | S90: =SUM(S77:S88) -> 0 | U90: =SUM(U77:U88) -> 53 | V90: =SUM(V77:V88) -> 58786.49 | X90: =SUM(X77:X88) -> 12845 | Y90: =SUM(Y77:Y88) -> 219894.74 | AA90: =SUM(AA77:AA88) -> 11438 | AB90: =SUM(AB77:AB88) -> 184010.89 | AD90: =SUM(AD77:AD88) -> 1407 | AE90: =SUM(AE77:AE88) -> 35883.856
A92: ADI Total | B92: =SUM(B90+B75) -> 89905 | C92: =SUM(C90+C75) -> 828926.34 | E92: =SUM(E90+E75) -> 824 | F92: =SUM(F90+F75) -> 29816.921 | G92: =SUM(G90+G75) -> 527 | H92: =SUM(H90+H75) -> 169281.48 | I92: =SUM(I90+I75) -> 62 | J92: =SUM(J90+J75) -> 107969.86 | K92: =SUM(K90+K75) -> 1413 | L92: =SUM(L90+L75) -> 307068.27 | N92: =SUM(N90+N75) -> 2 | O92: =SUM(O90+O75) -> 1111.55 | R92: =SUM(R90+R75) -> 0 | S92: =SUM(S90+S75) -> 0 | U92: =SUM(U90+U75) -> 143 | V92: =SUM(V90+V75) -> 171961.26 | X92: =SUM(X90+X75) -> 91463 | Y92: =SUM(Y90+Y75) -> 1309067.4 | AA92: =SUM(AA90+AA75) -> 89934 | AB92: =SUM(AB90+AB75) -> 1271213.8 | AD92: =SUM(AD90+AD75) -> 1529 | AE92: =SUM(AE90+AE75) -> 37853.661
A94: CSI Program
A95: 2023 | E95: ='Annual Capacity'!F84 -> 0 | F95: ='Annual Capacity'!G84 -> 0 | G95: ='Annual Capacity'!H84 -> 0 | H95: ='Annual Capacity'!I84 -> 0 | I95: ='Annual Capacity'!J84 -> 0 | J95: ='Annual Capacity'!K84 -> 0 | K95: ='Annual Capacity'!L84 -> 0 | L95: ='Annual Capacity'!M84 -> 0 | R95: ='Annual Capacity'!S84 -> 1 | S95: ='Annual Capacity'!T84 -> 2772.77 | X95: =SUM(B95+K95+R95+U95+N95) -> 1 | Y95: =SUM(C95+L95+S95+V95+O95) -> 2772.77 | AA95: 1 | AB95: 2772.77 | AD95: =SUM(X95-AA95) -> 0 | AE95: =SUM(Y95-AB95) -> 0
A96: 2024 | E96: ='Annual Capacity'!F85 -> 0 | F96: ='Annual Capacity'!G85 -> 0 | G96: ='Annual Capacity'!H85 -> 0 | H96: ='Annual Capacity'!I85 -> 0 | I96: ='Annual Capacity'!J85 -> 0 | J96: ='Annual Capacity'!K85 -> 0 | K96: ='Annual Capacity'!L85 -> 0 | L96: ='Annual Capacity'!M85 -> 0 | R96: ='Annual Capacity'!S85 -> 0 | S96: ='Annual Capacity'!T85 -> 0 | X96: =SUM(B96+K96+R96+U96+N96) -> 0 | Y96: =SUM(C96+L96+S96+V96+O96) -> 0 | AA96: 0 | AB96: 0 | AD96: =SUM(X96-AA96) -> 0 | AE96: =SUM(Y96-AB96) -> 0
A97: 2025 | E97: ='Annual Capacity'!F86 -> 0 | F97: ='Annual Capacity'!G86 -> 0 | G97: ='Annual Capacity'!H86 -> 0 | H97: ='Annual Capacity'!I86 -> 0 | I97: ='Annual Capacity'!J86 -> 0 | J97: ='Annual Capacity'!K86 -> 0 | K97: ='Annual Capacity'!L86 -> 0 | L97: ='Annual Capacity'!M86 -> 0 | R97: ='Annual Capacity'!S86 -> 1 | S97: ='Annual Capacity'!T86 -> 12326.6 | X97: =SUM(B97+K97+R97+U97+N97) -> 1 | Y97: =SUM(C97+L97+S97+V97+O97) -> 12326.6 | AA97: 1 | AB97: 12326.6 | AD97: =SUM(X97-AA97) -> 0 | AE97: =SUM(Y97-AB97) -> 0
A99: CSI 2023-2025 Total | E99: =SUM(E95:E97) -> 0 | F99: =SUM(F95:F97) -> 0 | G99: =SUM(G95:G97) -> 0 | H99: =SUM(H95:H97) -> 0 | I99: =SUM(I95:I97) -> 0 | J99: =SUM(J95:J97) -> 0 | K99: =SUM(K95:K97) -> 0 | L99: =SUM(L95:L97) -> 0 | R99: =SUM(R95:R97) -> 2 | S99: =SUM(S95:S97) -> 15099.37 | X99: =SUM(X95:X97) -> 2 | Y99: =SUM(Y95:Y97) -> 15099.37 | AA99: =SUM(AA95:AA97) -> 2 | AB99: =SUM(AB95:AB97) -> 15099.37 | AD99: =AD97 -> 0 | AE99: =AE97 -> 0
A101: 46023 | E101: 0 | F101: 0 | G101: 0 | H101: 0 | I101: 0 | J101: 0 | K101: =SUM(E101+G101+I101) -> 0 | L101: =SUM(F101+H101+J101) -> 0 | R101: 0 | S101: 0 | X101: =SUM(B101+K101+R101+U101+N101) -> 0 | Y101: =SUM(C101+L101+S101+V101+O101) -> 0 | AA101: 0 | AB101: 0 | AD101: =SUM(X101-AA101) -> 0 | AE101: =SUM(Y101-AB101) -> 0
A102: 46054 | E102: 0 | F102: 0 | G102: 0 | H102: 0 | I102: 0 | J102: 0 | K102: =SUM(E102+G102+I102) -> 0 | L102: =SUM(F102+H102+J102) -> 0 | R102: 0 | S102: 0 | X102: =SUM(B102+K102+R102+U102+N102) -> 0 | Y102: =SUM(C102+L102+S102+V102+O102) -> 0 | AA102: 0 | AB102: 0 | AD102: =SUM(X102-AA102) -> 0 | AE102: =SUM(Y102-AB102) -> 0
A103: 46082 | E103: 0 | F103: 0 | G103: 0 | H103: 0 | I103: 0 | J103: 0 | K103: =SUM(E103+G103+I103) -> 0 | L103: =SUM(F103+H103+J103) -> 0 | R103: 0 | S103: 0 | X103: =SUM(B103+K103+R103+U103+N103) -> 0 | Y103: =SUM(C103+L103+S103+V103+O103) -> 0 | AA103: 0 | AB103: 0 | AD103: =SUM(X103-AA103) -> 0 | AE103: =SUM(Y103-AB103) -> 0
A104: 46113 | E104: 0 | F104: 0 | G104: 0 | H104: 0 | I104: 0 | J104: 0 | K104: =SUM(E104+G104+I104) -> 0 | L104: =SUM(F104+H104+J104) -> 0 | R104: 0 | S104: 0 | X104: =SUM(B104+K104+R104+U104+N104) -> 0 | Y104: =SUM(C104+L104+S104+V104+O104) -> 0 | AA104: 0 | AB104: 0 | AD104: =SUM(X104-AA104) -> 0 | AE104: =SUM(Y104-AB104) -> 0
A105: 46143 | E105: 0 | F105: 0 | G105: 0 | H105: 0 | I105: 0 | J105: 0 | K105: =SUM(E105+G105+I105) -> 0 | L105: =SUM(F105+H105+J105) -> 0 | R105: 1 | S105: 7410.91 | X105: =SUM(B105+K105+R105+U105+N105) -> 1 | Y105: =SUM(C105+L105+S105+V105+O105) -> 7410.91 | AA105: 1 | AB105: 7410.91 | AD105: =SUM(X105-AA105) -> 0 | AE105: =SUM(Y105-AB105) -> 0
A106: 46174 | E106: 0 | F106: 0 | G106: 0 | H106: 0 | I106: 0 | J106: 0 | K106: =SUM(E106+G106+I106) -> 0 | L106: =SUM(F106+H106+J106) -> 0 | R106: 0 | S106: 0 | X106: =SUM(B106+K106+R106+U106+N106) -> 0 | Y106: =SUM(C106+L106+S106+V106+O106) -> 0 | AA106: 0 | AB106: 0 | AD106: =SUM(X106-AA106) -> 0 | AE106: =SUM(Y106-AB106) -> 0
A107: 46204 | E107: 0 | F107: 0 | G107: 0 | H107: 0 | I107: 0 | J107: 0 | K107: =SUM(E107+G107+I107) -> 0 | L107: =SUM(F107+H107+J107) -> 0 | R107: 0 | S107: 0 | X107: =SUM(B107+K107+R107+U107) -> 0 | Y107: =SUM(C107+L107+S107+V107) -> 0 | AA107: 0 | AB107: 0 | AD107: =SUM(X107-AA107) -> 0 | AE107: =SUM(Y107-AB107) -> 0
A108: 46235 | E108: 0 | F108: 0 | G108: 0 | H108: 0 | I108: 0 | J108: 0 | K108: =SUM(E108+G108+I108) -> 0 | L108: =SUM(F108+H108+J108) -> 0 | R108: 0 | S108: 0 | X108: =SUM(B108+K108+R108+U108) -> 0 | Y108: =SUM(C108+L108+S108+V108) -> 0 | AA108: 0 | AB108: 0 | AD108: =SUM(X108-AA108) -> 0 | AE108: =SUM(Y108-AB108) -> 0
A109: 46266 | E109: 0 | F109: 0 | G109: 0 | H109: 0 | I109: 0 | J109: 0 | K109: =SUM(E109+G109+I109) -> 0 | L109: =SUM(F109+H109+J109) -> 0 | R109: 0 | S109: 0 | X109: =SUM(B109+K109+R109+U109) -> 0 | Y109: =SUM(C109+L109+S109+V109) -> 0 | AA109: 0 | AB109: 0 | AD109: =SUM(X109-AA109) -> 0 | AE109: =SUM(Y109-AB109) -> 0
A110: 46296 | E110: 0 | F110: 0 | G110: 0 | H110: 0 | I110: 0 | J110: 0 | K110: =SUM(E110+G110+I110) -> 0 | L110: =SUM(F110+H110+J110) -> 0 | R110: 0 | S110: 0 | X110: =SUM(B110+K110+R110+U110) -> 0 | Y110: =SUM(C110+L110+S110+V110) -> 0 | AA110: 0 | AB110: 0 | AD110: =SUM(X110-AA110) -> 0 | AE110: =SUM(Y110-AB110) -> 0
A111: 46327 | E111: 0 | F111: 0 | G111: 0 | H111: 0 | I111: 0 | J111: 0 | K111: =SUM(E111+G111+I111) -> 0 | L111: =SUM(F111+H111+J111) -> 0 | R111: 0 | S111: 0 | X111: =SUM(B111+K111+R111+U111) -> 0 | Y111: =SUM(C111+L111+S111+V111) -> 0 | AA111: 0 | AB111: 0 | AD111: =SUM(X111-AA111) -> 0 | AE111: =SUM(Y111-AB111) -> 0
A112: 46357 | E112: 0 | F112: 0 | G112: 0 | H112: 0 | I112: 0 | J112: 0 | K112: =SUM(E112+G112+I112) -> 0 | L112: =SUM(F112+H112+J112) -> 0 | R112: 0 | S112: 0 | X112: =SUM(B112+K112+R112+U112) -> 0 | Y112: =SUM(C112+L112+S112+V112) -> 0 | AA112: 0 | AB112: 0 | AD112: =SUM(X112-AA112) -> 0 | AE112: =SUM(Y112-AB112) -> 0
A114: CSI 2026 Total | E114: =SUM(E101:E112) -> 0 | F114: =SUM(F101:F112) -> 0 | G114: =SUM(G101:G112) -> 0 | H114: =SUM(H101:H112) -> 0 | I114: =SUM(I101:I112) -> 0 | J114: =SUM(J101:J112) -> 0 | K114: =SUM(K101:K112) -> 0 | L114: =SUM(L101:L112) -> 0 | R114: =SUM(R101:R112) -> 1 | S114: =SUM(S101:S112) -> 7410.91 | X114: =SUM(X101:X112) -> 1 | Y114: =SUM(Y101:Y112) -> 7410.91 | AA114: =SUM(AA101:AA112) -> 1 | AB114: =SUM(AB101:AB112) -> 7410.91 | AD114: =SUM(AD101:AD112) -> 0 | AE114: =SUM(AE101:AE112) -> 0
A116: CSI Total | E116: =SUM(E99+E114) -> 0 | F116: =SUM(F99+F114) -> 0 | G116: =SUM(G99+G114) -> 0 | H116: =SUM(H99+H114) -> 0 | I116: =SUM(I99+I114) -> 0 | J116: =SUM(J99+J114) -> 0 | K116: =SUM(K99+K114) -> 0 | L116: =SUM(L99+L114) -> 0 | R116: =SUM(R99+R114) -> 3 | S116: =SUM(S99+S114) -> 22510.28 | X116: =SUM(X99+X114) -> 3 | Y116: =SUM(Y99+Y114) -> 22510.28 | AA116: =SUM(AA99+AA114) -> 3 | AB116: =SUM(AB99+AB114) -> 22510.28 | AD116: =SUM(AD99+AD114) -> 0 | AE116: =SUM(AE99+AE114) -> 0
A118: SRP, TI, ADI & CSI Program Totals
A119: 2000-2025 Total | B119: =SUM(B19+B47+B75+B99) -> 222719 | C119: =SUM(C19+C47+C75+C99) -> 1931531.4 | E119: =SUM(E19+E47+E75+E99) -> 5865 | F119: =SUM(F19+F47+F75+F99) -> 196812.77 | G119: =SUM(G19+G47+G75+G99) -> 3673 | H119: =SUM(H19+H47+H75+H99) -> 1206035.2 | I119: =SUM(I19+I47+I75+I99) -> 435 | J119: =SUM(J19+J47+J75+J99) -> 1004178.6 | K119: =SUM(K19+K47+K75+K99) -> 9973 | L119: =SUM(L19+L47+L75+L99) -> 2407026.5 | N119: =SUM(N19+N47+N75+N99) -> 2 | O119: =SUM(O19+O47+O75+O99) -> 1111.55 | R119: =SUM(R19+R47+R75+R99) -> 196 | S119: =SUM(S19+S47+S75+S99) -> 869138.29 | U119: =SUM(U19+U47+U75+U99) -> 180 | V119: =SUM(V19+V47+V75+V99) -> 251573.33 | X119: =SUM(X19+X47+X75+X99) -> 233070 | Y119: =SUM(Y19+Y47+Y75+Y99) -> 5460381.1 | AA119: =SUM(AA19+AA47+AA75+AA99) -> 232948 | AB119: =SUM(AB19+AB47+AB75+AB99) -> 5458411.3 | AD119: =SUM(AD19+AD47+AD75+AD99) -> 122 | AE119: =SUM(AE19+AE47+AE75+AE99) -> 1969.81
A121: 46023 | B121: =SUM(B21+B49+B77) -> 1849 | C121: =SUM(C21+C49+C77) -> 19236.613 | E121: =SUM(E21+E49+E77) -> 11 | F121: =SUM(F21+F49+F77) -> 635.64 | G121: =SUM(G21+G49+G77) -> 22 | H121: =SUM(H21+H49+H77) -> 5241.595 | I121: =SUM(I21+I49+I77) -> 0 | J121: =SUM(J21+J49+J77) -> 0 | K121: =SUM(E121+G121+I121) -> 33 | L121: =SUM(F121+H121+J121) -> 5877.235 | N121: =SUM(N21+N49+N77+N101) -> 0 | O121: =SUM(O21+O49+O77+O101) -> 0 | R121: =SUM(R21+R49+R77+R101) -> 0 | S121: =SUM(S21+S49+S77+S101) -> 0 | U121: =SUM(U21+U49+U77) -> 6 | V121: =SUM(V21+V49+V77) -> 5235.06 | X121: =SUM(B121+K121+R121+U121+N121) -> 1888 | Y121: =SUM(C121+L121+S121+V121+O121) -> 30348.908 | AA121: 1842 | AB121: 29879.498 | AD121: =SUM(X121-AA121) -> 46 | AE121: =SUM(Y121-AB121) -> 469.41
A122: 46054 | B122: =SUM(B22+B50+B78) -> 1637 | C122: =SUM(C22+C50+C78) -> 17470.337 | E122: =SUM(E22+E50+E78) -> 13 | F122: =SUM(F22+F50+F78) -> 723.975 | G122: =SUM(G22+G50+G78) -> 12 | H122: =SUM(H22+H50+H78) -> 3710.845 | I122: =SUM(I22+I50+I78) -> 0 | J122: =SUM(J22+J50+J78) -> 0 | K122: =SUM(E122+G122+I122) -> 25 | L122: =SUM(F122+H122+J122) -> 4434.82 | N122: =SUM(N22+N50+N78+N102) -> 0 | O122: =SUM(O22+O50+O78+O102) -> 0 | R122: =SUM(R22+R50+R78+R102) -> 0 | S122: =SUM(S22+S50+S78+S102) -> 0 | U122: =SUM(U22+U50+U78) -> 5 | V122: =SUM(V22+V50+V78) -> 2815.93 | X122: =SUM(B122+K122+R122+U122+N122) -> 1667 | Y122: =SUM(C122+L122+S122+V122+O122) -> 24721.087 | AA122: 1640 | AB122: 24394.537 | AD122: =SUM(X122-AA122) -> 27 | AE122: =SUM(Y122-AB122) -> 326.55
A123: 46082 | B123: =SUM(B23+B51+B79) -> 1878 | C123: =SUM(C23+C51+C79) -> 19208.383 | E123: =SUM(E23+E51+E79) -> 11 | F123: =SUM(F23+F51+F79) -> 391.925 | G123: =SUM(G23+G51+G79) -> 7 | H123: =SUM(H23+H51+H79) -> 1927.815 | I123: =SUM(I23+I51+I79) -> 0 | J123: =SUM(J23+J51+J79) -> 0 | K123: =SUM(E123+G123+I123) -> 18 | L123: =SUM(F123+H123+J123) -> 2319.74 | N123: =SUM(N23+N51+N79+N103) -> 0 | O123: =SUM(O23+O51+O79+O103) -> 0 | R123: =SUM(R23+R51+R79+R103) -> 0 | S123: =SUM(S23+S51+S79+S103) -> 0 | U123: =SUM(U23+U51+U79) -> 13 | V123: =SUM(V23+V51+V79) -> 22306.52 | X123: =SUM(B123+K123+R123+U123+N123) -> 1909 | Y123: =SUM(C123+L123+S123+V123+O123) -> 43834.643 | AA123: 1885 | AB123: 43001.03 | AD123: =SUM(X123-AA123) -> 24 | AE123: =SUM(Y123-AB123) -> 833.613
...

Sheet Decertified Capacity
B1: SRP Decertified Projects (2000-2020) as of | I1: ='Annual Capacity'!M1 -> 46265
D3: Residential (kW) | G3: Non-Residential | J3: Grid Supply (kW) | M3: ='Annual Capacity'!Y4 -> Total of All Projects as of 08/31/2026 (kW) | P3: ='Annual Capacity'!AB2 -> Previously Reported through 07/31/2026 | S3: ='Annual Capacity'!AE2 -> Difference between 07/31/2026 and 08/31/2026
G4: Total (kW)
D5: Qty | E5: Capacity | G5: Qty | H5: Capacity | J5: Qty | K5: Capacity | M5: Total Qty | N5: Total Capacity | P5: Total Qty | Q5: Total Capacity (kW) | S5: Total Qty | T5: Total Capacity (kW)
B7: PTO Year (SRP)
B8: 2000 | D8: 0 | E8: 0 | G8: 0 | H8: 0 | J8: 0 | K8: 0 | M8: =SUM(D8+G8+J8) -> 0 | N8: =SUM(E8+H8+K8) -> 0 | P8: 0 | Q8: 0 | S8: =SUM(M8-P8) -> 0 | T8: =SUM(N8-Q8) -> 0
B9: 2001 | D9: 0 | E9: 0 | G9: 0 | H9: 0 | J9: 0 | K9: 0 | M9: =SUM(D9+G9+J9) -> 0 | N9: =SUM(E9+H9+K9) -> 0 | P9: 0 | Q9: 0 | S9: =SUM(M9-P9) -> 0 | T9: =SUM(N9-Q9) -> 0
B10: 2002 | D10: 1 | E10: 1.92 | G10: 0 | H10: 0 | J10: 0 | K10: 0 | M10: =SUM(D10+G10+J10) -> 1 | N10: =SUM(E10+H10+K10) -> 1.92 | P10: 1 | Q10: 1.92 | S10: =SUM(M10-P10) -> 0 | T10: =SUM(N10-Q10) -> 0
B11: 2003 | D11: 4 | E11: 22.7 | G11: 2 | H11: 95.6 | J11: 0 | K11: 0 | M11: =SUM(D11+G11+J11) -> 6 | N11: =SUM(E11+H11+K11) -> 118.3 | P11: 6 | Q11: 118.3 | S11: =SUM(M11-P11) -> 0 | T11: =SUM(N11-Q11) -> 0
B12: 2004 | D12: 16 | E12: 100.869 | G12: 0 | H12: 0 | J12: 0 | K12: 0 | M12: =SUM(D12+G12+J12) -> 16 | N12: =SUM(E12+H12+K12) -> 100.869 | P12: 16 | Q12: 100.869 | S12: =SUM(M12-P12) -> 0 | T12: =SUM(N12-Q12) -> 0
B13: 2005 | D13: 25 | E13: 178.436 | G13: 3 | H13: 27.328 | J13: 0 | K13: 0 | M13: =SUM(D13+G13+J13) -> 28 | N13: =SUM(E13+H13+K13) -> 205.764 | P13: 28 | Q13: 205.764 | S13: =SUM(M13-P13) -> 0 | T13: =SUM(N13-Q13) -> 0
B14: 2006 | D14: 30 | E14: 226.031 | G14: 5 | H14: 296.072 | J14: 0 | K14: 0 | M14: =SUM(D14+G14+J14) -> 35 | N14: =SUM(E14+H14+K14) -> 522.103 | P14: 35 | Q14: 522.103 | S14: =SUM(M14-P14) -> 0 | T14: =SUM(N14-Q14) -> 0
D16: Note (1): | E16: Projects that have requested decertification prior to reaching the end of their SREC qualification life.
B18: 2007 | D18: 23 | E18: 187.472 | G18: 4 | H18: 1065.22 | J18: 0 | K18: 0 | M18: =SUM(D18+G18+J18) -> 27 | N18: =SUM(E18+H18+K18) -> 1252.692 | P18: 26 | Q18: 1243.892 | S18: =SUM(M18-P18) -> 1 | T18: =SUM(N18-Q18) -> 8.8
B19: 2008 | D19: 23 | E19: 171.516 | G19: 5 | H19: 198.51 | J19: 0 | K19: 0 | M19: =SUM(D19+G19+J19) -> 28 | N19: =SUM(E19+H19+K19) -> 370.026 | P19: 28 | Q19: 370.026 | S19: =SUM(M19-P19) -> 0 | T19: =SUM(N19-Q19) -> 0
B20: 2009 | D20: 30 | E20: 226.26 | G20: 6 | H20: 3504.515 | J20: 0 | K20: 0 | M20: =SUM(D20+G20+J20) -> 36 | N20: =SUM(E20+H20+K20) -> 3730.775 | P20: 36 | Q20: 3730.775 | S20: =SUM(M20-P20) -> 0 | T20: =SUM(N20-Q20) -> 0
B21: 2010 | D21: 45 | E21: 310.734 | G21: 10 | H21: 817.986 | J21: 0 | K21: 0 | M21: =SUM(D21+G21+J21) -> 55 | N21: =SUM(E21+H21+K21) -> 1128.72 | P21: 55 | Q21: 1128.72 | S21: =SUM(M21-P21) -> 0 | T21: =SUM(N21-Q21) -> 0
B22: 2011 | D22: 43 | E22: 327.165 | G22: 26 | H22: 3399.788 | J22: 0 | K22: 0 | M22: =SUM(D22+G22+J22) -> 69 | N22: =SUM(E22+H22+K22) -> 3726.953 | P22: 65 | Q22: 3687.843 | S22: =SUM(M22-P22) -> 4 | T22: =SUM(N22-Q22) -> 39.11
B23: 2012 | D23: 24 | E23: 161.507 | G23: 5 | H23: 1499.29 | J23: 0 | K23: 0 | M23: =SUM(D23+G23+J23) -> 29 | N23: =SUM(E23+H23+K23) -> 1660.797 | P23: 28 | Q23: 1161.117 | S23: =SUM(M23-P23) -> 1 | T23: =SUM(N23-Q23) -> 499.68
B24: 2013 | D24: 21 | E24: 125.689 | G24: 7 | H24: 2487.27 | J24: 0 | K24: 0 | M24: =SUM(D24+G24+J24) -> 28 | N24: =SUM(E24+H24+K24) -> 2612.959 | P24: 28 | Q24: 2612.959 | S24: =SUM(M24-P24) -> 0 | T24: =SUM(N24-Q24) -> 0
B25: 2014 | D25: 19 | E25: 139.475 | G25: 0 | H25: 0 | J25: 0 | K25: 0 | M25: =SUM(D25+G25+J25) -> 19 | N25: =SUM(E25+H25+K25) -> 139.475 | P25: 19 | Q25: 139.475 | S25: =SUM(M25-P25) -> 0 | T25: =SUM(N25-Q25) -> 0
B26: 2015 | D26: 17 | E26: 109.97 | G26: 0 | H26: 0 | J26: 0 | K26: 0 | M26: =SUM(D26+G26+J26) -> 17 | N26: =SUM(E26+H26+K26) -> 109.97 | P26: 16 | Q26: 104.51 | S26: =SUM(M26-P26) -> 1 | T26: =SUM(N26-Q26) -> 5.46
B27: 2016 | D27: 26 | E27: 208.37 | G27: 1 | H27: 8.96 | J27: 0 | K27: 0 | M27: =SUM(D27+G27+J27) -> 27 | N27: =SUM(E27+H27+K27) -> 217.33 | P27: 26 | Q27: 211.39 | S27: =SUM(M27-P27) -> 1 | T27: =SUM(N27-Q27) -> 5.94
B28: 2017 | D28: 11 | E28: 117.53 | G28: 0 | H28: 0 | J28: 0 | K28: 0 | M28: =SUM(D28+G28+J28) -> 11 | N28: =SUM(E28+H28+K28) -> 117.53 | P28: 11 | Q28: 117.53 | S28: =SUM(M28-P28) -> 0 | T28: =SUM(N28-Q28) -> 0
B29: 2018 | D29: 10 | E29: 80.5 | G29: 0 | H29: 0 | J29: 0 | K29: 0 | M29: =SUM(D29+G29+J29) -> 10 | N29: =SUM(E29+H29+K29) -> 80.5 | P29: 10 | Q29: 80.5 | S29: =SUM(M29-P29) -> 0 | T29: =SUM(N29-Q29) -> 0
... B31: 2020 | D31: 5 | E31: 46.65 | G31: 0 | H31: 0 | J31: 0 | K31: 0 | M31: =SUM(D31+G31+J31) -> 5 | N31: =SUM(E31+H31+K31) -> 46.65 | P31: 5 | Q31: 46.65 | S31: =SUM(M31-P31) -> 0 | T31: =SUM(N31-Q31) -> 0
D33: Note (2): | E33: Projects that have requested decertification by the customer or PJM Gats that have not yet reached the end of their SREC qualification life.
B35: SRP Decertified Total | D35: =SUM(D8:D31) -> 380 | E35: =SUM(E8:E31) -> 2816.554 | G35: =SUM(G8:G31) -> 74 | H35: =SUM(H8:H31) -> 13400.539 | J35: =SUM(J8:J31) -> 0 | K35: =SUM(K8:K31) -> 0 | M35: =SUM(M8:M31) -> 454 | N35: =SUM(N8:N31) -> 16217.093 | P35: =SUM(P8:P31) -> 446 | Q35: =SUM(Q8:Q31) -> 15658.103 | S35: =SUM(M35-P35) -> 8 | T35: =SUM(N35-Q35) -> 558.99
B38: TI Decertified Projects (2020 - 2022) as of | I38: =I1 -> 46265
B40: 2020 | D40: 1 | E40: 9.92 | G40: 0 | H40: 0 | J40: 0 | K40: 0 | M40: =SUM(D40+G40+J40) -> 1 | N40: =SUM(E40+H40+K40) -> 9.92 | P40: 1 | Q40: 9.92 | S40: =SUM(M40-P40) -> 0 | T40: =SUM(N40-Q40) -> 0
B41: 2021 | D41: 2 | E41: 24.51 | G41: 0 | H41: 0 | J41: 0 | K41: 0 | M41: =SUM(D41+G41+J41) -> 2 | N41: =SUM(E41+H41+K41) -> 24.51 | P41: 2 | Q41: 24.51 | S41: =SUM(M41-P41) -> 0 | T41: =SUM(N41-Q41) -> 0
B42: 2022 | D42: 1 | E42: 10.05 | G42: 0 | H42: 0 | J42: 0 | K42: 0 | M42: =SUM(D42+G42+J42) -> 1 | N42: =SUM(E42+H42+K42) -> 10.05 | P42: 1 | Q42: 10.05 | S42: =SUM(M42-P42) -> 0 | T42: =SUM(N42-Q42) -> 0
D44: Note (3): | E44: Projects that have requested decertification prior to reaching the end of their TREC qualification life.
B46: TI Decertified Total | D46: =SUM(D40:D42) -> 4 | E46: =SUM(E40:E42) -> 44.48 | G46: =SUM(G40:G42) -> 0 | H46: =SUM(H40:H42) -> 0 | J46: =SUM(J40:J42) -> 0 | K46: =SUM(K40:K42) -> 0 | M46: =SUM(M40:M42) -> 4 | N46: =SUM(N40:N42) -> 44.48 | P46: =SUM(P40:P42) -> 4 | Q46: =SUM(Q40:Q42) -> 44.48 | S46: =SUM(M46-P46) -> 0 | T46: =SUM(N46-Q46) -> 0
B48: ADI Decertified Projects (2023) as of | I48: =I1 -> 46265
B50: 2022 | D50: 1 | E50: 3.9 | G50: 0 | H50: 0 | J50: 0 | K50: 0 | M50: =SUM(D50+G50+J50) -> 1 | N50: =SUM(E50+H50+K50) -> 3.9 | P50: 1 | Q50: 3.9 | S50: =SUM(M50-P50) -> 0 | T50: =SUM(N50-Q50) -> 0
B51: 2023 | D51: 3 | E51: 21.02 | G51: 0 | H51: 0 | J51: 0 | K51: 0 | M51: =SUM(D51+G51+J51) -> 3 | N51: =SUM(E51+H51+K51) -> 21.02 | P51: 3 | Q51: 21.02 | S51: =SUM(M51-P51) -> 0 | T51: =SUM(N51-Q51) -> 0
B53: ADI Decertified Total | D53: =SUM(D50:D51) -> 4 | E53: =SUM(E50:E51) -> 24.92 | G53: =SUM(G50:G51) -> 0 | H53: =SUM(H50:H51) -> 0 | J53: =SUM(J50:J51) -> 0 | K53: =SUM(K50:K51) -> 0 | M53: =SUM(M50:M51) -> 4 | N53: =SUM(N50:N51) -> 24.92 | P53: =SUM(P50:P51) -> 4 | Q53: =SUM(Q50:Q51) -> 24.92 | S53: =SUM(M53-P53) -> 0 | T53: =SUM(N53-Q53) -> 0
B55: SRP, TI & ADI Decertified Program Totals | D55: =SUM(D35+D46+D53) -> 388 | E55: =SUM(E35+E46+E53) -> 2885.954 | G55: =SUM(G35+G46+G53) -> 74 | H55: =SUM(H35+H46+H53) -> 13400.539 | J55: =SUM(J35+J46+J53) -> 0 | K55: =SUM(K35+K46+K53) -> 0 | M55: =SUM(M35+M46+M53) -> 462 | N55: =SUM(N35+N46+N53) -> 16286.493 | P55: =SUM(P35+P46+P53) -> 454 | Q55: =SUM(Q35+Q46+Q53) -> 15727.503 | S55: =SUM(S35+S46+S53) -> 8 | T55: =SUM(T35+T46+T53) -> 558.99

Sheet Interconnection & Customer Type
A1: New Jersey Solar Installations as of | C1: ='Annual Capacity'!M1 -> 46265
A2: by Interconnection Type
A4: Interconnection Type | B4: # Projects | C4: Installed Capacity (kW) | D4: % of Installed Capacity
A5: Behind the Meter | B5: =SUM('Annual Capacity'!D112+'Annual Capacity'!M112) -> 245485 | C5: =SUM('Annual Capacity'!E112+'Annual Capacity'!N112) -> 4514657.5 | D5: =C5/$C$9 -> 0.7888328
A6: Remote Net Metering | B6: ='Annual Capacity'!P112 -> 2 | C6: ='Annual Capacity'!Q112 -> 1111.55 | D6: =C6/$C$9 -> 0.00019421785
A7: Grid Supply | B7: ='Annual Capacity'!S112 -> 198 | C7: ='Annual Capacity'!T112 -> 891399.36 | D7: =C7/$C$9 -> 0.15575158
A8: Community Solar | B8: ='Annual Capacity'!V112 -> 235 | C8: ='Annual Capacity'!W112 -> 316043.82 | D8: =C8/$C$9 -> 0.055221405
A9: Total | B9: =SUM(B5:B8) -> 245920 | C9: =SUM(C5:C8) -> 5723212.2 | D9: =SUM(D5:D8) -> 1
A11: BEHIND THE METER Project Installations
B13: SRP Program | F13: TI Program | J13: ADI Program | M13: SRP, TI & ADI Program
A14: Customer Type | B14: # Projects | C14: Installed Capacity (kW) | D14: % of Installed Capacity | F14: # Projects | G14: Installed Capacity (kW) | H14: % of Installed Capacity | J14: # Projects | K14: Installed Capacity (kW) | L14: % of Installed Capacity | M14: # Projects | N14: Installed Capacity (kW) | O14: % of Installed Capacity
A15: Commercial | B15: 4968 | C15: 1203969.1 | D15: =C15/$C$27 -> 0.45942195 | F15: 1199 | G15: 361692.14 | H15: =G15/$G$27 -> 0.47713766 | J15: 1086 | K15: 228772.98 | L15: =K15/$K$27 -> 0.20138562 | M15: =SUM(B15+F15+J15) -> 7253 | N15: =SUM(C15+G15+K15) -> 1794434.2 | O15: =N15/$N$27 -> 0.39746851
A16: Farm | B16: 187 | C16: 9919.031 | D16: =C16/$C$27 -> 0.003784998 | F16: 13 | G16: 988.69 | H16: =G16/$G$27 -> 0.0013042618 | J16: 29 | K16: 1374.01 | L16: =K16/$K$27 -> 0.0012095216 | M16: =SUM(B16+F16+J16) -> 229 | N16: =SUM(C16+G16+K16) -> 12281.731 | O16: =N16/$N$27 -> 0.0027204126
A17: Government | B17: 100 | C17: 29250.197 | D17: =C17/$C$27 -> 0.011161568 | F17: 48 | G17: 47196.89 | H17: =G17/$G$27 -> 0.062261275 | J17: 11 | K17: 6128.77 | L17: =K17/$K$27 -> 0.0053950696 | M17: =SUM(B17+F17+J17) -> 159 | N17: =SUM(C17+G17+K17) -> 82575.857 | O17: =N17/$N$27 -> 0.018290614
A18: Municipality | B18: 274 | C18: 56241.113 | D18: =C18/$C$27 -> 0.021461018 | F18: 17 | G18: 21858.81 | H18: =G18/$G$27 -> 0.028835743 | J18: 44 | K18: 11623.78 | L18: =K18/$K$27 -> 0.010232249 | M18: =SUM(B18+F18+J18) -> 335 | N18: =SUM(C18+G18+K18) -> 89723.703 | O18: =N18/$N$27 -> 0.019873867
A19: Non Profit | B19: 703 | C19: 54027.419 | D19: =C19/$C$27 -> 0.020616295 | F19: 99 | G19: 8786.74 | H19: =G19/$G$27 -> 0.011591307 | J19: 99 | K19: 11187.395 | L19: =K19/$K$27 -> 0.0098481057 | M19: =SUM(B19+F19+J19) -> 901 | N19: =SUM(C19+G19+K19) -> 74001.554 | O19: =N19/$N$27 -> 0.016391399
A20: Private University | B20: 13 | C20: 1229.587 | D20: =C20/$C$27 -> 0.00046919748 | F20: 7 | G20: 14748.65 | H20: =G20/$G$27 -> 0.01945615 | L20: =K20/$K$27 -> 0 | M20: =SUM(B20+F20+J20) -> 20 | N20: =SUM(C20+G20+K20) -> 15978.237 | O20: =N20/$N$27 -> 0.0035391914
A21: Public University | B21: 52 | C21: 28850.493 | D21: =C21/$C$27 -> 0.011009045 | F21: 19 | G21: 20006 | H21: =G21/$G$27 -> 0.02639155 | J21: 6 | K21: 2912.81 | L21: =K21/$K$27 -> 0.0025641055 | M21: =SUM(B21+F21+J21) -> 77 | N21: =SUM(C21+G21+K21) -> 51769.303 | O21: =N21/$N$27 -> 0.011466939
A22: Residential | B22: 122170 | C22: 1023419.2 | D22: =C22/$C$27 -> 0.39052603 | F22: 23276 | G22: 209285.02 | H22: =G22/$G$27 -> 0.27608498 | J22: 89905 | K22: 828926.34 | L22: =K22/$K$27 -> 0.72969214 | M22: =SUM(B22+F22+J22) -> 235351 | N22: =SUM(C22+G22+K22) -> 2061630.6 | O22: =N22/$N$27 -> 0.45665272
A23: School Charter | B23: 1 | C23: 209.3 | D23: =C23/$C$27 -> 7.9866681e-05 | F23: 1 | G23: 139.84 | H23: =G23/$G$27 -> 0.00018447437 | J23: 3 | K23: 772.65 | L23: =K23/$K$27 -> 0.00068015288 | M23: =SUM(B23+F23+J23) -> 5 | N23: =SUM(C23+G23+K23) -> 1121.79 | O23: =N23/$N$27 -> 0.00024847732
A24: School Other | B24: 116 | C24: 37475.487 | D24: =C24/$C$27 -> 0.014300252 | F24: 23 | G24: 8322.16 | H24: =G24/$G$27 -> 0.010978441 | J24: 20 | K24: 9016.855 | L24: =K24/$K$27 -> 0.00793741 | M24: =SUM(B24+F24+J24) -> 159 | N24: =SUM(C24+G24+K24) -> 54814.502 | O24: =N24/$N$27 -> 0.012141453
A25: School Public K-12 | B25: 629 | C25: 174502.91 | D25: =C25/$C$27 -> 0.066588477 | F25: 193 | G25: 65020.73 | H25: =G25/$G$27 -> 0.085774159 | J25: 115 | K25: 35279.02 | L25: =K25/$K$27 -> 0.031055623 | M25: =SUM(B25+F25+J25) -> 937 | N25: =SUM(C25+G25+K25) -> 274802.66 | O25: =N25/$N$27 -> 0.060868994
A26: Sunlit | B26: 59 | C26: 1523.361 | D26: =C26/$C$27 -> 0.00058129855 | F26: 0 | G26: 0 | H26: =G26/$G$27 -> 0 | J26: 0 | K26: 0 | L26: =K26/$K$27 -> 0 | M26: =SUM(B26+F26+J26) -> 59 | N26: =SUM(C26+G26+K26) -> 1523.361 | O26: =N26/$N$27 -> 0.0003374256
A27: Total | B27: =SUM(B15:B26) -> 129272 | C27: =SUM(C15:C26) -> 2620617.2 | D27: =SUM(D15:D26) -> 1 | F27: =SUM(F15:F26) -> 24895 | G27: =SUM(G15:G26) -> 758045.67 | H27: =SUM(H15:H26) -> 1 | J27: =SUM(J15:J26) -> 91318 | K27: =SUM(K15:K26) -> 1135994.6 | L27: =SUM(L15:L26) -> 1 | M27: =SUM(M15:M26) -> 245485 | N27: =SUM(N15:N26) -> 4514657.5 | O27: =SUM(O15:O26) -> 1
A29: COMMUNITY SOLAR Installations by Customer Type
B31: TI Program (Community Solar) | F31: ADI Program (CSEP) | J31: TI (CS) & ADI (CSEP) Programs
A32: Customer Type | B32: # Projects | C32: Installed Capacity (kW) | D32: % of Installed Capacity | F32: # Projects | G32: Installed Capacity (kW) | H32: % of Installed Capacity | J32: # Projects | K32: Installed Capacity (kW) | L32: % of Installed Capacity
A33: Commercial | B33: ='Annual Capacity'!V60 -> 92 | C33: ='Annual Capacity'!W60 -> 144082.56 | D33: =C33/$C$34 -> 1 | F33: ='Annual Capacity'!V76 -> 143 | G33: ='Annual Capacity'!W76 -> 171961.26 | H33: =G33/$G$34 -> 1 | J33: =SUM(B33+F33) -> 235 | K33: =SUM(C33+G33) -> 316043.82 | L33: =K33/$K$34 -> 1
A34: Total | B34: =SUM(B33:B33) -> 92 | C34: =SUM(C33:C33) -> 144082.56 | D34: =SUM(D33:D33) -> 1 | F34: =SUM(F33:F33) -> 143 | G34: =SUM(G33:G33) -> 171961.26 | H34: =SUM(H33:H33) -> 1 | J34: =SUM(J33:J33) -> 235 | K34: =SUM(K33:K33) -> 316043.82 | L34: =SUM(L33:L33) -> 1
A36: REMOTE NET METERING Installations by Customer Type
B38: ADI Program (RNM)
A39: Customer Type | B39: # Projects | C39: Installed Capacity (kW) | D39: % of Installed Capacity
A40: Municipality | B40: ='Annual Capacity'!P76 -> 2 | C40: ='Annual Capacity'!Q76 -> 1111.55 | D40: =C40/$C$41 -> 1
A41: Total | B41: =B40 -> 2 | C41: =C40 -> 1111.55 | D41: =SUM(D40:D40) -> 1
A43: GRID SUPPLY Project Installations | F43: ='Annual Capacity'!AB2 -> Previously Reported through 07/31/2026 | H43: ='Annual Capacity'!AE2 -> Difference between 07/31/2026 and 08/31/2026
A45: SRP Program
A46: Description (by Subsection) | B46: Project Qty | C46: Installed Capacity (kW) | D46: % of Installed Capacity | F46: Total Qty | G46: Total Capacity (kW) | H46: Total Qty | J46: Total Capacity (kW)
A47: EDC | B47: 80 | C47: 80859.649 | D47: =C47/$C$53 -> 0.11313069 | F47: 80 | G47: 80859.649 | H47: =B47-F47 -> 0 | J47: =C47-G47 -> 0
A48: Subsection q | B48: 31 | C48: 194412.08 | D48: =C48/$C$53 -> 0.27200183 | F48: 31 | G48: 194412.08 | H48: =B48-F48 -> 0 | J48: =C48-G48 -> 0
A49: Subsection r | B49: 2 | C49: 42956.33 | D49: =C49/$C$53 -> 0.060100177 | F49: 2 | G49: 42956.33 | H49: =B49-F49 -> 0 | J49: =C49-G49 -> 0
A50: Subsection s | B50: 12 | C50: 94478.23 | D50: =C50/$C$53 -> 0.13218444 | F50: 12 | G50: 94478.23 | H50: =B50-F50 -> 0 | J50: =C50-G50 -> 0
A51: Subsection t | B51: 21 | C51: 179513.48 | D51: =C51/$C$53 -> 0.25115721 | F51: 21 | G51: 179513.48 | H51: =B51-F51 -> 0 | J51: =C51-G51 -> 0
A52: Pre Solar Act | B52: 33 | C52: 122525.72 | D52: =C52/$C$53 -> 0.17142566 | F52: 33 | G52: 122525.72 | H52: =B52-F52 -> 0 | J52: =C52-G52 -> 0
A53: Totals | B53: =SUM(B47:B52) -> 179 | C53: =SUM(C47:C52) -> 714745.48 | D53: =SUM(D47:D52) -> 1 | F53: =SUM(F47:F52) -> 179 | G53: =SUM(G47:G52) -> 714745.48 | H53: =SUM(H47:H52) -> 0 | J53: =SUM(J47:J52) -> 0
A55: TI Program
A56: Description (by Subsection) | B56: Project Qty | C56: Installed Capacity (kW) | D56: % of Installed Capacity | F56: Total Qty | G56: Total Capacity (kW) | H56: Total Qty | J56: Total Capacity (kW)
A57: Subsection r | B57: 1 | C57: 4779 | D57: =C57/$C$59 -> 0.03100356 | F57: 1 | G57: 4779 | H57: =B57-F57 -> 0 | J57: =C57-G57 -> 0
A58: Subsection t | B58: 15 | C58: 149364.59 | D58: =C58/$C$59 -> 0.96899644 | F58: 15 | G58: 149364.59 | H58: =B58-F58 -> 0 | J58: =C58-G58 -> 0
A59: Totals | B59: =SUM(B57:B58) -> 16 | C59: =SUM(C57:C58) -> 154143.59 | D59: =SUM(D57:D58) -> 1 | F59: =SUM(F57:F58) -> 16 | G59: =SUM(G57:G58) -> 154143.59 | H59: =SUM(H57:H58) -> 0 | J59: =SUM(J57:J58) -> 0
J60: =H43 -> Difference between 07/31/2026 and 08/31/2026
A61: CSI Program | F61: =F43 -> Previously Reported through 07/31/2026
A62: (by Tranche Description) | B62: Project Qty | C62: Installed Capacity (kW) | D62: % of Pipeline Capacity | F62: Total Qty | G62: Total Pipeline Capacity (kW) | J62: Total Difference Qty | K62: Total Difference Capacity (kW)
A63: Tranche 1 (Basic) | B63: 1 | C63: 12326.6 | D63: =C63/C66 -> 0.5475987 | F63: 1 | G63: 12326.6 | J63: =B63-F63 -> 0 | K63: =C63-G63 -> 0
A64: Tranche 2 (on the Built Environment) | B64: 0 | C64: 0 | D64: =C64/C66 -> 0 | F64: 0 | G64: 0 | J64: =B64-F64 -> 0 | K64: =C64-G64 -> 0
A65: Tranche 3 (on Contaminated Sites & Landfills) | B65: 2 | C65: 10183.68 | D65: =C65/C66 -> 0.4524013 | F65: 2 | G65: 10183.68 | J65: =B65-F65 -> 0 | K65: =C65-G65 -> 0
A66: Totals | B66: =SUM(B63:B65) -> 3 | C66: =SUM(C63:C65) -> 22510.28 | D66: =SUM(D63:D65) -> 1 | F66: =SUM(F63:F65) -> 3 | G66: =SUM(G63:H65) -> 22510.28 | J66: =SUM(J63:J65) -> 0 | K66: =SUM(K63:K65) -> 0

Sheet TPO Summary
A1: New Jersey Solar Installations as of | G1: ='Annual Capacity'!M1 -> 46265
A2: BEHIND THE METER Project Installations
A3: Summary of Third Party Ownership (TPO)
E5: SRP Program | I5: TI Program | M5: ADI Program | Q5: SRP, TI & ADI Programs
E6: ALL Customer Types | I6: ALL Customer Types | M6: ALL Customer Types | Q6: ALL Customer Types
A7: TPO Code | B7: Description | E7: Project Qty | F7: Total Capacity (kW) | G7: Percent of Capacity | I7: Project Qty | J7: Total Capacity (kW) | K7: Percent of Capacity | M7: Project Qty | N7: Total Capacity (kW) | O7: Percent of Capacity | Q7: Project Qty | R7: Total Capacity (kW) | S7: Percent of Capacity
A9: No | B9: Did Not use TPO | E9: 36434 | F9: 986596.13 | G9: =F9/$F$11 -> 0.37647472 | I9: 24801 | J9: 748406.57 | K9: =J9/$J$11 -> 0.98728428 | M9: 33555 | N9: 476420.33 | O9: =N9/N11 -> 0.41938608 | Q9: =SUM(E9+I9+M9) -> 94790 | R9: =SUM(F9+J9+N9) -> 2211423 | S9: =R9/$R$11 -> 0.48983185
A10: Yes | B10: Used TPO | E10: 92838 | F10: 1634021.1 | G10: =F10/$F$11 -> 0.62352528 | I10: 94 | J10: 9639.1 | K10: =J10/$J$11 -> 0.012715725 | M10: 57763 | N10: 659574.28 | O10: =N10/N11 -> 0.58061392 | Q10: =SUM(E10+I10+M10) -> 150695 | R10: =SUM(F10+J10+N10) -> 2303234.5 | S10: =R10/$R$11 -> 0.51016815
A11: Totals | E11: =SUM(E9:E10) -> 129272 | F11: =SUM(F9:F10) -> 2620617.2 | G11: =SUM(G9:G10) -> 1 | I11: =SUM(I9:I10) -> 24895 | J11: =SUM(J9:J10) -> 758045.67 | K11: =SUM(K9:K10) -> 1 | M11: =SUM(M9:M10) -> 91318 | N11: =SUM(N9:N10) -> 1135994.6 | O11: =SUM(O9:O10) -> 1 | Q11: =SUM(Q9:Q10) -> 245485 | R11: =SUM(R9:R10) -> 4514657.5 | S11: =SUM(S9:S10) -> 1
E14: RESIDENTIAL Only | I14: RESIDENTIAL Only | M14: RESIDENTIAL Only | Q14: RESIDENTIAL Only
A15: TPO Code | B15: Description | E15: Project Qty | F15: Total Capacity (kW) | G15: Percent of Capacity | I15: Project Qty | J15: Total Capacity (kW) | K15: Percent of Capacity | M15: Project Qty | N15: Total Capacity (kW) | O15: Percent of Capacity | Q15: Project Qty | R15: Total Capacity (kW) | S15: Percent of Capacity
A16: No | B16: Did Not use TPO | E16: 31976 | F16: 287683.51 | G16: =F16/F18 -> 0.28110035 | I16: 23207 | J16: 208589.46 | K16: =J16/$J$18 -> 0.99667649 | M16: 32551 | N16: 330135.09 | O16: =N16/N18 -> 0.3982683 | Q16: =SUM(E16+I16+M16) -> 87734 | R16: =SUM(F16+J16+N16) -> 826408.06 | S16: =R16/$R$18 -> 0.40085166
A17: Yes | B17: Used TPO | E17: 90194 | F17: 735735.74 | G17: =F17/F18 -> 0.71889965 | I17: 69 | J17: 695.56 | K17: =J17/$J$18 -> 0.0033235059 | M17: 57354 | N17: 498791.25 | O17: =N17/N18 -> 0.6017317 | Q17: =SUM(E17+I17+M17) -> 147617 | R17: =SUM(F17+J17+N17) -> 1235222.6 | S17: =R17/$R$18 -> 0.59914834
A18: Totals | E18: =SUM(E16:E17) -> 122170 | F18: =SUM(F16:F17) -> 1023419.2 | G18: =SUM(G16:G17) -> 1 | I18: =SUM(I16:I17) -> 23276 | J18: =SUM(J16:J17) -> 209285.02 | K18: =SUM(K16:K17) -> 1 | M18: =SUM(M16:M17) -> 89905 | N18: =SUM(N16:N17) -> 828926.34 | O18: =SUM(O16:O17) -> 1 | Q18: =SUM(Q16:Q17) -> 235351 | R18: =SUM(R16:R17) -> 2061630.6 | S18: =SUM(S16:S17) -> 1
A21: Note: The above tables provide a summary of responses regarding the use of Third Party Ownership (TPO) as reported by the registrant for all behind the meter installations.

Sheet Project Type & Market Segment
A1: TI Solar Installations by Project Type as of | C1: ='Annual Capacity'!M1 -> 46265
A3: Project Type | C3: Factor | D3: # Projects | E3: Installed Capacity (kW) | F3: % of Installed Capacity
A4: Community Solar | C4: 0.85 | D4: 92 | E4: 144082.56 | F4: =E4/$E$13 -> 0.13640671
A5: Floating Solar | C5: 0.6 | D5: 2 | E5: 12220 | F5: =E5/$E$13 -> 0.011568992
A6: Grid supply (subsection (r)) ground mount | C6: 0.6 | D6: 0 | E6: 0 | F6: =E6/$E$13 -> 0
A7: Grid supply (subsection (r)) rooftop | C7: 1 | D7: 1 | E7: 4779 | F7: =E7/$E$13 -> 0.0045244036
A8: Net-metered non-residential ground mount | C8: 0.6 | D8: 37 | E8: 32464.2 | F8: =E8/$E$13 -> 0.030734702
A9: Net-metered non-residential rooftop and canopy | C9: 1 | D9: 1587 | E9: 489312.16 | F9: =E9/$E$13 -> 0.46324455
A10: Net-metered residential ground mount | C10: 0.6 | D10: 268 | E10: 4090.15 | F10: =E10/$E$13 -> 0.0038722514
A11: Net-metered residential rooftop and canopy | C11: 0.6 | D11: 23000 | E11: 204967.81 | F11: =E11/$E$13 -> 0.19404836 | J11: =SUM(A11+C11) -> #VALUE!
A12: Subsection (t): landfill, brownfield, areas of historic fill | C12: 1 | D12: 16 | E12: 164355.94 | F12: =E12/$E$13 -> 0.15560004
D13: =SUM(D4:D12) -> 25003 | E13: =SUM(E4:E12) -> 1056271.8 | F13: =SUM(F4:F12) -> 1
A16: ADI Project Installations by Market Segment
B18: ADI Program
A19: Market Segment | B19: Residential (kW) | D19: Small Non-Residential | F19: Large Non-Residential | H19: Non-Residential | K19: Remote Net Metering | N19: Grid Supply | Q19: Community Solar (CSEP) | T19: ADI Total
D20: < 1000 (kW) | F20: > = 1000 to < = 5000 (kW) | H20: Total (kW) | K20: Total (kW) | N20: Total (kW) | Q20: Total (kW)
B21: Qty | C21: Capacity | D21: Qty | E21: Capacity | F21: Qty | G21: Capacity | H21: Qty | I21: Capacity | K21: Qty | L21: Capacity | N21: Qty | O21: Capacity | Q21: Qty | R21: Capacity | T21: Qty | U21: Capacity (kW)
A22: Net-Metered Residential
A23: Canopy | B23: 4 | C23: 41.67 | D23: 0 | E23: 0 | F23: 0 | G23: 0 | H23: =SUM(D23+F23) -> 0 | I23: =SUM(E23+G23) -> 0 | K23: 0 | L23: 0 | N23: 0 | O23: 0 | Q23: 0 | R23: 0 | T23: =SUM(B23+H23+K23+N23+Q23) -> 4 | U23: =SUM(C23+I23+L23+O23+R23) -> 41.67
A24: Carport | B24: 4 | C24: 64.25 | D24: 0 | E24: 0 | F24: 0 | G24: 0 | H24: =SUM(D24+F24) -> 0 | I24: =SUM(E24+G24) -> 0 | K24: 0 | L24: 0 | N24: 0 | O24: 0 | Q24: 0 | R24: 0 | T24: =SUM(B24+H24+K24+N24+Q24) -> 4 | U24: =SUM(C24+I24+L24+O24+R24) -> 64.25
A25: Ground Mount | B25: 673 | C25: 10891.593 | D25: 0 | E25: 0 | F25: 0 | G25: 0 | H25: =SUM(D25+F25) -> 0 | I25: =SUM(E25+G25) -> 0 | K25: 0 | L25: 0 | N25: 0 | O25: 0 | Q25: 0 | R25: 0 | T25: =SUM(B25+H25+K25+N25+Q25) -> 673 | U25: =SUM(C25+I25+L25+O25+R25) -> 10891.593
A26: Other | B26: 61 | C26: 557.045 | D26: 0 | E26: 0 | F26: 0 | G26: 0 | H26: =SUM(D26+F26) -> 0 | I26: =SUM(E26+G26) -> 0 | K26: 0 | L26: 0 | N26: 0 | O26: 0 | Q26: 0 | R26: 0 | T26: =SUM(B26+H26+K26+N26+Q26) -> 61 | U26: =SUM(C26+I26+L26+O26+R26) -> 557.045
A27: Rooftop | B27: 88881 | C27: 815205.48 | D27: 0 | E27: 0 | F27: 0 | G27: 0 | H27: =SUM(D27+F27) -> 0 | I27: =SUM(E27+G27) -> 0 | K27: 0 | L27: 0 | N27: 0 | O27: 0 | Q27: 0 | R27: 0 | T27: =SUM(B27+H27+K27+N27+Q27) -> 88881 | U27: =SUM(C27+I27+L27+O27+R27) -> 815205.48
A29: Net-Metered Non-Residential
A30: Canopy | B30: 0 | C30: 0 | D30: 15 | E30: 2632.87 | F30: 13 | G30: 19511.27 | H30: =SUM(D30+F30) -> 28 | I30: =SUM(E30+G30) -> 22144.14 | K30: 0 | L30: 0 | N30: 0 | O30: 0 | Q30: 0 | R30: 0 | T30: =SUM(B30+H30+K30+N30+Q30) -> 28 | U30: =SUM(C30+I30+L30+O30+R30) -> 22144.14
A31: Carport | B31: 0 | C31: 0 | D31: 24 | E31: 9040.77 | F31: 17 | G31: 22308.16 | H31: =SUM(D31+F31) -> 41 | I31: =SUM(E31+G31) -> 31348.93 | K31: 0 | L31: 0 | N31: 0 | O31: 0 | Q31: 0 | R31: 0 | T31: =SUM(B31+H31+K31+N31+Q31) -> 41 | U31: =SUM(C31+I31+L31+O31+R31) -> 31348.93
A32: Farmland | B32: 0 | C32: 0 | D32: 3 | E32: 1008.81 | F32: 8 | G32: 19145.88 | H32: =SUM(D32+F32) -> 11 | I32: =SUM(E32+G32) -> 20154.69 | K32: 0 | L32: 0 | N32: 0 | O32: 0 | Q32: 0 | R32: 0 | T32: =SUM(B32+H32+K32+N32+Q32) -> 11 | U32: =SUM(C32+I32+L32+O32+R32) -> 20154.69
A33: Ground Mount | B33: 0 | C33: 0 | D33: 32 | E33: 5686.795 | F33: 37 | G33: 42643 | H33: =SUM(D33+F33) -> 69 | I33: =SUM(E33+G33) -> 48329.795 | K33: 0 | L33: 0 | N33: 0 | O33: 0 | Q33: 0 | R33: 0 | T33: =SUM(B33+H33+K33+N33+Q33) -> 69 | U33: =SUM(C33+I33+L33+O33+R33) -> 48329.795
A34: Rooftop | B34: 0 | C34: 0 | D34: 1375 | E34: 132832.15 | F34: 0 | G34: 0 | H34: =SUM(D34+F34) -> 1375 | I34: =SUM(E34+G34) -> 132832.15 | K34: 0 | L34: 0 | N34: 0 | O34: 0 | Q34: 0 | R34: 0 | T34: =SUM(B34+H34+K34+N34+Q34) -> 1375 | U34: =SUM(C34+I34+L34+O34+R34) -> 132832.15
A35: Floating Solar | B35: 0 | C35: 0 | D35: 0 | E35: 0 | F35: 0 | G35: 0 | H35: =SUM(D35+F35) -> 0 | I35: =SUM(E35+G35) -> 0 | K35: 0 | L35: 0 | N35: 0 | O35: 0 | Q35: 0 | R35: 0 | T35: =SUM(B35+H35+K35+N35+Q35) -> 0 | U35: =SUM(C35+I35+L35+O35+R35) -> 0
A37: Canopy - PUBLIC | B37: 0 | C37: 0 | D37: 1 | E37: 562.65 | F37: 3 | G37: 4355.08 | H37: =SUM(D37+F37) -> 4 | I37: =SUM(E37+G37) -> 4917.73 | K37: 0 | L37: 0 | N37: 0 | O37: 0 | Q37: 0 | R37: 0 | T37: =SUM(B37+H37+K37+N37+Q37) -> 4 | U37: =SUM(C37+I37+L37+O37+R37) -> 4917.73
A38: Carport - PUBLIC | B38: 0 | C38: 0 | D38: 8 | E38: 3797.34 | F38: 2 | G38: 1492.6 | H38: =SUM(D38+F38) -> 10 | I38: =SUM(E38+G38) -> 5289.94 | K38: 0 | L38: 0 | N38: 0 | O38: 0 | Q38: 0 | R38: 0 | T38: =SUM(B38+H38+K38+N38+Q38) -> 10 | U38: =SUM(C38+I38+L38+O38+R38) -> 5289.94
A39: Ground Mount - PUBLIC | B39: 0 | C39: 0 | D39: 7 | E39: 1596.93 | F39: 3 | G39: 4934.58 | H39: =SUM(D39+F39) -> 10 | I39: =SUM(E39+G39) -> 6531.51 | K39: 0 | L39: 0 | N39: 0 | O39: 0 | Q39: 0 | R39: 0 | T39: =SUM(B39+H39+K39+N39+Q39) -> 10 | U39: =SUM(C39+I39+L39+O39+R39) -> 6531.51
A40: Historic Fill - PUBLIC | B40: 0 | C40: 0 | D40: 1 | E40: 513 | F40: 0 | G40: 0 | H40: =SUM(D40+F40) -> 1 | I40: =SUM(E40+G40) -> 513 | K40: 0 | L40: 0 | N40: 0 | O40: 0 | Q40: 0 | R40: 0 | T40: =SUM(B40+H40+K40+N40+Q40) -> 1 | U40: =SUM(C40+I40+L40+O40+R40) -> 513
A41: Rooftop - PUBLIC | B41: 0 | C41: 0 | D41: 133 | E41: 29361.83 | F41: 13 | G41: 7810.86 | H41: =SUM(D41+F41) -> 146 | I41: =SUM(E41+G41) -> 37172.69 | K41: 0 | L41: 0 | N41: 0 | O41: 0 | Q41: 0 | R41: 0 | T41: =SUM(B41+H41+K41+N41+Q41) -> 146 | U41: =SUM(C41+I41+L41+O41+R41) -> 37172.69
A42: Floating Solar - PUBLIC | B42: 0 | C42: 0 | D42: 0 | E42: 0 | F42: 0 | G42: 0 | H42: =SUM(D42+F42) -> 0 | I42: =SUM(E42+G42) -> 0 | K42: 0 | L42: 0 | N42: 0 | O42: 0 | Q42: 0 | R42: 0 | T42: =SUM(B42+H42+K42+N42+Q42) -> 0 | U42: =SUM(C42+I42+L42+O42+R42) -> 0
A45: Remote Net Metering (RNM)
A46: Rooftop, Canopy & Carport | B46: 0 | C46: 0 | D46: 0 | E46: 0 | F46: 0 | G46: 0 | H46: =SUM(D46+F46) -> 0 | I46: =SUM(E46+G46) -> 0 | K46: 0 | L46: 0 | N46: 0 | O46: 0 | Q46: 0 | R46: 0 | T46: =SUM(B46+H46+K46+N46+Q46) -> 0 | U46: =SUM(C46+I46+L46+O46+R46) -> 0
A49: Community Solar (CSEP)
A50: Contaminated Sites & Landfills | B50: 0 | C50: 0 | D50: 0 | E50: 0 | F50: 0 | G50: 0 | H50: =SUM(D50+F50) -> 0 | I50: =SUM(E50+G50) -> 0 | K50: 0 | L50: 0 | N50: 0 | O50: 0 | Q50: 2 | R50: 7482.96 | T50: =SUM(B50+H50+K50+N50+Q50) -> 2 | U50: =SUM(C50+I50+L50+O50+R50) -> 7482.96
A51: Rooftop, Canopy & Carport | B51: 0 | C51: 0 | D51: 0 | E51: 0 | F51: 0 | G51: 0 | H51: =SUM(D51+F51) -> 0 | I51: =SUM(E51+G51) -> 0 | K51: 2 | L51: 1111.55 | N51: 0 | O51: 0 | Q51: 141 | R51: 164478.3 | T51: =SUM(B51+H51+K51+N51+Q51) -> 143 | U51: =SUM(C51+I51+L51+O51+R51) -> 165589.85
A52: Floating Solar | B52: 0 | C52: 0 | D52: 0 | E52: 0 | F52: 0 | G52: 0 | H52: =SUM(D52+F52) -> 0 | I52: =SUM(E52+G52) -> 0 | K52: 0 | L52: 0 | N52: 0 | O52: 0 | Q52: 0 | R52: 0 | T52: =SUM(B52+H52+K52+N52+Q52) -> 0 | U52: =SUM(C52+I52+L52+O52+R52) -> 0
A54: Total | B54: =SUM(B23:B53) -> 89623 | C54: =SUM(C23:C53) -> 826760.04 | D54: =SUM(D23:D53) -> 1599 | E54: =SUM(E23:E53) -> 187033.14 | F54: =SUM(F23:F53) -> 96 | G54: =SUM(G23:G53) -> 122201.43 | H54: =SUM(H23:H53) -> 1695 | I54: =SUM(I23:I53) -> 309234.57 | K54: =SUM(K23:K53) -> 2 | L54: =SUM(L23:L53) -> 1111.55 | N54: =SUM(N23:N53) -> 0 | O54: =SUM(O23:O53) -> 0 | Q54: =SUM(Q23:Q53) -> 143 | R54: =SUM(R23:R53) -> 171961.26 | T54: =SUM(B54+H54+K54+N54+Q54) -> 91463 | U54: =SUM(C54+I54+L54+O54+R54) -> 1309067.4

Sheet Installations by County
C1: New Jersey Cumulative Solar Installations
C2: SRP, TI & ADI Programs by County as of | I2: ='Annual Capacity'!M1 -> 46265
E4: Residential (kW) | H4: Non-Residential (kW) | K4: Remote Net Metering (ADI) (kW) | O4: Grid Supply (kW) | R4: Community Solar (TI) (kW) | U4: ='Annual Capacity'!Y4 -> Total of All Projects as of 08/31/2026 (kW)
C5: County | E5: Qty | F5: Capacity | H5: Qty | I5: Capacity | K5: Qty | L5: Capacity | O5: Qty | P5: Capacity | R5: Qty | S5: Capacity | U5: Total Qty | V5: Total Capacity | X5: % Installed Capacity
B6: 1 | C6: Sussex | E6: 2617 | F6: 27161.188 | H6: 185 | I6: 36119.009 | K6: 0 | L6: 0 | O6: 5 | P6: 33383.09 | R6: 1 | S6: 482.04 | U6: =SUM(E6+H6+K6+O6+R6) -> 2808 | V6: =SUM(F6+I6+L6+P6+S6) -> 97145.327 | X6: =V6/$V$28 -> 0.016973917
B7: 2 | C7: Warren | E7: 2368 | F7: 23459.477 | H7: 153 | I7: 57628.377 | K7: 0 | L7: 0 | O7: 10 | P7: 86929.544 | R7: 3 | S7: 8961.28 | U7: =SUM(E7+H7+K7+O7+R7) -> 2534 | V7: =SUM(F7+I7+L7+P7+S7) -> 176978.68 | X7: =V7/$V$28 -> 0.030922963
B8: 3 | C8: Morris | E8: 6079 | F8: 54919.942 | H8: 451 | I8: 125069.08 | K8: 1 | L8: 737.55 | O8: 4 | P8: 48659.87 | R8: 17 | S8: 19085.4 | U8: =SUM(E8+H8+K8+O8+R8) -> 6552 | V8: =SUM(F8+I8+L8+P8+S8) -> 248471.84 | X8: =V8/$V$28 -> 0.043414753
B9: 4 | C9: Hunterdon | E9: 3050 | F9: 35015.771 | H9: 214 | I9: 26959.381 | K9: 0 | L9: 0 | O9: 14 | P9: 92636.625 | R9: 1 | S9: 682.24 | U9: =SUM(E9+H9+K9+O9+R9) -> 3279 | V9: =SUM(F9+I9+L9+P9+S9) -> 155294.02 | X9: =V9/$V$28 -> 0.027134066
B10: 5 | C10: Somerset | E10: 7933 | F10: 74072.351 | H10: 456 | I10: 143540.61 | K10: 0 | L10: 0 | O10: 3 | P10: 5755.86 | R10: 11 | S10: 24603.11 | U10: =SUM(E10+H10+K10+O10+R10) -> 8403 | V10: =SUM(F10+I10+L10+P10+S10) -> 247971.93 | X10: =V10/$V$28 -> 0.043327405
B11: 6 | C11: Passaic | E11: 7311 | F11: 57984.781 | H11: 351 | I11: 76071.973 | K11: 0 | L11: 0 | O11: 5 | P11: 3514.01 | R11: 1 | S11: 272.55 | U11: =SUM(E11+H11+K11+O11+R11) -> 7668 | V11: =SUM(F11+I11+L11+P11+S11) -> 137843.31 | X11: =V11/$V$28 -> 0.024084956
B12: 7 | C12: Bergen | E12: 13125 | F12: 103735.3 | H12: 756 | I12: 147839.63 | K12: 0 | L12: 0 | O12: 2 | P12: 2688.92 | R12: 25 | S12: 24228.46 | U12: =SUM(E12+H12+K12+O12+R12) -> 13908 | V12: =SUM(F12+I12+L12+P12+S12) -> 278492.31 | X12: =V12/$V$28 -> 0.04866014
B13: 8 | C13: Hudson | E13: 3405 | F13: 21934.002 | H13: 378 | I13: 112395.33 | K13: 0 | L13: 0 | O13: 7 | P13: 9077.125 | R13: 15 | S13: 17540.94 | U13: =SUM(E13+H13+K13+O13+R13) -> 3805 | V13: =SUM(F13+I13+L13+P13+S13) -> 160947.4 | X13: =V13/$V$28 -> 0.028121864
B14: 9 | C14: Essex | E14: 9864 | F14: 69565.712 | H14: 469 | I14: 113445.48 | K14: 0 | L14: 0 | O14: 15 | P14: 12831.09 | R14: 6 | S14: 8170.31 | U14: =SUM(E14+H14+K14+O14+R14) -> 10354 | V14: =SUM(F14+I14+L14+P14+S14) -> 204012.59 | X14: =V14/$V$28 -> 0.035646518
B15: 10 | C15: Union | E15: 12607 | F15: 90389.391 | H15: 465 | I15: 113539.66 | K15: 0 | L15: 0 | O15: 10 | P15: 6375.695 | R15: 11 | S15: 23533.4 | U15: =SUM(E15+H15+K15+O15+R15) -> 13093 | V15: =SUM(F15+I15+L15+P15+S15) -> 233838.15 | X15: =V15/$V$28 -> 0.04085785
B16: 11 | C16: Middlesex | E16: 22198 | F16: 186201.65 | H16: 923 | I16: 383297.8 | K16: 1 | L16: 374 | O16: 31 | P16: 80328.971 | R16: 40 | S16: 69121.36 | U16: =SUM(E16+H16+K16+O16+R16) -> 23193 | V16: =SUM(F16+I16+L16+P16+S16) -> 719323.78 | X16: =V16/$V$28 -> 0.12568532
B17: 12 | C17: Mercer | E17: 9621 | F17: 84360.609 | H17: 508 | I17: 171415.17 | K17: 0 | L17: 0 | O17: 14 | P17: 32943.985 | R17: 9 | S17: 11548.88 | U17: =SUM(E17+H17+K17+O17+R17) -> 10152 | V17: =SUM(F17+I17+L17+P17+S17) -> 300268.65 | X17: =V17/$V$28 -> 0.052465056
... B26: 21 | C26: Cape May | E26: 6955 | F26: 61564.099 | H26: 324 | I26: 24281.115 | K26: 0 | L26: 0 | O26: 0 | P26: 0 | R26: 1 | S26: 849.12 | U26: =SUM(E26+H26+K26+O26+R26) -> 7280 | V26: =SUM(F26+I26+L26+P26+S26) -> 86694.334 | X26: =V26/$V$28 -> 0.015147845
C28: TOTALS | E28: =SUM(E6:E26) -> 235351 | F28: =SUM(F6:F26) -> 2061630.6 | H28: =SUM(H6:H26) -> 10134 | I28: =SUM(I6:I26) -> 2453026.9 | K28: =SUM(K6:K26) -> 2 | L28: =SUM(L6:L26) -> 1111.55 | O28: =SUM(O6:O26) -> 198 | P28: =SUM(P6:P26) -> 891399.35 | R28: =SUM(R6:R26) -> 235 | S28: =SUM(S6:S26) -> 316043.82 | U28: =SUM(U6:U26) -> 245920 | V28: =SUM(V6:V26) -> 5723212.2 | X28: =SUM(X6:X26) -> 1
C30: Note: Once a Permission to Operate (PTO) is received, the date is updated in our system and the capacity listed in the initial registration is included in the installation report. Although the PTO was received, the capacity is not updated in our system until the final as-built has been received and reviewed.

Sheet By County - Graph
