Workbook
Name _____cta02: #REF!
Name _____SR250: '[1]Unit Rates'!$B$7
Name _____SR500: '[2]Unit Rates'!$B$6
Name ____SR250: '[1]Unit Rates'!$B$7
Name ____SR500: '[2]Unit Rates'!$B$6
Name ___SR250: '[1]Unit Rates'!$B$7
Name ___SR500: '[2]Unit Rates'!$B$6
Name __SR250: '[1]Unit Rates'!$B$7
Name __SR500: '[2]Unit Rates'!$B$6
Name _cta02: #REF!
Name _SR250: '[1]Unit Rates'!$B$7
Name _SR500: '[2]Unit Rates'!$B$6
Name a: #REF!
Name alles: #REF!
Name Base_Year: '[3]Control Panel'!$F$11
Name BR: '[4]Unit Rates'!$B$4
Name BXchange: '[3]Control Panel'!$F$14
Name collincrease: '[3]Control Panel'!$F$67
Name collstart: '[3]Control Panel'!$F$66
Name CR: '[4]Unit Rates'!$B$3
Name Currency: [5]InvSch_With!#REF!
Name ddd: [5]InvSch_With!#REF!
Name Divd: '[3]Control Panel'!$F$63
Name dm: '[6]Baza calcul'!#REF!
Name DO4_CHP: '[6]Baza calcul'!#REF!
Name Drate: '[3]Control Panel'!$F$34
Name drube10: #REF!
Name drube20: #REF!
Name e: #REF!
Name Einstandslisting: #REF!
Name EKV_Blatt: #REF!
Name EUR: [7]DG!$D$4
Name IncTax: '[3]Control Panel'!$F$61
Name LoanComFee: '[3]Control Panel'!$F$52
Name LoanFEFee: '[3]Control Panel'!$F$53
Name LoanGraceP: '[3]Control Panel'!$F$50
Name LoanInt: '[3]Control Panel'!$F$51
Name LoanTime: '[3]Control Panel'!$F$49
Name m: #REF!
Name MaxAccPay: '[3]Control Panel'!$F$71
Name maxcoll: '[3]Control Panel'!$F$68
Name MaxOverDr: '[3]Control Panel'!$F$75
Name MaxStcks: '[3]Control Panel'!$F$70
Name MinCiH: '[3]Control Panel'!$F$74
Name MUnit: '[3]Control Panel'!$F$13
Name OthRev: '[3]Control Panel'!$F$58
Name OverDrInt: '[3]Control Panel'!$F$76
Name PR: '[2]Unit Rates'!$B$5
Name Supervision: [5]InvSch_With!$E$7
Name Symbol: '[3]Control Panel'!$F$12
Name t_contingencies: [5]InvSch_With!#REF!
Name Unit: [5]InvSch_With!#REF!
Name VAT: '[3]Control Panel'!$F$79
Name working_c: '[3]Control Panel'!$F$72
Name xxx: [5]InvSch_With!#REF!

Sheet Plan proiecatre + achizitii 
C4: Anexa2 - Graficul cu planificarea și derularea proiectelor din POIM
B5: Nr. | C5: Activitate | D5: Tip contract | E5: Valoare estimata contract (Mii EURO) | F5: Durata (luni) | G5: 2015 | K5: 2016 | W5: 2017 | AI5: 2018 | AU5: 2019 | BG5: 2020 | BS5: 2021 | CE5: 2022 | CQ5: 2023
G6: 42248 | H6: 42278 | I6: 42309 | J6: 42339 | K6: 42370 | L6: 42401 | M6: 42430 | N6: 42461 | O6: 42491 | P6: 42522 | Q6: 42552 | R6: 42583 | S6: 42614 | T6: 42644 | U6: 42675 | V6: 42705 | W6: 42736 | X6: 42767 | Y6: 42795 | Z6: 42826 | AA6: 42856 | AB6: 42887 | AC6: 42917 | AD6: 42948 | AE6: 42979 | AF6: 43009 | AG6: 43040 | AH6: 43070 | AI6: 43101 | AJ6: 43132 | AK6: 43160 | AL6: 43191 | AM6: 43221 | AN6: 43252 | AO6: 43282 | AP6: 43313 | AQ6: 43344 | AR6: 43374 | AS6: 43405 | AT6: 43435 | AU6: 43466 | AV6: 43497 | AW6: 43525 | AX6: 43556 | AY6: 43586 | AZ6: 43617 | BA6: 43647 | BB6: 43678 | BC6: 43709 | BD6: 43739 | BE6: 43770 | BF6: 43800 | BG6: 43831 | BH6: 43862 | BI6: 43891 | BJ6: 43922 | BK6: 43952 | BL6: 43983 | BM6: 44013 | BN6: 44044 | BO6: 44075 | BP6: 44105 | BQ6: 44136 | BR6: 44166 | BS6: 44197 | BT6: 44228 | BU6: 44256 | BV6: 44287 | BW6: 44317 | BX6: 44348 | BY6: 44378 | BZ6: 44409 | CA6: 44440 | CB6: 44470 | CC6: 44501 | CD6: 44531 | CE6: 44562 | CF6: 44593 | CG6: 44621 | CH6: 44652 | CI6: 44682 | CJ6: 44713 | CK6: 44743 | CL6: 44774 | CM6: 44805 | CN6: 44835 | CO6: 44866 | CP6: 44896 | CQ6: 44927 | CR6: 44958 | CS6: 44986 | CT6: 45017 | CU6: 45047 | CV6: 45078 | CW6: 45108 | CX6: 45139 | CY6: 45170 | CZ6: 45200 | DA6: 45231 | DB6: 45261
B7: CF1 | C7: ='Impartire CL'!C4 -> Achizitii de autospeciale combinate spalator-vidanjor si vidanjor pentru proiectul regional de dezvoltare a infrastructurii de apa si apa uzata din judetul Satu Mare/ Regiunea Nord-Vest, in perioada 2014-2020 POIM-SM-CF-01 | D7: Contract de furnizare | E7: ='Impartire CL'!E4 -> 815.93299 | F7: =SUM(K17:DB17) -> 6
B8: 1.1 | C8: Publicare anunt de intentie
B9: 1.2 | C9: Depunerea documentatiei de atribuire
B10: 1.3 | C10: Aprobarea Documentatiei de atribuire
B11: 1.4 | C11: Publicare Anunt/invitatie de participare
B12: 1.5 | C12: Termenul limita de depunere a ofertelor
B13: 1.6 | C13: Evaluarea ofertelor depuse
B14: 1.7 | C14: Aprobarea raportului de evaluare a ofertelor
B15: 1.8 | C15: Comunicarea rezultatului procedurii
B16: 1.9 | C16: Semnarea contractului
B17: 1.10 | C17: Implementare contract | AO17: 1 | AP17: 1 | AQ17: 1 | AR17: 1 | AS17: 1 | AT17: 1
B18: CF2 | C18: ='Impartire CL'!C5 -> Achizitii autolaborator detectare pierderi pentru proiectul regional de dezvoltare a infrastructurii de apa si apa uzata din judetul Satu Mare/ Regiunea Nord-Vest, in perioada 2014-2020 POIM-SM-CF-02 | D18: Contract de furnizare | E18: ='Impartire CL'!E5 -> 166.40739 | F18: =SUM(K28:DB28) -> 6
B19: 2.1 | C19: Publicare anunt de intentie
B20: 2.2 | C20: Depunerea documentatiei de atribuire
B21: 2.3 | C21: Aprobarea Documentatiei de atribuire
B22: 2.4 | C22: Publicare Anunt/invitatie de participare
B23: 2.5 | C23: Termenul limita de depunere a ofertelor
B24: 2.6 | C24: Evaluarea ofertelor depuse
B25: 2.7 | C25: Aprobarea raportului de evaluare a ofertelor
B26: 2.8 | C26: Comunicarea rezultatului procedurii
B27: 2.9 | C27: Semnarea contractului
B28: 2.10 | C28: Implementare contract | AO28: 1 | AP28: 1 | AQ28: 1 | AR28: 1 | AS28: 1 | AT28: 1
B29: CF3 | C29: ='Impartire CL'!C6 -> Echipamente laborator STAP pentru proiectul regional de dezvoltare a infrastructurii de apa si apa uzata din judetul Satu Mare/ Regiunea Nord-Vest, in perioada 2014-2020 POIM-SM-CF-03 | D29: Contract de furnizare | E29: ='Impartire CL'!E6 -> 230.45598 | F29: =SUM(K39:DB39) -> 6
B30: 3.1 | C30: Publicare anunt de intentie
B31: 3.2 | C31: Depunerea documentatiei de atribuire
B32: 3.3 | C32: Aprobarea Documentatiei de atribuire
B33: 3.4 | C33: Publicare Anunt/invitatie de participare
B34: 3.5 | C34: Termenul limita de depunere a ofertelor
B35: 3.6 | C35: Evaluarea ofertelor depuse
B36: 3.7 | C36: Aprobarea raportului de evaluare a ofertelor
B37: 3.8 | C37: Comunicarea rezultatului procedurii
B38: 3.9 | C38: Semnarea contractului
B39: 3.10 | C39: Implementare contract | AO39: 1 | AP39: 1 | AQ39: 1 | AR39: 1 | AS39: 1 | AT39: 1
B40: CF4 | C40: ='Impartire CL'!C7 -> Achizitii echipamente SCADA pentru proiectul regional de dezvoltare a infrastructurii de apa si apa uzata din judetul Satu Mare/ Regiunea Nord-Vest, in perioada 2014-2020 POIM-SM-CF-04 | D40: Contract de furnizare | E40: ='Impartire CL'!E7 -> 1446.7816 | F40: =SUM(K50:DB50) -> 53
B41: 4.1 | C41: Publicare anunt de intentie
B42: 4.2 | C42: Depunerea documentatiei de atribuire
B43: 4.3 | C43: Aprobarea Documentatiei de atribuire
...

Sheet Impartire CL
B2: Nr. Crt. | C2: Denumire contract | D2: Tip contract | E2: Valoare contract preturi curente fara diverse si neprevazute (euro) | F2: Diverse si neprevazute preturi curente (lei)
B4: 1 | C4: Achizitii de autospeciale combinate spalator-vidanjor si vidanjor pentru proiectul regional de dezvoltare a infrastructurii de apa si apa uzata din judetul Satu Mare/ Regiunea Nord-Vest, in perioada 2014-2020 POIM-SM-CF-01 | D4: Furnizare | E4: =('[8]CL-uri constant'!$AJ$3-'[8]CL-uri constant'!$AC$3)*D30*D29 -> 815.93299 | F4: ='[8]CL-uri constant'!$AC$3*D30*D29 -> 80.705538
B5: 2 | C5: Achizitii autolaborator detectare pierderi pentru proiectul regional de dezvoltare a infrastructurii de apa si apa uzata din judetul Satu Mare/ Regiunea Nord-Vest, in perioada 2014-2020 POIM-SM-CF-02 | D5: Furnizare | E5: =('[8]CL-uri constant'!$AJ$4-'[8]CL-uri constant'!$AC$4)*D30*D29 -> 166.40739 | F5: ='[8]CL-uri constant'!$AC$4*D30*D29 -> 16.459682
B6: 3 | C6: Echipamente laborator STAP pentru proiectul regional de dezvoltare a infrastructurii de apa si apa uzata din judetul Satu Mare/ Regiunea Nord-Vest, in perioada 2014-2020 POIM-SM-CF-03 | D6: Furnizare | E6: =('[8]CL-uri constant'!$AJ$5-'[8]CL-uri constant'!$AC$5)*D30*D29 -> 230.45598 | F6: ='[8]CL-uri constant'!$AC$5*D30*D29 -> 22.794854
B7: 4 | C7: Achizitii echipamente SCADA pentru proiectul regional de dezvoltare a infrastructurii de apa si apa uzata din judetul Satu Mare/ Regiunea Nord-Vest, in perioada 2014-2020 POIM-SM-CF-04 | D7: Furnizare | E7: =('[8]CL-uri constant'!$AJ$6-'[8]CL-uri constant'!$AC$6)*D30*D29 -> 1446.7816 | F7: ='[8]CL-uri constant'!$AC$6*D30*D29 -> 143.10401
B8: 5 | C8: Servicii de asistenta tehnica pentru managementul proiectului regional de dezvoltare a infrastructurii de apa si apa uzata in judetul Satu Mare/ Regiunea Nord-Vest in perioada 2014-2020 POIM-SM-CS-01 | D8: Servicii | E8: =('[8]CL-uri constant'!$AJ$7-'[8]CL-uri constant'!$AC$7)*D30*D29 -> 3270.4735 | F8: ='[8]CL-uri constant'!$AC$7*D30*D29 -> 327.04735
B9: 6 | C9: Servicii de asistenta tehnica pentru supervizarea lucrarilor din cadrul proiectului regional de dezvoltare a infrastructurii de apa si apa uzata in aria de operare a Apaserv Satu Mare S.A. in perioada 2014-2020 POIM-SM-CS-02 | D9: Servicii | E9: =('[8]CL-uri constant'!$AJ$8-'[8]CL-uri constant'!$AC$8)*D30*D29 -> 8053.5041 | F9: ='[8]CL-uri constant'!$AC$8*D30*D29 -> 805.35041
B10: 7 | C10: Servicii pentru auditul proiectului POIM-SM-CS-03 | D10: Servicii | E10: =('[8]CL-uri constant'!$AJ$9-'[8]CL-uri constant'!$AC$9)*D30*D29 -> 103.33547 | F10: ='[8]CL-uri constant'!$AC$9*D30*D29 -> 0
B11: 8 | C11: Reabilitarea retelei electrice de medie tensiune, trecerea de la 6kV la 20kV pentru frontul de captare si uzina de apa Martinesti din administrarea APASERV SATU MARE S.A., jud. Satu Mare POIM-SM-CL-01 | D11: Lucrări (FIDIC Roşu) | E11: =('[8]CL-uri constant'!$AJ$10-'[8]CL-uri constant'!$AC$10)*D30*D29 -> 4436.4855 | F11: ='[8]CL-uri constant'!$AC$10*D30*D29 -> 438.96852
B12: 9 | C12: Extinderea sistemului de alimentare cu apă din zona Satu Mare si localitatea Doba şi a sistemului de canalizare din clusterele Satu Mare, Ardud, Micula şi aglomerarea Mediesu Aurit POIM-SM-CL-02 | D12: Lucrări (FIDIC Roşu)
B13: 9.1 | C13: Extinderea SZAA Satu Mare catre Ardud, Baba Novac, Gelu, Dobra si Bogdand. Extinderea sistemului de canalizare din clusterul Ardud POIM-SM-CL-02.1 | D13: Lucrări (FIDIC Roşu) | E13: =('[8]CL-uri constant'!$AJ$11-'[8]CL-uri constant'!$AC$11)*D30*D29 -> 11661.964 | F13: ='[8]CL-uri constant'!$AC$11*D30*D29 -> 1153.8106
B14: 9.2 | C14: Extinderea SZAA Satu Mare, catre Mediesu Aurit, Romanesti, Babasesti, Odoreu, Decebal, Doba si a sistemului de canalizare in aglomerarile Dorolt, Satu Mare, Vetis, Doba si Mediesu Aurit POIM-SM-CL-02.2 | D14: Lucrări (FIDIC Roşu) | E14: =('[8]CL-uri constant'!$AJ$16-'[8]CL-uri constant'!$AC$16)*D30*D29 -> 13957.357 | F14: ='[8]CL-uri constant'!$AC$16*D30*D29 -> 1380.7333
B15: 9.3 | C15: Extinderea SZAA Satu Mare catre Craidorolt, Criseni, Eriu Sancrai si Satu Mic. Extindere canalizare in clusterul Micula POIM-SM-CL-02.3 | D15: Lucrări (FIDIC Roşu) | E15: =('[8]CL-uri constant'!$AJ$24-'[8]CL-uri constant'!$AC$24)*D30*D29 -> 5316.493 | F15: ='[8]CL-uri constant'!$AC$24*D30*D29 -> 525.97108
B16: 10 | C16: Extinderea sistemului de alimentare cu apă din zona Halmeu, Turţ şi a sistemului de canalizare din clusterul Turulung şi aglomerările Turt POIM-SM-CL-03 | D16: Lucrări (FIDIC Roşu) | E16: =('[8]CL-uri constant'!$AJ$30-'[8]CL-uri constant'!$AC$30)*D30*D29 -> 19494.148 | F16: ='[8]CL-uri constant'!$AC$30*D30*D29 -> 1928.728
B17: 11 | C17: Extinderea sistemului de alimentare cu apă Tarna Mare şi a sistemului de canalizare din clusterele Tarna Mare si Batarci POIM-SM-CL-04 | D17: Lucrări (FIDIC Roşu) | E17: =('[8]CL-uri constant'!$AJ$34-'[8]CL-uri constant'!$AC$34)*D30*D29 -> 8273.9737 | F17: ='[8]CL-uri constant'!$AC$34*D30*D29 -> 818.65961
B18: 12 | C18: Extindere sistemului de alimentare cu apă Carei catre Tiream/Ghenci şi a sistemului de canalizare din clusterul Carei POIM-SM-CL-05 | D18: Lucrări (FIDIC Roşu) | E18: =('[8]CL-uri constant'!$AJ$36-'[8]CL-uri constant'!$AC$36)*D30*D29 -> 10708.8 | F18: ='[8]CL-uri constant'!$AC$36*D30*D29 -> 1059.4203
B19: 13 | C19: Sistem de alimentare cu apa si canalizare in – Camarzana si Tarsolt POIM-SM-CL-06 | D19: Lucrări (FIDIC Roşu) | E19: =('[8]CL-uri constant'!$AJ$42-'[8]CL-uri constant'!$AC$42)*D30*D29 -> 13008.2 | F19: ='[8]CL-uri constant'!$AC$42*D30*D29 -> 1287.0456
B20: 14 | C20: Extinderea sistemului de alimentare cu apă Tăşnad şi a sistemului de canalizare din clusterul Tăşnad POIM-SM-CL-07 | D20: Lucrări (FIDIC Roşu) | E20: =('[8]CL-uri constant'!$AJ$46-'[8]CL-uri constant'!$AC$46)*D30*D29 -> 6398.757 | F20: ='[8]CL-uri constant'!$AC$46*D30*D29 -> 633.02226
B21: 15 | C21: Extinderea sistemului de alimentare cu apă Negresti Oas si Certeze şi a sistemului de canalizare din aglomerarea Negreşti Oas POIM-SM-CL-08 | D21: Lucrări (FIDIC Roşu) | E21: =('[8]CL-uri constant'!$AJ$52-'[8]CL-uri constant'!$AC$52)*D30*D29 -> 24385.282 | F21: ='[8]CL-uri constant'!$AC$52*D30*D29 -> 2412.3498
B22: 16 | C22: Extinderea sistemului de alimentare cu apa si canalizare in Valea Vinului POIM-SM-CL-09 | D22: Lucrări (FIDIC Roşu) | E22: =('[8]CL-uri constant'!$AJ$56-'[8]CL-uri constant'!$AC$56)*D30*D29 -> 5613.1224 | F22: ='[8]CL-uri constant'!$AC$56*D30*D29 -> 555.36674
B23: 17 | C23: Extinderea sistemului de canalizare din aglomerările Bârsău şi Oraşu Nou POIM-SM-CL-10 | D23: Lucrări (FIDIC Roşu) | E23: =('[8]CL-uri constant'!$AJ$58-'[8]CL-uri constant'!$AC$58)*D30*D29 -> 4141.1265 | F23: ='[8]CL-uri constant'!$AC$58*D30*D29 -> 409.8057
B24: 18 | C24: Construcţia, extinderea şi reabilitarea facilitatilor de captare, tratare, inmagazinare si pompare apa in localităţile Halmeu, Turt, Tarna Mare, Tîrșolț, Huta Certeze si Nergresti Oas POIM-SM-CL-11 | D24: Lucrări (FIDIC Galben) | E24: =('[8]CL-uri constant'!$AJ$60-'[8]CL-uri constant'!$AC$60)*D30*D29 -> 9954.588 | F24: ='[8]CL-uri constant'!$AC$60*D30*D29 -> 936.24199
B25: 19 | C25: Construcţia stațiilor de epurare din localităţile Bătarci, Tarsolt si Oraşu Nou. POIM-SM-CL-12 | D25: Lucrări (FIDIC Galben) | E25: =('[8]CL-uri constant'!$AJ$67-'[8]CL-uri constant'!$AC$67)*D30*D29 -> 6733.228 | F25: ='[8]CL-uri constant'!$AC$67*D30*D29 -> 632.45664
B26: 20 | C26: Extinderea stațiilor de epurare din localităţile Medieşu Aurit si Turulung POIM-SM-CL-13 | D26: Lucrări (FIDIC Galben) | E26: =('[8]CL-uri constant'!$AJ$70-'[8]CL-uri constant'!$AC$70)*D30*D29 -> 5221.6431 | F26: ='[8]CL-uri constant'!$AC$70*D30*D29 -> 490.48642
B27: 21 | C27: Construire instalatie de tratare namol Satu Mare POIM-SM-CL-14 | D27: Lucrări (FIDIC Galben) | E27: =('[8]CL-uri constant'!$AJ$72-'[8]CL-uri constant'!$AC$72)*D30*D29 -> 3436.7816 | F27: ='[8]CL-uri constant'!$AC$72*D30*D29 -> 321.81333
C29: Coeficient constante - curente | D29: =[8]Coeficienti!$D$31 -> 1.061915
C30: Curs euro | D30: 1
