Workbook
Name Company_Name: #REF!
Name Total_Monthly_Expenses: #REF!
Name Total_Monthly_Income: #REF!
Name Total_Monthly_Savings: #REF!

Sheet Instructions
A1: Instructions for Completing Budget Template
A3: Step 1: | B3: Complete Setup Tab
A4: Enter all CATEGORIES of expected revenue and expenses for the year for which the budget is being made.
A5: Categories can be added throughout the year, but we recommend putting a miscellaneous one for one-off expenses at the start of the year.
A7: Step 2: | B7: Enter your Budget Predictions for the entire year on the Budget_Predictions tab
A8: Enter your predictions for both revenue and expenses for the entire year on the budget predictions tab.
A9: If you do not want to do for the entire year, you can do this exercise monthly (personally that is what I do to have a better idea of what I earn and what I spend).
A10: The month column is a drop down menu, so just pick whichever month you are wanting to do your budget prediction for.
A11: The category column is a drop down menu based on the categories you set up in the setup tab.
A12: Enter the dollar amount for each category you expect to earn/spend for the month.
A13: Be careful to enter only revenue under the left side (revenue) and expenses under the right side (expenses).
A15: Step 3: | B15: Enter your Actuals on the Actuals tab
A16: My recommendation is to set up one day each month (I usually do it on the 2nd day of the following month) to review all the actuals for your business and enter them in the actuals tab.
A17: As with the Budget_Predictions tab, the month column is a drop down menu, so just pick whichever month you are wanting to enter your actual for.
A18: As with the Budget_Predictions tab, the category column is a drop down menu based on the categories you set up in the setup tab.
A19: Enter the dollar amount for each category you earnt/spent for the month.
A20: Be careful to enter only revenue under the left side (revenue) and expenses under the right side (expenses).
A22: Step 4: | B22: The Budget Dashboard
A23: This tab provides you with an overview of your business.
A24: Enter your business name and the year for which you are budgeting in cell B6.
A26: The below chart shows you a monthly overview of both your predicted and actual revenue, expenses, net income, and if your company is operating in a surplus or a deficit for the month.
A27: You can select the month you wish to view from the drop down menu available.
A28: SELECT MONTH --> | E28: January
C29: Predicted | D29: Actual | E29: Difference
A30: Total Revenue for Month | C30: 0 | D30: 0 | E30: 0
A31: Total Expenses for Month | C31: 0 | D31: 0 | E31: 0
A32: Net Income | C32: 0 | D32: 0 | E32: 0
A33: Surplus or Deficit | C33: Surplus | D33: Surplus
A35: The below chart shows you your top three categories for revenue and expenses, based on ACTUALS.
A36: YOUR TOP THREE CATEGORIES
A37: Revenue | C37: Expenses
A38: Category | B38: Amount | C38: Category | D38: Amount
A39: 1 | B39: 0 | C39: 1 | D39: 0
A40: 1 | B40: 0 | C40: 1 | D40: 0
A41: 1 | B41: 0 | C41: 1 | D41: 0
A43: The below chart shows you your top three net income months, based on ACTUALS.
A44: YOUR TOP THREE MONTHS NET INCOME
A45: Month | C45: Net Income
A46: Not Enough Data | C46: None Yet
A47: Not Enough Data | C47: None Yet
...

Sheet Setup Tab
B2: What REVENUE and EXPENSE categories are you expecting to receive/spend funds from this year?
B3: Revenue Examples: Rent you Receive from Someone, Government Grants, Template Sales
B4: Expense Examples: Rent you Pay Someone, Electricity, Software
B6: Enter them below, replacing the number.
B7: REVENUE | C7: EXPENSES
B8: 1 | C8: 1
B9: 2 | C9: 2
B10: 3 | C10: 3
B11: 4 | C11: 4
B12: 5 | C12: 5
B13: 6 | C13: 6
B14: 7 | C14: 7
B15: 8 | C15: 8
B16: 9 | C16: 9
B17: 10 | C17: 10
B18: 11 | C18: 11
B19: 12 | C19: 12
... B37: 30 | C37: 30

Sheet Actuals Data
B2: ='Setup Tab'!B7 -> REVENUE
C3: January | D3: February | E3: March | F3: April | G3: May | H3: June | I3: July | J3: August | K3: September | L3: October | M3: November | N3: December | O3: Total
B4: ='Setup Tab'!B8 -> 1 | C4: =SUMIFS(Actuals!$D$4:$D$4999,Actuals!$C$4:$C$4999,'Actuals Data'!$B4,Actuals!$B$4:$B$4999,'Actuals Data'!C$3) -> 0 | D4: =SUMIFS(Actuals!$D$4:$D$4999,Actuals!$C$4:$C$4999,'Actuals Data'!$B4,Actuals!$B$4:$B$4999,'Actuals Data'!D$3) -> 0 | E4: =SUMIFS(Actuals!$D$4:$D$4999,Actuals!$C$4:$C$4999,'Actuals Data'!$B4,Actuals!$B$4:$B$4999,'Actuals Data'!E$3) -> 0 | F4: =SUMIFS(Actuals!$D$4:$D$4999,Actuals!$C$4:$C$4999,'Actuals Data'!$B4,Actuals!$B$4:$B$4999,'Actuals Data'!F$3) -> 0 | G4: =SUMIFS(Actuals!$D$4:$D$4999,Actuals!$C$4:$C$4999,'Actuals Data'!$B4,Actuals!$B$4:$B$4999,'Actuals Data'!G$3) -> 0 | H4: =SUMIFS(Actuals!$D$4:$D$4999,Actuals!$C$4:$C$4999,'Actuals Data'!$B4,Actuals!$B$4:$B$4999,'Actuals Data'!H$3) -> 0 | I4: =SUMIFS(Actuals!$D$4:$D$4999,Actuals!$C$4:$C$4999,'Actuals Data'!$B4,Actuals!$B$4:$B$4999,'Actuals Data'!I$3) -> 0 | J4: =SUMIFS(Actuals!$D$4:$D$4999,Actuals!$C$4:$C$4999,'Actuals Data'!$B4,Actuals!$B$4:$B$4999,'Actuals Data'!J$3) -> 0 | ... N4: =SUMIFS(Actuals!$D$4:$D$4999,Actuals!$C$4:$C$4999,'Actuals Data'!$B4,Actuals!$B$4:$B$4999,'Actuals Data'!N$3) -> 0 | O4: =SUM(C4:N4) -> 0
B5: ='Setup Tab'!B9 -> 2 | C5: =SUMIFS(Actuals!$D$4:$D$4999,Actuals!$C$4:$C$4999,'Actuals Data'!$B5,Actuals!$B$4:$B$4999,'Actuals Data'!C$3) -> 0 | D5: =SUMIFS(Actuals!$D$4:$D$4999,Actuals!$C$4:$C$4999,'Actuals Data'!$B5,Actuals!$B$4:$B$4999,'Actuals Data'!D$3) -> 0 | E5: =SUMIFS(Actuals!$D$4:$D$4999,Actuals!$C$4:$C$4999,'Actuals Data'!$B5,Actuals!$B$4:$B$4999,'Actuals Data'!E$3) -> 0 | F5: =SUMIFS(Actuals!$D$4:$D$4999,Actuals!$C$4:$C$4999,'Actuals Data'!$B5,Actuals!$B$4:$B$4999,'Actuals Data'!F$3) -> 0 | G5: =SUMIFS(Actuals!$D$4:$D$4999,Actuals!$C$4:$C$4999,'Actuals Data'!$B5,Actuals!$B$4:$B$4999,'Actuals Data'!G$3) -> 0 | H5: =SUMIFS(Actuals!$D$4:$D$4999,Actuals!$C$4:$C$4999,'Actuals Data'!$B5,Actuals!$B$4:$B$4999,'Actuals Data'!H$3) -> 0 | I5: =SUMIFS(Actuals!$D$4:$D$4999,Actuals!$C$4:$C$4999,'Actuals Data'!$B5,Actuals!$B$4:$B$4999,'Actuals Data'!I$3) -> 0 | J5: =SUMIFS(Actuals!$D$4:$D$4999,Actuals!$C$4:$C$4999,'Actuals Data'!$B5,Actuals!$B$4:$B$4999,'Actuals Data'!J$3) -> 0 | ... N5: =SUMIFS(Actuals!$D$4:$D$4999,Actuals!$C$4:$C$4999,'Actuals Data'!$B5,Actuals!$B$4:$B$4999,'Actuals Data'!N$3) -> 0 | O5: =SUM(C5:N5) -> 0
B6: ='Setup Tab'!B10 -> 3 | C6: =SUMIFS(Actuals!$D$4:$D$4999,Actuals!$C$4:$C$4999,'Actuals Data'!$B6,Actuals!$B$4:$B$4999,'Actuals Data'!C$3) -> 0 | D6: =SUMIFS(Actuals!$D$4:$D$4999,Actuals!$C$4:$C$4999,'Actuals Data'!$B6,Actuals!$B$4:$B$4999,'Actuals Data'!D$3) -> 0 | E6: =SUMIFS(Actuals!$D$4:$D$4999,Actuals!$C$4:$C$4999,'Actuals Data'!$B6,Actuals!$B$4:$B$4999,'Actuals Data'!E$3) -> 0 | F6: =SUMIFS(Actuals!$D$4:$D$4999,Actuals!$C$4:$C$4999,'Actuals Data'!$B6,Actuals!$B$4:$B$4999,'Actuals Data'!F$3) -> 0 | G6: =SUMIFS(Actuals!$D$4:$D$4999,Actuals!$C$4:$C$4999,'Actuals Data'!$B6,Actuals!$B$4:$B$4999,'Actuals Data'!G$3) -> 0 | H6: =SUMIFS(Actuals!$D$4:$D$4999,Actuals!$C$4:$C$4999,'Actuals Data'!$B6,Actuals!$B$4:$B$4999,'Actuals Data'!H$3) -> 0 | I6: =SUMIFS(Actuals!$D$4:$D$4999,Actuals!$C$4:$C$4999,'Actuals Data'!$B6,Actuals!$B$4:$B$4999,'Actuals Data'!I$3) -> 0 | J6: =SUMIFS(Actuals!$D$4:$D$4999,Actuals!$C$4:$C$4999,'Actuals Data'!$B6,Actuals!$B$4:$B$4999,'Actuals Data'!J$3) -> 0 | ... N6: =SUMIFS(Actuals!$D$4:$D$4999,Actuals!$C$4:$C$4999,'Actuals Data'!$B6,Actuals!$B$4:$B$4999,'Actuals Data'!N$3) -> 0 | O6: =SUM(C6:N6) -> 0
B7: ='Setup Tab'!B11 -> 4 | C7: =SUMIFS(Actuals!$D$4:$D$4999,Actuals!$C$4:$C$4999,'Actuals Data'!$B7,Actuals!$B$4:$B$4999,'Actuals Data'!C$3) -> 0 | D7: =SUMIFS(Actuals!$D$4:$D$4999,Actuals!$C$4:$C$4999,'Actuals Data'!$B7,Actuals!$B$4:$B$4999,'Actuals Data'!D$3) -> 0 | E7: =SUMIFS(Actuals!$D$4:$D$4999,Actuals!$C$4:$C$4999,'Actuals Data'!$B7,Actuals!$B$4:$B$4999,'Actuals Data'!E$3) -> 0 | F7: =SUMIFS(Actuals!$D$4:$D$4999,Actuals!$C$4:$C$4999,'Actuals Data'!$B7,Actuals!$B$4:$B$4999,'Actuals Data'!F$3) -> 0 | G7: =SUMIFS(Actuals!$D$4:$D$4999,Actuals!$C$4:$C$4999,'Actuals Data'!$B7,Actuals!$B$4:$B$4999,'Actuals Data'!G$3) -> 0 | H7: =SUMIFS(Actuals!$D$4:$D$4999,Actuals!$C$4:$C$4999,'Actuals Data'!$B7,Actuals!$B$4:$B$4999,'Actuals Data'!H$3) -> 0 | I7: =SUMIFS(Actuals!$D$4:$D$4999,Actuals!$C$4:$C$4999,'Actuals Data'!$B7,Actuals!$B$4:$B$4999,'Actuals Data'!I$3) -> 0 | J7: =SUMIFS(Actuals!$D$4:$D$4999,Actuals!$C$4:$C$4999,'Actuals Data'!$B7,Actuals!$B$4:$B$4999,'Actuals Data'!J$3) -> 0 | ... N7: =SUMIFS(Actuals!$D$4:$D$4999,Actuals!$C$4:$C$4999,'Actuals Data'!$B7,Actuals!$B$4:$B$4999,'Actuals Data'!N$3) -> 0 | O7: =SUM(C7:N7) -> 0
B8: ='Setup Tab'!B12 -> 5 | C8: =SUMIFS(Actuals!$D$4:$D$4999,Actuals!$C$4:$C$4999,'Actuals Data'!$B8,Actuals!$B$4:$B$4999,'Actuals Data'!C$3) -> 0 | D8: =SUMIFS(Actuals!$D$4:$D$4999,Actuals!$C$4:$C$4999,'Actuals Data'!$B8,Actuals!$B$4:$B$4999,'Actuals Data'!D$3) -> 0 | E8: =SUMIFS(Actuals!$D$4:$D$4999,Actuals!$C$4:$C$4999,'Actuals Data'!$B8,Actuals!$B$4:$B$4999,'Actuals Data'!E$3) -> 0 | F8: =SUMIFS(Actuals!$D$4:$D$4999,Actuals!$C$4:$C$4999,'Actuals Data'!$B8,Actuals!$B$4:$B$4999,'Actuals Data'!F$3) -> 0 | G8: =SUMIFS(Actuals!$D$4:$D$4999,Actuals!$C$4:$C$4999,'Actuals Data'!$B8,Actuals!$B$4:$B$4999,'Actuals Data'!G$3) -> 0 | H8: =SUMIFS(Actuals!$D$4:$D$4999,Actuals!$C$4:$C$4999,'Actuals Data'!$B8,Actuals!$B$4:$B$4999,'Actuals Data'!H$3) -> 0 | I8: =SUMIFS(Actuals!$D$4:$D$4999,Actuals!$C$4:$C$4999,'Actuals Data'!$B8,Actuals!$B$4:$B$4999,'Actuals Data'!I$3) -> 0 | J8: =SUMIFS(Actuals!$D$4:$D$4999,Actuals!$C$4:$C$4999,'Actuals Data'!$B8,Actuals!$B$4:$B$4999,'Actuals Data'!J$3) -> 0 | ... N8: =SUMIFS(Actuals!$D$4:$D$4999,Actuals!$C$4:$C$4999,'Actuals Data'!$B8,Actuals!$B$4:$B$4999,'Actuals Data'!N$3) -> 0 | O8: =SUM(C8:N8) -> 0
B9: ='Setup Tab'!B13 -> 6 | C9: =SUMIFS(Actuals!$D$4:$D$4999,Actuals!$C$4:$C$4999,'Actuals Data'!$B9,Actuals!$B$4:$B$4999,'Actuals Data'!C$3) -> 0 | D9: =SUMIFS(Actuals!$D$4:$D$4999,Actuals!$C$4:$C$4999,'Actuals Data'!$B9,Actuals!$B$4:$B$4999,'Actuals Data'!D$3) -> 0 | E9: =SUMIFS(Actuals!$D$4:$D$4999,Actuals!$C$4:$C$4999,'Actuals Data'!$B9,Actuals!$B$4:$B$4999,'Actuals Data'!E$3) -> 0 | F9: =SUMIFS(Actuals!$D$4:$D$4999,Actuals!$C$4:$C$4999,'Actuals Data'!$B9,Actuals!$B$4:$B$4999,'Actuals Data'!F$3) -> 0 | G9: =SUMIFS(Actuals!$D$4:$D$4999,Actuals!$C$4:$C$4999,'Actuals Data'!$B9,Actuals!$B$4:$B$4999,'Actuals Data'!G$3) -> 0 | H9: =SUMIFS(Actuals!$D$4:$D$4999,Actuals!$C$4:$C$4999,'Actuals Data'!$B9,Actuals!$B$4:$B$4999,'Actuals Data'!H$3) -> 0 | I9: =SUMIFS(Actuals!$D$4:$D$4999,Actuals!$C$4:$C$4999,'Actuals Data'!$B9,Actuals!$B$4:$B$4999,'Actuals Data'!I$3) -> 0 | J9: =SUMIFS(Actuals!$D$4:$D$4999,Actuals!$C$4:$C$4999,'Actuals Data'!$B9,Actuals!$B$4:$B$4999,'Actuals Data'!J$3) -> 0 | ... N9: =SUMIFS(Actuals!$D$4:$D$4999,Actuals!$C$4:$C$4999,'Actuals Data'!$B9,Actuals!$B$4:$B$4999,'Actuals Data'!N$3) -> 0 | O9: =SUM(C9:N9) -> 0
B10: ='Setup Tab'!B14 -> 7 | C10: =SUMIFS(Actuals!$D$4:$D$4999,Actuals!$C$4:$C$4999,'Actuals Data'!$B10,Actuals!$B$4:$B$4999,'Actuals Data'!C$3) -> 0 | D10: =SUMIFS(Actuals!$D$4:$D$4999,Actuals!$C$4:$C$4999,'Actuals Data'!$B10,Actuals!$B$4:$B$4999,'Actuals Data'!D$3) -> 0 | E10: =SUMIFS(Actuals!$D$4:$D$4999,Actuals!$C$4:$C$4999,'Actuals Data'!$B10,Actuals!$B$4:$B$4999,'Actuals Data'!E$3) -> 0 | F10: =SUMIFS(Actuals!$D$4:$D$4999,Actuals!$C$4:$C$4999,'Actuals Data'!$B10,Actuals!$B$4:$B$4999,'Actuals Data'!F$3) -> 0 | G10: =SUMIFS(Actuals!$D$4:$D$4999,Actuals!$C$4:$C$4999,'Actuals Data'!$B10,Actuals!$B$4:$B$4999,'Actuals Data'!G$3) -> 0 | H10: =SUMIFS(Actuals!$D$4:$D$4999,Actuals!$C$4:$C$4999,'Actuals Data'!$B10,Actuals!$B$4:$B$4999,'Actuals Data'!H$3) -> 0 | I10: =SUMIFS(Actuals!$D$4:$D$4999,Actuals!$C$4:$C$4999,'Actuals Data'!$B10,Actuals!$B$4:$B$4999,'Actuals Data'!I$3) -> 0 | J10: =SUMIFS(Actuals!$D$4:$D$4999,Actuals!$C$4:$C$4999,'Actuals Data'!$B10,Actuals!$B$4:$B$4999,'Actuals Data'!J$3) -> 0 | ... N10: =SUMIFS(Actuals!$D$4:$D$4999,Actuals!$C$4:$C$4999,'Actuals Data'!$B10,Actuals!$B$4:$B$4999,'Actuals Data'!N$3) -> 0 | O10: =SUM(C10:N10) -> 0
B11: ='Setup Tab'!B15 -> 8 | C11: =SUMIFS(Actuals!$D$4:$D$4999,Actuals!$C$4:$C$4999,'Actuals Data'!$B11,Actuals!$B$4:$B$4999,'Actuals Data'!C$3) -> 0 | D11: =SUMIFS(Actuals!$D$4:$D$4999,Actuals!$C$4:$C$4999,'Actuals Data'!$B11,Actuals!$B$4:$B$4999,'Actuals Data'!D$3) -> 0 | E11: =SUMIFS(Actuals!$D$4:$D$4999,Actuals!$C$4:$C$4999,'Actuals Data'!$B11,Actuals!$B$4:$B$4999,'Actuals Data'!E$3) -> 0 | F11: =SUMIFS(Actuals!$D$4:$D$4999,Actuals!$C$4:$C$4999,'Actuals Data'!$B11,Actuals!$B$4:$B$4999,'Actuals Data'!F$3) -> 0 | G11: =SUMIFS(Actuals!$D$4:$D$4999,Actuals!$C$4:$C$4999,'Actuals Data'!$B11,Actuals!$B$4:$B$4999,'Actuals Data'!G$3) -> 0 | H11: =SUMIFS(Actuals!$D$4:$D$4999,Actuals!$C$4:$C$4999,'Actuals Data'!$B11,Actuals!$B$4:$B$4999,'Actuals Data'!H$3) -> 0 | I11: =SUMIFS(Actuals!$D$4:$D$4999,Actuals!$C$4:$C$4999,'Actuals Data'!$B11,Actuals!$B$4:$B$4999,'Actuals Data'!I$3) -> 0 | J11: =SUMIFS(Actuals!$D$4:$D$4999,Actuals!$C$4:$C$4999,'Actuals Data'!$B11,Actuals!$B$4:$B$4999,'Actuals Data'!J$3) -> 0 | ... N11: =SUMIFS(Actuals!$D$4:$D$4999,Actuals!$C$4:$C$4999,'Actuals Data'!$B11,Actuals!$B$4:$B$4999,'Actuals Data'!N$3) -> 0 | O11: =SUM(C11:N11) -> 0
B12: ='Setup Tab'!B16 -> 9 | C12: =SUMIFS(Actuals!$D$4:$D$4999,Actuals!$C$4:$C$4999,'Actuals Data'!$B12,Actuals!$B$4:$B$4999,'Actuals Data'!C$3) -> 0 | D12: =SUMIFS(Actuals!$D$4:$D$4999,Actuals!$C$4:$C$4999,'Actuals Data'!$B12,Actuals!$B$4:$B$4999,'Actuals Data'!D$3) -> 0 | E12: =SUMIFS(Actuals!$D$4:$D$4999,Actuals!$C$4:$C$4999,'Actuals Data'!$B12,Actuals!$B$4:$B$4999,'Actuals Data'!E$3) -> 0 | F12: =SUMIFS(Actuals!$D$4:$D$4999,Actuals!$C$4:$C$4999,'Actuals Data'!$B12,Actuals!$B$4:$B$4999,'Actuals Data'!F$3) -> 0 | G12: =SUMIFS(Actuals!$D$4:$D$4999,Actuals!$C$4:$C$4999,'Actuals Data'!$B12,Actuals!$B$4:$B$4999,'Actuals Data'!G$3) -> 0 | H12: =SUMIFS(Actuals!$D$4:$D$4999,Actuals!$C$4:$C$4999,'Actuals Data'!$B12,Actuals!$B$4:$B$4999,'Actuals Data'!H$3) -> 0 | I12: =SUMIFS(Actuals!$D$4:$D$4999,Actuals!$C$4:$C$4999,'Actuals Data'!$B12,Actuals!$B$4:$B$4999,'Actuals Data'!I$3) -> 0 | J12: =SUMIFS(Actuals!$D$4:$D$4999,Actuals!$C$4:$C$4999,'Actuals Data'!$B12,Actuals!$B$4:$B$4999,'Actuals Data'!J$3) -> 0 | ... N12: =SUMIFS(Actuals!$D$4:$D$4999,Actuals!$C$4:$C$4999,'Actuals Data'!$B12,Actuals!$B$4:$B$4999,'Actuals Data'!N$3) -> 0 | O12: =SUM(C12:N12) -> 0
B13: ='Setup Tab'!B17 -> 10 | C13: =SUMIFS(Actuals!$D$4:$D$4999,Actuals!$C$4:$C$4999,'Actuals Data'!$B13,Actuals!$B$4:$B$4999,'Actuals Data'!C$3) -> 0 | D13: =SUMIFS(Actuals!$D$4:$D$4999,Actuals!$C$4:$C$4999,'Actuals Data'!$B13,Actuals!$B$4:$B$4999,'Actuals Data'!D$3) -> 0 | E13: =SUMIFS(Actuals!$D$4:$D$4999,Actuals!$C$4:$C$4999,'Actuals Data'!$B13,Actuals!$B$4:$B$4999,'Actuals Data'!E$3) -> 0 | F13: =SUMIFS(Actuals!$D$4:$D$4999,Actuals!$C$4:$C$4999,'Actuals Data'!$B13,Actuals!$B$4:$B$4999,'Actuals Data'!F$3) -> 0 | G13: =SUMIFS(Actuals!$D$4:$D$4999,Actuals!$C$4:$C$4999,'Actuals Data'!$B13,Actuals!$B$4:$B$4999,'Actuals Data'!G$3) -> 0 | H13: =SUMIFS(Actuals!$D$4:$D$4999,Actuals!$C$4:$C$4999,'Actuals Data'!$B13,Actuals!$B$4:$B$4999,'Actuals Data'!H$3) -> 0 | I13: =SUMIFS(Actuals!$D$4:$D$4999,Actuals!$C$4:$C$4999,'Actuals Data'!$B13,Actuals!$B$4:$B$4999,'Actuals Data'!I$3) -> 0 | J13: =SUMIFS(Actuals!$D$4:$D$4999,Actuals!$C$4:$C$4999,'Actuals Data'!$B13,Actuals!$B$4:$B$4999,'Actuals Data'!J$3) -> 0 | ... N13: =SUMIFS(Actuals!$D$4:$D$4999,Actuals!$C$4:$C$4999,'Actuals Data'!$B13,Actuals!$B$4:$B$4999,'Actuals Data'!N$3) -> 0 | O13: =SUM(C13:N13) -> 0
B14: ='Setup Tab'!B18 -> 11 | C14: =SUMIFS(Actuals!$D$4:$D$4999,Actuals!$C$4:$C$4999,'Actuals Data'!$B14,Actuals!$B$4:$B$4999,'Actuals Data'!C$3) -> 0 | D14: =SUMIFS(Actuals!$D$4:$D$4999,Actuals!$C$4:$C$4999,'Actuals Data'!$B14,Actuals!$B$4:$B$4999,'Actuals Data'!D$3) -> 0 | E14: =SUMIFS(Actuals!$D$4:$D$4999,Actuals!$C$4:$C$4999,'Actuals Data'!$B14,Actuals!$B$4:$B$4999,'Actuals Data'!E$3) -> 0 | F14: =SUMIFS(Actuals!$D$4:$D$4999,Actuals!$C$4:$C$4999,'Actuals Data'!$B14,Actuals!$B$4:$B$4999,'Actuals Data'!F$3) -> 0 | G14: =SUMIFS(Actuals!$D$4:$D$4999,Actuals!$C$4:$C$4999,'Actuals Data'!$B14,Actuals!$B$4:$B$4999,'Actuals Data'!G$3) -> 0 | H14: =SUMIFS(Actuals!$D$4:$D$4999,Actuals!$C$4:$C$4999,'Actuals Data'!$B14,Actuals!$B$4:$B$4999,'Actuals Data'!H$3) -> 0 | I14: =SUMIFS(Actuals!$D$4:$D$4999,Actuals!$C$4:$C$4999,'Actuals Data'!$B14,Actuals!$B$4:$B$4999,'Actuals Data'!I$3) -> 0 | J14: =SUMIFS(Actuals!$D$4:$D$4999,Actuals!$C$4:$C$4999,'Actuals Data'!$B14,Actuals!$B$4:$B$4999,'Actuals Data'!J$3) -> 0 | ... N14: =SUMIFS(Actuals!$D$4:$D$4999,Actuals!$C$4:$C$4999,'Actuals Data'!$B14,Actuals!$B$4:$B$4999,'Actuals Data'!N$3) -> 0 | O14: =SUM(C14:N14) -> 0
B15: ='Setup Tab'!B19 -> 12 | C15: =SUMIFS(Actuals!$D$4:$D$4999,Actuals!$C$4:$C$4999,'Actuals Data'!$B15,Actuals!$B$4:$B$4999,'Actuals Data'!C$3) -> 0 | D15: =SUMIFS(Actuals!$D$4:$D$4999,Actuals!$C$4:$C$4999,'Actuals Data'!$B15,Actuals!$B$4:$B$4999,'Actuals Data'!D$3) -> 0 | E15: =SUMIFS(Actuals!$D$4:$D$4999,Actuals!$C$4:$C$4999,'Actuals Data'!$B15,Actuals!$B$4:$B$4999,'Actuals Data'!E$3) -> 0 | F15: =SUMIFS(Actuals!$D$4:$D$4999,Actuals!$C$4:$C$4999,'Actuals Data'!$B15,Actuals!$B$4:$B$4999,'Actuals Data'!F$3) -> 0 | G15: =SUMIFS(Actuals!$D$4:$D$4999,Actuals!$C$4:$C$4999,'Actuals Data'!$B15,Actuals!$B$4:$B$4999,'Actuals Data'!G$3) -> 0 | H15: =SUMIFS(Actuals!$D$4:$D$4999,Actuals!$C$4:$C$4999,'Actuals Data'!$B15,Actuals!$B$4:$B$4999,'Actuals Data'!H$3) -> 0 | I15: =SUMIFS(Actuals!$D$4:$D$4999,Actuals!$C$4:$C$4999,'Actuals Data'!$B15,Actuals!$B$4:$B$4999,'Actuals Data'!I$3) -> 0 | J15: =SUMIFS(Actuals!$D$4:$D$4999,Actuals!$C$4:$C$4999,'Actuals Data'!$B15,Actuals!$B$4:$B$4999,'Actuals Data'!J$3) -> 0 | ... N15: =SUMIFS(Actuals!$D$4:$D$4999,Actuals!$C$4:$C$4999,'Actuals Data'!$B15,Actuals!$B$4:$B$4999,'Actuals Data'!N$3) -> 0 | O15: =SUM(C15:N15) -> 0
... B33: ='Setup Tab'!B37 -> 30 | C33: =SUMIFS(Actuals!$D$4:$D$4999,Actuals!$C$4:$C$4999,'Actuals Data'!$B33,Actuals!$B$4:$B$4999,'Actuals Data'!C$3) -> 0 | D33: =SUMIFS(Actuals!$D$4:$D$4999,Actuals!$C$4:$C$4999,'Actuals Data'!$B33,Actuals!$B$4:$B$4999,'Actuals Data'!D$3) -> 0 | E33: =SUMIFS(Actuals!$D$4:$D$4999,Actuals!$C$4:$C$4999,'Actuals Data'!$B33,Actuals!$B$4:$B$4999,'Actuals Data'!E$3) -> 0 | F33: =SUMIFS(Actuals!$D$4:$D$4999,Actuals!$C$4:$C$4999,'Actuals Data'!$B33,Actuals!$B$4:$B$4999,'Actuals Data'!F$3) -> 0 | G33: =SUMIFS(Actuals!$D$4:$D$4999,Actuals!$C$4:$C$4999,'Actuals Data'!$B33,Actuals!$B$4:$B$4999,'Actuals Data'!G$3) -> 0 | H33: =SUMIFS(Actuals!$D$4:$D$4999,Actuals!$C$4:$C$4999,'Actuals Data'!$B33,Actuals!$B$4:$B$4999,'Actuals Data'!H$3) -> 0 | I33: =SUMIFS(Actuals!$D$4:$D$4999,Actuals!$C$4:$C$4999,'Actuals Data'!$B33,Actuals!$B$4:$B$4999,'Actuals Data'!I$3) -> 0 | J33: =SUMIFS(Actuals!$D$4:$D$4999,Actuals!$C$4:$C$4999,'Actuals Data'!$B33,Actuals!$B$4:$B$4999,'Actuals Data'!J$3) -> 0 | ... N33: =SUMIFS(Actuals!$D$4:$D$4999,Actuals!$C$4:$C$4999,'Actuals Data'!$B33,Actuals!$B$4:$B$4999,'Actuals Data'!N$3) -> 0 | O33: =SUM(C33:N33) -> 0
B35: EXPENSES
C36: January | D36: February | E36: March | F36: April | G36: May | H36: June | I36: July | J36: August | K36: September | L36: October | M36: November | N36: December | O36: Total
B37: ='Setup Tab'!C8 -> 1 | C37: =SUMIFS(Actuals!$H$4:$H$4999,Actuals!$G$4:$G$4999,'Actuals Data'!$B37,Actuals!$F$4:$F$4999,'Actuals Data'!C$36) -> 0 | D37: =SUMIFS(Actuals!$H$4:$H$4999,Actuals!$G$4:$G$4999,'Actuals Data'!$B37,Actuals!$F$4:$F$4999,'Actuals Data'!D$36) -> 0 | E37: =SUMIFS(Actuals!$H$4:$H$4999,Actuals!$G$4:$G$4999,'Actuals Data'!$B37,Actuals!$F$4:$F$4999,'Actuals Data'!E$36) -> 0 | F37: =SUMIFS(Actuals!$H$4:$H$4999,Actuals!$G$4:$G$4999,'Actuals Data'!$B37,Actuals!$F$4:$F$4999,'Actuals Data'!F$36) -> 0 | G37: =SUMIFS(Actuals!$H$4:$H$4999,Actuals!$G$4:$G$4999,'Actuals Data'!$B37,Actuals!$F$4:$F$4999,'Actuals Data'!G$36) -> 0 | H37: =SUMIFS(Actuals!$H$4:$H$4999,Actuals!$G$4:$G$4999,'Actuals Data'!$B37,Actuals!$F$4:$F$4999,'Actuals Data'!H$36) -> 0 | I37: =SUMIFS(Actuals!$H$4:$H$4999,Actuals!$G$4:$G$4999,'Actuals Data'!$B37,Actuals!$F$4:$F$4999,'Actuals Data'!I$36) -> 0 | J37: =SUMIFS(Actuals!$H$4:$H$4999,Actuals!$G$4:$G$4999,'Actuals Data'!$B37,Actuals!$F$4:$F$4999,'Actuals Data'!J$36) -> 0 | ... N37: =SUMIFS(Actuals!$H$4:$H$4999,Actuals!$G$4:$G$4999,'Actuals Data'!$B37,Actuals!$F$4:$F$4999,'Actuals Data'!N$36) -> 0 | O37: =SUM(C37:N37) -> 0
B38: ='Setup Tab'!C9 -> 2 | C38: =SUMIFS(Actuals!$H$4:$H$4999,Actuals!$G$4:$G$4999,'Actuals Data'!$B38,Actuals!$F$4:$F$4999,'Actuals Data'!C$36) -> 0 | D38: =SUMIFS(Actuals!$H$4:$H$4999,Actuals!$G$4:$G$4999,'Actuals Data'!$B38,Actuals!$F$4:$F$4999,'Actuals Data'!D$36) -> 0 | E38: =SUMIFS(Actuals!$H$4:$H$4999,Actuals!$G$4:$G$4999,'Actuals Data'!$B38,Actuals!$F$4:$F$4999,'Actuals Data'!E$36) -> 0 | F38: =SUMIFS(Actuals!$H$4:$H$4999,Actuals!$G$4:$G$4999,'Actuals Data'!$B38,Actuals!$F$4:$F$4999,'Actuals Data'!F$36) -> 0 | G38: =SUMIFS(Actuals!$H$4:$H$4999,Actuals!$G$4:$G$4999,'Actuals Data'!$B38,Actuals!$F$4:$F$4999,'Actuals Data'!G$36) -> 0 | H38: =SUMIFS(Actuals!$H$4:$H$4999,Actuals!$G$4:$G$4999,'Actuals Data'!$B38,Actuals!$F$4:$F$4999,'Actuals Data'!H$36) -> 0 | I38: =SUMIFS(Actuals!$H$4:$H$4999,Actuals!$G$4:$G$4999,'Actuals Data'!$B38,Actuals!$F$4:$F$4999,'Actuals Data'!I$36) -> 0 | J38: =SUMIFS(Actuals!$H$4:$H$4999,Actuals!$G$4:$G$4999,'Actuals Data'!$B38,Actuals!$F$4:$F$4999,'Actuals Data'!J$36) -> 0 | ... N38: =SUMIFS(Actuals!$H$4:$H$4999,Actuals!$G$4:$G$4999,'Actuals Data'!$B38,Actuals!$F$4:$F$4999,'Actuals Data'!N$36) -> 0 | O38: =SUM(C38:N38) -> 0
B39: ='Setup Tab'!C10 -> 3 | C39: =SUMIFS(Actuals!$H$4:$H$4999,Actuals!$G$4:$G$4999,'Actuals Data'!$B39,Actuals!$F$4:$F$4999,'Actuals Data'!C$36) -> 0 | D39: =SUMIFS(Actuals!$H$4:$H$4999,Actuals!$G$4:$G$4999,'Actuals Data'!$B39,Actuals!$F$4:$F$4999,'Actuals Data'!D$36) -> 0 | E39: =SUMIFS(Actuals!$H$4:$H$4999,Actuals!$G$4:$G$4999,'Actuals Data'!$B39,Actuals!$F$4:$F$4999,'Actuals Data'!E$36) -> 0 | F39: =SUMIFS(Actuals!$H$4:$H$4999,Actuals!$G$4:$G$4999,'Actuals Data'!$B39,Actuals!$F$4:$F$4999,'Actuals Data'!F$36) -> 0 | G39: =SUMIFS(Actuals!$H$4:$H$4999,Actuals!$G$4:$G$4999,'Actuals Data'!$B39,Actuals!$F$4:$F$4999,'Actuals Data'!G$36) -> 0 | H39: =SUMIFS(Actuals!$H$4:$H$4999,Actuals!$G$4:$G$4999,'Actuals Data'!$B39,Actuals!$F$4:$F$4999,'Actuals Data'!H$36) -> 0 | I39: =SUMIFS(Actuals!$H$4:$H$4999,Actuals!$G$4:$G$4999,'Actuals Data'!$B39,Actuals!$F$4:$F$4999,'Actuals Data'!I$36) -> 0 | J39: =SUMIFS(Actuals!$H$4:$H$4999,Actuals!$G$4:$G$4999,'Actuals Data'!$B39,Actuals!$F$4:$F$4999,'Actuals Data'!J$36) -> 0 | ... N39: =SUMIFS(Actuals!$H$4:$H$4999,Actuals!$G$4:$G$4999,'Actuals Data'!$B39,Actuals!$F$4:$F$4999,'Actuals Data'!N$36) -> 0 | O39: =SUM(C39:N39) -> 0
B40: ='Setup Tab'!C11 -> 4 | C40: =SUMIFS(Actuals!$H$4:$H$4999,Actuals!$G$4:$G$4999,'Actuals Data'!$B40,Actuals!$F$4:$F$4999,'Actuals Data'!C$36) -> 0 | D40: =SUMIFS(Actuals!$H$4:$H$4999,Actuals!$G$4:$G$4999,'Actuals Data'!$B40,Actuals!$F$4:$F$4999,'Actuals Data'!D$36) -> 0 | E40: =SUMIFS(Actuals!$H$4:$H$4999,Actuals!$G$4:$G$4999,'Actuals Data'!$B40,Actuals!$F$4:$F$4999,'Actuals Data'!E$36) -> 0 | F40: =SUMIFS(Actuals!$H$4:$H$4999,Actuals!$G$4:$G$4999,'Actuals Data'!$B40,Actuals!$F$4:$F$4999,'Actuals Data'!F$36) -> 0 | G40: =SUMIFS(Actuals!$H$4:$H$4999,Actuals!$G$4:$G$4999,'Actuals Data'!$B40,Actuals!$F$4:$F$4999,'Actuals Data'!G$36) -> 0 | H40: =SUMIFS(Actuals!$H$4:$H$4999,Actuals!$G$4:$G$4999,'Actuals Data'!$B40,Actuals!$F$4:$F$4999,'Actuals Data'!H$36) -> 0 | I40: =SUMIFS(Actuals!$H$4:$H$4999,Actuals!$G$4:$G$4999,'Actuals Data'!$B40,Actuals!$F$4:$F$4999,'Actuals Data'!I$36) -> 0 | J40: =SUMIFS(Actuals!$H$4:$H$4999,Actuals!$G$4:$G$4999,'Actuals Data'!$B40,Actuals!$F$4:$F$4999,'Actuals Data'!J$36) -> 0 | ... N40: =SUMIFS(Actuals!$H$4:$H$4999,Actuals!$G$4:$G$4999,'Actuals Data'!$B40,Actuals!$F$4:$F$4999,'Actuals Data'!N$36) -> 0 | O40: =SUM(C40:N40) -> 0
B41: ='Setup Tab'!C12 -> 5 | C41: =SUMIFS(Actuals!$H$4:$H$4999,Actuals!$G$4:$G$4999,'Actuals Data'!$B41,Actuals!$F$4:$F$4999,'Actuals Data'!C$36) -> 0 | D41: =SUMIFS(Actuals!$H$4:$H$4999,Actuals!$G$4:$G$4999,'Actuals Data'!$B41,Actuals!$F$4:$F$4999,'Actuals Data'!D$36) -> 0 | E41: =SUMIFS(Actuals!$H$4:$H$4999,Actuals!$G$4:$G$4999,'Actuals Data'!$B41,Actuals!$F$4:$F$4999,'Actuals Data'!E$36) -> 0 | F41: =SUMIFS(Actuals!$H$4:$H$4999,Actuals!$G$4:$G$4999,'Actuals Data'!$B41,Actuals!$F$4:$F$4999,'Actuals Data'!F$36) -> 0 | G41: =SUMIFS(Actuals!$H$4:$H$4999,Actuals!$G$4:$G$4999,'Actuals Data'!$B41,Actuals!$F$4:$F$4999,'Actuals Data'!G$36) -> 0 | H41: =SUMIFS(Actuals!$H$4:$H$4999,Actuals!$G$4:$G$4999,'Actuals Data'!$B41,Actuals!$F$4:$F$4999,'Actuals Data'!H$36) -> 0 | I41: =SUMIFS(Actuals!$H$4:$H$4999,Actuals!$G$4:$G$4999,'Actuals Data'!$B41,Actuals!$F$4:$F$4999,'Actuals Data'!I$36) -> 0 | J41: =SUMIFS(Actuals!$H$4:$H$4999,Actuals!$G$4:$G$4999,'Actuals Data'!$B41,Actuals!$F$4:$F$4999,'Actuals Data'!J$36) -> 0 | ... N41: =SUMIFS(Actuals!$H$4:$H$4999,Actuals!$G$4:$G$4999,'Actuals Data'!$B41,Actuals!$F$4:$F$4999,'Actuals Data'!N$36) -> 0 | O41: =SUM(C41:N41) -> 0
B42: ='Setup Tab'!C13 -> 6 | C42: =SUMIFS(Actuals!$H$4:$H$4999,Actuals!$G$4:$G$4999,'Actuals Data'!$B42,Actuals!$F$4:$F$4999,'Actuals Data'!C$36) -> 0 | D42: =SUMIFS(Actuals!$H$4:$H$4999,Actuals!$G$4:$G$4999,'Actuals Data'!$B42,Actuals!$F$4:$F$4999,'Actuals Data'!D$36) -> 0 | E42: =SUMIFS(Actuals!$H$4:$H$4999,Actuals!$G$4:$G$4999,'Actuals Data'!$B42,Actuals!$F$4:$F$4999,'Actuals Data'!E$36) -> 0 | F42: =SUMIFS(Actuals!$H$4:$H$4999,Actuals!$G$4:$G$4999,'Actuals Data'!$B42,Actuals!$F$4:$F$4999,'Actuals Data'!F$36) -> 0 | G42: =SUMIFS(Actuals!$H$4:$H$4999,Actuals!$G$4:$G$4999,'Actuals Data'!$B42,Actuals!$F$4:$F$4999,'Actuals Data'!G$36) -> 0 | H42: =SUMIFS(Actuals!$H$4:$H$4999,Actuals!$G$4:$G$4999,'Actuals Data'!$B42,Actuals!$F$4:$F$4999,'Actuals Data'!H$36) -> 0 | I42: =SUMIFS(Actuals!$H$4:$H$4999,Actuals!$G$4:$G$4999,'Actuals Data'!$B42,Actuals!$F$4:$F$4999,'Actuals Data'!I$36) -> 0 | J42: =SUMIFS(Actuals!$H$4:$H$4999,Actuals!$G$4:$G$4999,'Actuals Data'!$B42,Actuals!$F$4:$F$4999,'Actuals Data'!J$36) -> 0 | ... N42: =SUMIFS(Actuals!$H$4:$H$4999,Actuals!$G$4:$G$4999,'Actuals Data'!$B42,Actuals!$F$4:$F$4999,'Actuals Data'!N$36) -> 0 | O42: =SUM(C42:N42) -> 0
B43: ='Setup Tab'!C14 -> 7 | C43: =SUMIFS(Actuals!$H$4:$H$4999,Actuals!$G$4:$G$4999,'Actuals Data'!$B43,Actuals!$F$4:$F$4999,'Actuals Data'!C$36) -> 0 | D43: =SUMIFS(Actuals!$H$4:$H$4999,Actuals!$G$4:$G$4999,'Actuals Data'!$B43,Actuals!$F$4:$F$4999,'Actuals Data'!D$36) -> 0 | E43: =SUMIFS(Actuals!$H$4:$H$4999,Actuals!$G$4:$G$4999,'Actuals Data'!$B43,Actuals!$F$4:$F$4999,'Actuals Data'!E$36) -> 0 | F43: =SUMIFS(Actuals!$H$4:$H$4999,Actuals!$G$4:$G$4999,'Actuals Data'!$B43,Actuals!$F$4:$F$4999,'Actuals Data'!F$36) -> 0 | G43: =SUMIFS(Actuals!$H$4:$H$4999,Actuals!$G$4:$G$4999,'Actuals Data'!$B43,Actuals!$F$4:$F$4999,'Actuals Data'!G$36) -> 0 | H43: =SUMIFS(Actuals!$H$4:$H$4999,Actuals!$G$4:$G$4999,'Actuals Data'!$B43,Actuals!$F$4:$F$4999,'Actuals Data'!H$36) -> 0 | I43: =SUMIFS(Actuals!$H$4:$H$4999,Actuals!$G$4:$G$4999,'Actuals Data'!$B43,Actuals!$F$4:$F$4999,'Actuals Data'!I$36) -> 0 | J43: =SUMIFS(Actuals!$H$4:$H$4999,Actuals!$G$4:$G$4999,'Actuals Data'!$B43,Actuals!$F$4:$F$4999,'Actuals Data'!J$36) -> 0 | ... N43: =SUMIFS(Actuals!$H$4:$H$4999,Actuals!$G$4:$G$4999,'Actuals Data'!$B43,Actuals!$F$4:$F$4999,'Actuals Data'!N$36) -> 0 | O43: =SUM(C43:N43) -> 0
B44: ='Setup Tab'!C15 -> 8 | C44: =SUMIFS(Actuals!$H$4:$H$4999,Actuals!$G$4:$G$4999,'Actuals Data'!$B44,Actuals!$F$4:$F$4999,'Actuals Data'!C$36) -> 0 | D44: =SUMIFS(Actuals!$H$4:$H$4999,Actuals!$G$4:$G$4999,'Actuals Data'!$B44,Actuals!$F$4:$F$4999,'Actuals Data'!D$36) -> 0 | E44: =SUMIFS(Actuals!$H$4:$H$4999,Actuals!$G$4:$G$4999,'Actuals Data'!$B44,Actuals!$F$4:$F$4999,'Actuals Data'!E$36) -> 0 | F44: =SUMIFS(Actuals!$H$4:$H$4999,Actuals!$G$4:$G$4999,'Actuals Data'!$B44,Actuals!$F$4:$F$4999,'Actuals Data'!F$36) -> 0 | G44: =SUMIFS(Actuals!$H$4:$H$4999,Actuals!$G$4:$G$4999,'Actuals Data'!$B44,Actuals!$F$4:$F$4999,'Actuals Data'!G$36) -> 0 | H44: =SUMIFS(Actuals!$H$4:$H$4999,Actuals!$G$4:$G$4999,'Actuals Data'!$B44,Actuals!$F$4:$F$4999,'Actuals Data'!H$36) -> 0 | I44: =SUMIFS(Actuals!$H$4:$H$4999,Actuals!$G$4:$G$4999,'Actuals Data'!$B44,Actuals!$F$4:$F$4999,'Actuals Data'!I$36) -> 0 | J44: =SUMIFS(Actuals!$H$4:$H$4999,Actuals!$G$4:$G$4999,'Actuals Data'!$B44,Actuals!$F$4:$F$4999,'Actuals Data'!J$36) -> 0 | ... N44: =SUMIFS(Actuals!$H$4:$H$4999,Actuals!$G$4:$G$4999,'Actuals Data'!$B44,Actuals!$F$4:$F$4999,'Actuals Data'!N$36) -> 0 | O44: =SUM(C44:N44) -> 0
B45: ='Setup Tab'!C16 -> 9 | C45: =SUMIFS(Actuals!$H$4:$H$4999,Actuals!$G$4:$G$4999,'Actuals Data'!$B45,Actuals!$F$4:$F$4999,'Actuals Data'!C$36) -> 0 | D45: =SUMIFS(Actuals!$H$4:$H$4999,Actuals!$G$4:$G$4999,'Actuals Data'!$B45,Actuals!$F$4:$F$4999,'Actuals Data'!D$36) -> 0 | E45: =SUMIFS(Actuals!$H$4:$H$4999,Actuals!$G$4:$G$4999,'Actuals Data'!$B45,Actuals!$F$4:$F$4999,'Actuals Data'!E$36) -> 0 | F45: =SUMIFS(Actuals!$H$4:$H$4999,Actuals!$G$4:$G$4999,'Actuals Data'!$B45,Actuals!$F$4:$F$4999,'Actuals Data'!F$36) -> 0 | G45: =SUMIFS(Actuals!$H$4:$H$4999,Actuals!$G$4:$G$4999,'Actuals Data'!$B45,Actuals!$F$4:$F$4999,'Actuals Data'!G$36) -> 0 | H45: =SUMIFS(Actuals!$H$4:$H$4999,Actuals!$G$4:$G$4999,'Actuals Data'!$B45,Actuals!$F$4:$F$4999,'Actuals Data'!H$36) -> 0 | I45: =SUMIFS(Actuals!$H$4:$H$4999,Actuals!$G$4:$G$4999,'Actuals Data'!$B45,Actuals!$F$4:$F$4999,'Actuals Data'!I$36) -> 0 | J45: =SUMIFS(Actuals!$H$4:$H$4999,Actuals!$G$4:$G$4999,'Actuals Data'!$B45,Actuals!$F$4:$F$4999,'Actuals Data'!J$36) -> 0 | ... N45: =SUMIFS(Actuals!$H$4:$H$4999,Actuals!$G$4:$G$4999,'Actuals Data'!$B45,Actuals!$F$4:$F$4999,'Actuals Data'!N$36) -> 0 | O45: =SUM(C45:N45) -> 0
B46: ='Setup Tab'!C17 -> 10 | C46: =SUMIFS(Actuals!$H$4:$H$4999,Actuals!$G$4:$G$4999,'Actuals Data'!$B46,Actuals!$F$4:$F$4999,'Actuals Data'!C$36) -> 0 | D46: =SUMIFS(Actuals!$H$4:$H$4999,Actuals!$G$4:$G$4999,'Actuals Data'!$B46,Actuals!$F$4:$F$4999,'Actuals Data'!D$36) -> 0 | E46: =SUMIFS(Actuals!$H$4:$H$4999,Actuals!$G$4:$G$4999,'Actuals Data'!$B46,Actuals!$F$4:$F$4999,'Actuals Data'!E$36) -> 0 | F46: =SUMIFS(Actuals!$H$4:$H$4999,Actuals!$G$4:$G$4999,'Actuals Data'!$B46,Actuals!$F$4:$F$4999,'Actuals Data'!F$36) -> 0 | G46: =SUMIFS(Actuals!$H$4:$H$4999,Actuals!$G$4:$G$4999,'Actuals Data'!$B46,Actuals!$F$4:$F$4999,'Actuals Data'!G$36) -> 0 | H46: =SUMIFS(Actuals!$H$4:$H$4999,Actuals!$G$4:$G$4999,'Actuals Data'!$B46,Actuals!$F$4:$F$4999,'Actuals Data'!H$36) -> 0 | I46: =SUMIFS(Actuals!$H$4:$H$4999,Actuals!$G$4:$G$4999,'Actuals Data'!$B46,Actuals!$F$4:$F$4999,'Actuals Data'!I$36) -> 0 | J46: =SUMIFS(Actuals!$H$4:$H$4999,Actuals!$G$4:$G$4999,'Actuals Data'!$B46,Actuals!$F$4:$F$4999,'Actuals Data'!J$36) -> 0 | ... N46: =SUMIFS(Actuals!$H$4:$H$4999,Actuals!$G$4:$G$4999,'Actuals Data'!$B46,Actuals!$F$4:$F$4999,'Actuals Data'!N$36) -> 0 | O46: =SUM(C46:N46) -> 0
B47: ='Setup Tab'!C18 -> 11 | C47: =SUMIFS(Actuals!$H$4:$H$4999,Actuals!$G$4:$G$4999,'Actuals Data'!$B47,Actuals!$F$4:$F$4999,'Actuals Data'!C$36) -> 0 | D47: =SUMIFS(Actuals!$H$4:$H$4999,Actuals!$G$4:$G$4999,'Actuals Data'!$B47,Actuals!$F$4:$F$4999,'Actuals Data'!D$36) -> 0 | E47: =SUMIFS(Actuals!$H$4:$H$4999,Actuals!$G$4:$G$4999,'Actuals Data'!$B47,Actuals!$F$4:$F$4999,'Actuals Data'!E$36) -> 0 | F47: =SUMIFS(Actuals!$H$4:$H$4999,Actuals!$G$4:$G$4999,'Actuals Data'!$B47,Actuals!$F$4:$F$4999,'Actuals Data'!F$36) -> 0 | G47: =SUMIFS(Actuals!$H$4:$H$4999,Actuals!$G$4:$G$4999,'Actuals Data'!$B47,Actuals!$F$4:$F$4999,'Actuals Data'!G$36) -> 0 | H47: =SUMIFS(Actuals!$H$4:$H$4999,Actuals!$G$4:$G$4999,'Actuals Data'!$B47,Actuals!$F$4:$F$4999,'Actuals Data'!H$36) -> 0 | I47: =SUMIFS(Actuals!$H$4:$H$4999,Actuals!$G$4:$G$4999,'Actuals Data'!$B47,Actuals!$F$4:$F$4999,'Actuals Data'!I$36) -> 0 | J47: =SUMIFS(Actuals!$H$4:$H$4999,Actuals!$G$4:$G$4999,'Actuals Data'!$B47,Actuals!$F$4:$F$4999,'Actuals Data'!J$36) -> 0 | ... N47: =SUMIFS(Actuals!$H$4:$H$4999,Actuals!$G$4:$G$4999,'Actuals Data'!$B47,Actuals!$F$4:$F$4999,'Actuals Data'!N$36) -> 0 | O47: =SUM(C47:N47) -> 0
B48: ='Setup Tab'!C19 -> 12 | C48: =SUMIFS(Actuals!$H$4:$H$4999,Actuals!$G$4:$G$4999,'Actuals Data'!$B48,Actuals!$F$4:$F$4999,'Actuals Data'!C$36) -> 0 | D48: =SUMIFS(Actuals!$H$4:$H$4999,Actuals!$G$4:$G$4999,'Actuals Data'!$B48,Actuals!$F$4:$F$4999,'Actuals Data'!D$36) -> 0 | E48: =SUMIFS(Actuals!$H$4:$H$4999,Actuals!$G$4:$G$4999,'Actuals Data'!$B48,Actuals!$F$4:$F$4999,'Actuals Data'!E$36) -> 0 | F48: =SUMIFS(Actuals!$H$4:$H$4999,Actuals!$G$4:$G$4999,'Actuals Data'!$B48,Actuals!$F$4:$F$4999,'Actuals Data'!F$36) -> 0 | G48: =SUMIFS(Actuals!$H$4:$H$4999,Actuals!$G$4:$G$4999,'Actuals Data'!$B48,Actuals!$F$4:$F$4999,'Actuals Data'!G$36) -> 0 | H48: =SUMIFS(Actuals!$H$4:$H$4999,Actuals!$G$4:$G$4999,'Actuals Data'!$B48,Actuals!$F$4:$F$4999,'Actuals Data'!H$36) -> 0 | I48: =SUMIFS(Actuals!$H$4:$H$4999,Actuals!$G$4:$G$4999,'Actuals Data'!$B48,Actuals!$F$4:$F$4999,'Actuals Data'!I$36) -> 0 | J48: =SUMIFS(Actuals!$H$4:$H$4999,Actuals!$G$4:$G$4999,'Actuals Data'!$B48,Actuals!$F$4:$F$4999,'Actuals Data'!J$36) -> 0 | ... N48: =SUMIFS(Actuals!$H$4:$H$4999,Actuals!$G$4:$G$4999,'Actuals Data'!$B48,Actuals!$F$4:$F$4999,'Actuals Data'!N$36) -> 0 | O48: =SUM(C48:N48) -> 0
... B66: ='Setup Tab'!C37 -> 30 | C66: =SUMIFS(Actuals!$H$4:$H$4999,Actuals!$G$4:$G$4999,'Actuals Data'!$B66,Actuals!$F$4:$F$4999,'Actuals Data'!C$36) -> 0 | D66: =SUMIFS(Actuals!$H$4:$H$4999,Actuals!$G$4:$G$4999,'Actuals Data'!$B66,Actuals!$F$4:$F$4999,'Actuals Data'!D$36) -> 0 | E66: =SUMIFS(Actuals!$H$4:$H$4999,Actuals!$G$4:$G$4999,'Actuals Data'!$B66,Actuals!$F$4:$F$4999,'Actuals Data'!E$36) -> 0 | F66: =SUMIFS(Actuals!$H$4:$H$4999,Actuals!$G$4:$G$4999,'Actuals Data'!$B66,Actuals!$F$4:$F$4999,'Actuals Data'!F$36) -> 0 | G66: =SUMIFS(Actuals!$H$4:$H$4999,Actuals!$G$4:$G$4999,'Actuals Data'!$B66,Actuals!$F$4:$F$4999,'Actuals Data'!G$36) -> 0 | H66: =SUMIFS(Actuals!$H$4:$H$4999,Actuals!$G$4:$G$4999,'Actuals Data'!$B66,Actuals!$F$4:$F$4999,'Actuals Data'!H$36) -> 0 | I66: =SUMIFS(Actuals!$H$4:$H$4999,Actuals!$G$4:$G$4999,'Actuals Data'!$B66,Actuals!$F$4:$F$4999,'Actuals Data'!I$36) -> 0 | J66: =SUMIFS(Actuals!$H$4:$H$4999,Actuals!$G$4:$G$4999,'Actuals Data'!$B66,Actuals!$F$4:$F$4999,'Actuals Data'!J$36) -> 0 | ... N66: =SUMIFS(Actuals!$H$4:$H$4999,Actuals!$G$4:$G$4999,'Actuals Data'!$B66,Actuals!$F$4:$F$4999,'Actuals Data'!N$36) -> 0 | O66: =SUM(C66:N66) -> 0

Sheet Budget_ Predictions
B1: ENTER BUDGET PREDICTIONS HERE
B2: REVENUE | F2: EXPENSES
B3: Month | C3: Category | D3: Amount | F3: Month | G3: Category | H3: Amount

Sheet Actuals
B1: TRACK ACTUALS HERE
B2: REVENUE | F2: EXPENSES
B3: Month | C3: Category | D3: Amount | F3: Month | G3: Category | H3: Amount

Sheet Budget Dashboard
A1: January
A2: February | B2: BUDGET DASHBOARD
A3: March
A4: April
A5: May
A6: June | B6: ENTER BUSINESS NAME AND YEAR HERE
A7: July
A8: August | B8: SELECT MONTH --> | F8: January | H8: YOUR TOP THREE CATEGORIES | M8: YOUR TOP THREE MONTHS NET INCOME
A9: September | D9: Predicted | E9: Actual | F9: Difference | H9: Revenue | J9: Expenses | M9: Month | O9: Net Income
A10: October | B10: Total Revenue for Month | D10: =SUMIF('Budget_ Predictions'!$B$3:$B$4999,'Budget Dashboard'!$F$8,'Budget_ Predictions'!$D$3:$D$4999) -> 0 | E10: =SUMIF(Actuals!$B$3:$B$4999,$F$8,Actuals!$D$3:$D$4999) -> 0 | F10: =E10-D10 -> 0 | H10: Category | I10: Amount | J10: Category | K10: Amount | M10: =IF(O10="None Yet","Not Enough Data",_xlfn.XLOOKUP(O10,C19:N19,C16:N16)) -> Not Enough Data | O10: =IF(LARGE(C19:N19,1)=0,"None Yet",LARGE(C19:N19,1)) -> None Yet
A11: November | B11: Total Expenses for Month | D11: =SUMIF('Budget_ Predictions'!$F$3:$F$4999,'Budget Dashboard'!$F$8,'Budget_ Predictions'!$H$3:$H$4999) -> 0 | E11: =SUMIF(Actuals!$F$3:$F$4999,$F$8,Actuals!$H$3:$H$4999) -> 0 | F11: =E11-D11 -> 0 | H11: =_xlfn.XLOOKUP(I11,'Actuals Data'!$O$4:$O$33,'Actuals Data'!$B$4:$B$33,"Multiple - Check Budget Data Sheet for Breakdown") -> 1 | I11: =LARGE('Actuals Data'!$O$4:$O$33,1) -> 0 | J11: =_xlfn.XLOOKUP(K11,'Actuals Data'!$O$37:$O$66,'Actuals Data'!$B$37:$B$66,"Multiple - Check Budget Data Tab for Breakdown") -> 1 | K11: =LARGE('Actuals Data'!$O$37:$O$66,1) -> 0 | M11: =IF(O11="None Yet","Not Enough Data",_xlfn.XLOOKUP(O11,C19:N19,C16:N16)) -> Not Enough Data | O11: =IF(LARGE(C19:N19,2)=0,"None Yet",LARGE(C19:N19,2)) -> None Yet
A12: December | B12: Net Income | D12: =D10-D11 -> 0 | E12: =E10-E11 -> 0 | F12: =E12-D12 -> 0 | H12: =_xlfn.XLOOKUP(I12,'Actuals Data'!$O$4:$O$33,'Actuals Data'!$B$4:$B$33,"Multiple - Check Budget Data Sheet for Breakdown") -> 1 | I12: =LARGE('Actuals Data'!$O$4:$O$33,2) -> 0 | J12: =_xlfn.XLOOKUP(K12,'Actuals Data'!$O$37:$O$66,'Actuals Data'!$B$37:$B$66,"Multiple - Check Budget Data Tab for Breakdown") -> 1 | K12: =LARGE('Actuals Data'!$O$37:$O$66,2) -> 0 | M12: =IF(O12="None Yet","Not Enough Data",_xlfn.XLOOKUP(O12,C19:N19,C16:N16)) -> Not Enough Data | O12: =IF(LARGE(C19:N19,3)=0,"None Yet",LARGE(C19:N19,3)) -> None Yet
B13: Surplus or Deficit | D13: =IF(D12>=0,"Surplus","Deficit") -> Surplus | E13: =IF(E12>=0,"Surplus","Deficit") -> Surplus | H13: =_xlfn.XLOOKUP(I13,'Actuals Data'!$O$4:$O$33,'Actuals Data'!$B$4:$B$33,"Multiple - Check Budget Data Sheet for Breakdown") -> 1 | I13: =LARGE('Actuals Data'!$O$4:$O$33,3) -> 0 | J13: =_xlfn.XLOOKUP(K13,'Actuals Data'!$O$37:$O$66,'Actuals Data'!$B$37:$B$66,"Multiple - Check Budget Data Tab for Breakdown") -> 1 | K13: =LARGE('Actuals Data'!$O$37:$O$66,3) -> 0 | M13: * Remember, Net Income = Revenue - Expenses
B15: NET INCOME
C16: January | D16: February | E16: March | F16: April | G16: May | H16: June | I16: July | J16: August | K16: September | L16: October | M16: November | N16: December | O16: Total
B17: Revenue | C17: =SUM('Actuals Data'!C4:C33) -> 0 | D17: =SUM('Actuals Data'!D4:D33) -> 0 | E17: =SUM('Actuals Data'!E4:E33) -> 0 | F17: =SUM('Actuals Data'!F4:F33) -> 0 | G17: =SUM('Actuals Data'!G4:G33) -> 0 | H17: =SUM('Actuals Data'!H4:H33) -> 0 | I17: =SUM('Actuals Data'!I4:I33) -> 0 | J17: =SUM('Actuals Data'!J4:J33) -> 0 | ... N17: =SUM('Actuals Data'!N4:N33) -> 0 | O17: =SUM(C17:N17) -> 0
B18: Expenses | C18: =SUM('Actuals Data'!C37:C66) -> 0 | D18: =SUM('Actuals Data'!D37:D66) -> 0 | E18: =SUM('Actuals Data'!E37:E66) -> 0 | F18: =SUM('Actuals Data'!F37:F66) -> 0 | G18: =SUM('Actuals Data'!G37:G66) -> 0 | H18: =SUM('Actuals Data'!H37:H66) -> 0 | I18: =SUM('Actuals Data'!I37:I66) -> 0 | J18: =SUM('Actuals Data'!J37:J66) -> 0 | ... N18: =SUM('Actuals Data'!N37:N66) -> 0 | O18: =SUM(C18:N18) -> 0
B19: Net Income | C19: =C17-C18 -> 0 | D19: =D17-D18 -> 0 | E19: =E17-E18 -> 0 | F19: =F17-F18 -> 0 | G19: =G17-G18 -> 0 | H19: =H17-H18 -> 0 | I19: =I17-I18 -> 0 | J19: =J17-J18 -> 0 | ... O19: =O17-O18 -> 0
B37: If you run into any troubles, please email kayley@korporateconsultingservices.com.
