Workbook

Sheet Rebases
A1: If you had to choose, which of the following types of infrastructure investment would prefer your Government to prioritise in your local area?Please select up to three | B1: BASE: All Respondents | C1: =IFERROR(VLOOKUP(A1, E1:G200, 2, FALSE), 0) -> 1 | D1: =IFERROR(VLOOKUP(A1, E1:G200, 3, FALSE), 0) -> 11 | E1: =Contents!D9 -> If you had to choose, which of the following types of infrastructure investment would prefer your Government to prioritise in your local area?Please select up to three | F1: =Contents!C9 -> 1 | G1: =Contents!E9 -> 11
A2: Which, if any, of the following areas would you support your government spending more on research on?Please select all that apply. | B2: BASE: All Respondents | C2: =IFERROR(VLOOKUP(A2, E2:G201, 2, FALSE), 0) -> 2 | D2: =IFERROR(VLOOKUP(A2, E2:G201, 3, FALSE), 0) -> 21 | E2: =Contents!D10 -> Which, if any, of the following areas would you support your government spending more on research on?Please select all that apply. | F2: =Contents!C10 -> 2 | G2: =Contents!E10 -> 21
A3: Which, if any, of the following sectors do you think is most likely to be important to your country’s economy in the next decade?Please select up to three | B3: BASE: All Respondents | C3: =IFERROR(VLOOKUP(A3, E3:G202, 2, FALSE), 0) -> 3 | D3: =IFERROR(VLOOKUP(A3, E3:G202, 3, FALSE), 0) -> 29 | E3: =Contents!D11 -> Which, if any, of the following sectors do you think is most likely to be important to your country’s economy in the next decade?Please select up to three | F3: =Contents!C11 -> 3 | G3: =Contents!E11 -> 29
A4: And which would you say have done the best job of innovating in the last decade?Please select up to three | B4: BASE: All Respondents | C4: =IFERROR(VLOOKUP(A4, E4:G203, 2, FALSE), 0) -> 4 | D4: =IFERROR(VLOOKUP(A4, E4:G203, 3, FALSE), 0) -> 44 | E4: =Contents!D12 -> And which would you say have done the best job of innovating in the last decade?Please select up to three | F4: =Contents!C12 -> 4 | G4: =Contents!E12 -> 44
A5: Grid Summary: Overall, how well do you think your country does in the following sectors? | B5: BASE: All Respondents | C5: =IFERROR(VLOOKUP(A5, E5:G204, 2, FALSE), 0) -> 5 | D5: =IFERROR(VLOOKUP(A5, E5:G204, 3, FALSE), 0) -> 0 | E5: =Contents!D13 -> Grid Summary: Overall, how well do you think your country does in the following sectors? | F5: =Contents!C13 -> 5 | G5: =Contents!E13 -> 0
A6: Overall, how well do you think your country does in the following sectors?: Financial services | B6: BASE: All Respondents | C6: =IFERROR(VLOOKUP(A6, E6:G205, 2, FALSE), 0) -> 6 | D6: =IFERROR(VLOOKUP(A6, E6:G205, 3, FALSE), 0) -> 59 | E6: =Contents!D14 -> Overall, how well do you think your country does in the following sectors?: Financial services | F6: =Contents!C14 -> 6 | G6: =Contents!E14 -> 59
A7: Overall, how well do you think your country does in the following sectors?: Automotive | B7: BASE: All Respondents | C7: =IFERROR(VLOOKUP(A7, E7:G206, 2, FALSE), 0) -> 7 | D7: =IFERROR(VLOOKUP(A7, E7:G206, 3, FALSE), 0) -> 68 | E7: =Contents!D15 -> Overall, how well do you think your country does in the following sectors?: Automotive | F7: =Contents!C15 -> 7 | G7: =Contents!E15 -> 68
A8: Overall, how well do you think your country does in the following sectors?: Digital technology | B8: BASE: All Respondents | C8: =IFERROR(VLOOKUP(A8, E8:G207, 2, FALSE), 0) -> 8 | D8: =IFERROR(VLOOKUP(A8, E8:G207, 3, FALSE), 0) -> 77 | E8: =Contents!D16 -> Overall, how well do you think your country does in the following sectors?: Digital technology | F8: =Contents!C16 -> 8 | G8: =Contents!E16 -> 77
A9: How confident or unconfident are you in your Government’s ability to grow its digital technology sector in the next five years? | B9: BASE: All Respondents | C9: =IFERROR(VLOOKUP(A9, E9:G208, 2, FALSE), 0) -> 9 | D9: =IFERROR(VLOOKUP(A9, E9:G208, 3, FALSE), 0) -> 86 | E9: =Contents!D17 -> How confident or unconfident are you in your Government’s ability to grow its digital technology sector in the next five years? | F9: =Contents!C17 -> 9 | G9: =Contents!E17 -> 86
A10: Which of the following is closest to your view? | B10: BASE: All Respondents | C10: =IFERROR(VLOOKUP(A10, E10:G209, 2, FALSE), 0) -> 10 | D10: =IFERROR(VLOOKUP(A10, E10:G209, 3, FALSE), 0) -> 98 | E10: =Contents!D18 -> Which of the following is closest to your view? | F10: =Contents!C18 -> 10 | G10: =Contents!E18 -> 98
A11: Which, if any, of the following technologies do you use regularly?Please select all that apply | B11: BASE: All Respondents | C11: =IFERROR(VLOOKUP(A11, E11:G210, 2, FALSE), 0) -> 11 | D11: =IFERROR(VLOOKUP(A11, E11:G210, 3, FALSE), 0) -> 105 | E11: =Contents!D19 -> Which, if any, of the following technologies do you use regularly?Please select all that apply | F11: =Contents!C19 -> 11 | G11: =Contents!E19 -> 105
A12: Compared to the average person in your country, would you say that you are an early adopter of new technology? | B12: BASE: All Respondents | C12: =IFERROR(VLOOKUP(A12, E12:G211, 2, FALSE), 0) -> 12 | D12: =IFERROR(VLOOKUP(A12, E12:G211, 3, FALSE), 0) -> 117 | E12: =Contents!D20 -> Compared to the average person in your country, would you say that you are an early adopter of new technology? | F12: =Contents!C20 -> 12 | G12: =Contents!E20 -> 117
... A166: Would you support or oppose the building of a new data centre by an international cloud provider in your local city or region? | B166: BASE: All Respondents | C166: =IFERROR(VLOOKUP(A166, E166:G365, 2, FALSE), 0) -> 166 | D166: =IFERROR(VLOOKUP(A166, E166:G365, 3, FALSE), 0) -> 1419 | E166: =Contents!D174 -> Would you support or oppose the building of a new data centre by an international cloud provider in your local city or region? | F166: =Contents!C174 -> 166 | G166: =Contents!E174 -> 1419
C167: =IFERROR(VLOOKUP(A167, E167:G366, 2, FALSE), 0) -> 0 | D167: =IFERROR(VLOOKUP(A167, E167:G366, 3, FALSE), 0) -> 0 | E167: =Contents!D175 -> 0 | F167: =Contents!C175 -> 0 | G167: =Contents!E175 -> 0
C168: =IFERROR(VLOOKUP(A168, E168:G367, 2, FALSE), 0) -> 0 | D168: =IFERROR(VLOOKUP(A168, E168:G367, 3, FALSE), 0) -> 0 | E168: =Contents!D176 -> 0 | F168: =Contents!C176 -> 0 | G168: =Contents!E176 -> 0
C169: =IFERROR(VLOOKUP(A169, E169:G368, 2, FALSE), 0) -> 0 | D169: =IFERROR(VLOOKUP(A169, E169:G368, 3, FALSE), 0) -> 0 | E169: =Contents!D177 -> 0 | F169: =Contents!C177 -> 0 | G169: =Contents!E177 -> 0
C170: =IFERROR(VLOOKUP(A170, E170:G369, 2, FALSE), 0) -> 0 | D170: =IFERROR(VLOOKUP(A170, E170:G369, 3, FALSE), 0) -> 0 | E170: =Contents!D178 -> 0 | F170: =Contents!C178 -> 0 | G170: =Contents!E178 -> 0
C171: =IFERROR(VLOOKUP(A171, E171:G370, 2, FALSE), 0) -> 0 | D171: =IFERROR(VLOOKUP(A171, E171:G370, 3, FALSE), 0) -> 0 | E171: =Contents!D179 -> 0 | F171: =Contents!C179 -> 0 | G171: =Contents!E179 -> 0
C172: =IFERROR(VLOOKUP(A172, E172:G371, 2, FALSE), 0) -> 0 | D172: =IFERROR(VLOOKUP(A172, E172:G371, 3, FALSE), 0) -> 0 | E172: =Contents!D180 -> 0 | F172: =Contents!C180 -> 0 | G172: =Contents!E180 -> 0
C173: =IFERROR(VLOOKUP(A173, E173:G372, 2, FALSE), 0) -> 0 | D173: =IFERROR(VLOOKUP(A173, E173:G372, 3, FALSE), 0) -> 0 | E173: =Contents!D181 -> 0 | F173: =Contents!C181 -> 0 | G173: =Contents!E181 -> 0
C174: =IFERROR(VLOOKUP(A174, E174:G373, 2, FALSE), 0) -> 0 | D174: =IFERROR(VLOOKUP(A174, E174:G373, 3, FALSE), 0) -> 0 | E174: =Contents!D182 -> 0 | F174: =Contents!C182 -> 0 | G174: =Contents!E182 -> 0
C175: =IFERROR(VLOOKUP(A175, E175:G374, 2, FALSE), 0) -> 0 | D175: =IFERROR(VLOOKUP(A175, E175:G374, 3, FALSE), 0) -> 0 | E175: =Contents!D183 -> 0 | F175: =Contents!C183 -> 0 | G175: =Contents!E183 -> 0
C176: =IFERROR(VLOOKUP(A176, E176:G375, 2, FALSE), 0) -> 0 | D176: =IFERROR(VLOOKUP(A176, E176:G375, 3, FALSE), 0) -> 0 | E176: =Contents!D184 -> 0 | F176: =Contents!C184 -> 0 | G176: =Contents!E184 -> 0
C177: =IFERROR(VLOOKUP(A177, E177:G376, 2, FALSE), 0) -> 0 | D177: =IFERROR(VLOOKUP(A177, E177:G376, 3, FALSE), 0) -> 0 | E177: =Contents!D185 -> 0 | F177: =Contents!C185 -> 0 | G177: =Contents!E185 -> 0
C178: =IFERROR(VLOOKUP(A178, E178:G377, 2, FALSE), 0) -> 0 | D178: =IFERROR(VLOOKUP(A178, E178:G377, 3, FALSE), 0) -> 0 | E178: =Contents!D186 -> 0 | F178: =Contents!C186 -> 0 | G178: =Contents!E186 -> 0
... C200: =IFERROR(VLOOKUP(A200, E200:G399, 2, FALSE), 0) -> 0 | D200: =IFERROR(VLOOKUP(A200, E200:G399, 3, FALSE), 0) -> 0 | E200: =Contents!D208 -> 0 | F200: =Contents!C208 -> 0 | G200: =Contents!E208 -> 0

Sheet Cover Sheet
F7: Public First Poll for AWS Europe (Consumer)
F10: Fieldwork: | K10: 23rd Apr - 30th Apr 2022
F11: Interview Method: | K11: Online Survey
F12: Population represented: | K12: Adults in selected EU member states
F13: Sample size: | K13: 6838
F16: Methodology:
F17: All results are weighted using Iterative Proportional Fitting, or 'Raking'. The results are weighted by interlocking age & gender, region, and education level to Nationally Representative Proportions in selected EU member states
F19: Public First is a member of the BPC and abides by its rules. For more information please contact the Public First polling team:
F20: =HYPERLINK("mailto:" & "polling@publicfirst.co.uk" & "?subject="& F7, "polling@publicfirst.co.uk") -> polling@publicfirst.co.uk

Sheet Contents
D2: Table of Contents
D6: =HYPERLINK("#'Full Results'!A1", "Full Results") -> Full Results
D8: Individual Tables | E8: Full Result Row | F8: Question Base
C9: 1 | D9: =HYPERLINK("#'Table 1'!A1", "If you had to choose, which of the following types of infrastructure investment would prefer your Government to prioritise in your local area?Please select up to three") -> If you had to choose, which of the following types of infrastructure investment would prefer your Government to prioritise in your local area?Please select up to three | E9: =HYPERLINK("#'Full Results'!A11", "11") -> 11 | F9: BASE: All Respondents
C10: 2 | D10: =HYPERLINK("#'Table 2'!A1", "Which, if any, of the following areas would you support your government spending more on research on?Please select all that apply.") -> Which, if any, of the following areas would you support your government spending more on research on?Please select all that apply. | E10: =HYPERLINK("#'Full Results'!A21", "21") -> 21 | F10: BASE: All Respondents
C11: 3 | D11: =HYPERLINK("#'Table 3'!A1", "Which, if any, of the following sectors do you think is most likely to be important to your country’s economy in the next decade?Please select up to three") -> Which, if any, of the following sectors do you think is most likely to be important to your country’s economy in the next decade?Please select up to three | E11: =HYPERLINK("#'Full Results'!A29", "29") -> 29 | F11: BASE: All Respondents
C12: 4 | D12: =HYPERLINK("#'Table 4'!A1", "And which would you say have done the best job of innovating in the last decade?Please select up to three") -> And which would you say have done the best job of innovating in the last decade?Please select up to three | E12: =HYPERLINK("#'Full Results'!A44", "44") -> 44 | F12: BASE: All Respondents
C13: 5 | D13: =HYPERLINK("#'Table 5'!A1", "Grid Summary: Overall, how well do you think your country does in the following sectors?") -> Grid Summary: Overall, how well do you think your country does in the following sectors? | F13: BASE: All Respondents
C14: 6 | D14: =HYPERLINK("#'Table 6'!A1", "Overall, how well do you think your country does in the following sectors?: Financial services") -> Overall, how well do you think your country does in the following sectors?: Financial services | E14: =HYPERLINK("#'Full Results'!A59", "59") -> 59 | F14: BASE: All Respondents
C15: 7 | D15: =HYPERLINK("#'Table 7'!A1", "Overall, how well do you think your country does in the following sectors?: Automotive ") -> Overall, how well do you think your country does in the following sectors?: Automotive | E15: =HYPERLINK("#'Full Results'!A68", "68") -> 68 | F15: BASE: All Respondents
C16: 8 | D16: =HYPERLINK("#'Table 8'!A1", "Overall, how well do you think your country does in the following sectors?: Digital technology") -> Overall, how well do you think your country does in the following sectors?: Digital technology | E16: =HYPERLINK("#'Full Results'!A77", "77") -> 77 | F16: BASE: All Respondents
C17: 9 | D17: =HYPERLINK("#'Table 9'!A1", " How confident or unconfident are you in your Government’s ability to grow its digital technology sector in the next five years?") -> How confident or unconfident are you in your Government’s ability to grow its digital technology sector in the next five years? | E17: =HYPERLINK("#'Full Results'!A86", "86") -> 86 | F17: BASE: All Respondents
C18: 10 | D18: =HYPERLINK("#'Table 10'!A1", " Which of the following is closest to your view?") -> Which of the following is closest to your view? | E18: =HYPERLINK("#'Full Results'!A98", "98") -> 98 | F18: BASE: All Respondents
C19: 11 | D19: =HYPERLINK("#'Table 11'!A1", "Which, if any, of the following technologies do you use regularly?Please select all that apply") -> Which, if any, of the following technologies do you use regularly?Please select all that apply | E19: =HYPERLINK("#'Full Results'!A105", "105") -> 105 | F19: BASE: All Respondents
C20: 12 | D20: =HYPERLINK("#'Table 12'!A1", " Compared to the average person in your country, would you say that you are an early adopter of new technology?") -> Compared to the average person in your country, would you say that you are an early adopter of new technology? | E20: =HYPERLINK("#'Full Results'!A117", "117") -> 117 | F20: BASE: All Respondents
C21: 13 | D21: =HYPERLINK("#'Table 13'!A1", "Which, if any, of the following types of apps or websites do you use regularly?Please select all that apply") -> Which, if any, of the following types of apps or websites do you use regularly?Please select all that apply | E21: =HYPERLINK("#'Full Results'!A124", "124") -> 124 | F21: BASE: All Respondents
C22: 14 | D22: =HYPERLINK("#'Table 14'!A1", "Grid Summary: Overall, how satisfied or unsatisfied are you with the speed and reliability of your Internet connection in the following locations?") -> Grid Summary: Overall, how satisfied or unsatisfied are you with the speed and reliability of your Internet connection in the following locations? | F22: BASE: All Respondents
C23: 15 | D23: =HYPERLINK("#'Table 15'!A1", "Overall, how satisfied or unsatisfied are you with the speed and reliability of your Internet connection in the following locations?: At home") -> Overall, how satisfied or unsatisfied are you with the speed and reliability of your Internet connection in the following locations?: At home | E23: =HYPERLINK("#'Full Results'!A142", "142") -> 142 | F23: BASE: All Respondents
C24: 16 | D24: =HYPERLINK("#'Table 16'!A1", "Overall, how satisfied or unsatisfied are you with the speed and reliability of your Internet connection in the following locations?: While travelling") -> Overall, how satisfied or unsatisfied are you with the speed and reliability of your Internet connection in the following locations?: While travelling | E24: =HYPERLINK("#'Full Results'!A154", "154") -> 154 | F24: BASE: All Respondents
C25: 17 | D25: =HYPERLINK("#'Table 17'!A1", "Overall, how satisfied or unsatisfied are you with the speed and reliability of your Internet connection in the following locations?: At work") -> Overall, how satisfied or unsatisfied are you with the speed and reliability of your Internet connection in the following locations?: At work | E25: =HYPERLINK("#'Full Results'!A166", "166") -> 166 | F25: BASE: Respondents who work currently
C26: 18 | D26: =HYPERLINK("#'Table 18'!A1", "Which, if any, of the following activities have you used a website or app to do in the last year?Please select all that apply") -> Which, if any, of the following activities have you used a website or app to do in the last year?Please select all that apply | E26: =HYPERLINK("#'Full Results'!A178", "178") -> 178 | F26: BASE: All Respondents
C27: 19 | D27: =HYPERLINK("#'Table 19'!A1", "And which, if any, of the same list activities did you use a website or app to do for the first time in the last two years?Please select all that apply") -> And which, if any, of the same list activities did you use a website or app to do for the first time in the last two years?Please select all that apply | E27: =HYPERLINK("#'Full Results'!A195", "195") -> 195 | F27: BASE: All Respondents
C28: 20 | D28: =HYPERLINK("#'Table 20'!A1", " How much time do you spend on an average working day working out to do something which you at first didn’t know how to do on the computer?For example, working out how to correctly format a file, share a link to a video call, or write a spreadshe...") -> How much time do you spend on an average working day working out to do something which you at first didn’t know how to do on the computer?For example, working out how to correctly format a file, share a link to a video call, or write a spreadshe... | E28: =HYPERLINK("#'Full Results'!A212", "212") -> 212 | F28: BASE: Respondents who are currently working
C29: 21 | D29: =HYPERLINK("#'Table 21'!A1", "Grid Summary: How confident or unconfident would you be that you could perform the following digital activities?") -> Grid Summary: How confident or unconfident would you be that you could perform the following digital activities? | F29: BASE: All Respondents
C30: 22 | D30: =HYPERLINK("#'Table 22'!A1", "How confident or unconfident would you be that you could perform the following digital activities?: Save a document") -> How confident or unconfident would you be that you could perform the following digital activities?: Save a document | E30: =HYPERLINK("#'Full Results'!A222", "222") -> 222 | F30: BASE: All Respondents
C31: 23 | D31: =HYPERLINK("#'Table 23'!A1", "How confident or unconfident would you be that you could perform the following digital activities?: Tracking changes in a document") -> How confident or unconfident would you be that you could perform the following digital activities?: Tracking changes in a document | E31: =HYPERLINK("#'Full Results'!A234", "234") -> 234 | F31: BASE: All Respondents
C32: 24 | D32: =HYPERLINK("#'Table 24'!A1", "How confident or unconfident would you be that you could perform the following digital activities?: Send an email") -> How confident or unconfident would you be that you could perform the following digital activities?: Send an email | E32: =HYPERLINK("#'Full Results'!A246", "246") -> 246 | F32: BASE: All Respondents
C33: 25 | D33: =HYPERLINK("#'Table 25'!A1", "How confident or unconfident would you be that you could perform the following digital activities?: Share a file online") -> How confident or unconfident would you be that you could perform the following digital activities?: Share a file online | E33: =HYPERLINK("#'Full Results'!A258", "258") -> 258 | F33: BASE: All Respondents
C34: 26 | D34: =HYPERLINK("#'Table 26'!A1", "How confident or unconfident would you be that you could perform the following digital activities?: Post something on social media") -> How confident or unconfident would you be that you could perform the following digital activities?: Post something on social media | E34: =HYPERLINK("#'Full Results'!A270", "270") -> 270 | F34: BASE: All Respondents
C35: 27 | D35: =HYPERLINK("#'Table 27'!A1", "How confident or unconfident would you be that you could perform the following digital activities?: Create a spreadsheet to track your budget") -> How confident or unconfident would you be that you could perform the following digital activities?: Create a spreadsheet to track your budget | E35: =HYPERLINK("#'Full Results'!A282", "282") -> 282 | F35: BASE: All Respondents
C36: 28 | D36: =HYPERLINK("#'Table 28'!A1", "How confident or unconfident would you be that you could perform the following digital activities?: Find a good price for a product online") -> How confident or unconfident would you be that you could perform the following digital activities?: Find a good price for a product online | E36: =HYPERLINK("#'Full Results'!A294", "294") -> 294 | F36: BASE: All Respondents
C37: 29 | D37: =HYPERLINK("#'Table 29'!A1", "How confident or unconfident would you be that you could perform the following digital activities?: Research a topic") -> How confident or unconfident would you be that you could perform the following digital activities?: Research a topic | E37: =HYPERLINK("#'Full Results'!A306", "306") -> 306 | F37: BASE: All Respondents
C38: 30 | D38: =HYPERLINK("#'Table 30'!A1", "How confident or unconfident would you be that you could perform the following digital activities?: Edit a photo") -> How confident or unconfident would you be that you could perform the following digital activities?: Edit a photo | E38: =HYPERLINK("#'Full Results'!A318", "318") -> 318 | F38: BASE: All Respondents
C39: 31 | D39: =HYPERLINK("#'Table 31'!A1", "How confident or unconfident would you be that you could perform the following digital activities?: Create your own website") -> How confident or unconfident would you be that you could perform the following digital activities?: Create your own website | E39: =HYPERLINK("#'Full Results'!A330", "330") -> 330 | F39: BASE: All Respondents
C40: 32 | D40: =HYPERLINK("#'Table 32'!A1", "How confident or unconfident would you be that you could perform the following digital activities?: Program a small application") -> How confident or unconfident would you be that you could perform the following digital activities?: Program a small application | E40: =HYPERLINK("#'Full Results'!A342", "342") -> 342 | F40: BASE: All Respondents
C41: 33 | D41: =HYPERLINK("#'Table 33'!A1", "How confident or unconfident would you be that you could perform the following digital activities?: Build a machine learning model") -> How confident or unconfident would you be that you could perform the following digital activities?: Build a machine learning model | E41: =HYPERLINK("#'Full Results'!A354", "354") -> 354 | F41: BASE: All Respondents
C42: 34 | D42: =HYPERLINK("#'Table 34'!A1", "How confident or unconfident would you be that you could perform the following digital activities?: Book an appointment with a doctor") -> How confident or unconfident would you be that you could perform the following digital activities?: Book an appointment with a doctor | E42: =HYPERLINK("#'Full Results'!A366", "366") -> 366 | F42: BASE: All Respondents
C43: 35 | D43: =HYPERLINK("#'Table 35'!A1", "How confident or unconfident would you be that you could perform the following digital activities?: Schedule a video meeting") -> How confident or unconfident would you be that you could perform the following digital activities?: Schedule a video meeting | E43: =HYPERLINK("#'Full Results'!A378", "378") -> 378 | F43: BASE: All Respondents
C44: 36 | D44: =HYPERLINK("#'Table 36'!A1", "How confident or unconfident would you be that you could perform the following digital activities?: Use two-factor authentication") -> How confident or unconfident would you be that you could perform the following digital activities?: Use two-factor authentication | E44: =HYPERLINK("#'Full Results'!A390", "390") -> 390 | F44: BASE: All Respondents
C45: 37 | D45: =HYPERLINK("#'Table 37'!A1", "How confident or unconfident would you be that you could perform the following digital activities?: Edit a video") -> How confident or unconfident would you be that you could perform the following digital activities?: Edit a video | E45: =HYPERLINK("#'Full Results'!A402", "402") -> 402 | F45: BASE: All Respondents
...

Sheet Full Results
D2: Full Results
D5: Gender | G5: Age | N5: Country | X5: Education
C6: Total | D6: Male | E6: Female | G6: 18-24 | H6: 25-34 | I6: 35-44 | J6: 45-54 | K6: 55-64 | L6: 65+ | N6: Denmark | O6: Finland | P6: France | Q6: Germany | R6: Italy | S6: Netherlands | T6: Poland | U6: Spain | V6: Sweden | X6: Graduate | Y6: Non-Graduate
B7: Unweighted | C7: 6838 | D7: 3283 | E7: 3541 | G7: 635 | H7: 1075 | I7: 1093 | J7: 1228 | K7: 1156 | L7: 1651 | N7: 208 | O7: 200 | P7: 1002 | Q7: 1000 | R7: 1004 | S7: 1006 | T7: 1006 | U7: 1007 | V7: 405 | X7: 2650 | Y7: 4188
B8: Weighted | C8: 6838 | D8: 3309 | E8: 3515 | G8: 645 | H8: 1026 | I8: 1111 | J8: 1184 | K8: 1140 | L8: 1732 | N8: 208 | O8: 200 | P8: 1002 | Q8: 1000 | R8: 1004 | S8: 1006 | T8: 1006 | U8: 1007 | V8: 405 | X8: 2436 | Y8: 4402
B11: If you had to choose, which of the following types of infrastructure investment would prefer your Government to prioritise in your local area?Please select up to three
B12: BASE: All Respondents
B13: Faster or more reliable Internet | C13: 0.41754734 | D13: 0.45490951 | E13: 0.38090206 | G13: 0.49973965 | H13: 0.470101 | I13: 0.45292336 | J13: 0.41771786 | K13: 0.39887158 | L13: 0.34533293 | N13: 0.33540298 | O13: 0.29451172 | P13: 0.41732256 | Q13: 0.5563292 | R13: 0.46624134 | S13: 0.35607935 | T13: 0.4271618 | U13: 0.37940753 | V13: 0.28129833 | X13: 0.43636312 | Y13: 0.40713531
B14: Building new roads | C14: 0.41677376 | D14: 0.44568137 | E14: 0.39033319 | G14: 0.42697416 | H14: 0.47716939 | I14: 0.42032453 | J14: 0.40362981 | K14: 0.39119952 | L14: 0.40076214 | N14: 0.32067539 | O14: 0.43374934 | P14: 0.24679414 | Q14: 0.26596056 | R14: 0.55402743 | S14: 0.28578639 | T14: 0.72934973 | U14: 0.46273914 | V14: 0.34506562 | X14: 0.40721728 | Y14: 0.422062
B15: Adding extra bus routes | C15: 0.36743628 | D15: 0.33133642 | E15: 0.40176298 | G15: 0.45501348 | H15: 0.37861407 | I15: 0.34531455 | J15: 0.34906493 | K15: 0.33863772 | L15: 0.37392749 | N15: 0.40048688 | O15: 0.4328034 | P15: 0.33243917 | Q15: 0.31794676 | R15: 0.40093839 | S15: 0.26777737 | T15: 0.38839055 | U15: 0.46152985 | V15: 0.40545408 | X15: 0.37577212 | Y15: 0.3628235
B16: Building new railways | C16: 0.31840822 | D16: 0.3492686 | E16: 0.28975803 | G16: 0.35827862 | H16: 0.33172265 | I16: 0.31216711 | J16: 0.28921977 | K16: 0.29536099 | L16: 0.33480805 | N16: 0.22133627 | O16: 0.29591166 | P16: 0.21167183 | Q16: 0.26955675 | R16: 0.38638673 | S16: 0.29517148 | T16: 0.34340757 | U16: 0.41933904 | V16: 0.34021227 | X16: 0.37519635 | Y16: 0.28698357
B17: Faster or more reliable mobile phone signal | C17: 0.25181697 | D17: 0.27850735 | E17: 0.22634663 | G17: 0.32876454 | H17: 0.31562614 | I17: 0.27420018 | J17: 0.24299159 | K17: 0.23095023 | L17: 0.19081507 | N17: 0.18511271 | O17: 0.18528437 | P17: 0.25755449 | Q17: 0.36518365 | R17: 0.1906771 | S17: 0.22941996 | T17: 0.22367368 | U17: 0.28643639 | V17: 0.21584555 | X17: 0.25912471 | Y17: 0.24777312
B18: Building new airports or runways | C18: 0.072848585 | D18: 0.089555268 | E18: 0.057412401 | G18: 0.092639953 | H18: 0.11494923 | I18: 0.093118911 | J18: 0.063064745 | K18: 0.060074761 | L18: 0.042651639 | N18: 0.027905662 | O18: 0.035144725 | P18: 0.058915085 | Q18: 0.035166007 | R18: 0.13156398 | S18: 0.082003822 | T18: 0.078715831 | U18: 0.074075027 | V18: 0.056144732 | X18: 0.096819803 | Y18: 0.059583715
B19: None of the above | C19: 0.14590969 | D19: 0.1288202 | E19: 0.16231986 | G19: 0.075991556 | H19: 0.098840051 | I19: 0.1458897 | J19: 0.16122169 | K19: 0.17918373 | L19: 0.16744178 | N19: 0.24440663 | O19: 0.17383866 | P19: 0.2265197 | Q19: 0.13964064 | R19: 0.088061 | S19: 0.23392055 | T19: 0.043223035 | U19: 0.10960438 | V19: 0.16770731 | X19: 0.11865608 | Y19: 0.16099092
B21: Which, if any, of the following areas would you support your government spending more on research on?Please select all that apply.
B22: BASE: All Respondents
B23: Better monitoring of the spread of new diseases | C23: 0.62043958 | D23: 0.59954546 | E23: 0.64065116 | G23: 0.58306686 | H23: 0.54124075 | I23: 0.58200031 | J23: 0.61304229 | K23: 0.63735308 | L23: 0.69981137 | N23: 0.60325674 | O23: 0.57101629 | P23: 0.57094299 | Q23: 0.58746386 | R23: 0.66045097 | S23: 0.53865276 | T23: 0.59787957 | U23: 0.76222609 | V23: 0.66501358 | X23: 0.61938914 | Y23: 0.62102086
B24: Creating smarter, more resilient energy grids | C24: 0.61640025 | D24: 0.67552324 | E24: 0.56153682 | G24: 0.57845165 | H24: 0.64456999 | I24: 0.61802291 | J24: 0.61550886 | K24: 0.61721741 | L24: 0.61287702 | N24: 0.46664413 | O24: 0.59043274 | P24: 0.49433108 | Q24: 0.58116248 | R24: 0.75990563 | S24: 0.56663447 | T24: 0.66061748 | U24: 0.66185324 | V24: 0.64016596 | X24: 0.67365188 | Y24: 0.58471911
B25: Protecting endangered animals | C25: 0.53655022 | D25: 0.50736171 | E25: 0.56355484 | G25: 0.64115131 | H25: 0.59768821 | I25: 0.53936789 | J25: 0.53214001 | K25: 0.5299315 | L25: 0.46699336 | N25: 0.49464311 | O25: 0.33206159 | P25: 0.58128973 | Q25: 0.58915557 | R25: 0.46708446 | S25: 0.51535073 | T25: 0.59816967 | U25: 0.53114885 | V25: 0.50371161 | X25: 0.52411391 | Y25: 0.54343206
B26: New types of computing hardware (e.g. quantum computing) | C26: 0.20476363 | D26: 0.27583828 | E26: 0.13815931 | G26: 0.30195518 | H26: 0.27530296 | I26: 0.24591441 | J26: 0.18657401 | K26: 0.1634211 | L26: 0.14008192 | N26: 0.20929175 | O26: 0.22599283 | P26: 0.16288073 | Q26: 0.19797075 | R26: 0.15445738 | S26: 0.16431936 | T26: 0.32065848 | U26: 0.23002268 | V26: 0.18683811 | X26: 0.26915736 | Y26: 0.16913029
B27: None of the above | C27: 0.062174175 | D27: 0.054159817 | E27: 0.069653269 | G27: 0.033649284 | H27: 0.05787191 | I27: 0.069996089 | J27: 0.078109538 | K27: 0.066466146 | L27: 0.056604635 | N27: 0.11005897 | O27: 0.093183454 | P27: 0.087715233 | Q27: 0.071432691 | R27: 0.029948683 | S27: 0.096792669 | T27: 0.036784772 | U27: 0.037669512 | V27: 0.054108925 | X27: 0.039983389 | Y27: 0.074453813
B29: Which, if any, of the following sectors do you think is most likely to be important to your country’s economy in the next decade?Please select up to three
B30: BASE: All Respondents
B31: Health | C31: 0.53886947 | D31: 0.49233764 | E31: 0.58259874 | G31: 0.51029321 | H31: 0.47346964 | I31: 0.51738519 | J31: 0.50875988 | K31: 0.54606865 | L31: 0.61783762 | N31: 0.60639672 | O31: 0.59356382 | P31: 0.61537303 | Q31: 0.48246384 | R31: 0.60885132 | S31: 0.50899631 | T31: 0.49830758 | U31: 0.53367842 | V31: 0.4415554 | X31: 0.52017084 | Y31: 0.54921667
B32: Digital technology | C32: 0.45304952 | D32: 0.51663065 | E32: 0.39335299 | G32: 0.50108751 | H32: 0.50810617 | I32: 0.44916855 | J32: 0.45338526 | K32: 0.43318386 | L32: 0.41791563 | N32: 0.42845891 | O32: 0.42249805 | P32: 0.31939247 | Q32: 0.55863916 | R32: 0.5031508 | S32: 0.42586223 | T32: 0.48950934 | U32: 0.47310927 | V32: 0.35361713 | X32: 0.53254375 | Y32: 0.40906008
B33: Agriculture, forestry & fishing | C33: 0.38714021 | D33: 0.36331845 | E33: 0.41018655 | G33: 0.28457915 | H33: 0.3311726 | I33: 0.35138136 | J33: 0.37256499 | K33: 0.41889451 | L33: 0.47043623 | N33: 0.34273928 | O33: 0.47759031 | P33: 0.42348924 | Q33: 0.36117384 | R33: 0.45766432 | S33: 0.33114293 | T33: 0.29203521 | U33: 0.42452142 | V33: 0.44701632 | X33: 0.34422025 | Y33: 0.41089068
B34: Manufacturing | C34: 0.24724338 | D34: 0.26745517 | E34: 0.22866297 | G34: 0.15591975 | H34: 0.20232712 | I34: 0.25024124 | J34: 0.24760418 | K34: 0.27057078 | L34: 0.29029484 | N34: 0.35766937 | O34: 0.18724486 | P34: 0.21496588 | Q34: 0.1526835 | R34: 0.27198013 | S34: 0.16963966 | T34: 0.40817725 | U34: 0.21381801 | V34: 0.3482966 | X34: 0.23590573 | Y34: 0.25351726
B35: Construction | C35: 0.23224382 | D35: 0.24147844 | E35: 0.22361262 | G35: 0.19295196 | H35: 0.20696839 | I35: 0.22033821 | J35: 0.22186263 | K35: 0.23301652 | L35: 0.27605109 | N35: 0.18875657 | O35: 0.15715426 | P35: 0.15668659 | Q35: 0.18371315 | R35: 0.16898927 | S35: 0.37542164 | T35: 0.33197825 | U35: 0.18603799 | V35: 0.26673614 | X35: 0.22588413 | Y35: 0.23576306
B36: Telecommunications | C36: 0.19263867 | D36: 0.21102619 | E36: 0.17555981 | G36: 0.18559243 | H36: 0.19427282 | I36: 0.202008 | J36: 0.19636906 | K36: 0.18688558 | L36: 0.18952117 | N36: 0.081015071 | O36: 0.40644677 | P36: 0.10652431 | Q36: 0.20942705 | R36: 0.23467234 | S36: 0.10627055 | T36: 0.17623916 | U36: 0.31480838 | V36: 0.16328517 | X36: 0.22687359 | Y36: 0.17369421
B37: Financial services | C37: 0.13450844 | D37: 0.13800476 | E37: 0.13175522 | G37: 0.20807957 | H37: 0.18118633 | I37: 0.14873545 | J37: 0.10914362 | K37: 0.10772186 | L37: 0.10533508 | N37: 0.12023466 | O37: 0.065522331 | P37: 0.10735727 | Q37: 0.090429494 | R37: 0.14035931 | S37: 0.17589414 | T37: 0.14656921 | U37: 0.14483882 | V37: 0.1789688 | X37: 0.16008316 | Y37: 0.12035624
B38: Retail | C38: 0.12796966 | D38: 0.10733286 | E38: 0.14765288 | G38: 0.13088542 | H38: 0.147378 | I38: 0.12550706 | J38: 0.13341525 | K38: 0.10276222 | L38: 0.12984553 | N38: 0.19338538 | O38: 0.19869339 | P38: 0.14651074 | Q38: 0.1480714 | R38: 0.11971723 | S38: 0.14121377 | T38: 0.13826725 | U38: 0.054555067 | V38: 0.10846306 | X38: 0.10487733 | Y38: 0.14074818
B39: Automotive | C39: 0.092230369 | D39: 0.11641868 | E39: 0.069490251 | G39: 0.14961397 | H39: 0.12149214 | I39: 0.090172071 | J39: 0.096864615 | K39: 0.06527377 | L39: 0.069449565 | N39: 0.042832092 | O39: 0.0084205134 | P39: 0.11170709 | Q39: 0.18899848 | R39: 0.070508797 | S39: 0.028245799 | T39: 0.067428398 | U39: 0.10628349 | V39: 0.11131493 | X39: 0.094728475 | Y39: 0.090848
B40: Media & Entertainment | C40: 0.07333832 | D40: 0.072761469 | E40: 0.073526967 | G40: 0.22695382 | H40: 0.11808033 | I40: 0.071020835 | J40: 0.052214502 | K40: 0.036618255 | L40: 0.029775576 | N40: 0.036989001 | O40: 0.036733271 | P40: 0.040921585 | Q40: 0.078452745 | R40: 0.081600109 | S40: 0.059171919 | T40: 0.064336983 | U40: 0.12375682 | V40: 0.089361268 | X40: 0.075296178 | Y40: 0.072254908
B41: Other (please specify) | C41: 0.024117722 | D41: 0.027620974 | E41: 0.020916263 | G41: 0.018954837 | H41: 0.015128949 | I41: 0.021399568 | J41: 0.034912611 | K41: 0.033368562 | L41: 0.0196381 | N41: 0.029786136 | O41: 0.0032272957 | P41: 0.025221561 | Q41: 0.017686765 | R41: 0.037214867 | S41: 0.026837466 | T41: 0.011698952 | U41: 0.030868793 | V41: 0.019508644 | X41: 0.031834927 | Y41: 0.019847279
B42: Don't Know | C42: 0.059469443 | D42: 0.042889787 | E42: 0.075039593 | G42: 0.04624626 | H42: 0.052212256 | I42: 0.061692238 | J42: 0.072637041 | K42: 0.079113374 | L42: 0.045332652 | N42: 0.064325569 | O42: 0.059678294 | P42: 0.073581913 | Q42: 0.07271286 | R42: 0.034264403 | S42: 0.087130395 | T42: 0.038550558 | U42: 0.049003126 | V42: 0.061017501 | X42: 0.038109425 | Y42: 0.071289361
B44: And which would you say have done the best job of innovating in the last decade?Please select up to three
B45: BASE: All Respondents
B46: Digital technology | C46: 0.50275718 | D46: 0.5371613 | E46: 0.47039653 | G46: 0.51138574 | H46: 0.51202804 | I46: 0.51278324 | J46: 0.50825157 | K46: 0.48866279 | L46: 0.49314925 | N46: 0.46429519 | O46: 0.62195173 | P46: 0.53558824 | Q46: 0.39496087 | R46: 0.51841809 | S46: 0.47189817 | T46: 0.45384229 | U46: 0.6374091 | V46: 0.47311588 | X46: 0.56318842 | Y46: 0.46931655
B47: Telecommunications | C47: 0.35850549 | D47: 0.38615686 | E47: 0.33287704 | G47: 0.29820388 | H47: 0.30461276 | I47: 0.35645475 | J47: 0.38356651 | K47: 0.37430832 | L47: 0.38663851 | N47: 0.20860644 | O47: 0.46435107 | P47: 0.30896849 | Q47: 0.25297726 | R47: 0.46946165 | S47: 0.30678418 | T47: 0.32487258 | U47: 0.5446377 | V47: 0.24049412 | X47: 0.3876985 | Y47: 0.34235105
B48: Automotive | C48: 0.21939896 | D48: 0.22437513 | E48: 0.21447871 | G48: 0.22208559 | H48: 0.21278175 | I48: 0.19587935 | J48: 0.22252907 | K48: 0.21967073 | L48: 0.23508528 | N48: 0.11713291 | O48: 0.094912485 | P48: 0.30498782 | Q48: 0.30276129 | R48: 0.23853699 | S48: 0.1277774 | T48: 0.16863975 | U48: 0.23696049 | V48: 0.17836751 | X48: 0.21506374 | Y48: 0.22179792
...

Sheet Table 1
D2: If you had to choose, which of the following types of infrastructure investment would prefer your Government to prioritise in your local area?Please select up to three
D5: Gender | G5: Age | N5: Country | X5: Education
C6: Total | D6: Male | E6: Female | G6: 18-24 | H6: 25-34 | I6: 35-44 | J6: 45-54 | K6: 55-64 | L6: 65+ | N6: Denmark | O6: Finland | P6: France | Q6: Germany | R6: Italy | S6: Netherlands | T6: Poland | U6: Spain | V6: Sweden | X6: Graduate | Y6: Non-Graduate
B7: Unweighted | C7: 6838 | D7: 3283 | E7: 3541 | G7: 635 | H7: 1075 | I7: 1093 | J7: 1228 | K7: 1156 | L7: 1651 | N7: 208 | O7: 200 | P7: 1002 | Q7: 1000 | R7: 1004 | S7: 1006 | T7: 1006 | U7: 1007 | V7: 405 | X7: 2650 | Y7: 4188
B8: Weighted | C8: 6838 | D8: 3309 | E8: 3515 | G8: 645 | H8: 1026 | I8: 1111 | J8: 1184 | K8: 1140 | L8: 1732 | N8: 208 | O8: 200 | P8: 1002 | Q8: 1000 | R8: 1004 | S8: 1006 | T8: 1006 | U8: 1007 | V8: 405 | X8: 2436 | Y8: 4402
B9: Faster or more reliable Internet | C9: 0.41754734 | D9: 0.45490951 | E9: 0.38090206 | G9: 0.49973965 | H9: 0.470101 | I9: 0.45292336 | J9: 0.41771786 | K9: 0.39887158 | L9: 0.34533293 | N9: 0.33540298 | O9: 0.29451172 | P9: 0.41732256 | Q9: 0.5563292 | R9: 0.46624134 | S9: 0.35607935 | T9: 0.4271618 | U9: 0.37940753 | V9: 0.28129833 | X9: 0.43636312 | Y9: 0.40713531
B10: Building new roads | C10: 0.41677376 | D10: 0.44568137 | E10: 0.39033319 | G10: 0.42697416 | H10: 0.47716939 | I10: 0.42032453 | J10: 0.40362981 | K10: 0.39119952 | L10: 0.40076214 | N10: 0.32067539 | O10: 0.43374934 | P10: 0.24679414 | Q10: 0.26596056 | R10: 0.55402743 | S10: 0.28578639 | T10: 0.72934973 | U10: 0.46273914 | V10: 0.34506562 | X10: 0.40721728 | Y10: 0.422062
B11: Adding extra bus routes | C11: 0.36743628 | D11: 0.33133642 | E11: 0.40176298 | G11: 0.45501348 | H11: 0.37861407 | I11: 0.34531455 | J11: 0.34906493 | K11: 0.33863772 | L11: 0.37392749 | N11: 0.40048688 | O11: 0.4328034 | P11: 0.33243917 | Q11: 0.31794676 | R11: 0.40093839 | S11: 0.26777737 | T11: 0.38839055 | U11: 0.46152985 | V11: 0.40545408 | X11: 0.37577212 | Y11: 0.3628235
B12: Building new railways | C12: 0.31840822 | D12: 0.3492686 | E12: 0.28975803 | G12: 0.35827862 | H12: 0.33172265 | I12: 0.31216711 | J12: 0.28921977 | K12: 0.29536099 | L12: 0.33480805 | N12: 0.22133627 | O12: 0.29591166 | P12: 0.21167183 | Q12: 0.26955675 | R12: 0.38638673 | S12: 0.29517148 | T12: 0.34340757 | U12: 0.41933904 | V12: 0.34021227 | X12: 0.37519635 | Y12: 0.28698357
B13: Faster or more reliable mobile phone signal | C13: 0.25181697 | D13: 0.27850735 | E13: 0.22634663 | G13: 0.32876454 | H13: 0.31562614 | I13: 0.27420018 | J13: 0.24299159 | K13: 0.23095023 | L13: 0.19081507 | N13: 0.18511271 | O13: 0.18528437 | P13: 0.25755449 | Q13: 0.36518365 | R13: 0.1906771 | S13: 0.22941996 | T13: 0.22367368 | U13: 0.28643639 | V13: 0.21584555 | X13: 0.25912471 | Y13: 0.24777312
B14: Building new airports or runways | C14: 0.072848585 | D14: 0.089555268 | E14: 0.057412401 | G14: 0.092639953 | H14: 0.11494923 | I14: 0.093118911 | J14: 0.063064745 | K14: 0.060074761 | L14: 0.042651639 | N14: 0.027905662 | O14: 0.035144725 | P14: 0.058915085 | Q14: 0.035166007 | R14: 0.13156398 | S14: 0.082003822 | T14: 0.078715831 | U14: 0.074075027 | V14: 0.056144732 | X14: 0.096819803 | Y14: 0.059583715
B15: None of the above | C15: 0.14590969 | D15: 0.1288202 | E15: 0.16231986 | G15: 0.075991556 | H15: 0.098840051 | I15: 0.1458897 | J15: 0.16122169 | K15: 0.17918373 | L15: 0.16744178 | N15: 0.24440663 | O15: 0.17383866 | P15: 0.2265197 | Q15: 0.13964064 | R15: 0.088061 | S15: 0.23392055 | T15: 0.043223035 | U15: 0.10960438 | V15: 0.16770731 | X15: 0.11865608 | Y15: 0.16099092
B17: Fieldwork: 23rd Apr - 30th Apr 2022
B18: Data weighted by interlocking age & gender, region, and education level to Nationally Representative Proportions in selected EU member states
B20: =HYPERLINK("#'Contents'!A1", "Return to Contents") -> Return to Contents

Sheet Table 2
D2: Which, if any, of the following areas would you support your government spending more on research on?Please select all that apply.
D5: Gender | G5: Age | N5: Country | X5: Education
C6: Total | D6: Male | E6: Female | G6: 18-24 | H6: 25-34 | I6: 35-44 | J6: 45-54 | K6: 55-64 | L6: 65+ | N6: Denmark | O6: Finland | P6: France | Q6: Germany | R6: Italy | S6: Netherlands | T6: Poland | U6: Spain | V6: Sweden | X6: Graduate | Y6: Non-Graduate
B7: Unweighted | C7: 6838 | D7: 3283 | E7: 3541 | G7: 635 | H7: 1075 | I7: 1093 | J7: 1228 | K7: 1156 | L7: 1651 | N7: 208 | O7: 200 | P7: 1002 | Q7: 1000 | R7: 1004 | S7: 1006 | T7: 1006 | U7: 1007 | V7: 405 | X7: 2650 | Y7: 4188
B8: Weighted | C8: 6838 | D8: 3309 | E8: 3515 | G8: 645 | H8: 1026 | I8: 1111 | J8: 1184 | K8: 1140 | L8: 1732 | N8: 208 | O8: 200 | P8: 1002 | Q8: 1000 | R8: 1004 | S8: 1006 | T8: 1006 | U8: 1007 | V8: 405 | X8: 2436 | Y8: 4402
B9: Better monitoring of the spread of new diseases | C9: 0.62043958 | D9: 0.59954546 | E9: 0.64065116 | G9: 0.58306686 | H9: 0.54124075 | I9: 0.58200031 | J9: 0.61304229 | K9: 0.63735308 | L9: 0.69981137 | N9: 0.60325674 | O9: 0.57101629 | P9: 0.57094299 | Q9: 0.58746386 | R9: 0.66045097 | S9: 0.53865276 | T9: 0.59787957 | U9: 0.76222609 | V9: 0.66501358 | X9: 0.61938914 | Y9: 0.62102086
B10: Creating smarter, more resilient energy grids | C10: 0.61640025 | D10: 0.67552324 | E10: 0.56153682 | G10: 0.57845165 | H10: 0.64456999 | I10: 0.61802291 | J10: 0.61550886 | K10: 0.61721741 | L10: 0.61287702 | N10: 0.46664413 | O10: 0.59043274 | P10: 0.49433108 | Q10: 0.58116248 | R10: 0.75990563 | S10: 0.56663447 | T10: 0.66061748 | U10: 0.66185324 | V10: 0.64016596 | X10: 0.67365188 | Y10: 0.58471911
B11: Protecting endangered animals | C11: 0.53655022 | D11: 0.50736171 | E11: 0.56355484 | G11: 0.64115131 | H11: 0.59768821 | I11: 0.53936789 | J11: 0.53214001 | K11: 0.5299315 | L11: 0.46699336 | N11: 0.49464311 | O11: 0.33206159 | P11: 0.58128973 | Q11: 0.58915557 | R11: 0.46708446 | S11: 0.51535073 | T11: 0.59816967 | U11: 0.53114885 | V11: 0.50371161 | X11: 0.52411391 | Y11: 0.54343206
B12: New types of computing hardware (e.g. quantum computing) | C12: 0.20476363 | D12: 0.27583828 | E12: 0.13815931 | G12: 0.30195518 | H12: 0.27530296 | I12: 0.24591441 | J12: 0.18657401 | K12: 0.1634211 | L12: 0.14008192 | N12: 0.20929175 | O12: 0.22599283 | P12: 0.16288073 | Q12: 0.19797075 | R12: 0.15445738 | S12: 0.16431936 | T12: 0.32065848 | U12: 0.23002268 | V12: 0.18683811 | X12: 0.26915736 | Y12: 0.16913029
B13: None of the above | C13: 0.062174175 | D13: 0.054159817 | E13: 0.069653269 | G13: 0.033649284 | H13: 0.05787191 | I13: 0.069996089 | J13: 0.078109538 | K13: 0.066466146 | L13: 0.056604635 | N13: 0.11005897 | O13: 0.093183454 | P13: 0.087715233 | Q13: 0.071432691 | R13: 0.029948683 | S13: 0.096792669 | T13: 0.036784772 | U13: 0.037669512 | V13: 0.054108925 | X13: 0.039983389 | Y13: 0.074453813
B15: Fieldwork: 23rd Apr - 30th Apr 2022
B16: Data weighted by interlocking age & gender, region, and education level to Nationally Representative Proportions in selected EU member states
B18: =HYPERLINK("#'Contents'!A1", "Return to Contents") -> Return to Contents

Sheet Table 3
D2: Which, if any, of the following sectors do you think is most likely to be important to your country’s economy in the next decade?Please select up to three
D5: Gender | G5: Age | N5: Country | X5: Education
C6: Total | D6: Male | E6: Female | G6: 18-24 | H6: 25-34 | I6: 35-44 | J6: 45-54 | K6: 55-64 | L6: 65+ | N6: Denmark | O6: Finland | P6: France | Q6: Germany | R6: Italy | S6: Netherlands | T6: Poland | U6: Spain | V6: Sweden | X6: Graduate | Y6: Non-Graduate
B7: Unweighted | C7: 6838 | D7: 3283 | E7: 3541 | G7: 635 | H7: 1075 | I7: 1093 | J7: 1228 | K7: 1156 | L7: 1651 | N7: 208 | O7: 200 | P7: 1002 | Q7: 1000 | R7: 1004 | S7: 1006 | T7: 1006 | U7: 1007 | V7: 405 | X7: 2650 | Y7: 4188
B8: Weighted | C8: 6838 | D8: 3309 | E8: 3515 | G8: 645 | H8: 1026 | I8: 1111 | J8: 1184 | K8: 1140 | L8: 1732 | N8: 208 | O8: 200 | P8: 1002 | Q8: 1000 | R8: 1004 | S8: 1006 | T8: 1006 | U8: 1007 | V8: 405 | X8: 2436 | Y8: 4402
B9: Health | C9: 0.53886947 | D9: 0.49233764 | E9: 0.58259874 | G9: 0.51029321 | H9: 0.47346964 | I9: 0.51738519 | J9: 0.50875988 | K9: 0.54606865 | L9: 0.61783762 | N9: 0.60639672 | O9: 0.59356382 | P9: 0.61537303 | Q9: 0.48246384 | R9: 0.60885132 | S9: 0.50899631 | T9: 0.49830758 | U9: 0.53367842 | V9: 0.4415554 | X9: 0.52017084 | Y9: 0.54921667
B10: Digital technology | C10: 0.45304952 | D10: 0.51663065 | E10: 0.39335299 | G10: 0.50108751 | H10: 0.50810617 | I10: 0.44916855 | J10: 0.45338526 | K10: 0.43318386 | L10: 0.41791563 | N10: 0.42845891 | O10: 0.42249805 | P10: 0.31939247 | Q10: 0.55863916 | R10: 0.5031508 | S10: 0.42586223 | T10: 0.48950934 | U10: 0.47310927 | V10: 0.35361713 | X10: 0.53254375 | Y10: 0.40906008
B11: Agriculture, forestry & fishing | C11: 0.38714021 | D11: 0.36331845 | E11: 0.41018655 | G11: 0.28457915 | H11: 0.3311726 | I11: 0.35138136 | J11: 0.37256499 | K11: 0.41889451 | L11: 0.47043623 | N11: 0.34273928 | O11: 0.47759031 | P11: 0.42348924 | Q11: 0.36117384 | R11: 0.45766432 | S11: 0.33114293 | T11: 0.29203521 | U11: 0.42452142 | V11: 0.44701632 | X11: 0.34422025 | Y11: 0.41089068
B12: Manufacturing | C12: 0.24724338 | D12: 0.26745517 | E12: 0.22866297 | G12: 0.15591975 | H12: 0.20232712 | I12: 0.25024124 | J12: 0.24760418 | K12: 0.27057078 | L12: 0.29029484 | N12: 0.35766937 | O12: 0.18724486 | P12: 0.21496588 | Q12: 0.1526835 | R12: 0.27198013 | S12: 0.16963966 | T12: 0.40817725 | U12: 0.21381801 | V12: 0.3482966 | X12: 0.23590573 | Y12: 0.25351726
B13: Construction | C13: 0.23224382 | D13: 0.24147844 | E13: 0.22361262 | G13: 0.19295196 | H13: 0.20696839 | I13: 0.22033821 | J13: 0.22186263 | K13: 0.23301652 | L13: 0.27605109 | N13: 0.18875657 | O13: 0.15715426 | P13: 0.15668659 | Q13: 0.18371315 | R13: 0.16898927 | S13: 0.37542164 | T13: 0.33197825 | U13: 0.18603799 | V13: 0.26673614 | X13: 0.22588413 | Y13: 0.23576306
B14: Telecommunications | C14: 0.19263867 | D14: 0.21102619 | E14: 0.17555981 | G14: 0.18559243 | H14: 0.19427282 | I14: 0.202008 | J14: 0.19636906 | K14: 0.18688558 | L14: 0.18952117 | N14: 0.081015071 | O14: 0.40644677 | P14: 0.10652431 | Q14: 0.20942705 | R14: 0.23467234 | S14: 0.10627055 | T14: 0.17623916 | U14: 0.31480838 | V14: 0.16328517 | X14: 0.22687359 | Y14: 0.17369421
B15: Financial services | C15: 0.13450844 | D15: 0.13800476 | E15: 0.13175522 | G15: 0.20807957 | H15: 0.18118633 | I15: 0.14873545 | J15: 0.10914362 | K15: 0.10772186 | L15: 0.10533508 | N15: 0.12023466 | O15: 0.065522331 | P15: 0.10735727 | Q15: 0.090429494 | R15: 0.14035931 | S15: 0.17589414 | T15: 0.14656921 | U15: 0.14483882 | V15: 0.1789688 | X15: 0.16008316 | Y15: 0.12035624
B16: Retail | C16: 0.12796966 | D16: 0.10733286 | E16: 0.14765288 | G16: 0.13088542 | H16: 0.147378 | I16: 0.12550706 | J16: 0.13341525 | K16: 0.10276222 | L16: 0.12984553 | N16: 0.19338538 | O16: 0.19869339 | P16: 0.14651074 | Q16: 0.1480714 | R16: 0.11971723 | S16: 0.14121377 | T16: 0.13826725 | U16: 0.054555067 | V16: 0.10846306 | X16: 0.10487733 | Y16: 0.14074818
B17: Automotive | C17: 0.092230369 | D17: 0.11641868 | E17: 0.069490251 | G17: 0.14961397 | H17: 0.12149214 | I17: 0.090172071 | J17: 0.096864615 | K17: 0.06527377 | L17: 0.069449565 | N17: 0.042832092 | O17: 0.0084205134 | P17: 0.11170709 | Q17: 0.18899848 | R17: 0.070508797 | S17: 0.028245799 | T17: 0.067428398 | U17: 0.10628349 | V17: 0.11131493 | X17: 0.094728475 | Y17: 0.090848
B18: Media & Entertainment | C18: 0.07333832 | D18: 0.072761469 | E18: 0.073526967 | G18: 0.22695382 | H18: 0.11808033 | I18: 0.071020835 | J18: 0.052214502 | K18: 0.036618255 | L18: 0.029775576 | N18: 0.036989001 | O18: 0.036733271 | P18: 0.040921585 | Q18: 0.078452745 | R18: 0.081600109 | S18: 0.059171919 | T18: 0.064336983 | U18: 0.12375682 | V18: 0.089361268 | X18: 0.075296178 | Y18: 0.072254908
... B20: Don't Know | C20: 0.059469443 | D20: 0.042889787 | E20: 0.075039593 | G20: 0.04624626 | H20: 0.052212256 | I20: 0.061692238 | J20: 0.072637041 | K20: 0.079113374 | L20: 0.045332652 | N20: 0.064325569 | O20: 0.059678294 | P20: 0.073581913 | Q20: 0.07271286 | R20: 0.034264403 | S20: 0.087130395 | T20: 0.038550558 | U20: 0.049003126 | V20: 0.061017501 | X20: 0.038109425 | Y20: 0.071289361
B22: Fieldwork: 23rd Apr - 30th Apr 2022
B23: Data weighted by interlocking age & gender, region, and education level to Nationally Representative Proportions in selected EU member states
B25: =HYPERLINK("#'Contents'!A1", "Return to Contents") -> Return to Contents

Sheet Table 4
D2: And which would you say have done the best job of innovating in the last decade?Please select up to three
D5: Gender | G5: Age | N5: Country | X5: Education
C6: Total | D6: Male | E6: Female | G6: 18-24 | H6: 25-34 | I6: 35-44 | J6: 45-54 | K6: 55-64 | L6: 65+ | N6: Denmark | O6: Finland | P6: France | Q6: Germany | R6: Italy | S6: Netherlands | T6: Poland | U6: Spain | V6: Sweden | X6: Graduate | Y6: Non-Graduate
B7: Unweighted | C7: 6838 | D7: 3283 | E7: 3541 | G7: 635 | H7: 1075 | I7: 1093 | J7: 1228 | K7: 1156 | L7: 1651 | N7: 208 | O7: 200 | P7: 1002 | Q7: 1000 | R7: 1004 | S7: 1006 | T7: 1006 | U7: 1007 | V7: 405 | X7: 2650 | Y7: 4188
B8: Weighted | C8: 6838 | D8: 3309 | E8: 3515 | G8: 645 | H8: 1026 | I8: 1111 | J8: 1184 | K8: 1140 | L8: 1732 | N8: 208 | O8: 200 | P8: 1002 | Q8: 1000 | R8: 1004 | S8: 1006 | T8: 1006 | U8: 1007 | V8: 405 | X8: 2436 | Y8: 4402
B9: Digital technology | C9: 0.50275718 | D9: 0.5371613 | E9: 0.47039653 | G9: 0.51138574 | H9: 0.51202804 | I9: 0.51278324 | J9: 0.50825157 | K9: 0.48866279 | L9: 0.49314925 | N9: 0.46429519 | O9: 0.62195173 | P9: 0.53558824 | Q9: 0.39496087 | R9: 0.51841809 | S9: 0.47189817 | T9: 0.45384229 | U9: 0.6374091 | V9: 0.47311588 | X9: 0.56318842 | Y9: 0.46931655
B10: Telecommunications | C10: 0.35850549 | D10: 0.38615686 | E10: 0.33287704 | G10: 0.29820388 | H10: 0.30461276 | I10: 0.35645475 | J10: 0.38356651 | K10: 0.37430832 | L10: 0.38663851 | N10: 0.20860644 | O10: 0.46435107 | P10: 0.30896849 | Q10: 0.25297726 | R10: 0.46946165 | S10: 0.30678418 | T10: 0.32487258 | U10: 0.5446377 | V10: 0.24049412 | X10: 0.3876985 | Y10: 0.34235105
B11: Automotive | C11: 0.21939896 | D11: 0.22437513 | E11: 0.21447871 | G11: 0.22208559 | H11: 0.21278175 | I11: 0.19587935 | J11: 0.22252907 | K11: 0.21967073 | L11: 0.23508528 | N11: 0.11713291 | O11: 0.094912485 | P11: 0.30498782 | Q11: 0.30276129 | R11: 0.23853699 | S11: 0.1277774 | T11: 0.16863975 | U11: 0.23696049 | V11: 0.17836751 | X11: 0.21506374 | Y11: 0.22179792
B12: Media & Entertainment | C12: 0.20353429 | D12: 0.1986051 | E12: 0.20816599 | G12: 0.3217875 | H12: 0.23762836 | I12: 0.20786487 | J12: 0.19519157 | K12: 0.18082672 | L12: 0.15721325 | N12: 0.13961837 | O12: 0.13938691 | P12: 0.14124099 | Q12: 0.16821705 | R12: 0.25836008 | S12: 0.14786801 | T12: 0.24551127 | U12: 0.2977411 | V12: 0.17321128 | X12: 0.21465189 | Y12: 0.19738218
B13: Health | C13: 0.17148438 | D13: 0.17949835 | E13: 0.16371091 | G13: 0.23935469 | H13: 0.18989724 | I13: 0.16296231 | J13: 0.15701466 | K13: 0.15737134 | L13: 0.15997038 | N13: 0.19744533 | O13: 0.19549765 | P13: 0.21190487 | Q13: 0.19859188 | R13: 0.14834432 | S13: 0.1808535 | T13: 0.092675225 | U13: 0.1891878 | V13: 0.16518956 | X13: 0.18552483 | Y13: 0.16371487
B14: Financial services | C14: 0.13604647 | D14: 0.15762758 | E14: 0.11627438 | G14: 0.1343729 | H14: 0.15986574 | I14: 0.14498997 | J14: 0.12700035 | K14: 0.13275952 | L14: 0.12517699 | N14: 0.12410464 | O14: 0.052732347 | P14: 0.095776687 | Q14: 0.096213162 | R14: 0.097799794 | S14: 0.15022235 | T14: 0.24998452 | U14: 0.15086747 | V14: 0.12104067 | X14: 0.16754615 | Y14: 0.1186156
B15: Construction | C15: 0.115899 | D15: 0.11869857 | E15: 0.11340269 | G15: 0.14879656 | H15: 0.15277667 | I15: 0.11281679 | J15: 0.10727926 | K15: 0.10133623 | L15: 0.099278135 | N15: 0.12657644 | O15: 0.056179998 | P15: 0.11914555 | Q15: 0.10423414 | R15: 0.11057624 | S15: 0.093927308 | T15: 0.20566156 | U15: 0.086923485 | V15: 0.077527363 | X15: 0.11951812 | Y15: 0.1138963
B16: Manufacturing | C16: 0.1115238 | D16: 0.12891543 | E16: 0.095283144 | G16: 0.11198226 | H16: 0.1186376 | I16: 0.11997769 | J16: 0.093702377 | K16: 0.093924888 | L16: 0.12548133 | N16: 0.10645983 | O16: 0.12869539 | P16: 0.074157977 | Q16: 0.13828769 | R16: 0.061202255 | S16: 0.10892996 | T16: 0.19619676 | U16: 0.069846514 | V16: 0.1565013 | X16: 0.12860157 | Y16: 0.10207353
B17: Retail | C17: 0.085633255 | D17: 0.086038956 | E17: 0.085593981 | G17: 0.10420478 | H17: 0.10372448 | I17: 0.082909859 | J17: 0.076973908 | K17: 0.07082614 | L17: 0.085422801 | N17: 0.10607449 | O17: 0.15150633 | P17: 0.046831765 | Q17: 0.096728923 | R17: 0.062750889 | S17: 0.080848207 | T17: 0.1743912 | U17: 0.044606198 | V17: 0.061357797 | X17: 0.080907256 | Y17: 0.088248465
B18: Agriculture, forestry & fishing | C18: 0.083568025 | D18: 0.092015439 | E18: 0.075950015 | G18: 0.10448989 | H18: 0.092365008 | I18: 0.07426141 | J18: 0.07610183 | K18: 0.062779729 | L18: 0.095329369 | N18: 0.091533806 | O18: 0.088823847 | P18: 0.072396807 | Q18: 0.085334911 | R18: 0.067660745 | S18: 0.13162761 | T18: 0.065514236 | U18: 0.074890517 | V18: 0.086634593 | X18: 0.076443768 | Y18: 0.087510351
... B20: Don't Know | C20: 0.17169677 | D20: 0.12737381 | E20: 0.21327344 | G20: 0.10669946 | H20: 0.12582301 | I20: 0.15719054 | J20: 0.1822231 | K20: 0.21322255 | L20: 0.19782071 | N20: 0.26852214 | O20: 0.13983694 | P20: 0.17365033 | Q20: 0.20449544 | R20: 0.15895751 | S20: 0.23086663 | T20: 0.13692124 | U20: 0.10126025 | V20: 0.19800599 | X20: 0.1125993 | Y20: 0.20439933
B22: Fieldwork: 23rd Apr - 30th Apr 2022
B23: Data weighted by interlocking age & gender, region, and education level to Nationally Representative Proportions in selected EU member states
B25: =HYPERLINK("#'Contents'!A1", "Return to Contents") -> Return to Contents

Sheet Table 5
D2: Grid Summary: Overall, how well do you think your country does in the following sectors?
C6: Financial services | D6: Automotive | E6: Digital technology
B7: Very well | C7: 0.080452851 | D7: 0.10476276 | E7: 0.12619798
B8: Somewhat well | C8: 0.35291307 | D8: 0.3840966 | E8: 0.47018459
B9: Neither well or badly | C9: 0.31907578 | D9: 0.30973229 | E9: 0.2424343
B10: Somewhat badly | C10: 0.1354823 | D10: 0.11437609 | E10: 0.094381718
B11: Very badly | C11: 0.057158772 | D11: 0.036254819 | E11: 0.030624804
B12: Don't know | C12: 0.05491723 | D12: 0.050777442 | E12: 0.036176605
B14: Fieldwork: 23rd Apr - 30th Apr 2022
B15: Data weighted by interlocking age & gender, region, and education level to Nationally Representative Proportions in selected EU member states
B19: =HYPERLINK("#'Contents'!A1", "Return to Contents") -> Return to Contents

Sheet Table 6
D2: Overall, how well do you think your country does in the following sectors?: Financial services
D5: Gender | G5: Age | N5: Country | X5: Education
C6: Total | D6: Male | E6: Female | G6: 18-24 | H6: 25-34 | I6: 35-44 | J6: 45-54 | K6: 55-64 | L6: 65+ | N6: Denmark | O6: Finland | P6: France | Q6: Germany | R6: Italy | S6: Netherlands | T6: Poland | U6: Spain | V6: Sweden | X6: Graduate | Y6: Non-Graduate
B7: Unweighted | C7: 6838 | D7: 3283 | E7: 3541 | G7: 635 | H7: 1075 | I7: 1093 | J7: 1228 | K7: 1156 | L7: 1651 | N7: 208 | O7: 200 | P7: 1002 | Q7: 1000 | R7: 1004 | S7: 1006 | T7: 1006 | U7: 1007 | V7: 405 | X7: 2650 | Y7: 4188
B8: Weighted | C8: 6838 | D8: 3309 | E8: 3515 | G8: 645 | H8: 1026 | I8: 1111 | J8: 1184 | K8: 1140 | L8: 1732 | N8: 208 | O8: 200 | P8: 1002 | Q8: 1000 | R8: 1004 | S8: 1006 | T8: 1006 | U8: 1007 | V8: 405 | X8: 2436 | Y8: 4402
B9: Very well | C9: 0.080452851 | D9: 0.095443778 | E9: 0.066662308 | G9: 0.092997797 | H9: 0.09695649 | I9: 0.096045911 | J9: 0.078165204 | K9: 0.076480298 | L9: 0.060190246 | N9: 0.218823 | O9: 0.038143703 | P9: 0.09784985 | Q9: 0.055045891 | R9: 0.021351507 | S9: 0.095699215 | T9: 0.12165998 | U9: 0.063944661 | V9: 0.097305419 | X9: 0.11012831 | Y9: 0.064031445
B10: Somewhat well | C10: 0.35291307 | D10: 0.37877146 | E10: 0.32972578 | G10: 0.38934092 | H10: 0.35627314 | I10: 0.34895437 | J10: 0.34594715 | K10: 0.33174818 | L10: 0.35859806 | N10: 0.45665994 | O10: 0.46425226 | P10: 0.32738605 | Q10: 0.34311864 | R10: 0.16910172 | S10: 0.48757186 | T10: 0.40114357 | U10: 0.30771452 | V10: 0.44575312 | X10: 0.40543466 | Y10: 0.32384937
B11: Neither well or badly | C11: 0.31907578 | D11: 0.30864873 | E11: 0.32788728 | G11: 0.30308139 | H11: 0.31225474 | I11: 0.28518976 | J11: 0.31449951 | K11: 0.33039982 | L11: 0.34647576 | N11: 0.23737984 | O11: 0.28340388 | P11: 0.30344838 | Q11: 0.37408823 | R11: 0.38389923 | S11: 0.24077638 | T11: 0.32966793 | U11: 0.31487928 | V11: 0.29939667 | X11: 0.2873844 | Y11: 0.33661273
B12: Somewhat badly | C12: 0.1354823 | D12: 0.1312803 | E12: 0.13913057 | G12: 0.13430094 | H12: 0.14384653 | I12: 0.1400015 | J12: 0.13351895 | K12: 0.1420403 | L12: 0.12509663 | N12: 0.033455394 | O12: 0.064669693 | P12: 0.16596932 | Q12: 0.12192042 | R12: 0.25872551 | S12: 0.07223651 | T12: 0.080091164 | U12: 0.17903313 | V12: 0.061790625 | X12: 0.11322373 | Y12: 0.14779944
B13: Very badly | C13: 0.057158772 | D13: 0.052761374 | E13: 0.061188923 | G13: 0.025975932 | H13: 0.046874035 | I13: 0.068167166 | J13: 0.066482884 | K13: 0.063755246 | L13: 0.057076858 | N13: 0.0044363436 | O13: 0.028644514 | P13: 0.045705784 | Q13: 0.049669957 | R13: 0.10818634 | S13: 0.026904051 | T13: 0.044498502 | U13: 0.099298427 | V13: 0.020467401 | X13: 0.04296217 | Y13: 0.065014696
B14: Don't know | C14: 0.05491723 | D14: 0.033094353 | E14: 0.075405136 | G14: 0.054303027 | H14: 0.043795064 | I14: 0.061641298 | J14: 0.061386296 | K14: 0.055576156 | L14: 0.052562439 | N14: 0.049245484 | O14: 0.12088595 | P14: 0.059640615 | Q14: 0.056156865 | R14: 0.058735693 | S14: 0.076811981 | T14: 0.02293885 | U14: 0.035129981 | V14: 0.075286769 | X14: 0.040866726 | Y14: 0.062692308
B16: Fieldwork: 23rd Apr - 30th Apr 2022
B17: Data weighted by interlocking age & gender, region, and education level to Nationally Representative Proportions in selected EU member states
B19: =HYPERLINK("#'Contents'!A1", "Return to Contents") -> Return to Contents

Sheet Table 7
D2: Overall, how well do you think your country does in the following sectors?: Automotive
D5: Gender | G5: Age | N5: Country | X5: Education
C6: Total | D6: Male | E6: Female | G6: 18-24 | H6: 25-34 | I6: 35-44 | J6: 45-54 | K6: 55-64 | L6: 65+ | N6: Denmark | O6: Finland | P6: France | Q6: Germany | R6: Italy | S6: Netherlands | T6: Poland | U6: Spain | V6: Sweden | X6: Graduate | Y6: Non-Graduate
B7: Unweighted | C7: 6838 | D7: 3283 | E7: 3541 | G7: 635 | H7: 1075 | I7: 1093 | J7: 1228 | K7: 1156 | L7: 1651 | N7: 208 | O7: 200 | P7: 1002 | Q7: 1000 | R7: 1004 | S7: 1006 | T7: 1006 | U7: 1007 | V7: 405 | X7: 2650 | Y7: 4188
B8: Weighted | C8: 6838 | D8: 3309 | E8: 3515 | G8: 645 | H8: 1026 | I8: 1111 | J8: 1184 | K8: 1140 | L8: 1732 | N8: 208 | O8: 200 | P8: 1002 | Q8: 1000 | R8: 1004 | S8: 1006 | T8: 1006 | U8: 1007 | V8: 405 | X8: 2436 | Y8: 4402
B9: Very well | C9: 0.10476276 | D9: 0.11943061 | E9: 0.090560227 | G9: 0.14343242 | H9: 0.15239048 | I9: 0.11814855 | J9: 0.091646017 | K9: 0.082022391 | L9: 0.077522189 | N9: 0.086173822 | O9: 0.020656762 | P9: 0.090867024 | Q9: 0.24115889 | R9: 0.065861279 | S9: 0.059312464 | T9: 0.08962395 | U9: 0.084430395 | V9: 0.1509344 | X9: 0.10977117 | Y9: 0.10199127
B10: Somewhat well | C10: 0.3840966 | D10: 0.38592272 | E10: 0.38335792 | G10: 0.44328708 | H10: 0.4067562 | I10: 0.39153343 | J10: 0.38427774 | K10: 0.36217226 | L10: 0.35819178 | N10: 0.27722939 | O10: 0.19683884 | P10: 0.39939867 | Q10: 0.42194846 | R10: 0.38113741 | S10: 0.33653508 | T10: 0.41709242 | U10: 0.38561908 | V10: 0.43986542 | X10: 0.37840879 | Y10: 0.38724404
B11: Neither well or badly | C11: 0.30973229 | D11: 0.29920574 | E11: 0.31972687 | G11: 0.26681431 | H11: 0.29087858 | I11: 0.26800619 | J11: 0.29346795 | K11: 0.34373293 | L11: 0.35236484 | N11: 0.33831485 | O11: 0.47581389 | P11: 0.29057004 | Q11: 0.20284306 | R11: 0.32386818 | S11: 0.36962812 | T11: 0.31986699 | U11: 0.33325831 | V11: 0.25687908 | X11: 0.30612543 | Y11: 0.3117282
