Workbook

Sheet Rebases
A1: Before taking this survey, were you familiar with the concept of cloud computing? | B1: BASE: All Respondents | C1: =IFERROR(VLOOKUP(A1, E1:G200, 2, FALSE), 0) -> 1 | D1: =IFERROR(VLOOKUP(A1, E1:G200, 3, FALSE), 0) -> 11 | E1: =Contents!D9 -> Before taking this survey, were you familiar with the concept of cloud computing? | F1: =Contents!C9 -> 1 | G1: =Contents!E9 -> 11
A2: Do you know if your company directly buys any services from a cloud provider? (eg. Amazon Web Services, Microsoft Azure, Google Cloud Platform) | B2: BASE: All Respondents | C2: =IFERROR(VLOOKUP(A2, E2:G201, 2, FALSE), 0) -> 2 | D2: =IFERROR(VLOOKUP(A2, E2:G201, 3, FALSE), 0) -> 18 | E2: =Contents!D10 -> Do you know if your company directly buys any services from a cloud provider? (eg. Amazon Web Services, Microsoft Azure, Google Cloud Platform) | F2: =Contents!C10 -> 2 | G2: =Contents!E10 -> 18
A3: Which of the following purposes do you use a cloud computing provider for?Please select all that apply | B3: BASE: Cloud User | C3: =IFERROR(VLOOKUP(A3, E3:G202, 2, FALSE), 0) -> 3 | D3: =IFERROR(VLOOKUP(A3, E3:G202, 3, FALSE), 0) -> 26 | E3: =Contents!D11 -> Which of the following purposes do you use a cloud computing provider for?Please select all that apply | F3: =Contents!C11 -> 3 | G3: =Contents!E11 -> 26
A4: Which, if any, of the following best describes how you use cloud services?Please select all that apply | B4: BASE: Cloud User | C4: =IFERROR(VLOOKUP(A4, E4:G203, 2, FALSE), 0) -> 4 | D4: =IFERROR(VLOOKUP(A4, E4:G203, 3, FALSE), 0) -> 41 | E4: =Contents!D12 -> Which, if any, of the following best describes how you use cloud services?Please select all that apply | F4: =Contents!C12 -> 4 | G4: =Contents!E12 -> 41
A5: Besides cloud computing and personal computers for your staff, does your company own any centralised computers, servers, on-premises computing or data centres of its own? | B5: BASE: Cloud User | C5: =IFERROR(VLOOKUP(A5, E5:G204, 2, FALSE), 0) -> 5 | D5: =IFERROR(VLOOKUP(A5, E5:G204, 3, FALSE), 0) -> 47 | E5: =Contents!D13 -> Besides cloud computing and personal computers for your staff, does your company own any centralised computers, servers, on-premises computing or data centres of its own? | F5: =Contents!C13 -> 5 | G5: =Contents!E13 -> 47
A6: Does your business operate in any of the following sectors?Please select all that apply | B6: BASE: All Respondents | C6: =IFERROR(VLOOKUP(A6, E6:G205, 2, FALSE), 0) -> 6 | D6: =IFERROR(VLOOKUP(A6, E6:G205, 3, FALSE), 0) -> 53 | E6: =Contents!D14 -> Does your business operate in any of the following sectors?Please select all that apply | F6: =Contents!C14 -> 6 | G6: =Contents!E14 -> 53
A7: And more specifically, which one of the following sectors would you say is the best description for your business ? | B7: BASE: All Respondents | C7: =IFERROR(VLOOKUP(A7, E7:G206, 2, FALSE), 0) -> 7 | D7: =IFERROR(VLOOKUP(A7, E7:G206, 3, FALSE), 0) -> 65 | E7: =Contents!D15 -> And more specifically, which one of the following sectors would you say is the best description for your business ? | F7: =Contents!C15 -> 7 | G7: =Contents!E15 -> 65
A8: What is the approximate annual revenue of your business? | B8: BASE: All Respondents | C8: =IFERROR(VLOOKUP(A8, E8:G207, 2, FALSE), 0) -> 8 | D8: =IFERROR(VLOOKUP(A8, E8:G207, 3, FALSE), 0) -> 88 | E8: =Contents!D16 -> What is the approximate annual revenue of your business? | F8: =Contents!C16 -> 8 | G8: =Contents!E16 -> 88
A9: In 2021, how much did the revenue of your company grow? | B9: BASE: All Respondents | C9: =IFERROR(VLOOKUP(A9, E9:G208, 2, FALSE), 0) -> 9 | D9: =IFERROR(VLOOKUP(A9, E9:G208, 3, FALSE), 0) -> 104 | E9: =Contents!D17 -> In 2021, how much did the revenue of your company grow? | F9: =Contents!C17 -> 9 | G9: =Contents!E17 -> 104
A10: And over the last three years, how much did the revenue of your company grow on average? | B10: BASE: All Respondents | C10: =IFERROR(VLOOKUP(A10, E10:G209, 2, FALSE), 0) -> 10 | D10: =IFERROR(VLOOKUP(A10, E10:G209, 3, FALSE), 0) -> 119 | E10: =Contents!D18 -> And over the last three years, how much did the revenue of your company grow on average? | F10: =Contents!C18 -> 10 | G10: =Contents!E18 -> 119
A11: In 2021, how did the headcount of your company change? | B11: BASE: All Respondents | C11: =IFERROR(VLOOKUP(A11, E11:G210, 2, FALSE), 0) -> 11 | D11: =IFERROR(VLOOKUP(A11, E11:G210, 3, FALSE), 0) -> 134 | E11: =Contents!D19 -> In 2021, how did the headcount of your company change? | F11: =Contents!C19 -> 11 | G11: =Contents!E19 -> 134
A12: What proportion of your staff worked remotely for at least part of the week in 2019? | B12: BASE: All Respondents | C12: =IFERROR(VLOOKUP(A12, E12:G211, 2, FALSE), 0) -> 12 | D12: =IFERROR(VLOOKUP(A12, E12:G211, 3, FALSE), 0) -> 149 | E12: =Contents!D20 -> What proportion of your staff worked remotely for at least part of the week in 2019? | F12: =Contents!C20 -> 12 | G12: =Contents!E20 -> 149
... A170: To what extent, if at all, would you trust your data to be secure in the following scenarios?: Hosted in the data centre of a global company, hosted outside Europe | B170: BASE: All Respondents | C170: =IFERROR(VLOOKUP(A170, E170:G369, 2, FALSE), 0) -> 170 | D170: =IFERROR(VLOOKUP(A170, E170:G369, 3, FALSE), 0) -> 1508 | E170: =Contents!D178 -> To what extent, if at all, would you trust your data to be secure in the following scenarios?: Hosted in the data centre of a global company, hosted outside Europe | F170: =Contents!C178 -> 170 | G170: =Contents!E178 -> 1508
C171: =IFERROR(VLOOKUP(A171, E171:G370, 2, FALSE), 0) -> 0 | D171: =IFERROR(VLOOKUP(A171, E171:G370, 3, FALSE), 0) -> 0 | E171: =Contents!D179 -> 0 | F171: =Contents!C179 -> 0 | G171: =Contents!E179 -> 0
C172: =IFERROR(VLOOKUP(A172, E172:G371, 2, FALSE), 0) -> 0 | D172: =IFERROR(VLOOKUP(A172, E172:G371, 3, FALSE), 0) -> 0 | E172: =Contents!D180 -> 0 | F172: =Contents!C180 -> 0 | G172: =Contents!E180 -> 0
C173: =IFERROR(VLOOKUP(A173, E173:G372, 2, FALSE), 0) -> 0 | D173: =IFERROR(VLOOKUP(A173, E173:G372, 3, FALSE), 0) -> 0 | E173: =Contents!D181 -> 0 | F173: =Contents!C181 -> 0 | G173: =Contents!E181 -> 0
C174: =IFERROR(VLOOKUP(A174, E174:G373, 2, FALSE), 0) -> 0 | D174: =IFERROR(VLOOKUP(A174, E174:G373, 3, FALSE), 0) -> 0 | E174: =Contents!D182 -> 0 | F174: =Contents!C182 -> 0 | G174: =Contents!E182 -> 0
C175: =IFERROR(VLOOKUP(A175, E175:G374, 2, FALSE), 0) -> 0 | D175: =IFERROR(VLOOKUP(A175, E175:G374, 3, FALSE), 0) -> 0 | E175: =Contents!D183 -> 0 | F175: =Contents!C183 -> 0 | G175: =Contents!E183 -> 0
C176: =IFERROR(VLOOKUP(A176, E176:G375, 2, FALSE), 0) -> 0 | D176: =IFERROR(VLOOKUP(A176, E176:G375, 3, FALSE), 0) -> 0 | E176: =Contents!D184 -> 0 | F176: =Contents!C184 -> 0 | G176: =Contents!E184 -> 0
C177: =IFERROR(VLOOKUP(A177, E177:G376, 2, FALSE), 0) -> 0 | D177: =IFERROR(VLOOKUP(A177, E177:G376, 3, FALSE), 0) -> 0 | E177: =Contents!D185 -> 0 | F177: =Contents!C185 -> 0 | G177: =Contents!E185 -> 0
C178: =IFERROR(VLOOKUP(A178, E178:G377, 2, FALSE), 0) -> 0 | D178: =IFERROR(VLOOKUP(A178, E178:G377, 3, FALSE), 0) -> 0 | E178: =Contents!D186 -> 0 | F178: =Contents!C186 -> 0 | G178: =Contents!E186 -> 0
C179: =IFERROR(VLOOKUP(A179, E179:G378, 2, FALSE), 0) -> 0 | D179: =IFERROR(VLOOKUP(A179, E179:G378, 3, FALSE), 0) -> 0 | E179: =Contents!D187 -> 0 | F179: =Contents!C187 -> 0 | G179: =Contents!E187 -> 0
C180: =IFERROR(VLOOKUP(A180, E180:G379, 2, FALSE), 0) -> 0 | D180: =IFERROR(VLOOKUP(A180, E180:G379, 3, FALSE), 0) -> 0 | E180: =Contents!D188 -> 0 | F180: =Contents!C188 -> 0 | G180: =Contents!E188 -> 0
C181: =IFERROR(VLOOKUP(A181, E181:G380, 2, FALSE), 0) -> 0 | D181: =IFERROR(VLOOKUP(A181, E181:G380, 3, FALSE), 0) -> 0 | E181: =Contents!D189 -> 0 | F181: =Contents!C189 -> 0 | G181: =Contents!E189 -> 0
C182: =IFERROR(VLOOKUP(A182, E182:G381, 2, FALSE), 0) -> 0 | D182: =IFERROR(VLOOKUP(A182, E182:G381, 3, FALSE), 0) -> 0 | E182: =Contents!D190 -> 0 | F182: =Contents!C190 -> 0 | G182: =Contents!E190 -> 0
... C200: =IFERROR(VLOOKUP(A200, E200:G399, 2, FALSE), 0) -> 0 | D200: =IFERROR(VLOOKUP(A200, E200:G399, 3, FALSE), 0) -> 0 | E200: =Contents!D208 -> 0 | F200: =Contents!C208 -> 0 | G200: =Contents!E208 -> 0

Sheet Cover Sheet
F7: Public First Poll for AWS Italy (Business Count)
F10: Fieldwork: | K10: 22nd Apr - 26th Apr 2022
F11: Interview Method: | K11: Online Survey
F12: Population represented: | K12: Italian senior business decision makers
F13: Sample size: | K13: 1018
F16: Methodology:
F17: All results are weighted using Iterative Proportional Fitting, or 'Raking'. The results are weighted by business size and region to Nationally Representative proportions
F19: Public First is a member of the BPC and abides by its rules. For more information please contact the Public First polling team:
F20: =HYPERLINK("mailto:" & "polling@publicfirst.co.uk" & "?subject="& F7, "polling@publicfirst.co.uk") -> polling@publicfirst.co.uk

Sheet Contents
D2: Table of Contents
D6: =HYPERLINK("#'Full Results'!A1", "Full Results") -> Full Results
D8: Individual Tables | E8: Full Result Row | F8: Question Base
C9: 1 | D9: =HYPERLINK("#'Table 1'!A1", " Before taking this survey, were you familiar with the concept of cloud computing?") -> Before taking this survey, were you familiar with the concept of cloud computing? | E9: =HYPERLINK("#'Full Results'!A11", "11") -> 11 | F9: BASE: All Respondents
C10: 2 | D10: =HYPERLINK("#'Table 2'!A1", " Do you know if your company directly buys any services from a cloud provider? (eg. Amazon Web Services, Microsoft Azure, Google Cloud Platform)") -> Do you know if your company directly buys any services from a cloud provider? (eg. Amazon Web Services, Microsoft Azure, Google Cloud Platform) | E10: =HYPERLINK("#'Full Results'!A18", "18") -> 18 | F10: BASE: All Respondents
C11: 3 | D11: =HYPERLINK("#'Table 3'!A1", "Which of the following purposes do you use a cloud computing provider for?Please select all that apply") -> Which of the following purposes do you use a cloud computing provider for?Please select all that apply | E11: =HYPERLINK("#'Full Results'!A26", "26") -> 26 | F11: BASE: Cloud User
C12: 4 | D12: =HYPERLINK("#'Table 4'!A1", "Which, if any, of the following best describes how you use cloud services?Please select all that apply") -> Which, if any, of the following best describes how you use cloud services?Please select all that apply | E12: =HYPERLINK("#'Full Results'!A41", "41") -> 41 | F12: BASE: Cloud User
C13: 5 | D13: =HYPERLINK("#'Table 5'!A1", " Besides cloud computing and personal computers for your staff, does your company own any centralised computers, servers, on-premises computing or data centres of its own?") -> Besides cloud computing and personal computers for your staff, does your company own any centralised computers, servers, on-premises computing or data centres of its own? | E13: =HYPERLINK("#'Full Results'!A47", "47") -> 47 | F13: BASE: Cloud User
C14: 6 | D14: =HYPERLINK("#'Table 6'!A1", "Does your business operate in any of the following sectors?Please select all that apply") -> Does your business operate in any of the following sectors?Please select all that apply | E14: =HYPERLINK("#'Full Results'!A53", "53") -> 53 | F14: BASE: All Respondents
C15: 7 | D15: =HYPERLINK("#'Table 7'!A1", " And more specifically, which one of the following sectors would you say is the best description for your business ?") -> And more specifically, which one of the following sectors would you say is the best description for your business ? | E15: =HYPERLINK("#'Full Results'!A65", "65") -> 65 | F15: BASE: All Respondents
C16: 8 | D16: =HYPERLINK("#'Table 8'!A1", " What is the approximate annual revenue of your business?") -> What is the approximate annual revenue of your business? | E16: =HYPERLINK("#'Full Results'!A88", "88") -> 88 | F16: BASE: All Respondents
C17: 9 | D17: =HYPERLINK("#'Table 9'!A1", " In 2021, how much did the revenue of your company grow? ") -> In 2021, how much did the revenue of your company grow? | E17: =HYPERLINK("#'Full Results'!A104", "104") -> 104 | F17: BASE: All Respondents
C18: 10 | D18: =HYPERLINK("#'Table 10'!A1", " And over the last three years, how much did the revenue of your company grow on average? ") -> And over the last three years, how much did the revenue of your company grow on average? | E18: =HYPERLINK("#'Full Results'!A119", "119") -> 119 | F18: BASE: All Respondents
C19: 11 | D19: =HYPERLINK("#'Table 11'!A1", " In 2021, how did the headcount of your company change?") -> In 2021, how did the headcount of your company change? | E19: =HYPERLINK("#'Full Results'!A134", "134") -> 134 | F19: BASE: All Respondents
C20: 12 | D20: =HYPERLINK("#'Table 12'!A1", " What proportion of your staff worked remotely for at least part of the week in 2019?") -> What proportion of your staff worked remotely for at least part of the week in 2019? | E20: =HYPERLINK("#'Full Results'!A149", "149") -> 149 | F20: BASE: All Respondents
C21: 13 | D21: =HYPERLINK("#'Table 13'!A1", " What proportion of your staff are currently working remotely for at least part of the week?") -> What proportion of your staff are currently working remotely for at least part of the week? | E21: =HYPERLINK("#'Full Results'!A165", "165") -> 165 | F21: BASE: All Respondents
C22: 14 | D22: =HYPERLINK("#'Table 14'!A1", " How likely do you think it is that a significant proportion of your staff will work remotely even after the Covid-19 pandemic fully ends?") -> How likely do you think it is that a significant proportion of your staff will work remotely even after the Covid-19 pandemic fully ends? | E22: =HYPERLINK("#'Full Results'!A181", "181") -> 181 | F22: BASE: All Respondents
C23: 15 | D23: =HYPERLINK("#'Table 15'!A1", "Grid Summary: Which, if any, of the following management practices does your business use?") -> Grid Summary: Which, if any, of the following management practices does your business use? | F23: BASE: All Respondents
C24: 16 | D24: =HYPERLINK("#'Table 16'!A1", "Which, if any, of the following management practices does your business use?: Setting long-term goals") -> Which, if any, of the following management practices does your business use?: Setting long-term goals | E24: =HYPERLINK("#'Full Results'!A193", "193") -> 193 | F24: BASE: All Respondents
C25: 17 | D25: =HYPERLINK("#'Table 17'!A1", "Which, if any, of the following management practices does your business use?: Setting short-term performance benchmarks") -> Which, if any, of the following management practices does your business use?: Setting short-term performance benchmarks | E25: =HYPERLINK("#'Full Results'!A200", "200") -> 200 | F25: BASE: All Respondents
C26: 18 | D26: =HYPERLINK("#'Table 18'!A1", "Which, if any, of the following management practices does your business use?: Rewarding high performers with bonuses or higher salary") -> Which, if any, of the following management practices does your business use?: Rewarding high performers with bonuses or higher salary | E26: =HYPERLINK("#'Full Results'!A207", "207") -> 207 | F26: BASE: All Respondents
C27: 19 | D27: =HYPERLINK("#'Table 19'!A1", "Which, if any, of the following management practices does your business use?: Offering training for underperformers") -> Which, if any, of the following management practices does your business use?: Offering training for underperformers | E27: =HYPERLINK("#'Full Results'!A214", "214") -> 214 | F27: BASE: All Respondents
C28: 20 | D28: =HYPERLINK("#'Table 20'!A1", "Which, if any, of the following management practices does your business use?: Have a structured process for collecting performance data") -> Which, if any, of the following management practices does your business use?: Have a structured process for collecting performance data | E28: =HYPERLINK("#'Full Results'!A221", "221") -> 221 | F28: BASE: All Respondents
C29: 21 | D29: =HYPERLINK("#'Table 21'!A1", "Which, if any, of the following management practices does your business use?: Have a structured process for analysing performance data") -> Which, if any, of the following management practices does your business use?: Have a structured process for analysing performance data | E29: =HYPERLINK("#'Full Results'!A228", "228") -> 228 | F29: BASE: All Respondents
C30: 22 | D30: =HYPERLINK("#'Table 22'!A1", "If you had to choose, which of the following types of infrastructure investment would prefer your Government to prioritise in your local area?Please select up to three") -> If you had to choose, which of the following types of infrastructure investment would prefer your Government to prioritise in your local area?Please select up to three | E30: =HYPERLINK("#'Full Results'!A235", "235") -> 235 | F30: BASE: All Respondents
C31: 23 | D31: =HYPERLINK("#'Table 23'!A1", "Grid Summary: Overall, how satisfied or dissatisfied are you with the speed and reliability of your Internet connection in the following locations?") -> Grid Summary: Overall, how satisfied or dissatisfied are you with the speed and reliability of your Internet connection in the following locations? | F31: BASE: All Respondents
C32: 24 | D32: =HYPERLINK("#'Table 24'!A1", "Overall, how satisfied or dissatisfied are you with the speed and reliability of your Internet connection in the following locations?: At home") -> Overall, how satisfied or dissatisfied are you with the speed and reliability of your Internet connection in the following locations?: At home | E32: =HYPERLINK("#'Full Results'!A245", "245") -> 245 | F32: BASE: All Respondents
C33: 25 | D33: =HYPERLINK("#'Table 25'!A1", "Overall, how satisfied or dissatisfied are you with the speed and reliability of your Internet connection in the following locations?: At work") -> Overall, how satisfied or dissatisfied are you with the speed and reliability of your Internet connection in the following locations?: At work | E33: =HYPERLINK("#'Full Results'!A257", "257") -> 257 | F33: BASE: All Respondents
C34: 26 | D34: =HYPERLINK("#'Table 26'!A1", "Overall, how satisfied or dissatisfied are you with the speed and reliability of your Internet connection in the following locations?: While travelling") -> Overall, how satisfied or dissatisfied are you with the speed and reliability of your Internet connection in the following locations?: While travelling | E34: =HYPERLINK("#'Full Results'!A269", "269") -> 269 | F34: BASE: All Respondents
C35: 27 | D35: =HYPERLINK("#'Table 27'!A1", "Grid Summary: How confident or unconfident would you be that you could perform the following digital activities?") -> Grid Summary: How confident or unconfident would you be that you could perform the following digital activities? | F35: BASE: All Respondents
C36: 28 | D36: =HYPERLINK("#'Table 28'!A1", "How confident or unconfident would you be that you could perform the following digital activities?: Save a document") -> How confident or unconfident would you be that you could perform the following digital activities?: Save a document | E36: =HYPERLINK("#'Full Results'!A281", "281") -> 281 | F36: BASE: All Respondents
C37: 29 | D37: =HYPERLINK("#'Table 29'!A1", "How confident or unconfident would you be that you could perform the following digital activities?: Tracking changes in a document") -> How confident or unconfident would you be that you could perform the following digital activities?: Tracking changes in a document | E37: =HYPERLINK("#'Full Results'!A293", "293") -> 293 | F37: BASE: All Respondents
C38: 30 | D38: =HYPERLINK("#'Table 30'!A1", "How confident or unconfident would you be that you could perform the following digital activities?: Send an email") -> How confident or unconfident would you be that you could perform the following digital activities?: Send an email | E38: =HYPERLINK("#'Full Results'!A305", "305") -> 305 | F38: BASE: All Respondents
C39: 31 | D39: =HYPERLINK("#'Table 31'!A1", "How confident or unconfident would you be that you could perform the following digital activities?: Share a file online") -> How confident or unconfident would you be that you could perform the following digital activities?: Share a file online | E39: =HYPERLINK("#'Full Results'!A317", "317") -> 317 | F39: BASE: All Respondents
C40: 32 | D40: =HYPERLINK("#'Table 32'!A1", "How confident or unconfident would you be that you could perform the following digital activities?: Post something on social media") -> How confident or unconfident would you be that you could perform the following digital activities?: Post something on social media | E40: =HYPERLINK("#'Full Results'!A329", "329") -> 329 | F40: BASE: All Respondents
C41: 33 | D41: =HYPERLINK("#'Table 33'!A1", "How confident or unconfident would you be that you could perform the following digital activities?: Create a spreadsheet to track your budget") -> How confident or unconfident would you be that you could perform the following digital activities?: Create a spreadsheet to track your budget | E41: =HYPERLINK("#'Full Results'!A341", "341") -> 341 | F41: BASE: All Respondents
C42: 34 | D42: =HYPERLINK("#'Table 34'!A1", "How confident or unconfident would you be that you could perform the following digital activities?: Find a good price for a product online") -> How confident or unconfident would you be that you could perform the following digital activities?: Find a good price for a product online | E42: =HYPERLINK("#'Full Results'!A353", "353") -> 353 | F42: BASE: All Respondents
C43: 35 | D43: =HYPERLINK("#'Table 35'!A1", "How confident or unconfident would you be that you could perform the following digital activities?: Research a topic") -> How confident or unconfident would you be that you could perform the following digital activities?: Research a topic | E43: =HYPERLINK("#'Full Results'!A365", "365") -> 365 | F43: BASE: All Respondents
C44: 36 | D44: =HYPERLINK("#'Table 36'!A1", "How confident or unconfident would you be that you could perform the following digital activities?: Edit a photo") -> How confident or unconfident would you be that you could perform the following digital activities?: Edit a photo | E44: =HYPERLINK("#'Full Results'!A377", "377") -> 377 | F44: BASE: All Respondents
C45: 37 | D45: =HYPERLINK("#'Table 37'!A1", "How confident or unconfident would you be that you could perform the following digital activities?: Create your own website") -> How confident or unconfident would you be that you could perform the following digital activities?: Create your own website | E45: =HYPERLINK("#'Full Results'!A389", "389") -> 389 | F45: BASE: All Respondents
...

Sheet Full Results
D2: Full Results
D5: Region of Italy | J5: Number of Employees | O5: Annual Revenue | Z5: Revenue Change | AH5: Cloud User | AK5: Type of Cloud | AO5: AWS User | AR5: Woman-owned Business | AU5: Grouped Employee Count | AX5: Tech Adoption | BA5: Digital Intensity
C6: Total | D6: Centre | E6: South | F6: Islands | G6: North East | H6: North West | J6: 1-9 | K6: 10-49 | L6: 50-249 | M6: 250+ | O6: Under EUR 85,000 | P6: EUR 85,001 to EUR 250,000 | Q6: EUR 250,001 to EUR 500,000 | R6: EUR 500,001 to EUR 1 million | S6: EUR 1 million to EUR 2 million | T6: EUR 2 million to EUR 5 million | U6: EUR 5 million to EUR 10 million | V6: EUR 10 million to EUR 20 million | W6: EUR 20 million to EUR 50 million | X6: Over EUR 50 million | Z6: Declined by 10%+ | AA6: Declined by 6-10% | AB6: Declined by 0-5% | AC6: Stayed about the same size | AD6: Grown by 0-5% | AE6: Grown by 6-10% | AF6: Grown by 10%+ | AH6: Yes | AI6: No | AK6: IaaS / PaaS | AL6: Both | AM6: SaaS | AO6: Yes | AP6: No | AR6: Yes | AS6: No | AU6: Less than 250 employees | AV6: 250+ employees | AX6: Early adopter | AY6: Not early adopter | BA6: Low | BB6: Medium | BC6: High | BD6: Very High
B7: Unweighted | C7: 1018 | D7: 240 | E7: 171 | F7: 75 | G7: 180 | H7: 352 | J7: 422 | K7: 205 | L7: 103 | M7: 288 | O7: 233 | P7: 82 | Q7: 77 | R7: 95 | S7: 83 | T7: 67 | U7: 52 | V7: 70 | W7: 64 | X7: 103 | Z7: 207 | AA7: 81 | AB7: 93 | AC7: 235 | AD7: 138 | AE7: 114 | AF7: 98 | AH7: 612 | AI7: 406 | AK7: 200 | AL7: 100 | AM7: 284 | AO7: 130 | AP7: 888 | AR7: 323 | AS7: 695 | AU7: 730 | AV7: 288 | AX7: 169 | AY7: 849 | BA7: 231 | BB7: 306 | BC7: 408 | BD7: 73
B8: Weighted | C8: 1018 | D8: 221 | E8: 203 | F8: 87 | G8: 212 | H8: 295 | J8: 965 | K8: 46 | L8: 6 | M8: 1 | O8: 493 | P8: 157 | Q8: 98 | R8: 89 | S8: 38 | T8: 35 | U8: 8 | V8: 8 | W8: 3 | X8: 4 | Z8: 325 | AA8: 69 | AB8: 53 | AC8: 249 | AD8: 109 | AE8: 84 | AF8: 85 | AH8: 400 | AI8: 618 | AK8: 110 | AL8: 26 | AM8: 224 | AO8: 58 | AP8: 960 | AR8: 384 | AS8: 634 | AU8: 1017 | AV8: 1 | AX8: 69 | AY8: 949 | BA8: 341 | BB8: 440 | BC8: 219 | BD8: 18
B11: Before taking this survey, were you familiar with the concept of cloud computing?
B12: BASE: All Respondents
B13: I am very familiar with this concept and I understand what it means | C13: 0.44139579 | D13: 0.46042783 | E13: 0.44837927 | F13: 0.28824074 | G13: 0.48788299 | H13: 0.43409232 | J13: 0.43213478 | K13: 0.59912018 | L13: 0.65661866 | M13: 0.8302392 | O13: 0.41990557 | P13: 0.37542186 | Q13: 0.4145667 | R13: 0.59981397 | S13: 0.68927801 | T13: 0.54920741 | U13: 0.76130023 | V13: 0.59387705 | W13: 0.98028805 | X13: 0.77736076 | Z13: 0.40837013 | AA13: 0.32565396 | AB13: 0.61309811 | AC13: 0.47013554 | AD13: 0.46578716 | AE13: 0.5093536 | AF13: 0.43454978 | AH13: 0.68448713 | AI13: 0.28383199 | AK13: 0.8015742 | AL13: 0.80364485 | AM13: 0.68274886 | AO13: 0.72036593 | AP13: 0.42443752 | AR13: 0.38080581 | AS13: 0.47810856 | AU13: 0.44101896 | AV13: 0.8302392 | AX13: 0.76275258 | AY13: 0.41814694 | BA13: 0.33437462 | BB13: 0.41334828 | BC13: 0.64468381 | BD13: 0.67675948
B14: I have heard this concept before, but I do not know what it means | C14: 0.33555524 | D14: 0.39378566 | E14: 0.28887286 | F14: 0.42308386 | G14: 0.35358499 | H14: 0.28528508 | J14: 0.33690553 | K14: 0.32414232 | L14: 0.23913291 | M14: 0.13860149 | O14: 0.31810725 | P14: 0.40053963 | Q14: 0.40224928 | R14: 0.31976039 | S14: 0.24836129 | T14: 0.31107189 | U14: 0.20524622 | V14: 0.37580341 | W14: 0.019711949 | X14: 0.1880748 | Z14: 0.34522431 | AA14: 0.46834784 | AB14: 0.22095666 | AC14: 0.30153142 | AD14: 0.27894388 | AE14: 0.38471324 | AF14: 0.32375619 | AH14: 0.2462837 | AI14: 0.39341811 | AK14: 0.19839603 | AL14: 0.19635515 | AM14: 0.23547195 | AO14: 0.27963407 | AP14: 0.33895462 | AR14: 0.31560871 | AS14: 0.34764127 | AU14: 0.33574611 | AV14: 0.13860149 | AX14: 0.16202881 | AY14: 0.34810917 | BA14: 0.35451764 | BB14: 0.35437114 | BC14: 0.28029206 | BD14: 0.18988913
B15: No, I have not heard of this concept before | C15: 0.20722377 | D15: 0.13656741 | E15: 0.25092557 | F15: 0.25657943 | G15: 0.15735544 | H15: 0.25136524 | J15: 0.21459897 | K15: 0.071310504 | L15: 0.092802487 | M15: 0.027836354 | O15: 0.24283455 | P15: 0.19724705 | Q15: 0.18318402 | R15: 0.080425643 | S15: 0.062360695 | T15: 0.1397207 | U15: 0.033453553 | V15: 0.030319532 | W15: 0 | X15: 0.03456444 | Z15: 0.23802411 | AA15: 0.17117475 | AB15: 0.12766224 | AC15: 0.21101898 | AD15: 0.23548956 | AE15: 0.10593317 | AF15: 0.21632963 | AH15: 0.062427565 | AI15: 0.3010759 | AK15: 2.9763889e-05 | AL15: 0 | AM15: 0.069632598 | AO15: 0 | AP15: 0.21982066 | AR15: 0.28590029 | AS15: 0.15955197 | AU15: 0.20739762 | AV15: 0.027836354 | AX15: 0.075218612 | AY15: 0.2167738 | BA15: 0.282475 | BB15: 0.22274568 | BC15: 0.065187951 | BD15: 0.13335138
B16: Don’t know | C16: 0.0158252 | D16: 0.0092191009 | E16: 0.011822301 | F16: 0.032095981 | G16: 0.0011765702 | H16: 0.029257363 | J16: 0.016360727 | K16: 0.0054269928 | L16: 0.011445945 | M16: 0.0033229562 | O16: 0.01915264 | P16: 0.02679145 | Q16: 0 | R16: 0 | S16: 0 | T16: 0 | U16: 0 | V16: 0 | W16: 0 | X16: 0 | Z16: 0.0083814499 | AA16: 0.034823446 | AB16: 0.038282989 | AC16: 0.017314066 | AD16: 0.019779395 | AE16: 0 | AF16: 0.025364399 | AH16: 0.0068016096 | AI16: 0.021673995 | AK16: 0 | AL16: 0 | AM16: 0.012146585 | AO16: 0 | AP16: 0.016787196 | AR16: 0.017685183 | AS16: 0.014698197 | AU16: 0.015837316 | AV16: 0.0033229562 | AX16: 0 | AY16: 0.016970089 | BA16: 0.028632744 | BB16: 0.0095349054 | BC16: 0.0098361731 | BD16: 0
B18: Do you know if your company directly buys any services from a cloud provider? (eg. Amazon Web Services, Microsoft Azure, Google Cloud Platform)
B19: BASE: All Respondents
B20: Yes - we definitely do | C20: 0.30397668 | D20: 0.308287 | E20: 0.22932397 | F20: 0.31393367 | G20: 0.37098752 | H20: 0.30102537 | J20: 0.29470432 | K20: 0.46784547 | L20: 0.47146547 | M20: 0.7109029 | O20: 0.23174091 | P20: 0.25951758 | Q20: 0.35962862 | R20: 0.61561241 | S20: 0.55614208 | T20: 0.32584757 | U20: 0.62292192 | V20: 0.56549037 | W20: 0.95843787 | X20: 0.77534934 | Z20: 0.28289684 | AA20: 0.32651804 | AB20: 0.46615263 | AC20: 0.28013491 | AD20: 0.38681154 | AE20: 0.2933169 | AF20: 0.29065755 | AH20: 0.77295558 | AI20: 0 | AK20: 0.8905708 | AL20: 0.79288817 | AM20: 0.77475784 | AO20: 0.82174878 | AP20: 0.27250192 | AR20: 0.31446064 | AS20: 0.29762422 | AU20: 0.30358232 | AV20: 0.7109029 | AX20: 0.56335262 | AY20: 0.28521189 | BA20: 0.19805601 | BB20: 0.25781973 | BC20: 0.54298901 | BD20: 0.52585872
B21: Yes - I think we probably do | C21: 0.089288714 | D21: 0.079804351 | E21: 0.10991025 | F21: 0.13387169 | G21: 0.042313517 | H21: 0.10281378 | J21: 0.085033178 | K21: 0.15724082 | L21: 0.23999361 | M21: 0.16037586 | O21: 0.10216211 | P21: 0.10510153 | Q21: 0.061606522 | R21: 0.021981179 | S21: 0.15745867 | T21: 0.019723311 | U21: 0.17255187 | V21: 0.2902904 | W21: 0.020998554 | X21: 0.10994945 | Z21: 0.066208312 | AA21: 0.1220051 | AB21: 0.10450789 | AC21: 0.10870132 | AD21: 0.051909483 | AE21: 0.15691091 | AF21: 0.057573305 | AH21: 0.22704442 | AI21: 0 | AK21: 0.1094292 | AL21: 0.20711183 | AM21: 0.22524216 | AO21: 0.17825122 | AP21: 0.083880787 | AR21: 0.1086275 | AS21: 0.077570928 | AU21: 0.089219823 | AV21: 0.16037586 | AX21: 0.055820153 | AY21: 0.091710027 | BA21: 0.042866291 | BB21: 0.093152871 | BC21: 0.13420414 | BD21: 0.32671576
B22: Not sure | C22: 0.04550727 | D22: 0.049114277 | E22: 0.053709925 | F22: 0.035964537 | G22: 0.016149064 | H22: 0.061072932 | J22: 0.043841818 | K22: 0.074578042 | L22: 0.091134866 | M22: 0.039922598 | O22: 0.046800874 | P22: 0.031936275 | Q22: 0.0024432192 | R22: 0.10750132 | S22: 0.019844097 | T22: 0.0070890012 | U22: 0.00050661475 | V22: 0.00038960619 | W22: 0.00098494393 | X22: 0.018047543 | Z22: 0.042642308 | AA22: 0.13801495 | AB22: 0.04435733 | AC22: 0.041977766 | AD22: 0.0069205155 | AE22: 0.024405401 | AF22: 0.053118364 | AH22: 0 | AI22: 0.075003585 | AK22: 0 | AL22: 0 | AM22: 0 | AO22: 0 | AP22: 0.048273604 | AR22: 0.0610348 | AS22: 0.036098806 | AU22: 0.045512682 | AV22: 0.039922598 | AX22: 0.040186058 | AY22: 0.045892238 | BA22: 0.057574825 | BB22: 0.0433712 | BC22: 0.022689011 | BD22: 0.14721106
B23: No - I think we probably don’t | C23: 0.11755089 | D23: 0.087743974 | E23: 0.097235653 | F23: 0.16273092 | G23: 0.16354373 | H23: 0.10748368 | J23: 0.11854295 | K23: 0.099210799 | L23: 0.11255388 | M23: 0.032215495 | O23: 0.083752947 | P23: 0.20807049 | Q23: 0.073002713 | R23: 0.037538291 | S23: 0.180956 | T23: 0.23572576 | U23: 0.033453553 | V23: 0.031714369 | W23: 0.0010427088 | X23: 0.019298802 | Z23: 0.1354716 | AA23: 0.072504739 | AB23: 0.15432183 | AC23: 0.055838401 | AD23: 0.14987341 | AE23: 0.13223466 | AF23: 0.11154608 | AH23: 0 | AI23: 0.1937435 | AK23: 0 | AL23: 0 | AM23: 0 | AO23: 0 | AP23: 0.12469667 | AR23: 0.098053294 | AS23: 0.1293649 | AU23: 0.11763359 | AV23: 0.032215495 | AX23: 0.038931612 | AY23: 0.12323867 | BA23: 0.12714191 | BB23: 0.13543744 | BC23: 0.076410235 | BD23: 0
B24: No - we definitely don’t | C24: 0.44367645 | D24: 0.47505039 | E24: 0.50982021 | F24: 0.35349918 | G24: 0.40700617 | H24: 0.42760423 | J24: 0.45787773 | K24: 0.20112487 | L24: 0.084852164 | M24: 0.056583148 | O24: 0.53554316 | P24: 0.39537413 | Q24: 0.50331893 | R24: 0.21736679 | S24: 0.085599161 | T24: 0.41161436 | U24: 0.17056605 | V24: 0.11211525 | W24: 0.018535921 | X24: 0.077354862 | Z24: 0.47278094 | AA24: 0.34095717 | AB24: 0.23066032 | AC24: 0.5133476 | AD24: 0.40448505 | AE24: 0.39313213 | AF24: 0.4871047 | AH24: 0 | AI24: 0.73125291 | AK24: 0 | AL24: 0 | AM24: 0 | AO24: 0 | AP24: 0.47064702 | AR24: 0.41782377 | AS24: 0.45934114 | AU24: 0.44405158 | AV24: 0.056583148 | AX24: 0.30170955 | AY24: 0.45394717 | BA24: 0.57436097 | BB24: 0.47021876 | BC24: 0.2237076 | BD24: 0.00021446514
B26: Which of the following purposes do you use a cloud computing provider for?Please select all that apply
B27: BASE: Cloud User
B28: Online data storage or file sharing | C28: 0.58310973 | D28: 0.60237966 | E28: 0.53887233 | F28: 0.75313438 | G28: 0.64503282 | H28: 0.49366272 | J28: 0.58637486 | K28: 0.55611497 | L28: 0.49100166 | M28: 0.55540489 | O28: 0.58274328 | P28: 0.72614507 | Q28: 0.54007003 | R28: 0.54294277 | S28: 0.65337941 | T28: 0.51435765 | U28: 0.38537107 | V28: 0.52737187 | W28: 0.22462438 | X28: 0.17168138 | Z28: 0.51878609 | AA28: 0.77168846 | AB28: 0.69563327 | AC28: 0.53749371 | AD28: 0.69570703 | AE28: 0.47553186 | AF28: 0.67299486 | AH28: 0.58310973 | AI28: * | AK28: 0.58506363 | AL28: 0.80164301 | AM28: 0.61903032 | AO28: 0.62200882 | AP28: 0.57647464 | AR28: 0.53668921 | AS28: 0.61482731 | AU28: 0.58316929 | AV28: 0.55540489 | AX28: 0.45934184 | AY28: 0.5978187 | BA28: 0.58265923 | BB28: 0.59055088 | BC28: 0.54726316 | BD28: 0.85757061
B29: Online documents (eg. Google Docs, Microsoft Office 365 etc) | C29: 0.54417555 | D29: 0.56156355 | E29: 0.62478313 | F29: 0.26576662 | G29: 0.58644806 | H29: 0.54501747 | J29: 0.54012216 | K29: 0.59628352 | L29: 0.53949164 | M29: 0.55404746 | O29: 0.46948488 | P29: 0.69879314 | Q29: 0.5894374 | R29: 0.61836114 | S29: 0.45070288 | T29: 0.91126498 | U29: 0.40884435 | V29: 0.83754602 | W29: 0.24336851 | X29: 0.25755589 | Z29: 0.46694035 | AA29: 0.57666645 | AB29: 0.54824413 | AC29: 0.5541139 | AD29: 0.66677975 | AE29: 0.54769753 | AF29: 0.57828932 | AH29: 0.54417555 | AI29: * | AK29: 0.56917728 | AL29: 0.68383866 | AM29: 0.55153945 | AO29: 0.58125233 | AP29: 0.5378513 | AR29: 0.54358609 | AS29: 0.54457831 | AU29: 0.54415433 | AV29: 0.55404746 | AX29: 0.45442014 | AY29: 0.55484237 | BA29: 0.43624705 | BB29: 0.57363444 | BC29: 0.55707055 | BD29: 0.70054321
B30: Online email or messaging | C30: 0.4565887 | D30: 0.47212203 | E30: 0.29282951 | F30: 0.3707307 | G30: 0.59572738 | H30: 0.46581016 | J30: 0.46170258 | K30: 0.39036095 | L30: 0.47802508 | M30: 0.38245677 | O30: 0.45838364 | P30: 0.53612984 | Q30: 0.52061578 | R30: 0.42427573 | S30: 0.3449641 | T30: 0.66409971 | U30: 0.86015431 | V30: 0.45456559 | W30: 0.17884519 | X30: 0.17124261 | Z30: 0.42942461 | AA30: 0.45277912 | AB30: 0.71086649 | AC30: 0.38331723 | AD30: 0.45612215 | AE30: 0.28999412 | AF30: 0.87881986 | AH30: 0.4565887 | AI30: * | AK30: 0.49167805 | AL30: 0.4903949 | AM30: 0.46306374 | AO30: 0.56080495 | AP30: 0.43881234 | AR30: 0.5062446 | AS30: 0.42266049 | AU30: 0.45674805 | AV30: 0.38245677 | AX30: 0.60009798 | AY30: 0.43953359 | BA30: 0.33732584 | BB30: 0.39081086 | BC30: 0.61648209 | BD30: 0.20923868
B31: Disaster Recovery | C31: 0.30217621 | D31: 0.35615769 | E31: 0.26447809 | F31: 0.37224773 | G31: 0.22666506 | H31: 0.31772631 | J31: 0.30357296 | K31: 0.27986242 | L31: 0.32622042 | M31: 0.3319572 | O31: 0.25090683 | P31: 0.45336857 | Q31: 0.29081423 | R31: 0.38864565 | S31: 0.3300875 | T31: 0.24183735 | U31: 0.27001925 | V31: 0.07724508 | W31: 0.1480468 | X31: 0.12232578 | Z31: 0.29703558 | AA31: 0.27092135 | AB31: 0.4409311 | AC31: 0.34072303 | AD31: 0.4154409 | AE31: 0.25967865 | AF31: 0.094356984 | AH31: 0.30217621 | AI31: * | AK31: 0.30212709 | AL31: 0.65223107 | AM31: 0.28466874 | AO31: 0.40104484 | AP31: 0.28531201 | AR31: 0.30971527 | AS31: 0.29702503 | AU31: 0.30211219 | AV31: 0.3319572 | AX31: 0.31161493 | AY31: 0.30105448 | BA31: 0.2196198 | BB31: 0.28058308 | BC31: 0.36595558 | BD31: 0.34399352
B32: Running your business’s internal applications | C32: 0.27496555 | D32: 0.20098428 | E32: 0.23824312 | F32: 0.2538302 | G32: 0.40261836 | H32: 0.26248037 | J32: 0.26720459 | K32: 0.34400738 | L32: 0.4407312 | M32: 0.44459383 | O32: 0.16762692 | P32: 0.25831344 | Q32: 0.39833619 | R32: 0.33697467 | S32: 0.49500308 | T32: 0.30512277 | U32: 0.61400686 | V32: 0.52817497 | W32: 0.79653667 | X32: 0.78477597 | Z32: 0.23632618 | AA32: 0.28875332 | AB32: 0.23330706 | AC32: 0.23752091 | AD32: 0.36055892 | AE32: 0.44771876 | AF32: 0.33681683 | AH32: 0.27496555 | AI32: * | AK32: 0.24858523 | AL32: 0.61104197 | AM32: 0.27322424 | AO32: 0.28286589 | AP32: 0.27361797 | AR32: 0.32397545 | AS32: 0.24147873 | AU32: 0.27460091 | AV32: 0.44459383 | AX32: 0.27950894 | AY32: 0.27442559 | BA32: 0.19949596 | BB32: 0.15715436 | BC32: 0.41974547 | BD32: 0.46308535
B33: Running your business’s external or customer facing applications | C33: 0.24293693 | D33: 0.29070096 | E33: 0.19859383 | F33: 0.32680892 | G33: 0.24911132 | H33: 0.20221303 | J33: 0.23209803 | K33: 0.34115185 | L33: 0.4631068 | M33: 0.47682444 | O33: 0.19706207 | P33: 0.33205266 | Q33: 0.23172621 | R33: 0.14015087 | S33: 0.28431395 | T33: 0.46830173 | U33: 0.19318995 | V33: 0.45335438 | W33: 0.87742802 | X33: 0.89023107 | Z33: 0.21278843 | AA33: 0.26952872 | AB33: 0.51984219 | AC33: 0.20452164 | AD33: 0.28080183 | AE33: 0.34235374 | AF33: 0.022056269 | AH33: 0.24293693 | AI33: * | AK33: 0.29617683 | AL33: 0.47448499 | AM33: 0.21306744 | AO33: 0.38434436 | AP33: 0.21881681 | AR33: 0.27291842 | AS33: 0.22245158 | AU33: 0.24243416 | AV33: 0.47682444 | AX33: 0.31717882 | AY33: 0.23411378 | BA33: 0.15541489 | BB33: 0.18573745 | BC33: 0.34909954 | BD33: 0.25941589
B34: Distributing or receiving data from external customers | C34: 0.21405452 | D34: 0.14444947 | E34: 0.20723622 | F34: 0.15958817 | G34: 0.33766634 | H34: 0.19500474 | J34: 0.20468677 | K34: 0.29948165 | L34: 0.40247926 | M34: 0.40738699 | O34: 0.16328891 | P34: 0.22415906 | Q34: 0.24463193 | R34: 0.27423168 | S34: 0.44185785 | T34: 0.27920068 | U34: 0.22936176 | V34: 0.1464805 | W34: 0.045886702 | X34: 0.12454075 | Z34: 0.17677252 | AA34: 0.17820453 | AB34: 0.315109 | AC34: 0.2864879 | AD34: 0.23049046 | AE34: 0.18068688 | AF34: 0.030466929 | AH34: 0.21405452 | AI34: * | AK34: 0.30416827 | AL34: 0.51663 | AM34: 0.15211159 | AO34: 0.42649052 | AP34: 0.17781893 | AR34: 0.18856139 | AS34: 0.23147311 | AU34: 0.21363893 | AV34: 0.40738699 | AX34: 0.33882644 | AY34: 0.19922623 | BA34: 0.2282972 | BB34: 0.10075508 | BC34: 0.32100159 | BD34: 0.24282565
B35: Big Data analysis | C35: 0.13577633 | D35: 0.13652668 | E35: 0.15136611 | F35: 0.30931882 | G35: 0.098318897 | H35: 0.097021356 | J35: 0.12807475 | K35: 0.20938939 | L35: 0.25876846 | M35: 0.34189499 | O35: 0.14646551 | P35: 0.16099804 | Q35: 0.1244267 | R35: 0.060344679 | S35: 0.14336446 | T35: 0.2730628 | U35: 0.14271393 | V35: 0.4854475 | W35: 0.026344941 | X35: 0.13869539 | Z35: 0.05439203 | AA35: 0.19713114 | AB35: 0.34123383 | AC35: 0.23349127 | AD35: 0.12258334 | AE35: 0.030394336 | AF35: 0.070983281 | AH35: 0.13577633 | AI35: * | AK35: 0.16353447 | AL35: 0.28885485 | AM35: 0.11746855 | AO35: 0.30748246 | AP35: 0.10648811 | AR35: 0.15352046 | AS35: 0.12365236 | AU35: 0.13533326 | AV35: 0.34189499 | AX35: 0.18833433 | AY35: 0.12953017 | BA35: 0.11183589 | BB35: 0.092402981 | BC35: 0.18166495 | BD35: 0.25620914
B36: Monitoring key metrics | C36: 0.12363257 | D36: 0.13720396 | E36: 0.21850856 | F36: 0.010950036 | G36: 0.037538296 | H36: 0.15918949 | J36: 0.12112059 | K36: 0.14333856 | L36: 0.15515156 | M36: 0.37801839 | O36: 0.11150832 | P36: 0.077735147 | Q36: 0.11254462 | R36: 0.17813227 | S36: 0.1933401 | T36: 0.041043331 | U36: 0.4860427 | V36: 0.12936797 | W36: 0.045725257 | X36: 0.68664198 | Z36: 0.088075933 | AA36: 0.22501018 | AB36: 0.18329539 | AC36: 0.10510686 | AD36: 0.056812962 | AE36: 0.13064951 | AF36: 0.23811683 | AH36: 0.12363257 | AI36: * | AK36: 0.1620654 | AL36: 0.19317317 | AM36: 0.10987895 | AO36: 0.21996412 | AP36: 0.10720113 | AR36: 0.16355297 | AS36: 0.096356305 | AU36: 0.12308574 | AV36: 0.37801839 | AX36: 0.19397657 | AY36: 0.11527266 | BA36: 0.057162 | BB36: 0.089853318 | BC36: 0.16777375 | BD36: 0.39204207
B37: Artificial Intelligence and/or machine learning | C37: 0.076793652 | D37: 0.098677451 | E37: 0.086649775 | F37: 0.021687815 | G37: 0.061506666 | H37: 0.084605484 | J37: 0.072756185 | K37: 0.086985111 | L37: 0.2866918 | M37: 0.40483499 | O37: 0.098189546 | P37: 0.0082510848 | Q37: 0.055461814 | R37: 0.046381914 | S37: 0.092511842 | T37: 0.022827645 | U37: 0.036232863 | V37: 0.49988193 | W37: 0.74658295 | X37: 0.085821802 | Z37: 0.059083118 | AA37: 0.0011680933 | AB37: 0.32964601 | AC37: 0.060228536 | AD37: 0.0076139193 | AE37: 0.13635567 | AF37: 0.0023251289 | AH37: 0.076793652 | AI37: * | AK37: 0.093929853 | AL37: 0.28614733 | AM37: 0.058069357 | AO37: 0.20769906 | AP37: 0.054464881 | AR37: 0.088965929 | AS37: 0.068476745 | AU37: 0.076088496 | AV37: 0.40483499 | AX37: 0.12559329 | AY37: 0.070994146 | BA37: 0.027816945 | BB37: 0.03294989 | BC37: 0.1280431 | BD37: 0.28406002
B38: Don’t Know | C38: 0.018191641 | D38: 3.6070092e-05 | E38: 0.034849967 | F38: 0.06989348 | G38: 0 | H38: 0.018105142 | J38: 0.019866135 | K38: 0 | L38: 0 | M38: 0.0036025993 | O38: 0.029661774 | P38: 0 | Q38: 0 | R38: 0 | S38: 0 | T38: 0 | U38: 0 | V38: 0 | W38: 0 | X38: 0.00097088334 | Z38: 0.024035659 | AA38: 0 | AB38: 0 | AC38: 0.047036354 | AD38: 0 | AE38: 0 | AF38: 0 | AH38: 0.018191641 | AI38: * | AK38: 2.8115003e-05 | AL38: 0 | AM38: 0.012146585 | AO38: 0 | AP38: 0.021294622 | AR38: 0.014768194 | AS38: 0.020530767 | AU38: 0.018223001 | AV38: 0.0036025993 | AX38: 0 | AY38: 0.020353594 | BA38: 0.062388715 | BB38: 0.013970522 | BC38: 2.0833139e-05 | BD38: 0
B39: Other (please specify) | C39: 0.017761296 | D39: 0.0023310077 | E39: 0 | F39: 0 | G39: 0.02901097 | H39: 0.036671497 | J39: 0.018708893 | K39: 0.0069588185 | L39: 0.012743505 | M39: 0 | O39: 0.015450805 | P39: 0 | Q39: 0.0013347011 | R39: 0.037987687 | S39: 0.080489329 | T39: 0.01644236 | U39: 0 | V39: 0 | W39: 0 | X39: 0 | Z39: 0.041429439 | AA39: 0 | AB39: 0 | AC39: 0 | AD39: 0.0011484808 | AE39: 0.057293797 | AF39: 0.0067514165 | AH39: 0.017761296 | AI39: * | AK39: 0.023600259 | AL39: 0 | AM39: 0.020134761 | AO39: 0 | AP39: 0.020790872 | AR39: 0 | AS39: 0.02989699 | AU39: 0.017799475 | AV39: 0 | AX39: 0.11049757 | AY39: 0.0067402195 | BA39: 0.026267669 | BB39: 0.030790769 | BC39: 0.0013463289 | BD39: 0
B41: Which, if any, of the following best describes how you use cloud services?Please select all that apply
B42: BASE: Cloud User
B43: <strong>Through online apps or services run by other companies. </strong>This is commonly known as Software as a Service (SaaS). Examples of SaaS services include Microsoft Office 365, Google Docs, Slack or Zoom. | C43: 0.62447325 | D43: 0.53028256 | E43: 0.66401904 | F43: 0.67848131 | G43: 0.6361907 | H43: 0.64314555 | J43: 0.62794958 | K43: 0.56663007 | L43: 0.71167265 | M43: 0.63842171 | O43: 0.63787127 | P43: 0.6741291 | Q43: 0.63287095 | R43: 0.53612584 | S43: 0.55284852 | T43: 0.71335969 | U43: 0.82538924 | V43: 0.81871405 | W43: 0.27507184 | X43: 0.3010697 | Z43: 0.66421087 | AA43: 0.54059059 | AB43: 0.65261488 | AC43: 0.60222359 | AD43: 0.67899761 | AE43: 0.55737475 | AF43: 0.65735133 | AH43: 0.62447325 | AI43: * | AK43: 0 | AL43: 1 | AM43: 1 | AO43: 0.25322782 | AP43: 0.68779725 | AR43: 0.63812404 | AS43: 0.61514613 | AU43: 0.62444327 | AV43: 0.63842171 | AX43: 0.45226157 | AY43: 0.64493944 | BA43: 0.59719112 | BB43: 0.67833007 | BC43: 0.5726609 | BD43: 0.73000417
B44: <strong>As a replacement or complement for your own on-site servers or IT infrastructure, or as underlying computing infrastructure for your own applications or services.</strong> This is commonly known as Infrastructure as a Service (IaaS) or Platform as a Service (PaaS). Examples of IaaS and PaaS services include Amazon Web Services or Microsoft Azure. | C44: 0.33936648 | D44: 0.4187638 | E44: 0.23446479 | F44: 0.32890778 | G44: 0.39745345 | H44: 0.30354197 | J44: 0.33056133 | K44: 0.43006771 | L44: 0.4239134 | M44: 0.6377366 | O44: 0.29487188 | P44: 0.4212826 | Q44: 0.37242794 | R44: 0.42635001 | S44: 0.36391549 | T44: 0.27633647 | U44: 0.19383288 | V44: 0.21880098 | W44: 0.75189373 | X44: 0.76142234 | Z44: 0.21617101 | AA44: 0.45240304 | AB44: 0.42867092 | AC44: 0.39487937 | AD44: 0.38780976 | AE44: 0.39703724 | AF44: 0.35238918 | AH44: 0.33936648 | AI44: * | AK44: 1 | AL44: 1 | AM44: 0 | AO44: 1 | AP44: 0.22668104 | AR44: 0.37625726 | AS44: 0.31416026 | AU44: 0.33872511 | AV44: 0.6377366 | AX44: 0.62102167 | AY44: 0.30589368 | BA44: 0.34123379 | BB44: 0.21687571 | BC44: 0.45266329 | BD44: 0.46539575
B45: Don't Know | C45: 0.10067289 | D45: 0.10201293 | E45: 0.1777754 | F45: 0 | G45: 0.08703291 | H45: 0.098093346 | J45: 0.10522672 | K45: 0.058541168 | L45: 0.012743505 | M45: 0.0084871753 | O45: 0.11031537 | P45: 0.035692316 | Q45: 0.11641256 | R45: 0.091421829 | S45: 0.085978893 | T45: 0.01644236 | U45: 0.034923373 | V45: 0 | W45: 0 | X45: 0 | Z45: 0.12550817 | AA45: 0.0076186145 | AB45: 0.15804299 | AC45: 0.12645788 | AD45: 0.042586605 | AE45: 0.055579294 | AF45: 0 | AH45: 0.10067289 | AI45: * | AK45: 0 | AL45: 0 | AM45: 0 | AO45: 0 | AP45: 0.11784484 | AR45: 0.10523406 | AS45: 0.097556398 | AU45: 0.10087105 | AV45: 0.0084871753 | AX45: 0.059775877 | AY45: 0.10553322 | BA45: 0.1152873 | BB45: 0.14999261 | BC45: 0.05171709 | BD45: 0
B47: Besides cloud computing and personal computers for your staff, does your company own any centralised computers, servers, on-premises computing or data centres of its own?
B48: BASE: Cloud User
B49: Yes | C49: 0.7465506 | D49: 0.77323169 | E49: 0.70216733 | F49: 0.86000078 | G49: 0.72738207 | H49: 0.72999487 | J49: 0.73786882 | K49: 0.82319071 | L49: 0.93482285 | M49: 0.94190607 | O49: 0.63518264 | P49: 0.90056171 | Q49: 0.81379962 | R49: 0.70291783 | S49: 0.95008576 | T49: 0.99497204 | U49: 0.96453622 | V49: 1 | W49: 0.99768076 | X49: 0.99554936 | Z49: 0.77628082 | AA49: 0.83338765 | AB49: 0.73413433 | AC49: 0.74727224 | AD49: 0.749409 | AE49: 0.73728356 | AF49: 0.76016715 | AH49: 0.7465506 | AI49: * | AK49: 0.79598958 | AL49: 0.82460989 | AM49: 0.74326758 | AO49: 0.79948936 | AP49: 0.73752074 | AR49: 0.7044759 | AS49: 0.77529882 | AU49: 0.74613066 | AV49: 0.94190607 | AX49: 0.92231361 | AY49: 0.72566236 | BA49: 0.74541217 | BB49: 0.70842165 | BC49: 0.76356614 | BD49: 0.97162213
...

Sheet Table 1
D2: Before taking this survey, were you familiar with the concept of cloud computing?
D5: Region of Italy | J5: Number of Employees | O5: Annual Revenue | Z5: Revenue Change | AH5: Cloud User | AK5: Type of Cloud | AO5: AWS User | AR5: Woman-owned Business | AU5: Grouped Employee Count | AX5: Tech Adoption | BA5: Digital Intensity
C6: Total | D6: Centre | E6: South | F6: Islands | G6: North East | H6: North West | J6: 1-9 | K6: 10-49 | L6: 50-249 | M6: 250+ | O6: Under EUR 85,000 | P6: EUR 85,001 to EUR 250,000 | Q6: EUR 250,001 to EUR 500,000 | R6: EUR 500,001 to EUR 1 million | S6: EUR 1 million to EUR 2 million | T6: EUR 2 million to EUR 5 million | U6: EUR 5 million to EUR 10 million | V6: EUR 10 million to EUR 20 million | W6: EUR 20 million to EUR 50 million | X6: Over EUR 50 million | Z6: Declined by 10%+ | AA6: Declined by 6-10% | AB6: Declined by 0-5% | AC6: Stayed about the same size | AD6: Grown by 0-5% | AE6: Grown by 6-10% | AF6: Grown by 10%+ | AH6: Yes | AI6: No | AK6: IaaS / PaaS | AL6: Both | AM6: SaaS | AO6: Yes | AP6: No | AR6: Yes | AS6: No | AU6: Less than 250 employees | AV6: 250+ employees | AX6: Early adopter | AY6: Not early adopter | BA6: Low | BB6: Medium | BC6: High | BD6: Very High
B7: Unweighted | C7: 1018 | D7: 240 | E7: 171 | F7: 75 | G7: 180 | H7: 352 | J7: 422 | K7: 205 | L7: 103 | M7: 288 | O7: 233 | P7: 82 | Q7: 77 | R7: 95 | S7: 83 | T7: 67 | U7: 52 | V7: 70 | W7: 64 | X7: 103 | Z7: 207 | AA7: 81 | AB7: 93 | AC7: 235 | AD7: 138 | AE7: 114 | AF7: 98 | AH7: 612 | AI7: 406 | AK7: 200 | AL7: 100 | AM7: 284 | AO7: 130 | AP7: 888 | AR7: 323 | AS7: 695 | AU7: 730 | AV7: 288 | AX7: 169 | AY7: 849 | BA7: 231 | BB7: 306 | BC7: 408 | BD7: 73
B8: Weighted | C8: 1018 | D8: 221 | E8: 203 | F8: 87 | G8: 212 | H8: 295 | J8: 965 | K8: 46 | L8: 6 | M8: 1 | O8: 493 | P8: 157 | Q8: 98 | R8: 89 | S8: 38 | T8: 35 | U8: 8 | V8: 8 | W8: 3 | X8: 4 | Z8: 325 | AA8: 69 | AB8: 53 | AC8: 249 | AD8: 109 | AE8: 84 | AF8: 85 | AH8: 400 | AI8: 618 | AK8: 110 | AL8: 26 | AM8: 224 | AO8: 58 | AP8: 960 | AR8: 384 | AS8: 634 | AU8: 1017 | AV8: 1 | AX8: 69 | AY8: 949 | BA8: 341 | BB8: 440 | BC8: 219 | BD8: 18
B9: I am very familiar with this concept and I understand what it means | C9: 0.44139579 | D9: 0.46042783 | E9: 0.44837927 | F9: 0.28824074 | G9: 0.48788299 | H9: 0.43409232 | J9: 0.43213478 | K9: 0.59912018 | L9: 0.65661866 | M9: 0.8302392 | O9: 0.41990557 | P9: 0.37542186 | Q9: 0.4145667 | R9: 0.59981397 | S9: 0.68927801 | T9: 0.54920741 | U9: 0.76130023 | V9: 0.59387705 | W9: 0.98028805 | X9: 0.77736076 | Z9: 0.40837013 | AA9: 0.32565396 | AB9: 0.61309811 | AC9: 0.47013554 | AD9: 0.46578716 | AE9: 0.5093536 | AF9: 0.43454978 | AH9: 0.68448713 | AI9: 0.28383199 | AK9: 0.8015742 | AL9: 0.80364485 | AM9: 0.68274886 | AO9: 0.72036593 | AP9: 0.42443752 | AR9: 0.38080581 | AS9: 0.47810856 | AU9: 0.44101896 | AV9: 0.8302392 | AX9: 0.76275258 | AY9: 0.41814694 | BA9: 0.33437462 | BB9: 0.41334828 | BC9: 0.64468381 | BD9: 0.67675948
B10: I have heard this concept before, but I do not know what it means | C10: 0.33555524 | D10: 0.39378566 | E10: 0.28887286 | F10: 0.42308386 | G10: 0.35358499 | H10: 0.28528508 | J10: 0.33690553 | K10: 0.32414232 | L10: 0.23913291 | M10: 0.13860149 | O10: 0.31810725 | P10: 0.40053963 | Q10: 0.40224928 | R10: 0.31976039 | S10: 0.24836129 | T10: 0.31107189 | U10: 0.20524622 | V10: 0.37580341 | W10: 0.019711949 | X10: 0.1880748 | Z10: 0.34522431 | AA10: 0.46834784 | AB10: 0.22095666 | AC10: 0.30153142 | AD10: 0.27894388 | AE10: 0.38471324 | AF10: 0.32375619 | AH10: 0.2462837 | AI10: 0.39341811 | AK10: 0.19839603 | AL10: 0.19635515 | AM10: 0.23547195 | AO10: 0.27963407 | AP10: 0.33895462 | AR10: 0.31560871 | AS10: 0.34764127 | AU10: 0.33574611 | AV10: 0.13860149 | AX10: 0.16202881 | AY10: 0.34810917 | BA10: 0.35451764 | BB10: 0.35437114 | BC10: 0.28029206 | BD10: 0.18988913
B11: No, I have not heard of this concept before | C11: 0.20722377 | D11: 0.13656741 | E11: 0.25092557 | F11: 0.25657943 | G11: 0.15735544 | H11: 0.25136524 | J11: 0.21459897 | K11: 0.071310504 | L11: 0.092802487 | M11: 0.027836354 | O11: 0.24283455 | P11: 0.19724705 | Q11: 0.18318402 | R11: 0.080425643 | S11: 0.062360695 | T11: 0.1397207 | U11: 0.033453553 | V11: 0.030319532 | W11: 0 | X11: 0.03456444 | Z11: 0.23802411 | AA11: 0.17117475 | AB11: 0.12766224 | AC11: 0.21101898 | AD11: 0.23548956 | AE11: 0.10593317 | AF11: 0.21632963 | AH11: 0.062427565 | AI11: 0.3010759 | AK11: 2.9763889e-05 | AL11: 0 | AM11: 0.069632598 | AO11: 0 | AP11: 0.21982066 | AR11: 0.28590029 | AS11: 0.15955197 | AU11: 0.20739762 | AV11: 0.027836354 | AX11: 0.075218612 | AY11: 0.2167738 | BA11: 0.282475 | BB11: 0.22274568 | BC11: 0.065187951 | BD11: 0.13335138
B12: Don’t know | C12: 0.0158252 | D12: 0.0092191009 | E12: 0.011822301 | F12: 0.032095981 | G12: 0.0011765702 | H12: 0.029257363 | J12: 0.016360727 | K12: 0.0054269928 | L12: 0.011445945 | M12: 0.0033229562 | O12: 0.01915264 | P12: 0.02679145 | Q12: 0 | R12: 0 | S12: 0 | T12: 0 | U12: 0 | V12: 0 | W12: 0 | X12: 0 | Z12: 0.0083814499 | AA12: 0.034823446 | AB12: 0.038282989 | AC12: 0.017314066 | AD12: 0.019779395 | AE12: 0 | AF12: 0.025364399 | AH12: 0.0068016096 | AI12: 0.021673995 | AK12: 0 | AL12: 0 | AM12: 0.012146585 | AO12: 0 | AP12: 0.016787196 | AR12: 0.017685183 | AS12: 0.014698197 | AU12: 0.015837316 | AV12: 0.0033229562 | AX12: 0 | AY12: 0.016970089 | BA12: 0.028632744 | BB12: 0.0095349054 | BC12: 0.0098361731 | BD12: 0
B14: Fieldwork: 22nd Apr - 26th Apr 2022
B15: Data weighted by business size and region to Nationally Representative proportions
B17: =HYPERLINK("#'Contents'!A1", "Return to Contents") -> Return to Contents

Sheet Table 2
D2: Do you know if your company directly buys any services from a cloud provider? (eg. Amazon Web Services, Microsoft Azure, Google Cloud Platform)
D5: Region of Italy | J5: Number of Employees | O5: Annual Revenue | Z5: Revenue Change | AH5: Cloud User | AK5: Type of Cloud | AO5: AWS User | AR5: Woman-owned Business | AU5: Grouped Employee Count | AX5: Tech Adoption | BA5: Digital Intensity
C6: Total | D6: Centre | E6: South | F6: Islands | G6: North East | H6: North West | J6: 1-9 | K6: 10-49 | L6: 50-249 | M6: 250+ | O6: Under EUR 85,000 | P6: EUR 85,001 to EUR 250,000 | Q6: EUR 250,001 to EUR 500,000 | R6: EUR 500,001 to EUR 1 million | S6: EUR 1 million to EUR 2 million | T6: EUR 2 million to EUR 5 million | U6: EUR 5 million to EUR 10 million | V6: EUR 10 million to EUR 20 million | W6: EUR 20 million to EUR 50 million | X6: Over EUR 50 million | Z6: Declined by 10%+ | AA6: Declined by 6-10% | AB6: Declined by 0-5% | AC6: Stayed about the same size | AD6: Grown by 0-5% | AE6: Grown by 6-10% | AF6: Grown by 10%+ | AH6: Yes | AI6: No | AK6: IaaS / PaaS | AL6: Both | AM6: SaaS | AO6: Yes | AP6: No | AR6: Yes | AS6: No | AU6: Less than 250 employees | AV6: 250+ employees | AX6: Early adopter | AY6: Not early adopter | BA6: Low | BB6: Medium | BC6: High | BD6: Very High
B7: Unweighted | C7: 1018 | D7: 240 | E7: 171 | F7: 75 | G7: 180 | H7: 352 | J7: 422 | K7: 205 | L7: 103 | M7: 288 | O7: 233 | P7: 82 | Q7: 77 | R7: 95 | S7: 83 | T7: 67 | U7: 52 | V7: 70 | W7: 64 | X7: 103 | Z7: 207 | AA7: 81 | AB7: 93 | AC7: 235 | AD7: 138 | AE7: 114 | AF7: 98 | AH7: 612 | AI7: 406 | AK7: 200 | AL7: 100 | AM7: 284 | AO7: 130 | AP7: 888 | AR7: 323 | AS7: 695 | AU7: 730 | AV7: 288 | AX7: 169 | AY7: 849 | BA7: 231 | BB7: 306 | BC7: 408 | BD7: 73
B8: Weighted | C8: 1018 | D8: 221 | E8: 203 | F8: 87 | G8: 212 | H8: 295 | J8: 965 | K8: 46 | L8: 6 | M8: 1 | O8: 493 | P8: 157 | Q8: 98 | R8: 89 | S8: 38 | T8: 35 | U8: 8 | V8: 8 | W8: 3 | X8: 4 | Z8: 325 | AA8: 69 | AB8: 53 | AC8: 249 | AD8: 109 | AE8: 84 | AF8: 85 | AH8: 400 | AI8: 618 | AK8: 110 | AL8: 26 | AM8: 224 | AO8: 58 | AP8: 960 | AR8: 384 | AS8: 634 | AU8: 1017 | AV8: 1 | AX8: 69 | AY8: 949 | BA8: 341 | BB8: 440 | BC8: 219 | BD8: 18
B9: Yes - we definitely do | C9: 0.30397668 | D9: 0.308287 | E9: 0.22932397 | F9: 0.31393367 | G9: 0.37098752 | H9: 0.30102537 | J9: 0.29470432 | K9: 0.46784547 | L9: 0.47146547 | M9: 0.7109029 | O9: 0.23174091 | P9: 0.25951758 | Q9: 0.35962862 | R9: 0.61561241 | S9: 0.55614208 | T9: 0.32584757 | U9: 0.62292192 | V9: 0.56549037 | W9: 0.95843787 | X9: 0.77534934 | Z9: 0.28289684 | AA9: 0.32651804 | AB9: 0.46615263 | AC9: 0.28013491 | AD9: 0.38681154 | AE9: 0.2933169 | AF9: 0.29065755 | AH9: 0.77295558 | AI9: 0 | AK9: 0.8905708 | AL9: 0.79288817 | AM9: 0.77475784 | AO9: 0.82174878 | AP9: 0.27250192 | AR9: 0.31446064 | AS9: 0.29762422 | AU9: 0.30358232 | AV9: 0.7109029 | AX9: 0.56335262 | AY9: 0.28521189 | BA9: 0.19805601 | BB9: 0.25781973 | BC9: 0.54298901 | BD9: 0.52585872
B10: Yes - I think we probably do | C10: 0.089288714 | D10: 0.079804351 | E10: 0.10991025 | F10: 0.13387169 | G10: 0.042313517 | H10: 0.10281378 | J10: 0.085033178 | K10: 0.15724082 | L10: 0.23999361 | M10: 0.16037586 | O10: 0.10216211 | P10: 0.10510153 | Q10: 0.061606522 | R10: 0.021981179 | S10: 0.15745867 | T10: 0.019723311 | U10: 0.17255187 | V10: 0.2902904 | W10: 0.020998554 | X10: 0.10994945 | Z10: 0.066208312 | AA10: 0.1220051 | AB10: 0.10450789 | AC10: 0.10870132 | AD10: 0.051909483 | AE10: 0.15691091 | AF10: 0.057573305 | AH10: 0.22704442 | AI10: 0 | AK10: 0.1094292 | AL10: 0.20711183 | AM10: 0.22524216 | AO10: 0.17825122 | AP10: 0.083880787 | AR10: 0.1086275 | AS10: 0.077570928 | AU10: 0.089219823 | AV10: 0.16037586 | AX10: 0.055820153 | AY10: 0.091710027 | BA10: 0.042866291 | BB10: 0.093152871 | BC10: 0.13420414 | BD10: 0.32671576
B11: Not sure | C11: 0.04550727 | D11: 0.049114277 | E11: 0.053709925 | F11: 0.035964537 | G11: 0.016149064 | H11: 0.061072932 | J11: 0.043841818 | K11: 0.074578042 | L11: 0.091134866 | M11: 0.039922598 | O11: 0.046800874 | P11: 0.031936275 | Q11: 0.0024432192 | R11: 0.10750132 | S11: 0.019844097 | T11: 0.0070890012 | U11: 0.00050661475 | V11: 0.00038960619 | W11: 0.00098494393 | X11: 0.018047543 | Z11: 0.042642308 | AA11: 0.13801495 | AB11: 0.04435733 | AC11: 0.041977766 | AD11: 0.0069205155 | AE11: 0.024405401 | AF11: 0.053118364 | AH11: 0 | AI11: 0.075003585 | AK11: 0 | AL11: 0 | AM11: 0 | AO11: 0 | AP11: 0.048273604 | AR11: 0.0610348 | AS11: 0.036098806 | AU11: 0.045512682 | AV11: 0.039922598 | AX11: 0.040186058 | AY11: 0.045892238 | BA11: 0.057574825 | BB11: 0.0433712 | BC11: 0.022689011 | BD11: 0.14721106
B12: No - I think we probably don’t | C12: 0.11755089 | D12: 0.087743974 | E12: 0.097235653 | F12: 0.16273092 | G12: 0.16354373 | H12: 0.10748368 | J12: 0.11854295 | K12: 0.099210799 | L12: 0.11255388 | M12: 0.032215495 | O12: 0.083752947 | P12: 0.20807049 | Q12: 0.073002713 | R12: 0.037538291 | S12: 0.180956 | T12: 0.23572576 | U12: 0.033453553 | V12: 0.031714369 | W12: 0.0010427088 | X12: 0.019298802 | Z12: 0.1354716 | AA12: 0.072504739 | AB12: 0.15432183 | AC12: 0.055838401 | AD12: 0.14987341 | AE12: 0.13223466 | AF12: 0.11154608 | AH12: 0 | AI12: 0.1937435 | AK12: 0 | AL12: 0 | AM12: 0 | AO12: 0 | AP12: 0.12469667 | AR12: 0.098053294 | AS12: 0.1293649 | AU12: 0.11763359 | AV12: 0.032215495 | AX12: 0.038931612 | AY12: 0.12323867 | BA12: 0.12714191 | BB12: 0.13543744 | BC12: 0.076410235 | BD12: 0
B13: No - we definitely don’t | C13: 0.44367645 | D13: 0.47505039 | E13: 0.50982021 | F13: 0.35349918 | G13: 0.40700617 | H13: 0.42760423 | J13: 0.45787773 | K13: 0.20112487 | L13: 0.084852164 | M13: 0.056583148 | O13: 0.53554316 | P13: 0.39537413 | Q13: 0.50331893 | R13: 0.21736679 | S13: 0.085599161 | T13: 0.41161436 | U13: 0.17056605 | V13: 0.11211525 | W13: 0.018535921 | X13: 0.077354862 | Z13: 0.47278094 | AA13: 0.34095717 | AB13: 0.23066032 | AC13: 0.5133476 | AD13: 0.40448505 | AE13: 0.39313213 | AF13: 0.4871047 | AH13: 0 | AI13: 0.73125291 | AK13: 0 | AL13: 0 | AM13: 0 | AO13: 0 | AP13: 0.47064702 | AR13: 0.41782377 | AS13: 0.45934114 | AU13: 0.44405158 | AV13: 0.056583148 | AX13: 0.30170955 | AY13: 0.45394717 | BA13: 0.57436097 | BB13: 0.47021876 | BC13: 0.2237076 | BD13: 0.00021446514
B15: Fieldwork: 22nd Apr - 26th Apr 2022
B16: Data weighted by business size and region to Nationally Representative proportions
B18: =HYPERLINK("#'Contents'!A1", "Return to Contents") -> Return to Contents

Sheet Table 3
D2: Which of the following purposes do you use a cloud computing provider for?Please select all that apply
D5: Region of Italy | J5: Number of Employees | O5: Annual Revenue | Z5: Revenue Change | AH5: Cloud User | AK5: Type of Cloud | AO5: AWS User | AR5: Woman-owned Business | AU5: Grouped Employee Count | AX5: Tech Adoption | BA5: Digital Intensity
C6: Total | D6: Centre | E6: South | F6: Islands | G6: North East | H6: North West | J6: 1-9 | K6: 10-49 | L6: 50-249 | M6: 250+ | O6: Under EUR 85,000 | P6: EUR 85,001 to EUR 250,000 | Q6: EUR 250,001 to EUR 500,000 | R6: EUR 500,001 to EUR 1 million | S6: EUR 1 million to EUR 2 million | T6: EUR 2 million to EUR 5 million | U6: EUR 5 million to EUR 10 million | V6: EUR 10 million to EUR 20 million | W6: EUR 20 million to EUR 50 million | X6: Over EUR 50 million | Z6: Declined by 10%+ | AA6: Declined by 6-10% | AB6: Declined by 0-5% | AC6: Stayed about the same size | AD6: Grown by 0-5% | AE6: Grown by 6-10% | AF6: Grown by 10%+ | AH6: Yes | AI6: No | AK6: IaaS / PaaS | AL6: Both | AM6: SaaS | AO6: Yes | AP6: No | AR6: Yes | AS6: No | AU6: Less than 250 employees | AV6: 250+ employees | AX6: Early adopter | AY6: Not early adopter | BA6: Low | BB6: Medium | BC6: High | BD6: Very High
