Workbook

Sheet Rebases
A1: Before taking this survey, were you familiar with the concept of cloud computing? | B1: BASE: All Respondents | C1: =IFERROR(VLOOKUP(A1, E1:G200, 2, FALSE), 0) -> 1 | D1: =IFERROR(VLOOKUP(A1, E1:G200, 3, FALSE), 0) -> 11 | E1: =Contents!D9 -> Before taking this survey, were you familiar with the concept of cloud computing? | F1: =Contents!C9 -> 1 | G1: =Contents!E9 -> 11
A2: Do you know if your company directly buys any services from a cloud provider? (eg. Amazon Web Services, Microsoft Azure, Google Cloud Platform) | B2: BASE: All Respondents | C2: =IFERROR(VLOOKUP(A2, E2:G201, 2, FALSE), 0) -> 2 | D2: =IFERROR(VLOOKUP(A2, E2:G201, 3, FALSE), 0) -> 18 | E2: =Contents!D10 -> Do you know if your company directly buys any services from a cloud provider? (eg. Amazon Web Services, Microsoft Azure, Google Cloud Platform) | F2: =Contents!C10 -> 2 | G2: =Contents!E10 -> 18
A3: Which of the following purposes do you use a cloud computing provider for?Please select all that apply | B3: BASE: Cloud User | C3: =IFERROR(VLOOKUP(A3, E3:G202, 2, FALSE), 0) -> 3 | D3: =IFERROR(VLOOKUP(A3, E3:G202, 3, FALSE), 0) -> 26 | E3: =Contents!D11 -> Which of the following purposes do you use a cloud computing provider for?Please select all that apply | F3: =Contents!C11 -> 3 | G3: =Contents!E11 -> 26
A4: Which, if any, of the following best describes how you use cloud services?Please select all that apply | B4: BASE: Cloud User | C4: =IFERROR(VLOOKUP(A4, E4:G203, 2, FALSE), 0) -> 4 | D4: =IFERROR(VLOOKUP(A4, E4:G203, 3, FALSE), 0) -> 41 | E4: =Contents!D12 -> Which, if any, of the following best describes how you use cloud services?Please select all that apply | F4: =Contents!C12 -> 4 | G4: =Contents!E12 -> 41
A5: Besides cloud computing and personal computers for your staff, does your company own any centralised computers, servers, on-premises computing or data centres of its own? | B5: BASE: Cloud User | C5: =IFERROR(VLOOKUP(A5, E5:G204, 2, FALSE), 0) -> 5 | D5: =IFERROR(VLOOKUP(A5, E5:G204, 3, FALSE), 0) -> 47 | E5: =Contents!D13 -> Besides cloud computing and personal computers for your staff, does your company own any centralised computers, servers, on-premises computing or data centres of its own? | F5: =Contents!C13 -> 5 | G5: =Contents!E13 -> 47
A6: Does your business operate in any of the following sectors?Please select all that apply | B6: BASE: All Respondents | C6: =IFERROR(VLOOKUP(A6, E6:G205, 2, FALSE), 0) -> 6 | D6: =IFERROR(VLOOKUP(A6, E6:G205, 3, FALSE), 0) -> 53 | E6: =Contents!D14 -> Does your business operate in any of the following sectors?Please select all that apply | F6: =Contents!C14 -> 6 | G6: =Contents!E14 -> 53
A7: And more specifically, which one of the following sectors would you say is the best description for your business ? | B7: BASE: All Respondents | C7: =IFERROR(VLOOKUP(A7, E7:G206, 2, FALSE), 0) -> 7 | D7: =IFERROR(VLOOKUP(A7, E7:G206, 3, FALSE), 0) -> 65 | E7: =Contents!D15 -> And more specifically, which one of the following sectors would you say is the best description for your business ? | F7: =Contents!C15 -> 7 | G7: =Contents!E15 -> 65
A8: In 2021, how much did the revenue of your company grow? | B8: BASE: All Respondents | C8: =IFERROR(VLOOKUP(A8, E8:G207, 2, FALSE), 0) -> 8 | D8: =IFERROR(VLOOKUP(A8, E8:G207, 3, FALSE), 0) -> 88 | E8: =Contents!D16 -> In 2021, how much did the revenue of your company grow? | F8: =Contents!C16 -> 8 | G8: =Contents!E16 -> 88
A9: And over the last three years, how much did the revenue of your company grow on average? | B9: BASE: All Respondents | C9: =IFERROR(VLOOKUP(A9, E9:G208, 2, FALSE), 0) -> 9 | D9: =IFERROR(VLOOKUP(A9, E9:G208, 3, FALSE), 0) -> 103 | E9: =Contents!D17 -> And over the last three years, how much did the revenue of your company grow on average? | F9: =Contents!C17 -> 9 | G9: =Contents!E17 -> 103
A10: In 2021, how did the headcount of your company change? | B10: BASE: All Respondents | C10: =IFERROR(VLOOKUP(A10, E10:G209, 2, FALSE), 0) -> 10 | D10: =IFERROR(VLOOKUP(A10, E10:G209, 3, FALSE), 0) -> 118 | E10: =Contents!D18 -> In 2021, how did the headcount of your company change? | F10: =Contents!C18 -> 10 | G10: =Contents!E18 -> 118
A11: What proportion of your staff worked remotely for at least part of the week in 2019? | B11: BASE: All Respondents | C11: =IFERROR(VLOOKUP(A11, E11:G210, 2, FALSE), 0) -> 11 | D11: =IFERROR(VLOOKUP(A11, E11:G210, 3, FALSE), 0) -> 133 | E11: =Contents!D19 -> What proportion of your staff worked remotely for at least part of the week in 2019? | F11: =Contents!C19 -> 11 | G11: =Contents!E19 -> 133
A12: What proportion of your staff are currently working remotely for at least part of the week? | B12: BASE: All Respondents | C12: =IFERROR(VLOOKUP(A12, E12:G211, 2, FALSE), 0) -> 12 | D12: =IFERROR(VLOOKUP(A12, E12:G211, 3, FALSE), 0) -> 149 | E12: =Contents!D20 -> What proportion of your staff are currently working remotely for at least part of the week? | F12: =Contents!C20 -> 12 | G12: =Contents!E20 -> 149
... A168: To what extent, if at all, would you trust your data to be secure in the following scenarios?: Hosted in the data centre of a global company, hosted outside Europe | B168: BASE: All Respondents | C168: =IFERROR(VLOOKUP(A168, E168:G367, 2, FALSE), 0) -> 168 | D168: =IFERROR(VLOOKUP(A168, E168:G367, 3, FALSE), 0) -> 1483 | E168: =Contents!D176 -> To what extent, if at all, would you trust your data to be secure in the following scenarios?: Hosted in the data centre of a global company, hosted outside Europe | F168: =Contents!C176 -> 168 | G168: =Contents!E176 -> 1483
C169: =IFERROR(VLOOKUP(A169, E169:G368, 2, FALSE), 0) -> 0 | D169: =IFERROR(VLOOKUP(A169, E169:G368, 3, FALSE), 0) -> 0 | E169: =Contents!D177 -> 0 | F169: =Contents!C177 -> 0 | G169: =Contents!E177 -> 0
C170: =IFERROR(VLOOKUP(A170, E170:G369, 2, FALSE), 0) -> 0 | D170: =IFERROR(VLOOKUP(A170, E170:G369, 3, FALSE), 0) -> 0 | E170: =Contents!D178 -> 0 | F170: =Contents!C178 -> 0 | G170: =Contents!E178 -> 0
C171: =IFERROR(VLOOKUP(A171, E171:G370, 2, FALSE), 0) -> 0 | D171: =IFERROR(VLOOKUP(A171, E171:G370, 3, FALSE), 0) -> 0 | E171: =Contents!D179 -> 0 | F171: =Contents!C179 -> 0 | G171: =Contents!E179 -> 0
C172: =IFERROR(VLOOKUP(A172, E172:G371, 2, FALSE), 0) -> 0 | D172: =IFERROR(VLOOKUP(A172, E172:G371, 3, FALSE), 0) -> 0 | E172: =Contents!D180 -> 0 | F172: =Contents!C180 -> 0 | G172: =Contents!E180 -> 0
C173: =IFERROR(VLOOKUP(A173, E173:G372, 2, FALSE), 0) -> 0 | D173: =IFERROR(VLOOKUP(A173, E173:G372, 3, FALSE), 0) -> 0 | E173: =Contents!D181 -> 0 | F173: =Contents!C181 -> 0 | G173: =Contents!E181 -> 0
C174: =IFERROR(VLOOKUP(A174, E174:G373, 2, FALSE), 0) -> 0 | D174: =IFERROR(VLOOKUP(A174, E174:G373, 3, FALSE), 0) -> 0 | E174: =Contents!D182 -> 0 | F174: =Contents!C182 -> 0 | G174: =Contents!E182 -> 0
C175: =IFERROR(VLOOKUP(A175, E175:G374, 2, FALSE), 0) -> 0 | D175: =IFERROR(VLOOKUP(A175, E175:G374, 3, FALSE), 0) -> 0 | E175: =Contents!D183 -> 0 | F175: =Contents!C183 -> 0 | G175: =Contents!E183 -> 0
C176: =IFERROR(VLOOKUP(A176, E176:G375, 2, FALSE), 0) -> 0 | D176: =IFERROR(VLOOKUP(A176, E176:G375, 3, FALSE), 0) -> 0 | E176: =Contents!D184 -> 0 | F176: =Contents!C184 -> 0 | G176: =Contents!E184 -> 0
C177: =IFERROR(VLOOKUP(A177, E177:G376, 2, FALSE), 0) -> 0 | D177: =IFERROR(VLOOKUP(A177, E177:G376, 3, FALSE), 0) -> 0 | E177: =Contents!D185 -> 0 | F177: =Contents!C185 -> 0 | G177: =Contents!E185 -> 0
C178: =IFERROR(VLOOKUP(A178, E178:G377, 2, FALSE), 0) -> 0 | D178: =IFERROR(VLOOKUP(A178, E178:G377, 3, FALSE), 0) -> 0 | E178: =Contents!D186 -> 0 | F178: =Contents!C186 -> 0 | G178: =Contents!E186 -> 0
C179: =IFERROR(VLOOKUP(A179, E179:G378, 2, FALSE), 0) -> 0 | D179: =IFERROR(VLOOKUP(A179, E179:G378, 3, FALSE), 0) -> 0 | E179: =Contents!D187 -> 0 | F179: =Contents!C187 -> 0 | G179: =Contents!E187 -> 0
C180: =IFERROR(VLOOKUP(A180, E180:G379, 2, FALSE), 0) -> 0 | D180: =IFERROR(VLOOKUP(A180, E180:G379, 3, FALSE), 0) -> 0 | E180: =Contents!D188 -> 0 | F180: =Contents!C188 -> 0 | G180: =Contents!E188 -> 0
... C200: =IFERROR(VLOOKUP(A200, E200:G399, 2, FALSE), 0) -> 0 | D200: =IFERROR(VLOOKUP(A200, E200:G399, 3, FALSE), 0) -> 0 | E200: =Contents!D208 -> 0 | F200: =Contents!C208 -> 0 | G200: =Contents!E208 -> 0

Sheet Cover Sheet
F7: Public First Poll for AWS EU (Employee share)
F10: Fieldwork: | K10: 22nd Apr - 3rd May 2022
F11: Interview Method: | K11: Online Survey
F12: Population represented: | K12: EU Senior Business Decision Makers
F13: Sample size: | K13: 7184
F16: Methodology:
F17: All results are weighted using Iterative Proportional Fitting, or 'Raking'. The results are weighted by employee share and region to Nationally Representative Proportions
F19: Public First is a member of the BPC and abides by its rules. For more information please contact the Public First polling team:
F20: =HYPERLINK("mailto:" & "polling@publicfirst.co.uk" & "?subject="& F7, "polling@publicfirst.co.uk") -> polling@publicfirst.co.uk

Sheet Contents
D2: Table of Contents
D6: =HYPERLINK("#'Full Results'!A1", "Full Results") -> Full Results
D8: Individual Tables | E8: Full Result Row | F8: Question Base
C9: 1 | D9: =HYPERLINK("#'Table 1'!A1", " Before taking this survey, were you familiar with the concept of cloud computing?") -> Before taking this survey, were you familiar with the concept of cloud computing? | E9: =HYPERLINK("#'Full Results'!A11", "11") -> 11 | F9: BASE: All Respondents
C10: 2 | D10: =HYPERLINK("#'Table 2'!A1", " Do you know if your company directly buys any services from a cloud provider? (eg. Amazon Web Services, Microsoft Azure, Google Cloud Platform)") -> Do you know if your company directly buys any services from a cloud provider? (eg. Amazon Web Services, Microsoft Azure, Google Cloud Platform) | E10: =HYPERLINK("#'Full Results'!A18", "18") -> 18 | F10: BASE: All Respondents
C11: 3 | D11: =HYPERLINK("#'Table 3'!A1", "Which of the following purposes do you use a cloud computing provider for?Please select all that apply") -> Which of the following purposes do you use a cloud computing provider for?Please select all that apply | E11: =HYPERLINK("#'Full Results'!A26", "26") -> 26 | F11: BASE: Cloud User
C12: 4 | D12: =HYPERLINK("#'Table 4'!A1", "Which, if any, of the following best describes how you use cloud services?Please select all that apply") -> Which, if any, of the following best describes how you use cloud services?Please select all that apply | E12: =HYPERLINK("#'Full Results'!A41", "41") -> 41 | F12: BASE: Cloud User
C13: 5 | D13: =HYPERLINK("#'Table 5'!A1", " Besides cloud computing and personal computers for your staff, does your company own any centralised computers, servers, on-premises computing or data centres of its own?") -> Besides cloud computing and personal computers for your staff, does your company own any centralised computers, servers, on-premises computing or data centres of its own? | E13: =HYPERLINK("#'Full Results'!A47", "47") -> 47 | F13: BASE: Cloud User
C14: 6 | D14: =HYPERLINK("#'Table 6'!A1", "Does your business operate in any of the following sectors?Please select all that apply") -> Does your business operate in any of the following sectors?Please select all that apply | E14: =HYPERLINK("#'Full Results'!A53", "53") -> 53 | F14: BASE: All Respondents
C15: 7 | D15: =HYPERLINK("#'Table 7'!A1", " And more specifically, which one of the following sectors would you say is the best description for your business ?") -> And more specifically, which one of the following sectors would you say is the best description for your business ? | E15: =HYPERLINK("#'Full Results'!A65", "65") -> 65 | F15: BASE: All Respondents
C16: 8 | D16: =HYPERLINK("#'Table 8'!A1", " In 2021, how much did the revenue of your company grow? ") -> In 2021, how much did the revenue of your company grow? | E16: =HYPERLINK("#'Full Results'!A88", "88") -> 88 | F16: BASE: All Respondents
C17: 9 | D17: =HYPERLINK("#'Table 9'!A1", " And over the last three years, how much did the revenue of your company grow on average? ") -> And over the last three years, how much did the revenue of your company grow on average? | E17: =HYPERLINK("#'Full Results'!A103", "103") -> 103 | F17: BASE: All Respondents
C18: 10 | D18: =HYPERLINK("#'Table 10'!A1", " In 2021, how did the headcount of your company change?") -> In 2021, how did the headcount of your company change? | E18: =HYPERLINK("#'Full Results'!A118", "118") -> 118 | F18: BASE: All Respondents
C19: 11 | D19: =HYPERLINK("#'Table 11'!A1", " What proportion of your staff worked remotely for at least part of the week in 2019?") -> What proportion of your staff worked remotely for at least part of the week in 2019? | E19: =HYPERLINK("#'Full Results'!A133", "133") -> 133 | F19: BASE: All Respondents
C20: 12 | D20: =HYPERLINK("#'Table 12'!A1", " What proportion of your staff are currently working remotely for at least part of the week?") -> What proportion of your staff are currently working remotely for at least part of the week? | E20: =HYPERLINK("#'Full Results'!A149", "149") -> 149 | F20: BASE: All Respondents
C21: 13 | D21: =HYPERLINK("#'Table 13'!A1", " How likely do you think it is that a significant proportion of your staff will work remotely even after the Covid-19 pandemic fully ends?") -> How likely do you think it is that a significant proportion of your staff will work remotely even after the Covid-19 pandemic fully ends? | E21: =HYPERLINK("#'Full Results'!A165", "165") -> 165 | F21: BASE: All Respondents
C22: 14 | D22: =HYPERLINK("#'Table 14'!A1", "Grid Summary: Which, if any, of the following management practices does your business use?") -> Grid Summary: Which, if any, of the following management practices does your business use? | F22: BASE: All Respondents
C23: 15 | D23: =HYPERLINK("#'Table 15'!A1", "Which, if any, of the following management practices does your business use?: Setting long-term goals") -> Which, if any, of the following management practices does your business use?: Setting long-term goals | E23: =HYPERLINK("#'Full Results'!A177", "177") -> 177 | F23: BASE: All Respondents
C24: 16 | D24: =HYPERLINK("#'Table 16'!A1", "Which, if any, of the following management practices does your business use?: Setting short-term performance benchmarks") -> Which, if any, of the following management practices does your business use?: Setting short-term performance benchmarks | E24: =HYPERLINK("#'Full Results'!A184", "184") -> 184 | F24: BASE: All Respondents
C25: 17 | D25: =HYPERLINK("#'Table 17'!A1", "Which, if any, of the following management practices does your business use?: Rewarding high performers with bonuses or higher salary") -> Which, if any, of the following management practices does your business use?: Rewarding high performers with bonuses or higher salary | E25: =HYPERLINK("#'Full Results'!A191", "191") -> 191 | F25: BASE: All Respondents
C26: 18 | D26: =HYPERLINK("#'Table 18'!A1", "Which, if any, of the following management practices does your business use?: Offering training for underperformers") -> Which, if any, of the following management practices does your business use?: Offering training for underperformers | E26: =HYPERLINK("#'Full Results'!A198", "198") -> 198 | F26: BASE: All Respondents
C27: 19 | D27: =HYPERLINK("#'Table 19'!A1", "Which, if any, of the following management practices does your business use?: Have a structured process for collecting performance data") -> Which, if any, of the following management practices does your business use?: Have a structured process for collecting performance data | E27: =HYPERLINK("#'Full Results'!A205", "205") -> 205 | F27: BASE: All Respondents
C28: 20 | D28: =HYPERLINK("#'Table 20'!A1", "Which, if any, of the following management practices does your business use?: Have a structured process for analysing performance data") -> Which, if any, of the following management practices does your business use?: Have a structured process for analysing performance data | E28: =HYPERLINK("#'Full Results'!A212", "212") -> 212 | F28: BASE: All Respondents
C29: 21 | D29: =HYPERLINK("#'Table 21'!A1", "If you had to choose, which of the following types of infrastructure investment would prefer your Government to prioritise in your local area?Please select up to three") -> If you had to choose, which of the following types of infrastructure investment would prefer your Government to prioritise in your local area?Please select up to three | E29: =HYPERLINK("#'Full Results'!A219", "219") -> 219 | F29: BASE: All Respondents
C30: 22 | D30: =HYPERLINK("#'Table 22'!A1", "Grid Summary: Overall, how satisfied or dissatisfied are you with the speed and reliability of your Internet connection in the following locations?") -> Grid Summary: Overall, how satisfied or dissatisfied are you with the speed and reliability of your Internet connection in the following locations? | F30: BASE: All Respondents
C31: 23 | D31: =HYPERLINK("#'Table 23'!A1", "Overall, how satisfied or dissatisfied are you with the speed and reliability of your Internet connection in the following locations?: At home") -> Overall, how satisfied or dissatisfied are you with the speed and reliability of your Internet connection in the following locations?: At home | E31: =HYPERLINK("#'Full Results'!A229", "229") -> 229 | F31: BASE: All Respondents
C32: 24 | D32: =HYPERLINK("#'Table 24'!A1", "Overall, how satisfied or dissatisfied are you with the speed and reliability of your Internet connection in the following locations?: At work") -> Overall, how satisfied or dissatisfied are you with the speed and reliability of your Internet connection in the following locations?: At work | E32: =HYPERLINK("#'Full Results'!A241", "241") -> 241 | F32: BASE: All Respondents
C33: 25 | D33: =HYPERLINK("#'Table 25'!A1", "Overall, how satisfied or dissatisfied are you with the speed and reliability of your Internet connection in the following locations?: While travelling") -> Overall, how satisfied or dissatisfied are you with the speed and reliability of your Internet connection in the following locations?: While travelling | E33: =HYPERLINK("#'Full Results'!A253", "253") -> 253 | F33: BASE: All Respondents
C34: 26 | D34: =HYPERLINK("#'Table 26'!A1", "Grid Summary: How confident or unconfident would you be that you could perform the following digital activities?") -> Grid Summary: How confident or unconfident would you be that you could perform the following digital activities? | F34: BASE: All Respondents
C35: 27 | D35: =HYPERLINK("#'Table 27'!A1", "How confident or unconfident would you be that you could perform the following digital activities?: Save a document") -> How confident or unconfident would you be that you could perform the following digital activities?: Save a document | E35: =HYPERLINK("#'Full Results'!A265", "265") -> 265 | F35: BASE: All Respondents
C36: 28 | D36: =HYPERLINK("#'Table 28'!A1", "How confident or unconfident would you be that you could perform the following digital activities?: Tracking changes in a document") -> How confident or unconfident would you be that you could perform the following digital activities?: Tracking changes in a document | E36: =HYPERLINK("#'Full Results'!A277", "277") -> 277 | F36: BASE: All Respondents
C37: 29 | D37: =HYPERLINK("#'Table 29'!A1", "How confident or unconfident would you be that you could perform the following digital activities?: Send an email") -> How confident or unconfident would you be that you could perform the following digital activities?: Send an email | E37: =HYPERLINK("#'Full Results'!A289", "289") -> 289 | F37: BASE: All Respondents
C38: 30 | D38: =HYPERLINK("#'Table 30'!A1", "How confident or unconfident would you be that you could perform the following digital activities?: Share a file online") -> How confident or unconfident would you be that you could perform the following digital activities?: Share a file online | E38: =HYPERLINK("#'Full Results'!A301", "301") -> 301 | F38: BASE: All Respondents
C39: 31 | D39: =HYPERLINK("#'Table 31'!A1", "How confident or unconfident would you be that you could perform the following digital activities?: Post something on social media") -> How confident or unconfident would you be that you could perform the following digital activities?: Post something on social media | E39: =HYPERLINK("#'Full Results'!A313", "313") -> 313 | F39: BASE: All Respondents
C40: 32 | D40: =HYPERLINK("#'Table 32'!A1", "How confident or unconfident would you be that you could perform the following digital activities?: Create a spreadsheet to track your budget") -> How confident or unconfident would you be that you could perform the following digital activities?: Create a spreadsheet to track your budget | E40: =HYPERLINK("#'Full Results'!A325", "325") -> 325 | F40: BASE: All Respondents
C41: 33 | D41: =HYPERLINK("#'Table 33'!A1", "How confident or unconfident would you be that you could perform the following digital activities?: Find a good price for a product online") -> How confident or unconfident would you be that you could perform the following digital activities?: Find a good price for a product online | E41: =HYPERLINK("#'Full Results'!A337", "337") -> 337 | F41: BASE: All Respondents
C42: 34 | D42: =HYPERLINK("#'Table 34'!A1", "How confident or unconfident would you be that you could perform the following digital activities?: Research a topic") -> How confident or unconfident would you be that you could perform the following digital activities?: Research a topic | E42: =HYPERLINK("#'Full Results'!A349", "349") -> 349 | F42: BASE: All Respondents
C43: 35 | D43: =HYPERLINK("#'Table 35'!A1", "How confident or unconfident would you be that you could perform the following digital activities?: Edit a photo") -> How confident or unconfident would you be that you could perform the following digital activities?: Edit a photo | E43: =HYPERLINK("#'Full Results'!A361", "361") -> 361 | F43: BASE: All Respondents
C44: 36 | D44: =HYPERLINK("#'Table 36'!A1", "How confident or unconfident would you be that you could perform the following digital activities?: Create your own website") -> How confident or unconfident would you be that you could perform the following digital activities?: Create your own website | E44: =HYPERLINK("#'Full Results'!A373", "373") -> 373 | F44: BASE: All Respondents
C45: 37 | D45: =HYPERLINK("#'Table 37'!A1", "How confident or unconfident would you be that you could perform the following digital activities?: Program a small application") -> How confident or unconfident would you be that you could perform the following digital activities?: Program a small application | E45: =HYPERLINK("#'Full Results'!A385", "385") -> 385 | F45: BASE: All Respondents
...

Sheet Full Results
D2: Full Results
D5: Country | N5: Number of Employees | S5: Revenue Change | AA5: Cloud User | AD5: Type of Cloud | AH5: AWS User | AK5: Woman-owned Business | AN5: Grouped Employee Count | AQ5: Tech Adoption | AT5: Digital Intensity | AY5: Does your business operate in the technology sector? | BB5: Does your business operate in the retail sector? | BE5: Does your business operate in the financial services sector? | BH5: Does your business operate in the health sector? | BK5: Does your business operate in the manufacturing sector? | BN5: Does your business operate in the automotive sector? | BQ5: Does your business operate in the telecommunications sector? | BT5: Does your business operate in the media & entertainment sector? | BW5: SME Cloud User | BZ5: SME AWS User
C6: Total | D6: France | E6: Germany | F6: Italy | G6: Netherlands | H6: Poland | I6: Spain | J6: Sweden | K6: Denmark | L6: Finland | N6: 1-9 | O6: 10-49 | P6: 50-249 | Q6: 250+ | S6: Declined by 10%+ | T6: Declined by 6-10% | U6: Declined by 0-5% | V6: Stayed about the same size | W6: Grown by 0-5% | X6: Grown by 6-10% | Y6: Grown by 10%+ | AA6: Yes | AB6: No | AD6: IaaS / PaaS | AE6: Both | AF6: SaaS | AH6: Yes | AI6: No | AK6: Yes | AL6: No | AN6: Less than 250 employees | AO6: 250+ employees | AQ6: Early adopter | AR6: Not early adopter | AT6: Low | AU6: Medium | AV6: High | AW6: Very High | AY6: Yes | AZ6: No | BB6: Yes | BC6: No | BE6: Yes | BF6: No | BH6: Yes | BI6: No | BK6: Yes | BL6: No | BN6: Yes | BO6: No | BQ6: Yes | BR6: No | BT6: Yes | BU6: No | BW6: Yes | BX6: No | BZ6: Yes | CA6: No
B7: Unweighted | C7: 7184 | D7: 1017 | E7: 1011 | F7: 1018 | G7: 1016 | H7: 1009 | I7: 1031 | J7: 508 | K7: 279 | L7: 295 | N7: 2091 | O7: 1068 | P7: 1207 | Q7: 2818 | S7: 927 | T7: 521 | U7: 564 | V7: 1628 | W7: 1070 | X7: 1135 | Y7: 780 | AA7: 4504 | AB7: 2680 | AD7: 1442 | AE7: 1077 | AF7: 1921 | AH7: 943 | AI7: 6241 | AK7: 2180 | AL7: 5004 | AN7: 4366 | AO7: 2818 | AQ7: 2450 | AR7: 4734 | AT7: 1316 | AU7: 2176 | AV7: 2715 | AW7: 965 | AY7: 1479 | AZ7: 5705 | BB7: 1121 | BC7: 6063 | BE7: 858 | BF7: 6326 | BH7: 569 | BI7: 6615 | BK7: 1081 | BL7: 6103 | BN7: 328 | BO7: 6856 | BQ7: 555 | BR7: 6629 | BT7: 456 | BU7: 6728 | BW7: 2216 | BX7: 4968 | BZ7: 312 | CA7: 6872
B8: Weighted | C8: 7184 | D8: 1017 | E8: 1011 | F8: 1018 | G8: 1016 | H8: 1009 | I8: 1031 | J8: 508 | K8: 279 | L8: 295 | N8: 2102 | O8: 1377 | P8: 1126 | Q8: 2578 | S8: 976 | T8: 519 | U8: 556 | V8: 1627 | W8: 1049 | X8: 1110 | Y8: 772 | AA8: 4397 | AB8: 2787 | AD8: 1402 | AE8: 1018 | AF8: 1907 | AH8: 892 | AI8: 6292 | AK8: 2232 | AL8: 4952 | AN8: 4606 | AO8: 2578 | AQ8: 2391 | AR8: 4793 | AT8: 1368 | AU8: 2232 | AV8: 2653 | AW8: 919 | AY8: 1427 | AZ8: 5757 | BB8: 1115 | BC8: 6069 | BE8: 832 | BF8: 6352 | BH8: 578 | BI8: 6606 | BK8: 1061 | BL8: 6123 | BN8: 313 | BO8: 6871 | BQ8: 524 | BR8: 6660 | BT8: 450 | BU8: 6734 | BW8: 2318 | BX8: 4866 | BZ8: 329 | CA8: 6855
B11: Before taking this survey, were you familiar with the concept of cloud computing?
B12: BASE: All Respondents
B13: I am very familiar with this concept and I understand what it means | C13: 0.60956606 | D13: 0.6384218 | E13: 0.60484133 | F13: 0.58999356 | G13: 0.57277727 | H13: 0.47539268 | I13: 0.65446948 | J13: 0.75408156 | K13: 0.56255068 | L13: 0.81811384 | N13: 0.44629703 | O13: 0.54633205 | P13: 0.67471749 | Q13: 0.74799734 | S13: 0.50285355 | T13: 0.6100262 | U13: 0.71291941 | V13: 0.57019455 | W13: 0.69256316 | X13: 0.68911145 | Y13: 0.67709069 | AA13: 0.78473047 | AB13: 0.33318905 | AD13: 0.78105962 | AE13: 0.9124167 | AF13: 0.73752066 | AH13: 0.9040019 | AI13: 0.56784929 | AK13: 0.50921286 | AL13: 0.65478452 | AN13: 0.53206514 | AO13: 0.74799734 | AQ13: 0.76108785 | AR13: 0.53398123 | AT13: 0.3635417 | AU13: 0.5264496 | AV13: 0.72689256 | AW13: 0.8354843 | AY13: 0.80135869 | AZ13: 0.56202988 | BB13: 0.55939432 | BC13: 0.61878291 | BE13: 0.70564819 | BF13: 0.59697417 | BH13: 0.54463183 | BI13: 0.6152491 | BK13: 0.66635901 | BL13: 0.59972537 | BN13: 0.58674981 | BO13: 0.61060585 | BQ13: 0.80962833 | BR13: 0.5938273 | BT13: 0.67096008 | BU13: 0.60546438 | BW13: 0.73520616 | BX13: 0.54972682 | BZ13: 0.86349338 | CA13: 0.5973639
B14: I have heard this concept before, but I do not know what it means | C14: 0.26194742 | D14: 0.20069297 | E14: 0.25106339 | F14: 0.27659492 | G14: 0.27485672 | H14: 0.35365851 | I14: 0.2848087 | J14: 0.195209 | K14: 0.23424297 | L14: 0.16296006 | N14: 0.32588371 | O14: 0.32060492 | P14: 0.24641668 | Q14: 0.18527417 | S14: 0.309472 | T14: 0.27042603 | U14: 0.22199854 | V14: 0.27689698 | W14: 0.2258291 | X14: 0.23425082 | Y14: 0.23416503 | AA14: 0.18739429 | AB14: 0.37957846 | AD14: 0.19444313 | AE14: 0.081308559 | AF14: 0.22798373 | AH14: 0.089272858 | AI14: 0.2864126 | AK14: 0.29142667 | AL14: 0.24866428 | AN14: 0.30487304 | AO14: 0.18527417 | AQ14: 0.18089679 | AR14: 0.30237856 | AT14: 0.32195047 | AU14: 0.31769104 | AV14: 0.22702168 | AW14: 0.14058146 | AY14: 0.16360539 | AZ14: 0.28632169 | BB14: 0.28125376 | BC14: 0.25840073 | BE14: 0.23882667 | BF14: 0.26497748 | BH14: 0.27427384 | BI14: 0.26086861 | BK14: 0.25180607 | BL14: 0.26370465 | BN14: 0.33729594 | BO14: 0.25851362 | BQ14: 0.16438484 | BR14: 0.26962261 | BT14: 0.26091904 | BU14: 0.26201613 | BW14: 0.22653332 | BX14: 0.27881427 | BZ14: 0.12612943 | CA14: 0.26847399
B15: No, I have not heard of this concept before | C15: 0.11849775 | D15: 0.14755872 | E15: 0.13459976 | F15: 0.12352323 | G15: 0.13938353 | H15: 0.15612556 | I15: 0.057995664 | J15: 0.046415005 | K15: 0.18384833 | L15: 0.018926101 | N15: 0.21104498 | O15: 0.12398797 | P15: 0.071109276 | Q15: 0.060809028 | S15: 0.1765216 | T15: 0.11374483 | U15: 0.059080012 | V15: 0.14307855 | W15: 0.072945592 | X15: 0.072492186 | Y15: 0.082534726 | AA15: 0.025845548 | AB15: 0.26468577 | AD15: 0.020865606 | AE15: 0.0062747365 | AF15: 0.032938452 | AH15: 0.0067252394 | AI15: 0.1343341 | AK15: 0.18295109 | AL15: 0.089455522 | AN15: 0.15079485 | AO15: 0.060809028 | AQ15: 0.052315098 | AR15: 0.15151217 | AT15: 0.28625585 | AU15: 0.14719125 | AV15: 0.041262182 | AW15: 0.022865093 | AY15: 0.030563702 | AZ15: 0.14029238 | BB15: 0.14691621 | BC15: 0.11327711 | BE15: 0.04793102 | BF15: 0.12774576 | BH15: 0.16881592 | BI15: 0.11409391 | BK15: 0.076074306 | BL15: 0.12584859 | BN15: 0.065432156 | BO15: 0.12091607 | BQ15: 0.02350348 | BR15: 0.12597088 | BT15: 0.064100053 | BU15: 0.12213201 | BW15: 0.03440979 | BX15: 0.15854674 | BZ15: 0.010377183 | CA15: 0.12369335
B16: Don’t know | C16: 0.0099887682 | D16: 0.013326518 | E16: 0.0094955148 | F16: 0.0098882935 | G16: 0.012982482 | H16: 0.014823253 | I16: 0.0027261566 | J16: 0.0042944354 | K16: 0.019358025 | L16: 0 | N16: 0.016774281 | O16: 0.0090750616 | P16: 0.0077565519 | Q16: 0.005919463 | S16: 0.011152845 | T16: 0.0058029363 | U16: 0.0060020436 | V16: 0.0098299161 | W16: 0.0086621514 | X16: 0.0041455497 | Y16: 0.006209557 | AA16: 0.0020296888 | AB16: 0.022546722 | AD16: 0.003631635 | AE16: 0 | AF16: 0.0015571598 | AH16: 0 | AI16: 0.011404014 | AK16: 0.016409383 | AL16: 0.007095684 | AN16: 0.012266974 | AO16: 0.005919463 | AQ16: 0.0057002613 | AR16: 0.012128039 | AT16: 0.028251992 | AU16: 0.0086681108 | AV16: 0.0048235779 | AW16: 0.0010691543 | AY16: 0.0044722202 | AZ16: 0.011356056 | BB16: 0.012435718 | BC16: 0.0095392489 | BE16: 0.0075941248 | BF16: 0.010302594 | BH16: 0.01227841 | BI16: 0.0097883791 | BK16: 0.0057606097 | BL16: 0.010721395 | BN16: 0.0105221 | BO16: 0.009964463 | BQ16: 0.0024833517 | BR16: 0.010579214 | BT16: 0.004020827 | BU16: 0.010387482 | BW16: 0.0038507314 | BX16: 0.012912162 | BZ16: 0 | CA16: 0.010468766
B18: Do you know if your company directly buys any services from a cloud provider? (eg. Amazon Web Services, Microsoft Azure, Google Cloud Platform)
B19: BASE: All Respondents
B20: Yes - we definitely do | C20: 0.43769587 | D20: 0.45545552 | E20: 0.44302342 | F20: 0.45137417 | G20: 0.40774107 | H20: 0.31059017 | I20: 0.49616528 | J20: 0.51272436 | K20: 0.47172103 | L20: 0.48319435 | N20: 0.22154778 | O20: 0.37476394 | P20: 0.51502494 | Q20: 0.61375971 | S20: 0.32388793 | T20: 0.43522579 | U20: 0.50656593 | V20: 0.34508959 | W20: 0.5527352 | X20: 0.58774375 | Y20: 0.54487885 | AA20: 0.71510222 | AB20: 0 | AD20: 0.69485147 | AE20: 0.84644799 | AF20: 0.6581793 | AH20: 0.83931653 | AI20: 0.38079274 | AK20: 0.37091587 | AL20: 0.46778647 | AN20: 0.3391263 | AO20: 0.61375971 | AQ20: 0.63293468 | AR20: 0.34030332 | AT20: 0.13970929 | AU20: 0.30102941 | AV20: 0.59011539 | AW20: 0.77261881 | AY20: 0.64199161 | AZ20: 0.38706076 | BB20: 0.4352751 | BC20: 0.43814058 | BE20: 0.59389658 | BF20: 0.41722523 | BH20: 0.39871294 | BI20: 0.44110765 | BK20: 0.4941904 | BL20: 0.42790688 | BN20: 0.50954092 | BO20: 0.43442173 | BQ20: 0.67602539 | BR20: 0.41894664 | BT20: 0.50560074 | BU20: 0.4331592 | BW20: 0.67388799 | BX20: 0.32520345 | BZ20: 0.78213454 | CA20: 0.4211443
B21: Yes - I think we probably do | C21: 0.17437868 | D21: 0.1632187 | E21: 0.13635927 | F21: 0.13318679 | G21: 0.18703845 | H21: 0.25649073 | I21: 0.1547694 | J21: 0.18281799 | K21: 0.16039982 | L21: 0.2280648 | N21: 0.10875999 | O21: 0.20676167 | P21: 0.21528221 | Q21: 0.19271678 | S21: 0.15142299 | T21: 0.21321017 | U21: 0.19870113 | V21: 0.1644063 | W21: 0.20217399 | X21: 0.17453916 | Y21: 0.16092465 | AA21: 0.28489778 | AB21: 0 | AD21: 0.29808256 | AE21: 0.15355201 | AF21: 0.31429858 | AH21: 0.15909671 | AI21: 0.17654389 | AK21: 0.17265512 | AL21: 0.17515531 | AN21: 0.16411208 | AO21: 0.19271678 | AQ21: 0.1613972 | AR21: 0.18085434 | AT21: 0.070609761 | AU21: 0.18429643 | AV21: 0.22403526 | AW21: 0.15821934 | AY21: 0.20147475 | AZ21: 0.16766287 | BB21: 0.18607118 | BC21: 0.1722307 | BE21: 0.1925637 | BF21: 0.17199548 | BH21: 0.21336301 | BI21: 0.17096678 | BK21: 0.22262348 | BL21: 0.16601915 | BN21: 0.23819991 | BO21: 0.1714702 | BQ21: 0.20385279 | BR21: 0.17205998 | BT21: 0.20126091 | BU21: 0.1725827 | BW21: 0.32611201 | BX21: 0.10211189 | BZ21: 0.21357068 | CA21: 0.17249536
B22: Not sure | C22: 0.095900896 | D22: 0.084031405 | E22: 0.089219763 | F22: 0.054403284 | G22: 0.080456852 | H22: 0.15382241 | I22: 0.11443273 | J22: 0.098737875 | K22: 0.093723404 | L22: 0.090405361 | N22: 0.093311755 | O22: 0.12017012 | P22: 0.099068203 | Q22: 0.083666296 | S22: 0.090527527 | T22: 0.10712221 | U22: 0.085229442 | V22: 0.105989 | W22: 0.06025443 | X22: 0.067301502 | Y22: 0.06518907 | AA22: 0 | AB22: 0.24721476 | AD22: 0.0045495942 | AE22: 0 | AF22: 0.0075884949 | AH22: 0 | AI22: 0.1094885 | AK22: 0.10776071 | AL22: 0.090556944 | AN22: 0.10275045 | AO22: 0.083666296 | AQ22: 0.067951121 | AR22: 0.10984331 | AT22: 0.11373545 | AU22: 0.14451124 | AV22: 0.068495667 | AW22: 0.031772752 | AY22: 0.043602714 | AZ22: 0.10886311 | BB22: 0.096056512 | BC22: 0.095872308 | BE22: 0.0617128 | BF22: 0.10038136 | BH22: 0.11754846 | BI22: 0.094006304 | BK22: 0.093270211 | BL22: 0.096356723 | BN22: 0.10537657 | BO22: 0.095469067 | BQ22: 0.032073778 | BR22: 0.10092213 | BT22: 0.086236387 | BU22: 0.096546574 | BW22: 0 | BX22: 0.1415761 | BZ22: 0 | CA22: 0.10050929
B23: No - I think we probably don’t | C23: 0.099469607 | D23: 0.13154318 | E23: 0.11025505 | F23: 0.095342722 | G23: 0.088799846 | H23: 0.10377907 | I23: 0.090327972 | J23: 0.064761406 | K23: 0.12122011 | L23: 0.05933025 | N23: 0.13519638 | O23: 0.12998235 | P23: 0.088228963 | Q23: 0.058954092 | S23: 0.13066868 | T23: 0.078368293 | U23: 0.08547274 | V23: 0.11005496 | W23: 0.070592287 | X23: 0.072267565 | Y23: 0.071267175 | AA23: 0 | AB23: 0.25641424 | AD23: 0.001769505 | AE23: 0 | AF23: 0.0058941581 | AH23: 0.0015867549 | AI23: 0.11333802 | AK23: 0.1202822 | AL23: 0.090091597 | AN23: 0.12215227 | AO23: 0.058954092 | AQ23: 0.055482487 | AR23: 0.12141206 | AT23: 0.1788196 | AU23: 0.14409092 | AV23: 0.052546214 | AW23: 0.0098814085 | AY23: 0.031667729 | AZ23: 0.11627444 | BB23: 0.097219293 | BC23: 0.099883003 | BE23: 0.060299929 | BF23: 0.10460293 | BH23: 0.11698113 | BI23: 0.097937001 | BK23: 0.088040409 | BL23: 0.10144998 | BN23: 0.082164299 | BO23: 0.10025825 | BQ23: 0.030938599 | BR23: 0.1048609 | BT23: 0.045653187 | BU23: 0.10306504 | BW23: 0 | BX23: 0.1468445 | BZ23: 0.0042947732 | CA23: 0.10404312
B24: No - we definitely don’t | C24: 0.19255494 | D24: 0.16575119 | E24: 0.2211425 | F24: 0.26569303 | G24: 0.23596379 | H24: 0.17531761 | I24: 0.14430462 | J24: 0.14095837 | K24: 0.15293562 | L24: 0.13900524 | N24: 0.44118409 | O24: 0.16832193 | P24: 0.082395678 | Q24: 0.05090312 | S24: 0.30349288 | T24: 0.16607354 | U24: 0.12403076 | V24: 0.27446015 | W24: 0.11424409 | X24: 0.098148018 | Y24: 0.15774026 | AA24: 0 | AB24: 0.49637101 | AD24: 0.00074686305 | AE24: 0 | AF24: 0.014039464 | AH24: 0 | AI24: 0.21983685 | AK24: 0.2283861 | AL24: 0.17640968 | AN24: 0.2718589 | AO24: 0.05090312 | AQ24: 0.082234509 | AR24: 0.24758698 | AT24: 0.4971259 | AU24: 0.22607201 | AV24: 0.064807471 | AW24: 0.027507697 | AY24: 0.081263192 | AZ24: 0.22013883 | BB24: 0.18537791 | BC24: 0.19387341 | BE24: 0.091526995 | BF24: 0.205795 | BH24: 0.15339446 | BI24: 0.19598226 | BK24: 0.10187551 | BL24: 0.20826726 | BN24: 0.064718297 | BO24: 0.19838075 | BQ24: 0.057109444 | BR24: 0.20321035 | BT24: 0.16124878 | BU24: 0.19464648 | BW24: 0 | BX24: 0.28426406 | BZ24: 0 | CA24: 0.20180793
B26: Which of the following purposes do you use a cloud computing provider for?Please select all that apply
B27: BASE: Cloud User
B28: Online documents (eg. Google Docs, Microsoft Office 365 etc) | C28: 0.63757492 | D28: 0.68659011 | E28: 0.6533864 | F28: 0.55713231 | G28: 0.6060593 | H28: 0.66202437 | I28: 0.64156266 | J28: 0.62490768 | K28: 0.56248517 | L28: 0.77038359 | N28: 0.63944656 | O28: 0.60684395 | P28: 0.62460662 | Q28: 0.65391441 | S28: 0.60887507 | T28: 0.55891154 | U28: 0.60676255 | V28: 0.62532405 | W28: 0.64455399 | X28: 0.67910479 | Y28: 0.67332089 | AA28: 0.63757492 | AB28: * | AD28: 0.55422255 | AE28: 0.72969441 | AF28: 0.66435017 | AH28: 0.66514431 | AI28: 0.63057747 | AK28: 0.60948048 | AL28: 0.64827753 | AN28: 0.62291509 | AO28: 0.65391441 | AQ28: 0.67922629 | AR28: 0.60590685 | AT28: 0.53449691 | AU28: 0.63012345 | AV28: 0.63889619 | AW28: 0.68194017 | AY28: 0.63781208 | AZ28: 0.63748555 | BB28: 0.65017912 | BC28: 0.63521782 | BE28: 0.61860292 | BF28: 0.64089356 | BH28: 0.64951177 | BI28: 0.63653021 | BK28: 0.65709094 | BL28: 0.63349364 | BN28: 0.58496971 | BO28: 0.64053352 | BQ28: 0.62250645 | BR28: 0.63933976 | BT28: 0.64621178 | BU28: 0.63690158 | BW28: 0.62291509 | BX28: 0.65391441 | BZ28: 0.63010838 | CA28: 0.63817673
B29: Online data storage or file sharing | C29: 0.63185197 | D29: 0.69183228 | E29: 0.63952049 | F29: 0.55249251 | G29: 0.5886945 | H29: 0.58389621 | I29: 0.71725688 | J29: 0.63187398 | K29: 0.5365178 | L29: 0.71765375 | N29: 0.64503341 | O29: 0.61476214 | P29: 0.62210582 | Q29: 0.63788689 | S29: 0.5916809 | T29: 0.57677481 | U29: 0.61201009 | V29: 0.63498366 | W29: 0.63995827 | X29: 0.66657742 | Y29: 0.63768659 | AA29: 0.63185197 | AB29: * | AD29: 0.60943491 | AE29: 0.69227195 | AF29: 0.62861024 | AH29: 0.61808454 | AI29: 0.63534632 | AK29: 0.61669209 | AL29: 0.63762715 | AN29: 0.62643743 | AO29: 0.63788689 | AQ29: 0.65132375 | AR29: 0.61704733 | AT29: 0.54223276 | AU29: 0.60898956 | AV29: 0.63965518 | AW29: 0.67184722 | AY29: 0.615934 | AZ29: 0.63785087 | BB29: 0.59102036 | BC29: 0.63948786 | BE29: 0.58968898 | BF29: 0.63922726 | BH29: 0.59730712 | BI29: 0.63487534 | BK29: 0.6193812 | BL29: 0.63445992 | BN29: 0.55251528 | BO29: 0.63631399 | BQ29: 0.59102302 | BR29: 0.63663391 | BT29: 0.59485543 | BU29: 0.6347363 | BW29: 0.62643743 | BX29: 0.63788689 | BZ29: 0.59546252 | CA29: 0.63478497
B30: Online email or messaging | C30: 0.51602052 | D30: 0.53592925 | E30: 0.53336877 | F30: 0.43113867 | G30: 0.51302679 | H30: 0.46948874 | I30: 0.57564116 | J30: 0.54552608 | K30: 0.45945655 | L30: 0.59130123 | N30: 0.56742697 | O30: 0.51083006 | P30: 0.50804278 | Q30: 0.50400895 | S30: 0.49239339 | T30: 0.51084674 | U30: 0.46785503 | V30: 0.51244402 | W30: 0.52552078 | X30: 0.52705709 | Y30: 0.54029531 | AA30: 0.51602052 | AB30: * | AD30: 0.43826042 | AE30: 0.59319908 | AF30: 0.54401295 | AH30: 0.5321225 | AI30: 0.51193364 | AK30: 0.50511892 | AL30: 0.5201735 | AN30: 0.52679734 | AO30: 0.50400895 | AQ30: 0.53042747 | AR30: 0.50506673 | AT30: 0.45936027 | AU30: 0.52561723 | AV30: 0.50963429 | AW30: 0.53597888 | AY30: 0.49105385 | AZ30: 0.52542954 | BB30: 0.53857378 | BC30: 0.51180286 | BE30: 0.50913925 | BF30: 0.51722422 | BH30: 0.52530784 | BI30: 0.5152077 | BK30: 0.53062262 | BL30: 0.51296686 | BN30: 0.47583397 | BO30: 0.51828067 | BQ30: 0.52785007 | BR30: 0.51463503 | BT30: 0.49935223 | BU30: 0.51732002 | BW30: 0.52679734 | BX30: 0.50400895 | BZ30: 0.57087241 | CA30: 0.51159946
B31: Running your business’s internal applications | C31: 0.39007431 | D31: 0.42188911 | E31: 0.40241487 | F31: 0.36969168 | G31: 0.38262351 | H31: 0.37760071 | I31: 0.42552746 | J31: 0.32212735 | K31: 0.35162383 | L31: 0.406846 | N31: 0.26455045 | O31: 0.33270356 | P31: 0.40688797 | Q31: 0.44743443 | S31: 0.31436179 | T31: 0.35370309 | U31: 0.39229799 | V31: 0.36317956 | W31: 0.41023412 | X31: 0.42847237 | Y31: 0.44271045 | AA31: 0.39007431 | AB31: * | AD31: 0.35992747 | AE31: 0.5204798 | AF31: 0.35707752 | AH31: 0.49020814 | AI31: 0.3646591 | AK31: 0.36404605 | AL31: 0.3999898 | AN31: 0.33861065 | AO31: 0.44743443 | AQ31: 0.43104811 | AR31: 0.3589214 | AT31: 0.2335314 | AU31: 0.29923012 | AV31: 0.41789095 | AW31: 0.48634882 | AY31: 0.44437225 | AZ31: 0.36961142 | BB31: 0.39915408 | BC31: 0.38837631 | BE31: 0.44011082 | BF31: 0.38132177 | BH31: 0.42235569 | BI31: 0.38724904 | BK31: 0.41416402 | BL31: 0.38503656 | BN31: 0.4301696 | BO31: 0.38781929 | BQ31: 0.44275362 | BR31: 0.38390444 | BT31: 0.3797314 | BU31: 0.39088067 | BW31: 0.33861065 | BX31: 0.44743443 | BZ31: 0.40932802 | CA31: 0.38852246
B32: Disaster Recovery | C32: 0.37710074 | D32: 0.17441519 | E32: 0.40199554 | F32: 0.31439324 | G32: 0.27179694 | H32: 0.63678083 | I32: 0.55326431 | J32: 0.27150102 | K32: 0.19159596 | L32: 0.45866512 | N32: 0.37583896 | O32: 0.3614148 | P32: 0.38922721 | Q32: 0.37876672 | S32: 0.38695312 | T32: 0.36836084 | U32: 0.41678435 | V32: 0.36204742 | W32: 0.37459529 | X32: 0.3762867 | Y32: 0.40408307 | AA32: 0.37710074 | AB32: * | AD32: 0.3719387 | AE32: 0.46939811 | AF32: 0.34112587 | AH32: 0.41394479 | AI32: 0.36774926 | AK32: 0.37517492 | AL32: 0.37783438 | AN32: 0.37560602 | AO32: 0.37876672 | AQ32: 0.42395689 | AR32: 0.3414754 | AT32: 0.23534829 | AU32: 0.31289187 | AV32: 0.40453499 | AW32: 0.43634955 | AY32: 0.38689265 | AZ32: 0.37341053 | BB32: 0.38308828 | BC32: 0.37598101 | BE32: 0.35057763 | BF32: 0.38174024 | BH32: 0.3725828 | BI32: 0.37749615 | BK32: 0.40978652 | BL32: 0.37026533 | BN32: 0.4087724 | BO32: 0.37531948 | BQ32: 0.34450337 | BR32: 0.38091858 | BT32: 0.35757574 | BU32: 0.37862295 | BW32: 0.37560602 | BX32: 0.37876672 | BZ32: 0.42855172 | CA32: 0.37295379
B33: Distributing or receiving data from external customers | C33: 0.36831291 | D33: 0.36477254 | E33: 0.37096965 | F33: 0.32541951 | G33: 0.38746822 | H33: 0.43170715 | I33: 0.37051559 | J33: 0.30080444 | K33: 0.27450865 | L33: 0.45060282 | N33: 0.26425916 | O33: 0.32604593 | P33: 0.37076149 | Q33: 0.41836861 | S33: 0.32580111 | T33: 0.37924306 | U33: 0.41849571 | V33: 0.29408132 | W33: 0.37194559 | X33: 0.42647161 | Y33: 0.433191 | AA33: 0.36831291 | AB33: * | AD33: 0.35435202 | AE33: 0.50043255 | AF33: 0.32243559 | AH33: 0.46094679 | AI33: 0.34480128 | AK33: 0.35311977 | AL33: 0.37410075 | AN33: 0.3234028 | AO33: 0.41836861 | AQ33: 0.43024958 | AR33: 0.32122165 | AT33: 0.19878166 | AU33: 0.26486142 | AV33: 0.39098511 | AW33: 0.50261698 | AY33: 0.40370634 | AZ33: 0.35497443 | BB33: 0.399314 | BC33: 0.36251542 | BE33: 0.37471514 | BF33: 0.36719301 | BH33: 0.3787333 | BI33: 0.36740092 | BK33: 0.4283813 | BL33: 0.35575112 | BN33: 0.47217171 | BO33: 0.36247174 | BQ33: 0.42108271 | BR33: 0.36213244 | BT33: 0.36884109 | BU33: 0.36827173 | BW33: 0.3234028 | BX33: 0.41836861 | BZ33: 0.42463812 | CA33: 0.36377309
B34: Running your business’s external or customer facing applications | C34: 0.35499262 | D34: 0.40062079 | E34: 0.3699469 | F34: 0.37273859 | G34: 0.36345694 | H34: 0.31338266 | I34: 0.34582417 | J34: 0.29496649 | K34: 0.30241753 | L34: 0.389782 | N34: 0.21583428 | O34: 0.30408173 | P34: 0.35986322 | Q34: 0.41914164 | S34: 0.27282078 | T34: 0.35277851 | U34: 0.39459454 | V34: 0.31370313 | W34: 0.36595872 | X34: 0.39056136 | Y34: 0.40457247 | AA34: 0.35499262 | AB34: * | AD34: 0.33308683 | AE34: 0.5235078 | AF34: 0.28963592 | AH34: 0.49698023 | AI34: 0.31895441 | AK34: 0.32629872 | AL34: 0.36592359 | AN34: 0.29743795 | AO34: 0.41914164 | AQ34: 0.41330301 | AR34: 0.31065847 | AT34: 0.20045302 | AU34: 0.28129424 | AV34: 0.36675508 | AW34: 0.47112669 | AY34: 0.42983747 | AZ34: 0.32678637 | BB34: 0.35588344 | BC34: 0.35482603 | BE34: 0.40094185 | BF34: 0.34695504 | BH34: 0.3689647 | BI34: 0.35376978 | BK34: 0.40406931 | BL34: 0.34472947 | BN34: 0.37285554 | BO34: 0.35398799 | BQ34: 0.40537185 | BR34: 0.34909214 | BT34: 0.40014473 | BU34: 0.35147247 | BW34: 0.29743795 | BX34: 0.41914164 | BZ34: 0.43031015 | CA34: 0.34892203
B35: Big Data analysis | C35: 0.32310523 | D35: 0.32245204 | E35: 0.42970282 | F35: 0.23730344 | G35: 0.35505418 | H35: 0.25329434 | I35: 0.36146332 | J35: 0.27101468 | K35: 0.39350783 | L35: 0.27503859 | N35: 0.13947636 | O35: 0.18139464 | P35: 0.32322713 | Q35: 0.43895127 | S35: 0.22537305 | T35: 0.31274834 | U35: 0.38348346 | V35: 0.23563158 | W35: 0.36995053 | X35: 0.37765096 | Y35: 0.40079641 | AA35: 0.32310523 | AB35: * | AD35: 0.32787612 | AE35: 0.4781316 | AF35: 0.24974946 | AH35: 0.51542644 | AI35: 0.27429173 | AK35: 0.29374905 | AL35: 0.3342885 | AN35: 0.21916784 | AO35: 0.43895127 | AQ35: 0.40158216 | AR35: 0.2634382 | AT35: 0.14374324 | AU35: 0.17198579 | AV35: 0.34005416 | AW35: 0.53613052 | AY35: 0.4016698 | AZ35: 0.29349715 | BB35: 0.3364808 | BC35: 0.32060388 | BE35: 0.41144064 | BF35: 0.30765333 | BH35: 0.32931708 | BI35: 0.32256157 | BK35: 0.37891645 | BL35: 0.31143372 | BN35: 0.42028419 | BO35: 0.31763974 | BQ35: 0.44245066 | BR35: 0.30912734 | BT35: 0.38202318 | BU35: 0.31851187 | BW35: 0.21916784 | BX35: 0.43895127 | BZ35: 0.34704755 | CA35: 0.32117548
B36: Monitoring key metrics | C36: 0.24863003 | D36: 0.17577722 | E36: 0.3347989 | F36: 0.21851429 | G36: 0.24124408 | H36: 0.30924849 | I36: 0.22620239 | J36: 0.23064066 | K36: 0.21772275 | L36: 0.29592166 | N36: 0.12706608 | O36: 0.19431971 | P36: 0.24984923 | Q36: 0.30965723 | S36: 0.22194335 | T36: 0.26643498 | U36: 0.28866218 | V36: 0.21046992 | W36: 0.26302673 | X36: 0.26349527 | Y36: 0.28327961 | AA36: 0.24863003 | AB36: * | AD36: 0.24400246 | AE36: 0.36969385 | AF36: 0.19936852 | AH36: 0.36188241 | AI36: 0.21988517 | AK36: 0.23872223 | AL36: 0.25240441 | AN36: 0.19387624 | AO36: 0.30965723 | AQ36: 0.30773031 | AR36: 0.20369531 | AT36: 0.11912719 | AU36: 0.1582805 | AV36: 0.26054626 | AW36: 0.36992598 | AY36: 0.30511906 | AZ36: 0.22734139 | BB36: 0.29514499 | BC36: 0.2399313 | BE36: 0.30313356 | BF36: 0.2390961 | BH36: 0.26687219 | BI36: 0.24703347 | BK36: 0.31272258 | BL36: 0.23522668 | BN36: 0.28597006 | BO36: 0.24652997 | BQ36: 0.29419419 | BR36: 0.24329349 | BT36: 0.28043941 | BU36: 0.2461501 | BW36: 0.19387624 | BX36: 0.30965723 | BZ36: 0.30223019 | CA36: 0.24430985
B37: Artificial Intelligence and/or machine learning | C37: 0.23508353 | D37: 0.3341613 | E37: 0.26491561 | F37: 0.22039163 | G37: 0.21765262 | H37: 0.16140628 | I37: 0.20271661 | J37: 0.17450786 | K37: 0.3467065 | L37: 0.25919686 | N37: 0.079816659 | O37: 0.10836509 | P37: 0.2138408 | Q37: 0.34413526 | S37: 0.17441799 | T37: 0.2053064 | U37: 0.2665249 | V37: 0.17242202 | W37: 0.25023509 | X37: 0.29360658 | Y37: 0.31253539 | AA37: 0.23508353 | AB37: * | AD37: 0.21987028 | AE37: 0.40391827 | AF37: 0.16769468 | AH37: 0.43107001 | AI37: 0.18533973 | AK37: 0.20556533 | AL37: 0.24632852 | AN37: 0.13724201 | AO37: 0.34413526 | AQ37: 0.3230452 | AR37: 0.16820512 | AT37: 0.087640116 | AU37: 0.11997502 | AV37: 0.23067605 | AW37: 0.43922531 | AY37: 0.33015439 | AZ37: 0.19925484 | BB37: 0.2444852 | BC37: 0.23332533 | BE37: 0.32582476 | BF37: 0.21921079 | BH37: 0.22155034 | BI37: 0.23626796 | BK37: 0.299157 | BL37: 0.22168418 | BN37: 0.37056081 | BO37: 0.22746409 | BQ37: 0.34918137 | BR37: 0.22172025 | BT37: 0.30121592 | BU37: 0.22992771 | BW37: 0.13724201 | BX37: 0.34413526 | BZ37: 0.29066873 | CA37: 0.23060336
B38: Don’t Know | C38: 0.0081849271 | D38: 0.018060106 | E38: 0.0099184873 | F38: 0.0058538941 | G38: 0.0049319177 | H38: 0.0044438452 | I38: 0.0039274935 | J38: 0.0063177142 | K38: 0.0091788687 | L38: 0.015840893 | N38: 0.006598384 | O38: 0.010960522 | P38: 0.0010948448 | Q38: 0.010450097 | S38: 0.0054686561 | T38: 0.0024717494 | U38: 0.005405448 | V38: 0.011130563 | W38: 0.0062596938 | X38: 0.0032386804 | Y38: 0.010086911 | AA38: 0.0081849271 | AB38: * | AD38: 0.003335958 | AE38: 0.0019400834 | AF38: 0.0062889725 | AH38: 0 | AI38: 0.010262363 | AK38: 0.0081028116 | AL38: 0.008216209 | AN38: 0.0061526099 | AO38: 0.010450097 | AQ38: 0.0055638156 | AR38: 0.010177792 | AT38: 0.02978744 | AU38: 0.011414574 | AV38: 0.00615164 | AW38: 0.002073118 | AY38: 0.0047848724 | AZ38: 0.009466282 | BB38: 0.0060401013 | BC38: 0.0085860291 | BE38: 0.0108558 | BF38: 0.0077177298 | BH38: 0.0080324908 | BI38: 0.0081982683 | BK38: 0.0049879054 | BL38: 0.0088535036 | BN38: 0.0089448138 | BO38: 0.0081421899 | BQ38: 0.001870037 | BR38: 0.008924535 | BT38: 0.0023491559 | BU38: 0.0086398956 | BW38: 0.0061526099 | BX38: 0.010450097 | BZ38: 0 | CA38: 0.0088446326
B39: Other (please specify) | C39: 0.0075881755 | D39: 0.006036824 | E39: 0.0055832012 | F39: 0.0096916542 | G39: 0.0048049873 | H39: 0.0043123877 | I39: 0.010424199 | J39: 0.017493959 | K39: 0.011238663 | L39: 0 | N39: 0.016896434 | O39: 0.012387208 | P39: 0.0038872111 | Q39: 0.0040955288 | S39: 0.027182904 | T39: 0.0055498433 | U39: 0 | V39: 0.007503442 | W39: 0.0026746194 | X39: 0.0046680818 | Y39: 0.010597696 | AA39: 0.0075881755 | AB39: * | AD39: 0.005633422 | AE39: 0.0041644545 | AF39: 0.009414771 | AH39: 0.0011813102 | AI39: 0.0092143172 | AK39: 0.0043835757 | AL39: 0.0088089708 | AN39: 0.010721788 | AO39: 0.0040955288 | AQ39: 0.0043712003 | AR39: 0.010034084 | AT39: 0.018884674 | AU39: 0.013310107 | AV39: 0.0051920079 | AW39: 0.0026941513 | AY39: 0.008323095 | AZ39: 0.0073112114 | BB39: 0.0011927283 | BC39: 0.0087841824 | BE39: 0.0060892488 | BF39: 0.0078503723 | BH39: 0 | BI39: 0.0082522931 | BK39: 0.0052388931 | BL39: 0.0080794687 | BN39: 0.0066286121 | BO39: 0.0076421427 | BQ39: 0.0018498145 | BR39: 0.0082602596 | BT39: 0.0045219826 | BU39: 0.0078272221 | BW39: 0.010721788 | BX39: 0.0040955288 | BZ39: 0.0032060767 | CA39: 0.0079413728
B41: Which, if any, of the following best describes how you use cloud services?Please select all that apply
B42: BASE: Cloud User
B43: <strong>Through online apps or services run by other companies. </strong>This is commonly known as Software as a Service (SaaS). Examples of SaaS services include Microsoft Office 365, Google Docs, Slack or Zoom. | C43: 0.65268232 | D43: 0.67269922 | E43: 0.64165283 | F43: 0.63254716 | G43: 0.66650946 | H43: 0.6606357 | I43: 0.67003799 | J43: 0.61562417 | K43: 0.61491086 | L43: 0.65623999 | N43: 0.68091019 | O43: 0.62116607 | P43: 0.66317508 | Q43: 0.65099747 | S43: 0.62031645 | T43: 0.64473285 | U43: 0.6313978 | V43: 0.64345838 | W43: 0.63526278 | X43: 0.69328972 | Y43: 0.7082255 | AA43: 0.65338683 | AB43: 0.61631363 | AD43: 0 | AE43: 1 | AF43: 1 | AH43: 0.54040824 | AI43: 0.68055835 | AK43: 0.64404603 | AL43: 0.65595694 | AN43: 0.65416554 | AO43: 0.65099747 | AQ43: 0.67781065 | AR43: 0.63387368 | AT43: 0.60985198 | AU43: 0.62742313 | AV43: 0.65806902 | AW43: 0.68601762 | AY43: 0.64960921 | AZ43: 0.65382612 | BB43: 0.70319759 | BC43: 0.64337026 | BE43: 0.68014194 | BF43: 0.64798589 | BH43: 0.67350412 | BI43: 0.6508367 | BK43: 0.64373136 | BL43: 0.65455324 | BN43: 0.68131866 | BO43: 0.65107075 | BQ43: 0.69202078 | BR43: 0.64812728 | BT43: 0.70213872 | BU43: 0.64886025 | BW43: 0.65587882 | BX43: 0.64925978 | BZ43: 0.44330955 | CA43: 0.66928872
B44: <strong>As a replacement or complement for your own on-site servers or IT infrastructure, or as underlying computing infrastructure for your own applications or services.</strong> This is commonly known as Infrastructure as a Service (IaaS) or Platform as a Service (PaaS). Examples of IaaS and PaaS services include Amazon Web Services or Microsoft Azure. | C44: 0.53987846 | D44: 0.51247673 | E44: 0.68140892 | F44: 0.47253534 | G44: 0.56501513 | H44: 0.52709921 | I44: 0.50926744 | J44: 0.57665686 | K44: 0.64509762 | L44: 0.38912335 | N44: 0.35148782 | O44: 0.45457705 | P44: 0.54582953 | Q44: 0.63638637 | S44: 0.46531946 | T44: 0.4990343 | U44: 0.56987044 | V44: 0.51481647 | W44: 0.58690098 | X44: 0.57758472 | Y44: 0.5759184 | AA44: 0.548084 | AB44: 0.11628705 | AD44: 1 | AE44: 1 | AF44: 0 | AH44: 0.98544171 | AI44: 0.42925154 | AK44: 0.51454047 | AL44: 0.54948584 | AN44: 0.45491986 | AO44: 0.63638637 | AQ44: 0.60688962 | AR44: 0.48972038 | AT44: 0.33599545 | AU44: 0.4693315 | AV44: 0.56717533 | AW44: 0.63580636 | AY44: 0.63717258 | AZ44: 0.50366613 | BB44: 0.5178256 | BC44: 0.54394372 | BE44: 0.60689881 | BF44: 0.52841594 | BH44: 0.53550551 | BI44: 0.54026608 | BK44: 0.59127569 | BL44: 0.52913546 | BN44: 0.60901614 | BO44: 0.5359876 | BQ44: 0.63931493 | BR44: 0.52836461 | BT44: 0.59067421 | BU44: 0.53595289 | BW44: 0.46443618 | BX44: 0.62065575 | BZ44: 0.97944911 | CA44: 0.50501392
B45: Don't Know | C45: 0.034574946 | D45: 0.036943032 | E45: 0.016004583 | F45: 0.0471616 | G45: 0.03078953 | H45: 0.018470774 | I45: 0.023553591 | J45: 0.026150882 | K45: 0.032631065 | L45: 0.11632279 | N45: 0.073407087 | O45: 0.057260714 | P45: 0.013290582 | Q45: 0.020660335 | S45: 0.056094449 | T45: 0.022760612 | U45: 0.0090097898 | V45: 0.037616742 | W45: 0.019110097 | X45: 0.025418219 | Y45: 0.026226347 | AA45: 0.030064826 | AB45: 0.26739932 | AD45: 0 | AE45: 0 | AF45: 0 | AH45: 0.0027610863 | AI45: 0.042473867 | AK45: 0.044350754 | AL45: 0.030868263 | AN45: 0.046824365 | AO45: 0.020660335 | AQ45: 0.016743027 | AR45: 0.047922199 | AT45: 0.15034754 | AU45: 0.061483082 | AV45: 0.014666074 | AW45: 0.0077652912 | AY45: 0.015495725 | AZ45: 0.041676126 | BB45: 0.024541831 | BC45: 0.036424465 | BE45: 0.022546295 | BF45: 0.036632211 | BH45: 0.041618871 | BI45: 0.033950579 | BK45: 0.027167069 | BL45: 0.036123333 | BN45: 0.0061728885 | BO45: 0.036173328 | BQ45: 0.007860553 | BR45: 0.037668233 | BT45: 0.023598773 | BU45: 0.035423202 | BW45: 0.040041264 | BX45: 0.028722069 | BZ45: 0.0074732649 | CA45: 0.036724515
B47: Besides cloud computing and personal computers for your staff, does your company own any centralised computers, servers, on-premises computing or data centres of its own?
B48: BASE: Cloud User
B49: Yes | C49: 0.76960353 | D49: 0.82924414 | E49: 0.85288925 | F49: 0.85673703 | G49: 0.69806862 | H49: 0.72028301 | I49: 0.79473103 | J49: 0.70475917 | K49: 0.70893102 | L49: 0.60023156 | N49: 0.51744319 | O49: 0.67970713 | P49: 0.78266613 | Q49: 0.8872715 | S49: 0.6766668 | T49: 0.77024311 | U49: 0.846583 | V49: 0.68670536 | W49: 0.83937814 | X49: 0.8172775 | Y49: 0.81898637 | AA49: 0.77724963 | AB49: 0.37489157 | AD49: 0.80369563 | AE49: 0.88637341 | AF49: 0.71277515 | AH49: 0.9061564 | AI49: 0.73569942 | AK49: 0.75396985 | AL49: 0.77553134 | AN49: 0.66601714 | AO49: 0.8872715 | AQ49: 0.82988521 | AR49: 0.72448248 | AT49: 0.5380652 | AU49: 0.64450084 | AV49: 0.80874556 | AW49: 0.91811752 | AY49: 0.8545986 | AZ49: 0.73796884 | BB49: 0.76240794 | BC49: 0.77092998 | BE49: 0.84985608 | BF49: 0.7558779 | BH49: 0.74199046 | BI49: 0.77205112 | BK49: 0.82245122 | BL49: 0.75855735 | BN49: 0.86411095 | BO49: 0.76428494 | BQ49: 0.90898828 | BR49: 0.75346403 | BT49: 0.7911804 | BU49: 0.76793604 | BW49: 0.67543882 | BX49: 0.87042722 | BZ49: 0.84770997 | CA49: 0.76340852
...

Sheet Table 1
D2: Before taking this survey, were you familiar with the concept of cloud computing?
D5: Country | N5: Number of Employees | S5: Revenue Change | AA5: Cloud User | AD5: Type of Cloud | AH5: AWS User | AK5: Woman-owned Business | AN5: Grouped Employee Count | AQ5: Tech Adoption | AT5: Digital Intensity | AY5: Does your business operate in the technology sector? | BB5: Does your business operate in the retail sector? | BE5: Does your business operate in the financial services sector? | BH5: Does your business operate in the health sector? | BK5: Does your business operate in the manufacturing sector? | BN5: Does your business operate in the automotive sector? | BQ5: Does your business operate in the telecommunications sector? | BT5: Does your business operate in the media & entertainment sector? | BW5: SME Cloud User | BZ5: SME AWS User
C6: Total | D6: France | E6: Germany | F6: Italy | G6: Netherlands | H6: Poland | I6: Spain | J6: Sweden | K6: Denmark | L6: Finland | N6: 1-9 | O6: 10-49 | P6: 50-249 | Q6: 250+ | S6: Declined by 10%+ | T6: Declined by 6-10% | U6: Declined by 0-5% | V6: Stayed about the same size | W6: Grown by 0-5% | X6: Grown by 6-10% | Y6: Grown by 10%+ | AA6: Yes | AB6: No | AD6: IaaS / PaaS | AE6: Both | AF6: SaaS | AH6: Yes | AI6: No | AK6: Yes | AL6: No | AN6: Less than 250 employees | AO6: 250+ employees | AQ6: Early adopter | AR6: Not early adopter | AT6: Low | AU6: Medium | AV6: High | AW6: Very High | AY6: Yes | AZ6: No | BB6: Yes | BC6: No | BE6: Yes | BF6: No | BH6: Yes | BI6: No | BK6: Yes | BL6: No | BN6: Yes | BO6: No | BQ6: Yes | BR6: No | BT6: Yes | BU6: No | BW6: Yes | BX6: No | BZ6: Yes | CA6: No
B7: Unweighted | C7: 7184 | D7: 1017 | E7: 1011 | F7: 1018 | G7: 1016 | H7: 1009 | I7: 1031 | J7: 508 | K7: 279 | L7: 295 | N7: 2091 | O7: 1068 | P7: 1207 | Q7: 2818 | S7: 927 | T7: 521 | U7: 564 | V7: 1628 | W7: 1070 | X7: 1135 | Y7: 780 | AA7: 4504 | AB7: 2680 | AD7: 1442 | AE7: 1077 | AF7: 1921 | AH7: 943 | AI7: 6241 | AK7: 2180 | AL7: 5004 | AN7: 4366 | AO7: 2818 | AQ7: 2450 | AR7: 4734 | AT7: 1316 | AU7: 2176 | AV7: 2715 | AW7: 965 | AY7: 1479 | AZ7: 5705 | BB7: 1121 | BC7: 6063 | BE7: 858 | BF7: 6326 | BH7: 569 | BI7: 6615 | BK7: 1081 | BL7: 6103 | BN7: 328 | BO7: 6856 | BQ7: 555 | BR7: 6629 | BT7: 456 | BU7: 6728 | BW7: 2216 | BX7: 4968 | BZ7: 312 | CA7: 6872
B8: Weighted | C8: 7184 | D8: 1017 | E8: 1011 | F8: 1018 | G8: 1016 | H8: 1009 | I8: 1031 | J8: 508 | K8: 279 | L8: 295 | N8: 2102 | O8: 1377 | P8: 1126 | Q8: 2578 | S8: 976 | T8: 519 | U8: 556 | V8: 1627 | W8: 1049 | X8: 1110 | Y8: 772 | AA8: 4397 | AB8: 2787 | AD8: 1402 | AE8: 1018 | AF8: 1907 | AH8: 892 | AI8: 6292 | AK8: 2232 | AL8: 4952 | AN8: 4606 | AO8: 2578 | AQ8: 2391 | AR8: 4793 | AT8: 1368 | AU8: 2232 | AV8: 2653 | AW8: 919 | AY8: 1427 | AZ8: 5757 | BB8: 1115 | BC8: 6069 | BE8: 832 | BF8: 6352 | BH8: 578 | BI8: 6606 | BK8: 1061 | BL8: 6123 | BN8: 313 | BO8: 6871 | BQ8: 524 | BR8: 6660 | BT8: 450 | BU8: 6734 | BW8: 2318 | BX8: 4866 | BZ8: 329 | CA8: 6855
B9: I am very familiar with this concept and I understand what it means | C9: 0.60956606 | D9: 0.6384218 | E9: 0.60484133 | F9: 0.58999356 | G9: 0.57277727 | H9: 0.47539268 | I9: 0.65446948 | J9: 0.75408156 | K9: 0.56255068 | L9: 0.81811384 | N9: 0.44629703 | O9: 0.54633205 | P9: 0.67471749 | Q9: 0.74799734 | S9: 0.50285355 | T9: 0.6100262 | U9: 0.71291941 | V9: 0.57019455 | W9: 0.69256316 | X9: 0.68911145 | Y9: 0.67709069 | AA9: 0.78473047 | AB9: 0.33318905 | AD9: 0.78105962 | AE9: 0.9124167 | AF9: 0.73752066 | AH9: 0.9040019 | AI9: 0.56784929 | AK9: 0.50921286 | AL9: 0.65478452 | AN9: 0.53206514 | AO9: 0.74799734 | AQ9: 0.76108785 | AR9: 0.53398123 | AT9: 0.3635417 | AU9: 0.5264496 | AV9: 0.72689256 | AW9: 0.8354843 | AY9: 0.80135869 | AZ9: 0.56202988 | BB9: 0.55939432 | BC9: 0.61878291 | BE9: 0.70564819 | BF9: 0.59697417 | BH9: 0.54463183 | BI9: 0.6152491 | BK9: 0.66635901 | BL9: 0.59972537 | BN9: 0.58674981 | BO9: 0.61060585 | BQ9: 0.80962833 | BR9: 0.5938273 | BT9: 0.67096008 | BU9: 0.60546438 | BW9: 0.73520616 | BX9: 0.54972682 | BZ9: 0.86349338 | CA9: 0.5973639
